{"text_format":"1","workbook":"xlsx","n_sheets":14,"sheets":["Instructions","Demographics","Months 1-6","Months 7-12","Legend","Overall Weight","CDC Calculations","Coded Data","Encounter Information 1","Encounter Information 2","Encounter Information 3","Sheet2","PPHD Calculations","Progress Reports"],"not_rendered":{"charts":170,"images":1,"macros":1,"external_links":0,"defined_names":4,"comments":0,"pivot_tables":0},"unopened":[],"bounds":{"document_bytes":16777216,"sheet_cells":100000,"rows_first":2000,"rows_last":500,"rows_between":2000,"halvings":0,"cell_chars":16384,"cell_head_chars":4096},"cells_cut":0,"cells_raw":0,"read":"whole","date_system":"1900"}

{"sheet":"Instructions","index":0,"n_rows":4,"n_cols":1,"rows_kept":4,"cut":false,"hidden":false,"merged":[[1,0,2,0],[3,0,4,0],[0,0,0,1]]}
["                                     Lifestyle Coach Data Collection Instructions"]
["Hello Lifestyle Coach! This spreadsheet will be used to collect data for your NDPP class. \n\nIn this spreadsheet you will find 5 different tabs:\n1) Instructions\n2) Demographics\n3) Months 1-6\n4) Months 7-12\n5) Calculations\n\nInstructions\nIn the instructions tab, where you currently are, you will find direction on how to use this spreadsheet. \n\nDemographics\nPlease enter the demographic information from your class's participants in this tab. You will get this information from the Personal Information sheet that participants complete. Please enter the two blood pressure readings, waist circumference, and other information from the pre-assessment screenings here under the Health Information columns. You will collect information for the post-assessment screening at Week 9.  \nWhen you enter the participant's name in this tab it will auto populate the rest of the spreadsheet, so you will know which column to enter each participant's information. \nDon't forget to enter the information about your class at the top of this tab - including the organization your class is offered through, your name, the location of the class, the time the class meets, and the start date. \n\nMonths 1-6\nThe new NDPP curriculum is divided by months rather than Core and Post Core. The first 16 modules will fall in Months 1-6. There must be at least one module offered per month. Enter the module name by selecting a module from the drop down menu. We recommend that you follow the curriculum in the order presented in Months 1-6. \nEnter the date of each module in the first column that says Session Date. This will auto populate the dates of each session under each participant's name. \nEnter the weight recorded from each session in the Weight column for each participant. If no weight was recorded, leave the cell blank.  Participants must weigh in at each session. \nEnter the physical activity recorded from each session in the PA column for each participant. If physical activity was not recorded, leave the cell blank. If the participant did not complete any physical activity, enter 0. Please collect physical activity minutes at each session. \n\nMonths 7-12\nEnter information from the sessions that fall into Months 7-12 in this tab. There are 10 modules that can be used in Months 7-12. At least one module must be offered per month, though two sessions are preferred. Enter the module name by selecting a module from the drop down menu. \nEnter the date of each module in the first column that says Session Date. This will auto populate the dates of each session under each participant's name. \nEnter the weight recorded from each session in the Weight column for each participant. If no weight was recorded, leave the cell blank. Participants must weigh in at each session. \nEnter the physical activity recorded from each session in the PA column for each participant. If physical activity was not recorded, leave the cell blank. If the participant did not complete any physical activity, enter 0. Please collect physical activity minutes at each session."]
[]
["Calculations\nIf your organization is pending CDC recognition, the CDC completes annual evaluations of your organization's data. To assist with meeting these goals, we have included the Calculations tab. This tab shows the calculations that the CDC uses to determine recognition. These numbers will automatically be calculated as you enter data. The Results column shows where your class is at, the CDC Standard shows the CDC's requirement for recognition, and the Pass/Fail column shows if your class is passing or failing. \n\nTo ensure accuracy in these calculations:\n- If a participant misses a class please delete the date of the class in that participant’s column and replace that date with the make up   date. Make up sessions may be completed online (Via email), over the phone, or in person. If the make up session does not take place in person, be sure to ask the participant for their self-reported weight to record for that session. If you are not able to make up the class with that participant in any way, please delete that date under the participant. \n- These calculations are only computed for eligible participants. Please be sure to indicate any ineligible participants in the demographics tab so that these calculations are correct. \n- Send your spreadsheet to PPHD after you first collect demographic information. PPHD will make the necessary changes to your spreadsheet to ensure that the CDC calculations reflect the most accurate data. \n \nHere is a list of CDC goals for guidance as you start your class:\n- The class must last 1 year \n- There must be a minimum of 16 sessions during Months 1-6\n- At least one session must be offered each month during Months 7-12\n- Participants must have body weights recorded from at least 80% of sessions attended\n- Participants must have physical activity minutes recorded from at least 60% of sessions attended\n- Average weight loss achieved by participants must be at least of 5% of their starting body weight\n- Average participant attendance during Months 7-12 must be at least 3 classes\n- Average weight loss achieved at the end of the class must be at least 5% of staring body weight\n- At least 50% of eligible participants must be eligible based on either blood test indicating prediabetes (Hemoglobin A1C, Fasting Plasma Glucose, or  \n  Oral Glucose Tolerance Test) or a history of gestational diabetes\n- The other 50% of eligible participants must be eligible based on the prediabetes screening test. \n\nData Submission\nPlease submit your data to PPHD following Sessions 1, 4, 9, and 16, in Months 1-6. Submit data to PPHD following Sessions 19, 22, 25, 28, and 32 in Months 7-12 of your program. Please send data to:\n\nKelsey Irvine \nkirvine@pphd.org \n(308)633-2866\n\nPlease direct any other questions to:\n\nTabi Prochazka\ntprochazka@pphd.org\n(308)487-3600 ext. 107\n"]

{"sheet":"Demographics","index":1,"n_rows":41,"n_cols":29,"rows_kept":41,"cut":false,"hidden":false,"merged":[[6,25,6,28],[7,25,7,28],[6,13,7,16],[6,8,7,12],[6,17,6,20],[7,17,7,20],[6,21,6,24],[7,21,7,24]]}
["National Diabetes Prevention Program:"]
[]
["Organization:"]
["Coach:"]
["Location: "]
["Time:"]
["Start Date:",null,null,null,null,null,null,null," Please click the dropdown menu and select appropriate entry for these 4 columns",null,null,null,null,"Please click the dropdown menu and select the best option that applies for these columns",null,null,null,"Health Information- Pre-Assessment (Session 1)",null,null,null,"Health Information- 9 week Assessment\nDate: [Insert date here]",null,null,null,"Health Information- Post-Assessment (Final session)\nDate: [Insert date here]"]
[null,null,null,null,null,null,null,null,null,null,null,null,null,null,null,null,null,"INSERT DATE HERE",null,null,null,"INSERT DATE HERE",null,null,null,"INSERT DATE HERE"]
["Participant #","Participant Name","Date of Birth","Address","City","E-mail","Phone Number","Height\nin inches","Gender (M/F)","Participant Eligibility","Ethnicity","Race","WISEWOMAN Client?","How did you hear about NDPP?","Please enter name of provider","Did Provider refer them?","Health Care Coverage","Waist Circumference","Blood Pressure 1 \n(1st reading)","Blood Pressure 1 \n(2nd reading)","Weight","Waist Circumference","Blood Pressure 2\n(1st reading)","Blood Pressure 2 \n(2nd reading)","Weight","Waist Circumference","Blood Pressure 2\n(1st reading)","Blood Pressure 2 \n(2nd reading)","Weight"]
[1]
[2]
[3]
[4]
[5]
[6]
[7]
[8]
[9]
[10]
[11]
[12]
[13]
[14]
[15]
[16]
[17]
[18]
[19]
[20]
[21]
[22]
[23]
[24]
[25]
[26]
[27]
[28]
[29]
[30]
[null,null,null,null,null,null,null,null,{"$f":"COUNTIF(I10:I39, \"F\")","v":0},null,null,null,{"$f":"COUNTIF(M10:M39, \"YES\")","v":0}]
[null,null,null,null,null,null,null,null,{"$f":"COUNTIF(I10:I39, \"M\")","v":0}]

{"sheet":"Months 1-6","index":2,"n_rows":63,"n_cols":93,"rows_kept":63,"cut":false,"hidden":false,"merged":[[3,1,5,1],[3,63,3,65],[4,63,4,65],[3,81,3,83],[4,81,4,83],[3,78,3,80],[4,78,4,80],[3,75,3,77],[4,75,4,77],[3,72,3,74],[4,72,4,74],[3,69,3,71],[4,69,4,71],[3,66,3,68],[4,66,4,68],[3,60,3,62],[3,90,3,92],[4,90,4,92],[4,87,4,89],[3,87,3,89],[3,84,3,86],[4,84,4,86],[4,60,4,62],[3,57,3,59],[4,57,4,59],[3,54,3,56],[4,54,4,56],[3,51,3,53],[4,51,4,53],[3,48,3,50],[4,48,4,50],[3,45,3,47],[4,45,4,47],[3,42,3,44],[4,42,4,44],[3,39,3,41],[4,39,4,41],[3,36,3,38],[4,36,4,38],[3,9,3,11],[4,9,4,11],[3,33,3,35],[4,33,4,35],[3,30,3,32],[4,30,4,32],[3,27,3,29],[4,27,4,29],[3,6,3,8],[4,6,4,8],[3,0,5,0],[3,2,5,2],[3,24,3,26],[4,24,4,26],[3,21,3,23],[4,21,4,23],[3,18,3,20],[4,18,4,20],[3,3,3,5],[4,3,4,5],[3,15,3,17],[4,15,4,17],[3,12,3,14],[4,12,4,14]]}
["National Diabetes Prevention Program Months 1-6 Class Data:"]
[]
[]
[null,"Module name\nPlease choose from the drop down","Session Date","Participant #1",null,null,"Participant #2",null,null,"Participant #3",null,null,"Participant #4",null,null,"Participant #5",null,null,"Participant #6",null,null,"Participant #7",null,null,"Participant #8",null,null,"Participant #9",null,null,"Participant #10",null,null,"Participant #11",null,null,"Participant #12",null,null,"Participant #13",null,null,"Participant #14",null,null,"Participant #15",null,null,"Participant #16",null,null,"Participant #17",null,null,"Participant #18",null,null,"Participant #19",null,null,"Participant #20",null,null,"Participant #21",null,null,"Participant #22",null,null,"Participant #23",null,null,"Participant #24",null,null,"Participant #25",null,null,"Participant #26",null,null,"Participant #27",null,null,"Participant #28",null,null,"Participant #29",null,null,"Participant #30"]
[null,null,null,{"$f":"Demographics!B10","v":0},null,null,{"$f":"Demographics!B11","v":0},null,null,{"$f":"Demographics!B12","v":0},null,null,{"$f":"Demographics!B13","v":0},null,null,{"$f":"Demographics!B14","v":0},null,null,{"$f":"Demographics!B15","v":0},null,null,{"$f":"Demographics!B16","v":0},null,null,{"$f":"Demographics!B17","v":0},null,null,{"$f":"Demographics!B18","v":0},null,null,{"$f":"Demographics!B19","v":0},null,null,{"$f":"Demographics!B20","v":0},null,null,{"$f":"Demographics!B21","v":0},null,null,{"$f":"Demographics!B22","v":0},null,null,{"$f":"Demographics!B23","v":0},null,null,{"$f":"Demographics!B24","v":0},null,null,{"$f":"Demographics!B25","v":0},null,null,{"$f":"Demographics!B26","v":0},null,null,{"$f":"Demographics!B27","v":0},null,null,{"$f":"Demographics!B28","v":0},null,null,{"$f":"Demographics!B29","v":0},null,null,{"$f":"Demographics!B30","v":0},null,null,{"$f":"Demographics!B31","v":0},null,null,{"$f":"Demographics!B32","v":0},null,null,{"$f":"Demographics!B33","v":0},null,null,{"$f":"Demographics!B34","v":0},null,null,{"$f":"Demographics!B35","v":0},null,null,{"$f":"Demographics!B36","v":0},null,null,{"$f":"Demographics!B37","v":0},null,null,{"$f":"Demographics!B38","v":0},null,null,{"$f":"Demographics!B39","v":0}]
[null,null,null,"Session Date","Weight ","PA","Session Date","Weight ","PA","Session Date","Weight ","PA","Session Date","Weight ","PA","Session Date","Weight ","PA","Session Date","Weight ","PA","Session Date","Weight ","PA","Session Date","Weight ","PA","Session Date","Weight ","PA","Session Date","Weight ","PA","Session Date","Weight ","PA","Session Date","Weight ","PA","Session Date","Weight ","PA","Session Date","Weight ","PA","Session Date","Weight ","PA","Session Date","Weight ","PA","Session Date","Weight ","PA","Session Date","Weight ","PA","Session Date","Weight ","PA","Session Date","Weight ","PA","Session Date","Weight ","PA","Session Date","Weight ","PA","Session Date","Weight ","PA","Session Date","Weight ","PA","Session Date","Weight ","PA","Session Date","Weight ","PA","Session Date","Weight ","PA","Session Date","Weight ","PA","Session Date","Weight ","PA","Session Date","Weight ","PA"]
["Month 1"]
["Week 1",null,null,{"$f":"IF($C$8<>\"\",$C$8,\"\")","v":""},null,null,{"$f":"IF($C$8<>\"\",$C$8,\"\")","v":""},null,null,{"$f":"IF($C$8<>\"\",$C$8,\"\")","v":""},null,null,{"$f":"IF($C$8<>\"\",$C$8,\"\")","v":""},null,null,{"$f":"IF($C$8<>\"\",$C$8,\"\")","v":""},null,null,{"$f":"IF($C$8<>\"\",$C$8,\"\")","v":""},null,null,{"$f":"IF($C$8<>\"\",$C$8,\"\")","v":""},null,null,{"$f":"IF($C$8<>\"\",$C$8,\"\")","v":""},null,null,{"$f":"IF($C$8<>\"\",$C$8,\"\")","v":""},null,null,{"$f":"IF($C$8<>\"\",$C$8,\"\")","v":""},null,null,{"$f":"IF($C$8<>\"\",$C$8,\"\")","v":""},null,null,{"$f":"IF($C$8<>\"\",$C$8,\"\")","v":""},null,null,{"$f":"IF($C$8<>\"\",$C$8,\"\")","v":""},null,null,{"$f":"IF($C$8<>\"\",$C$8,\"\")","v":""},null,null,{"$f":"IF($C$8<>\"\",$C$8,\"\")","v":""},null,null,{"$f":"IF($C$8<>\"\",$C$8,\"\")","v":""},null,null,{"$f":"IF($C$8<>\"\",$C$8,\"\")","v":""},null,null,{"$f":"IF($C$8<>\"\",$C$8,\"\")","v":""},null,null,{"$f":"IF($C$8<>\"\",$C$8,\"\")","v":""},null,null,{"$f":"IF($C$8<>\"\",$C$8,\"\")","v":""},null,null,{"$f":"IF($C$8<>\"\",$C$8,\"\")","v":""},null,null,{"$f":"IF($C$8<>\"\",$C$8,\"\")","v":""},null,null,{"$f":"IF($C$8<>\"\",$C$8,\"\")","v":""},null,null,{"$f":"IF($C$8<>\"\",$C$8,\"\")","v":""},null,null,{"$f":"IF($C$8<>\"\",$C$8,\"\")","v":""},null,null,{"$f":"IF($C$8<>\"\",$C$8,\"\")","v":""},null,null,{"$f":"IF($C$8<>\"\",$C$8,\"\")","v":""},null,null,{"$f":"IF($C$8<>\"\",$C$8,\"\")","v":""},null,null,{"$f":"IF($C$8<>\"\",$C$8,\"\")","v":""},null,null,{"$f":"IF($C$8<>\"\",$C$8,\"\")","v":""}]
["Week 2",null,null,{"$f":"IF($C$9<>\"\",$C$9,\"\")","v":""},null,null,{"$f":"IF($C$9<>\"\",$C$9,\"\")","v":""},null,null,{"$f":"IF($C$9<>\"\",$C$9,\"\")","v":""},null,null,{"$f":"IF($C$9<>\"\",$C$9,\"\")","v":""},null,null,{"$f":"IF($C$9<>\"\",$C$9,\"\")","v":""},null,null,{"$f":"IF($C$9<>\"\",$C$9,\"\")","v":""},null,null,{"$f":"IF($C$9<>\"\",$C$9,\"\")","v":""},null,null,{"$f":"IF($C$9<>\"\",$C$9,\"\")","v":""},null,null,{"$f":"IF($C$9<>\"\",$C$9,\"\")","v":""},null,null,{"$f":"IF($C$9<>\"\",$C$9,\"\")","v":""},null,null,{"$f":"IF($C$9<>\"\",$C$9,\"\")","v":""},null,null,{"$f":"IF($C$9<>\"\",$C$9,\"\")","v":""},null,null,{"$f":"IF($C$9<>\"\",$C$9,\"\")","v":""},null,null,{"$f":"IF($C$9<>\"\",$C$9,\"\")","v":""},null,null,{"$f":"IF($C$9<>\"\",$C$9,\"\")","v":""},null,null,{"$f":"IF($C$9<>\"\",$C$9,\"\")","v":""},null,null,{"$f":"IF($C$9<>\"\",$C$9,\"\")","v":""},null,null,{"$f":"IF($C$9<>\"\",$C$9,\"\")","v":""},null,null,{"$f":"IF($C$9<>\"\",$C$9,\"\")","v":""},null,null,{"$f":"IF($C$9<>\"\",$C$9,\"\")","v":""},null,null,{"$f":"IF($C$9<>\"\",$C$9,\"\")","v":""},null,null,{"$f":"IF($C$9<>\"\",$C$9,\"\")","v":""},null,null,{"$f":"IF($C$9<>\"\",$C$9,\"\")","v":""},null,null,{"$f":"IF($C$9<>\"\",$C$9,\"\")","v":""},null,null,{"$f":"IF($C$9<>\"\",$C$9,\"\")","v":""},null,null,{"$f":"IF($C$9<>\"\",$C$9,\"\")","v":""},null,null,{"$f":"IF($C$9<>\"\",$C$9,\"\")","v":""},null,null,{"$f":"IF($C$9<>\"\",$C$9,\"\")","v":""},null,null,{"$f":"IF($C$9<>\"\",$C$9,\"\")","v":""},null,null,{"$f":"IF($C$9<>\"\",$C$9,\"\")","v":""}]
["Week 3",null,null,{"$f":"IF($C$10<>\"\",$C$10,\"\")","v":""},null,null,{"$f":"IF($C$10<>\"\",$C$10,\"\")","v":""},null,null,{"$f":"IF($C$10<>\"\",$C$10,\"\")","v":""},null,null,{"$f":"IF($C$10<>\"\",$C$10,\"\")","v":""},null,null,{"$f":"IF($C$10<>\"\",$C$10,\"\")","v":""},null,null,{"$f":"IF($C$10<>\"\",$C$10,\"\")","v":""},null,null,{"$f":"IF($C$10<>\"\",$C$10,\"\")","v":""},null,null,{"$f":"IF($C$10<>\"\",$C$10,\"\")","v":""},null,null,{"$f":"IF($C$10<>\"\",$C$10,\"\")","v":""},null,null,{"$f":"IF($C$10<>\"\",$C$10,\"\")","v":""},null,null,{"$f":"IF($C$10<>\"\",$C$10,\"\")","v":""},null,null,{"$f":"IF($C$10<>\"\",$C$10,\"\")","v":""},null,null,{"$f":"IF($C$10<>\"\",$C$10,\"\")","v":""},null,null,{"$f":"IF($C$10<>\"\",$C$10,\"\")","v":""},null,null,{"$f":"IF($C$10<>\"\",$C$10,\"\")","v":""},null,null,{"$f":"IF($C$10<>\"\",$C$10,\"\")","v":""},null,null,{"$f":"IF($C$10<>\"\",$C$10,\"\")","v":""},null,null,{"$f":"IF($C$10<>\"\",$C$10,\"\")","v":""},null,null,{"$f":"IF($C$10<>\"\",$C$10,\"\")","v":""},null,null,{"$f":"IF($C$10<>\"\",$C$10,\"\")","v":""},null,null,{"$f":"IF($C$10<>\"\",$C$10,\"\")","v":""},null,null,{"$f":"IF($C$10<>\"\",$C$10,\"\")","v":""},null,null,{"$f":"IF($C$10<>\"\",$C$10,\"\")","v":""},null,null,{"$f":"IF($C$10<>\"\",$C$10,\"\")","v":""},null,null,{"$f":"IF($C$10<>\"\",$C$10,\"\")","v":""},null,null,{"$f":"IF($C$10<>\"\",$C$10,\"\")","v":""},null,null,{"$f":"IF($C$10<>\"\",$C$10,\"\")","v":""},null,null,{"$f":"IF($C$10<>\"\",$C$10,\"\")","v":""},null,null,{"$f":"IF($C$10<>\"\",$C$10,\"\")","v":""},null,null,{"$f":"IF($C$10<>\"\",$C$10,\"\")","v":""}]
["Week 4",null,null,{"$f":"IF($C$11<>\"\",$C$11,\"\")","v":""},null,null,{"$f":"IF($C$11<>\"\",$C$11,\"\")","v":""},null,null,{"$f":"IF($C$11<>\"\",$C$11,\"\")","v":""},null,null,{"$f":"IF($C$11<>\"\",$C$11,\"\")","v":""},null,null,{"$f":"IF($C$11<>\"\",$C$11,\"\")","v":""},null,null,{"$f":"IF($C$11<>\"\",$C$11,\"\")","v":""},null,null,{"$f":"IF($C$11<>\"\",$C$11,\"\")","v":""},null,null,{"$f":"IF($C$11<>\"\",$C$11,\"\")","v":""},null,null,{"$f":"IF($C$11<>\"\",$C$11,\"\")","v":""},null,null,{"$f":"IF($C$11<>\"\",$C$11,\"\")","v":""},null,null,{"$f":"IF($C$11<>\"\",$C$11,\"\")","v":""},null,null,{"$f":"IF($C$11<>\"\",$C$11,\"\")","v":""},null,null,{"$f":"IF($C$11<>\"\",$C$11,\"\")","v":""},null,null,{"$f":"IF($C$11<>\"\",$C$11,\"\")","v":""},null,null,{"$f":"IF($C$11<>\"\",$C$11,\"\")","v":""},null,null,{"$f":"IF($C$11<>\"\",$C$11,\"\")","v":""},null,null,{"$f":"IF($C$11<>\"\",$C$11,\"\")","v":""},null,null,{"$f":"IF($C$11<>\"\",$C$11,\"\")","v":""},null,null,{"$f":"IF($C$11<>\"\",$C$11,\"\")","v":""},null,null,{"$f":"IF($C$11<>\"\",$C$11,\"\")","v":""},null,null,{"$f":"IF($C$11<>\"\",$C$11,\"\")","v":""},null,null,{"$f":"IF($C$11<>\"\",$C$11,\"\")","v":""},null,null,{"$f":"IF($C$11<>\"\",$C$11,\"\")","v":""},null,null,{"$f":"IF($C$11<>\"\",$C$11,\"\")","v":""},null,null,{"$f":"IF($C$11<>\"\",$C$11,\"\")","v":""},null,null,{"$f":"IF($C$11<>\"\",$C$11,\"\")","v":""},null,null,{"$f":"IF($C$11<>\"\",$C$11,\"\")","v":""},null,null,{"$f":"IF($C$11<>\"\",$C$11,\"\")","v":""},null,null,{"$f":"IF($C$11<>\"\",$C$11,\"\")","v":""},null,null,{"$f":"IF($C$11<>\"\",$C$11,\"\")","v":""}]
["Week 5",null,null,{"$f":"IF($C$12<>\"\",$C$12,\"\")","v":""},null,null,{"$f":"IF($C$12<>\"\",$C$12,\"\")","v":""},null,null,{"$f":"IF($C$12<>\"\",$C$12,\"\")","v":""},null,null,{"$f":"IF($C$12<>\"\",$C$12,\"\")","v":""},null,null,{"$f":"IF($C$12<>\"\",$C$12,\"\")","v":""},null,null,{"$f":"IF($C$12<>\"\",$C$12,\"\")","v":""},null,null,{"$f":"IF($C$12<>\"\",$C$12,\"\")","v":""},null,null,{"$f":"IF($C$12<>\"\",$C$12,\"\")","v":""},null,null,{"$f":"IF($C$12<>\"\",$C$12,\"\")","v":""},null,null,{"$f":"IF($C$12<>\"\",$C$12,\"\")","v":""},null,null,{"$f":"IF($C$12<>\"\",$C$12,\"\")","v":""},null,null,{"$f":"IF($C$12<>\"\",$C$12,\"\")","v":""},null,null,{"$f":"IF($C$12<>\"\",$C$12,\"\")","v":""},null,null,{"$f":"IF($C$12<>\"\",$C$12,\"\")","v":""},null,null,{"$f":"IF($C$12<>\"\",$C$12,\"\")","v":""},null,null,{"$f":"IF($C$12<>\"\",$C$12,\"\")","v":""},null,null,{"$f":"IF($C$12<>\"\",$C$12,\"\")","v":""},null,null,{"$f":"IF($C$12<>\"\",$C$12,\"\")","v":""},null,null,{"$f":"IF($C$12<>\"\",$C$12,\"\")","v":""},null,null,{"$f":"IF($C$12<>\"\",$C$12,\"\")","v":""},null,null,{"$f":"IF($C$12<>\"\",$C$12,\"\")","v":""},null,null,{"$f":"IF($C$12<>\"\",$C$12,\"\")","v":""},null,null,{"$f":"IF($C$12<>\"\",$C$12,\"\")","v":""},null,null,{"$f":"IF($C$12<>\"\",$C$12,\"\")","v":""},null,null,{"$f":"IF($C$12<>\"\",$C$12,\"\")","v":""},null,null,{"$f":"IF($C$12<>\"\",$C$12,\"\")","v":""},null,null,{"$f":"IF($C$12<>\"\",$C$12,\"\")","v":""},null,null,{"$f":"IF($C$12<>\"\",$C$12,\"\")","v":""},null,null,{"$f":"IF($C$12<>\"\",$C$12,\"\")","v":""},null,null,{"$f":"IF($C$12<>\"\",$C$12,\"\")","v":""}]
["Month 2"]
["Week 1",null,null,{"$f":"IF($C$14<>\"\",$C$14,\"\")","v":""},null,null,{"$f":"IF($C$14<>\"\",$C$14,\"\")","v":""},null,null,{"$f":"IF($C$14<>\"\",$C$14,\"\")","v":""},null,null,{"$f":"IF($C$14<>\"\",$C$14,\"\")","v":""},null,null,{"$f":"IF($C$14<>\"\",$C$14,\"\")","v":""},null,null,{"$f":"IF($C$14<>\"\",$C$14,\"\")","v":""},null,null,{"$f":"IF($C$14<>\"\",$C$14,\"\")","v":""},null,null,{"$f":"IF($C$14<>\"\",$C$14,\"\")","v":""},null,null,{"$f":"IF($C$14<>\"\",$C$14,\"\")","v":""},null,null,{"$f":"IF($C$14<>\"\",$C$14,\"\")","v":""},null,null,{"$f":"IF($C$14<>\"\",$C$14,\"\")","v":""},null,null,{"$f":"IF($C$14<>\"\",$C$14,\"\")","v":""},null,null,{"$f":"IF($C$14<>\"\",$C$14,\"\")","v":""},null,null,{"$f":"IF($C$14<>\"\",$C$14,\"\")","v":""},null,null,{"$f":"IF($C$14<>\"\",$C$14,\"\")","v":""},null,null,{"$f":"IF($C$14<>\"\",$C$14,\"\")","v":""},null,null,{"$f":"IF($C$14<>\"\",$C$14,\"\")","v":""},null,null,{"$f":"IF($C$14<>\"\",$C$14,\"\")","v":""},null,null,{"$f":"IF($C$14<>\"\",$C$14,\"\")","v":""},null,null,{"$f":"IF($C$14<>\"\",$C$14,\"\")","v":""},null,null,{"$f":"IF($C$14<>\"\",$C$14,\"\")","v":""},null,null,{"$f":"IF($C$14<>\"\",$C$14,\"\")","v":""},null,null,{"$f":"IF($C$14<>\"\",$C$14,\"\")","v":""},null,null,{"$f":"IF($C$14<>\"\",$C$14,\"\")","v":""},null,null,{"$f":"IF($C$14<>\"\",$C$14,\"\")","v":""},null,null,{"$f":"IF($C$14<>\"\",$C$14,\"\")","v":""},null,null,{"$f":"IF($C$14<>\"\",$C$14,\"\")","v":""},null,null,{"$f":"IF($C$14<>\"\",$C$14,\"\")","v":""},null,null,{"$f":"IF($C$14<>\"\",$C$14,\"\")","v":""},null,null,{"$f":"IF($C$14<>\"\",$C$14,\"\")","v":""}]
["Week 2",null,null,{"$f":"IF($C$15<>\"\",$C$15,\"\")","v":""},null,null,{"$f":"IF($C$15<>\"\",$C$15,\"\")","v":""},null,null,{"$f":"IF($C$15<>\"\",$C$15,\"\")","v":""},null,null,{"$f":"IF($C$15<>\"\",$C$15,\"\")","v":""},null,null,{"$f":"IF($C$15<>\"\",$C$15,\"\")","v":""},null,null,{"$f":"IF($C$15<>\"\",$C$15,\"\")","v":""},null,null,{"$f":"IF($C$15<>\"\",$C$15,\"\")","v":""},null,null,{"$f":"IF($C$15<>\"\",$C$15,\"\")","v":""},null,null,{"$f":"IF($C$15<>\"\",$C$15,\"\")","v":""},null,null,{"$f":"IF($C$15<>\"\",$C$15,\"\")","v":""},null,null,{"$f":"IF($C$15<>\"\",$C$15,\"\")","v":""},null,null,{"$f":"IF($C$15<>\"\",$C$15,\"\")","v":""},null,null,{"$f":"IF($C$15<>\"\",$C$15,\"\")","v":""},null,null,{"$f":"IF($C$15<>\"\",$C$15,\"\")","v":""},null,null,{"$f":"IF($C$15<>\"\",$C$15,\"\")","v":""},null,null,{"$f":"IF($C$15<>\"\",$C$15,\"\")","v":""},null,null,{"$f":"IF($C$15<>\"\",$C$15,\"\")","v":""},null,null,{"$f":"IF($C$15<>\"\",$C$15,\"\")","v":""},null,null,{"$f":"IF($C$15<>\"\",$C$15,\"\")","v":""},null,null,{"$f":"IF($C$15<>\"\",$C$15,\"\")","v":""},null,null,{"$f":"IF($C$15<>\"\",$C$15,\"\")","v":""},null,null,{"$f":"IF($C$15<>\"\",$C$15,\"\")","v":""},null,null,{"$f":"IF($C$15<>\"\",$C$15,\"\")","v":""},null,null,{"$f":"IF($C$15<>\"\",$C$15,\"\")","v":""},null,null,{"$f":"IF($C$15<>\"\",$C$15,\"\")","v":""},null,null,{"$f":"IF($C$15<>\"\",$C$15,\"\")","v":""},null,null,{"$f":"IF($C$15<>\"\",$C$15,\"\")","v":""},null,null,{"$f":"IF($C$15<>\"\",$C$15,\"\")","v":""},null,null,{"$f":"IF($C$15<>\"\",$C$15,\"\")","v":""},null,null,{"$f":"IF($C$15<>\"\",$C$15,\"\")","v":""}]
["Week 3",null,null,{"$f":"IF($C$16<>\"\",$C$16,\"\")","v":""},null,null,{"$f":"IF($C$16<>\"\",$C$16,\"\")","v":""},null,null,{"$f":"IF($C$16<>\"\",$C$16,\"\")","v":""},null,null,{"$f":"IF($C$16<>\"\",$C$16,\"\")","v":""},null,null,{"$f":"IF($C$16<>\"\",$C$16,\"\")","v":""},null,null,{"$f":"IF($C$16<>\"\",$C$16,\"\")","v":""},null,null,{"$f":"IF($C$16<>\"\",$C$16,\"\")","v":""},null,null,{"$f":"IF($C$16<>\"\",$C$16,\"\")","v":""},null,null,{"$f":"IF($C$16<>\"\",$C$16,\"\")","v":""},null,null,{"$f":"IF($C$16<>\"\",$C$16,\"\")","v":""},null,null,{"$f":"IF($C$16<>\"\",$C$16,\"\")","v":""},null,null,{"$f":"IF($C$16<>\"\",$C$16,\"\")","v":""},null,null,{"$f":"IF($C$16<>\"\",$C$16,\"\")","v":""},null,null,{"$f":"IF($C$16<>\"\",$C$16,\"\")","v":""},null,null,{"$f":"IF($C$16<>\"\",$C$16,\"\")","v":""},null,null,{"$f":"IF($C$16<>\"\",$C$16,\"\")","v":""},null,null,{"$f":"IF($C$16<>\"\",$C$16,\"\")","v":""},null,null,{"$f":"IF($C$16<>\"\",$C$16,\"\")","v":""},null,null,{"$f":"IF($C$16<>\"\",$C$16,\"\")","v":""},null,null,{"$f":"IF($C$16<>\"\",$C$16,\"\")","v":""},null,null,{"$f":"IF($C$16<>\"\",$C$16,\"\")","v":""},null,null,{"$f":"IF($C$16<>\"\",$C$16,\"\")","v":""},null,null,{"$f":"IF($C$16<>\"\",$C$16,\"\")","v":""},null,null,{"$f":"IF($C$16<>\"\",$C$16,\"\")","v":""},null,null,{"$f":"IF($C$16<>\"\",$C$16,\"\")","v":""},null,null,{"$f":"IF($C$16<>\"\",$C$16,\"\")","v":""},null,null,{"$f":"IF($C$16<>\"\",$C$16,\"\")","v":""},null,null,{"$f":"IF($C$16<>\"\",$C$16,\"\")","v":""},null,null,{"$f":"IF($C$16<>\"\",$C$16,\"\")","v":""},null,null,{"$f":"IF($C$16<>\"\",$C$16,\"\")","v":""}]
["Week 4",null,null,{"$f":"IF($C$17<>\"\",$C$17,\"\")","v":""},null,null,{"$f":"IF($C$17<>\"\",$C$17,\"\")","v":""},null,null,{"$f":"IF($C$17<>\"\",$C$17,\"\")","v":""},null,null,{"$f":"IF($C$17<>\"\",$C$17,\"\")","v":""},null,null,{"$f":"IF($C$17<>\"\",$C$17,\"\")","v":""},null,null,{"$f":"IF($C$17<>\"\",$C$17,\"\")","v":""},null,null,{"$f":"IF($C$17<>\"\",$C$17,\"\")","v":""},null,null,{"$f":"IF($C$17<>\"\",$C$17,\"\")","v":""},null,null,{"$f":"IF($C$17<>\"\",$C$17,\"\")","v":""},null,null,{"$f":"IF($C$17<>\"\",$C$17,\"\")","v":""},null,null,{"$f":"IF($C$17<>\"\",$C$17,\"\")","v":""},null,null,{"$f":"IF($C$17<>\"\",$C$17,\"\")","v":""},null,null,{"$f":"IF($C$17<>\"\",$C$17,\"\")","v":""},null,null,{"$f":"IF($C$17<>\"\",$C$17,\"\")","v":""},null,null,{"$f":"IF($C$17<>\"\",$C$17,\"\")","v":""},null,null,{"$f":"IF($C$17<>\"\",$C$17,\"\")","v":""},null,null,{"$f":"IF($C$17<>\"\",$C$17,\"\")","v":""},null,null,{"$f":"IF($C$17<>\"\",$C$17,\"\")","v":""},null,null,{"$f":"IF($C$17<>\"\",$C$17,\"\")","v":""},null,null,{"$f":"IF($C$17<>\"\",$C$17,\"\")","v":""},null,null,{"$f":"IF($C$17<>\"\",$C$17,\"\")","v":""},null,null,{"$f":"IF($C$17<>\"\",$C$17,\"\")","v":""},null,null,{"$f":"IF($C$17<>\"\",$C$17,\"\")","v":""},null,null,{"$f":"IF($C$17<>\"\",$C$17,\"\")","v":""},null,null,{"$f":"IF($C$17<>\"\",$C$17,\"\")","v":""},null,null,{"$f":"IF($C$17<>\"\",$C$17,\"\")","v":""},null,null,{"$f":"IF($C$17<>\"\",$C$17,\"\")","v":""},null,null,{"$f":"IF($C$17<>\"\",$C$17,\"\")","v":""},null,null,{"$f":"IF($C$17<>\"\",$C$17,\"\")","v":""},null,null,{"$f":"IF($C$17<>\"\",$C$17,\"\")","v":""}]
["Week 5",null,null,{"$f":"IF($C$18<>\"\",$C$18,\"\")","v":""},null,null,{"$f":"IF($C$18<>\"\",$C$18,\"\")","v":""},null,null,{"$f":"IF($C$18<>\"\",$C$18,\"\")","v":""},null,null,{"$f":"IF($C$18<>\"\",$C$18,\"\")","v":""},null,null,{"$f":"IF($C$18<>\"\",$C$18,\"\")","v":""},null,null,{"$f":"IF($C$18<>\"\",$C$18,\"\")","v":""},null,null,{"$f":"IF($C$18<>\"\",$C$18,\"\")","v":""},null,null,{"$f":"IF($C$18<>\"\",$C$18,\"\")","v":""},null,null,{"$f":"IF($C$18<>\"\",$C$18,\"\")","v":""},null,null,{"$f":"IF($C$18<>\"\",$C$18,\"\")","v":""},null,null,{"$f":"IF($C$18<>\"\",$C$18,\"\")","v":""},null,null,{"$f":"IF($C$18<>\"\",$C$18,\"\")","v":""},null,null,{"$f":"IF($C$18<>\"\",$C$18,\"\")","v":""},null,null,{"$f":"IF($C$18<>\"\",$C$18,\"\")","v":""},null,null,{"$f":"IF($C$18<>\"\",$C$18,\"\")","v":""},null,null,{"$f":"IF($C$18<>\"\",$C$18,\"\")","v":""},null,null,{"$f":"IF($C$18<>\"\",$C$18,\"\")","v":""},null,null,{"$f":"IF($C$18<>\"\",$C$18,\"\")","v":""},null,null,{"$f":"IF($C$18<>\"\",$C$18,\"\")","v":""},null,null,{"$f":"IF($C$18<>\"\",$C$18,\"\")","v":""},null,null,{"$f":"IF($C$18<>\"\",$C$18,\"\")","v":""},null,null,{"$f":"IF($C$18<>\"\",$C$18,\"\")","v":""},null,null,{"$f":"IF($C$18<>\"\",$C$18,\"\")","v":""},null,null,{"$f":"IF($C$18<>\"\",$C$18,\"\")","v":""},null,null,{"$f":"IF($C$18<>\"\",$C$18,\"\")","v":""},null,null,{"$f":"IF($C$18<>\"\",$C$18,\"\")","v":""},null,null,{"$f":"IF($C$18<>\"\",$C$18,\"\")","v":""},null,null,{"$f":"IF($C$18<>\"\",$C$18,\"\")","v":""},null,null,{"$f":"IF($C$18<>\"\",$C$18,\"\")","v":""},null,null,{"$f":"IF($C$18<>\"\",$C$18,\"\")","v":""}]
["Month 3"]
["Week 1",null,null,{"$f":"IF($C$20<>\"\",$C$20,\"\")","v":""},null,null,{"$f":"IF($C$20<>\"\",$C$20,\"\")","v":""},null,null,{"$f":"IF($C$20<>\"\",$C$20,\"\")","v":""},null,null,{"$f":"IF($C$20<>\"\",$C$20,\"\")","v":""},null,null,{"$f":"IF($C$20<>\"\",$C$20,\"\")","v":""},null,null,{"$f":"IF($C$20<>\"\",$C$20,\"\")","v":""},null,null,{"$f":"IF($C$20<>\"\",$C$20,\"\")","v":""},null,null,{"$f":"IF($C$20<>\"\",$C$20,\"\")","v":""},null,null,{"$f":"IF($C$20<>\"\",$C$20,\"\")","v":""},null,null,{"$f":"IF($C$20<>\"\",$C$20,\"\")","v":""},null,null,{"$f":"IF($C$20<>\"\",$C$20,\"\")","v":""},null,null,{"$f":"IF($C$20<>\"\",$C$20,\"\")","v":""},null,null,{"$f":"IF($C$20<>\"\",$C$20,\"\")","v":""},null,null,{"$f":"IF($C$20<>\"\",$C$20,\"\")","v":""},null,null,{"$f":"IF($C$20<>\"\",$C$20,\"\")","v":""},null,null,{"$f":"IF($C$20<>\"\",$C$20,\"\")","v":""},null,null,{"$f":"IF($C$20<>\"\",$C$20,\"\")","v":""},null,null,{"$f":"IF($C$20<>\"\",$C$20,\"\")","v":""},null,null,{"$f":"IF($C$20<>\"\",$C$20,\"\")","v":""},null,null,{"$f":"IF($C$20<>\"\",$C$20,\"\")","v":""},null,null,{"$f":"IF($C$20<>\"\",$C$20,\"\")","v":""},null,null,{"$f":"IF($C$20<>\"\",$C$20,\"\")","v":""},null,null,{"$f":"IF($C$20<>\"\",$C$20,\"\")","v":""},null,null,{"$f":"IF($C$20<>\"\",$C$20,\"\")","v":""},null,null,{"$f":"IF($C$20<>\"\",$C$20,\"\")","v":""},null,null,{"$f":"IF($C$20<>\"\",$C$20,\"\")","v":""},null,null,{"$f":"IF($C$20<>\"\",$C$20,\"\")","v":""},null,null,{"$f":"IF($C$20<>\"\",$C$20,\"\")","v":""},null,null,{"$f":"IF($C$20<>\"\",$C$20,\"\")","v":""},null,null,{"$f":"IF($C$20<>\"\",$C$20,\"\")","v":""}]
["Week 2",null,null,{"$f":"IF($C$21<>\"\",$C$21,\"\")","v":""},null,null,{"$f":"IF($C$21<>\"\",$C$21,\"\")","v":""},null,null,{"$f":"IF($C$21<>\"\",$C$21,\"\")","v":""},null,null,{"$f":"IF($C$21<>\"\",$C$21,\"\")","v":""},null,null,{"$f":"IF($C$21<>\"\",$C$21,\"\")","v":""},null,null,{"$f":"IF($C$21<>\"\",$C$21,\"\")","v":""},null,null,{"$f":"IF($C$21<>\"\",$C$21,\"\")","v":""},null,null,{"$f":"IF($C$21<>\"\",$C$21,\"\")","v":""},null,null,{"$f":"IF($C$21<>\"\",$C$21,\"\")","v":""},null,null,{"$f":"IF($C$21<>\"\",$C$21,\"\")","v":""},null,null,{"$f":"IF($C$21<>\"\",$C$21,\"\")","v":""},null,null,{"$f":"IF($C$21<>\"\",$C$21,\"\")","v":""},null,null,{"$f":"IF($C$21<>\"\",$C$21,\"\")","v":""},null,null,{"$f":"IF($C$21<>\"\",$C$21,\"\")","v":""},null,null,{"$f":"IF($C$21<>\"\",$C$21,\"\")","v":""},null,null,{"$f":"IF($C$21<>\"\",$C$21,\"\")","v":""},null,null,{"$f":"IF($C$21<>\"\",$C$21,\"\")","v":""},null,null,{"$f":"IF($C$21<>\"\",$C$21,\"\")","v":""},null,null,{"$f":"IF($C$21<>\"\",$C$21,\"\")","v":""},null,null,{"$f":"IF($C$21<>\"\",$C$21,\"\")","v":""},null,null,{"$f":"IF($C$21<>\"\",$C$21,\"\")","v":""},null,null,{"$f":"IF($C$21<>\"\",$C$21,\"\")","v":""},null,null,{"$f":"IF($C$21<>\"\",$C$21,\"\")","v":""},null,null,{"$f":"IF($C$21<>\"\",$C$21,\"\")","v":""},null,null,{"$f":"IF($C$21<>\"\",$C$21,\"\")","v":""},null,null,{"$f":"IF($C$21<>\"\",$C$21,\"\")","v":""},null,null,{"$f":"IF($C$21<>\"\",$C$21,\"\")","v":""},null,null,{"$f":"IF($C$21<>\"\",$C$21,\"\")","v":""},null,null,{"$f":"IF($C$21<>\"\",$C$21,\"\")","v":""},null,null,{"$f":"IF($C$21<>\"\",$C$21,\"\")","v":""}]
["Week 3",null,null,{"$f":"IF($C$22<>\"\",$C$22,\"\")","v":""},null,null,{"$f":"IF($C$22<>\"\",$C$22,\"\")","v":""},null,null,{"$f":"IF($C$22<>\"\",$C$22,\"\")","v":""},null,null,{"$f":"IF($C$22<>\"\",$C$22,\"\")","v":""},null,null,{"$f":"IF($C$22<>\"\",$C$22,\"\")","v":""},null,null,{"$f":"IF($C$22<>\"\",$C$22,\"\")","v":""},null,null,{"$f":"IF($C$22<>\"\",$C$22,\"\")","v":""},null,null,{"$f":"IF($C$22<>\"\",$C$22,\"\")","v":""},null,null,{"$f":"IF($C$22<>\"\",$C$22,\"\")","v":""},null,null,{"$f":"IF($C$22<>\"\",$C$22,\"\")","v":""},null,null,{"$f":"IF($C$22<>\"\",$C$22,\"\")","v":""},null,null,{"$f":"IF($C$22<>\"\",$C$22,\"\")","v":""},null,null,{"$f":"IF($C$22<>\"\",$C$22,\"\")","v":""},null,null,{"$f":"IF($C$22<>\"\",$C$22,\"\")","v":""},null,null,{"$f":"IF($C$22<>\"\",$C$22,\"\")","v":""},null,null,{"$f":"IF($C$22<>\"\",$C$22,\"\")","v":""},null,null,{"$f":"IF($C$22<>\"\",$C$22,\"\")","v":""},null,null,{"$f":"IF($C$22<>\"\",$C$22,\"\")","v":""},null,null,{"$f":"IF($C$22<>\"\",$C$22,\"\")","v":""},null,null,{"$f":"IF($C$22<>\"\",$C$22,\"\")","v":""},null,null,{"$f":"IF($C$22<>\"\",$C$22,\"\")","v":""},null,null,{"$f":"IF($C$22<>\"\",$C$22,\"\")","v":""},null,null,{"$f":"IF($C$22<>\"\",$C$22,\"\")","v":""},null,null,{"$f":"IF($C$22<>\"\",$C$22,\"\")","v":""},null,null,{"$f":"IF($C$22<>\"\",$C$22,\"\")","v":""},null,null,{"$f":"IF($C$22<>\"\",$C$22,\"\")","v":""},null,null,{"$f":"IF($C$22<>\"\",$C$22,\"\")","v":""},null,null,{"$f":"IF($C$22<>\"\",$C$22,\"\")","v":""},null,null,{"$f":"IF($C$22<>\"\",$C$22,\"\")","v":""},null,null,{"$f":"IF($C$22<>\"\",$C$22,\"\")","v":""}]
["Week 4",null,null,{"$f":"IF($C$23<>\"\",$C$23,\"\")","v":""},null,null,{"$f":"IF($C$23<>\"\",$C$23,\"\")","v":""},null,null,{"$f":"IF($C$23<>\"\",$C$23,\"\")","v":""},null,null,{"$f":"IF($C$23<>\"\",$C$23,\"\")","v":""},null,null,{"$f":"IF($C$23<>\"\",$C$23,\"\")","v":""},null,null,{"$f":"IF($C$23<>\"\",$C$23,\"\")","v":""},null,null,{"$f":"IF($C$23<>\"\",$C$23,\"\")","v":""},null,null,{"$f":"IF($C$23<>\"\",$C$23,\"\")","v":""},null,null,{"$f":"IF($C$23<>\"\",$C$23,\"\")","v":""},null,null,{"$f":"IF($C$23<>\"\",$C$23,\"\")","v":""},null,null,{"$f":"IF($C$23<>\"\",$C$23,\"\")","v":""},null,null,{"$f":"IF($C$23<>\"\",$C$23,\"\")","v":""},null,null,{"$f":"IF($C$23<>\"\",$C$23,\"\")","v":""},null,null,{"$f":"IF($C$23<>\"\",$C$23,\"\")","v":""},null,null,{"$f":"IF($C$23<>\"\",$C$23,\"\")","v":""},null,null,{"$f":"IF($C$23<>\"\",$C$23,\"\")","v":""},null,null,{"$f":"IF($C$23<>\"\",$C$23,\"\")","v":""},null,null,{"$f":"IF($C$23<>\"\",$C$23,\"\")","v":""},null,null,{"$f":"IF($C$23<>\"\",$C$23,\"\")","v":""},null,null,{"$f":"IF($C$23<>\"\",$C$23,\"\")","v":""},null,null,{"$f":"IF($C$23<>\"\",$C$23,\"\")","v":""},null,null,{"$f":"IF($C$23<>\"\",$C$23,\"\")","v":""},null,null,{"$f":"IF($C$23<>\"\",$C$23,\"\")","v":""},null,null,{"$f":"IF($C$23<>\"\",$C$23,\"\")","v":""},null,null,{"$f":"IF($C$23<>\"\",$C$23,\"\")","v":""},null,null,{"$f":"IF($C$23<>\"\",$C$23,\"\")","v":""},null,null,{"$f":"IF($C$23<>\"\",$C$23,\"\")","v":""},null,null,{"$f":"IF($C$23<>\"\",$C$23,\"\")","v":""},null,null,{"$f":"IF($C$23<>\"\",$C$23,\"\")","v":""},null,null,{"$f":"IF($C$23<>\"\",$C$23,\"\")","v":""}]
["Week 5",null,null,{"$f":"IF($C$24<>\"\",$C$24,\"\")","v":""},null,null,{"$f":"IF($C$24<>\"\",$C$24,\"\")","v":""},null,null,{"$f":"IF($C$24<>\"\",$C$24,\"\")","v":""},null,null,{"$f":"IF($C$24<>\"\",$C$24,\"\")","v":""},null,null,{"$f":"IF($C$24<>\"\",$C$24,\"\")","v":""},null,null,{"$f":"IF($C$24<>\"\",$C$24,\"\")","v":""},null,null,{"$f":"IF($C$24<>\"\",$C$24,\"\")","v":""},null,null,{"$f":"IF($C$24<>\"\",$C$24,\"\")","v":""},null,null,{"$f":"IF($C$24<>\"\",$C$24,\"\")","v":""},null,null,{"$f":"IF($C$24<>\"\",$C$24,\"\")","v":""},null,null,{"$f":"IF($C$24<>\"\",$C$24,\"\")","v":""},null,null,{"$f":"IF($C$24<>\"\",$C$24,\"\")","v":""},null,null,{"$f":"IF($C$24<>\"\",$C$24,\"\")","v":""},null,null,{"$f":"IF($C$24<>\"\",$C$24,\"\")","v":""},null,null,{"$f":"IF($C$24<>\"\",$C$24,\"\")","v":""},null,null,{"$f":"IF($C$24<>\"\",$C$24,\"\")","v":""},null,null,{"$f":"IF($C$24<>\"\",$C$24,\"\")","v":""},null,null,{"$f":"IF($C$24<>\"\",$C$24,\"\")","v":""},null,null,{"$f":"IF($C$24<>\"\",$C$24,\"\")","v":""},null,null,{"$f":"IF($C$24<>\"\",$C$24,\"\")","v":""},null,null,{"$f":"IF($C$24<>\"\",$C$24,\"\")","v":""},null,null,{"$f":"IF($C$24<>\"\",$C$24,\"\")","v":""},null,null,{"$f":"IF($C$24<>\"\",$C$24,\"\")","v":""},null,null,{"$f":"IF($C$24<>\"\",$C$24,\"\")","v":""},null,null,{"$f":"IF($C$24<>\"\",$C$24,\"\")","v":""},null,null,{"$f":"IF($C$24<>\"\",$C$24,\"\")","v":""},null,null,{"$f":"IF($C$24<>\"\",$C$24,\"\")","v":""},null,null,{"$f":"IF($C$24<>\"\",$C$24,\"\")","v":""},null,null,{"$f":"IF($C$24<>\"\",$C$24,\"\")","v":""},null,null,{"$f":"IF($C$24<>\"\",$C$24,\"\")","v":""}]
["Month 4"]
["Week 1",null,null,{"$f":"IF($C$26<>\"\",$C$26,\"\")","v":""},null,null,{"$f":"IF($C$26<>\"\",$C$26,\"\")","v":""},null,null,{"$f":"IF($C$26<>\"\",$C$26,\"\")","v":""},null,null,{"$f":"IF($C$26<>\"\",$C$26,\"\")","v":""},null,null,{"$f":"IF($C$26<>\"\",$C$26,\"\")","v":""},null,null,{"$f":"IF($C$26<>\"\",$C$26,\"\")","v":""},null,null,{"$f":"IF($C$26<>\"\",$C$26,\"\")","v":""},null,null,{"$f":"IF($C$26<>\"\",$C$26,\"\")","v":""},null,null,{"$f":"IF($C$26<>\"\",$C$26,\"\")","v":""},null,null,{"$f":"IF($C$26<>\"\",$C$26,\"\")","v":""},null,null,{"$f":"IF($C$26<>\"\",$C$26,\"\")","v":""},null,null,{"$f":"IF($C$26<>\"\",$C$26,\"\")","v":""},null,null,{"$f":"IF($C$26<>\"\",$C$26,\"\")","v":""},null,null,{"$f":"IF($C$26<>\"\",$C$26,\"\")","v":""},null,null,{"$f":"IF($C$26<>\"\",$C$26,\"\")","v":""},null,null,{"$f":"IF($C$26<>\"\",$C$26,\"\")","v":""},null,null,{"$f":"IF($C$26<>\"\",$C$26,\"\")","v":""},null,null,{"$f":"IF($C$26<>\"\",$C$26,\"\")","v":""},null,null,{"$f":"IF($C$26<>\"\",$C$26,\"\")","v":""},null,null,{"$f":"IF($C$26<>\"\",$C$26,\"\")","v":""},null,null,{"$f":"IF($C$26<>\"\",$C$26,\"\")","v":""},null,null,{"$f":"IF($C$26<>\"\",$C$26,\"\")","v":""},null,null,{"$f":"IF($C$26<>\"\",$C$26,\"\")","v":""},null,null,{"$f":"IF($C$26<>\"\",$C$26,\"\")","v":""},null,null,{"$f":"IF($C$26<>\"\",$C$26,\"\")","v":""},null,null,{"$f":"IF($C$26<>\"\",$C$26,\"\")","v":""},null,null,{"$f":"IF($C$26<>\"\",$C$26,\"\")","v":""},null,null,{"$f":"IF($C$26<>\"\",$C$26,\"\")","v":""},null,null,{"$f":"IF($C$26<>\"\",$C$26,\"\")","v":""},null,null,{"$f":"IF($C$26<>\"\",$C$26,\"\")","v":""}]
["Week 2",null,null,{"$f":"IF($C$27<>\"\",$C$27,\"\")","v":""},null,null,{"$f":"IF($C$27<>\"\",$C$27,\"\")","v":""},null,null,{"$f":"IF($C$27<>\"\",$C$27,\"\")","v":""},null,null,{"$f":"IF($C$27<>\"\",$C$27,\"\")","v":""},null,null,{"$f":"IF($C$27<>\"\",$C$27,\"\")","v":""},null,null,{"$f":"IF($C$27<>\"\",$C$27,\"\")","v":""},null,null,{"$f":"IF($C$27<>\"\",$C$27,\"\")","v":""},null,null,{"$f":"IF($C$27<>\"\",$C$27,\"\")","v":""},null,null,{"$f":"IF($C$27<>\"\",$C$27,\"\")","v":""},null,null,{"$f":"IF($C$27<>\"\",$C$27,\"\")","v":""},null,null,{"$f":"IF($C$27<>\"\",$C$27,\"\")","v":""},null,null,{"$f":"IF($C$27<>\"\",$C$27,\"\")","v":""},null,null,{"$f":"IF($C$27<>\"\",$C$27,\"\")","v":""},null,null,{"$f":"IF($C$27<>\"\",$C$27,\"\")","v":""},null,null,{"$f":"IF($C$27<>\"\",$C$27,\"\")","v":""},null,null,{"$f":"IF($C$27<>\"\",$C$27,\"\")","v":""},null,null,{"$f":"IF($C$27<>\"\",$C$27,\"\")","v":""},null,null,{"$f":"IF($C$27<>\"\",$C$27,\"\")","v":""},null,null,{"$f":"IF($C$27<>\"\",$C$27,\"\")","v":""},null,null,{"$f":"IF($C$27<>\"\",$C$27,\"\")","v":""},null,null,{"$f":"IF($C$27<>\"\",$C$27,\"\")","v":""},null,null,{"$f":"IF($C$27<>\"\",$C$27,\"\")","v":""},null,null,{"$f":"IF($C$27<>\"\",$C$27,\"\")","v":""},null,null,{"$f":"IF($C$27<>\"\",$C$27,\"\")","v":""},null,null,{"$f":"IF($C$27<>\"\",$C$27,\"\")","v":""},null,null,{"$f":"IF($C$27<>\"\",$C$27,\"\")","v":""},null,null,{"$f":"IF($C$27<>\"\",$C$27,\"\")","v":""},null,null,{"$f":"IF($C$27<>\"\",$C$27,\"\")","v":""},null,null,{"$f":"IF($C$27<>\"\",$C$27,\"\")","v":""},null,null,{"$f":"IF($C$27<>\"\",$C$27,\"\")","v":""}]
["Week 3",null,null,{"$f":"IF($C$28<>\"\",$C$28,\"\")","v":""},null,null,{"$f":"IF($C$28<>\"\",$C$28,\"\")","v":""},null,null,{"$f":"IF($C$28<>\"\",$C$28,\"\")","v":""},null,null,{"$f":"IF($C$28<>\"\",$C$28,\"\")","v":""},null,null,{"$f":"IF($C$28<>\"\",$C$28,\"\")","v":""},null,null,{"$f":"IF($C$28<>\"\",$C$28,\"\")","v":""},null,null,{"$f":"IF($C$28<>\"\",$C$28,\"\")","v":""},null,null,{"$f":"IF($C$28<>\"\",$C$28,\"\")","v":""},null,null,{"$f":"IF($C$28<>\"\",$C$28,\"\")","v":""},null,null,{"$f":"IF($C$28<>\"\",$C$28,\"\")","v":""},null,null,{"$f":"IF($C$28<>\"\",$C$28,\"\")","v":""},null,null,{"$f":"IF($C$28<>\"\",$C$28,\"\")","v":""},null,null,{"$f":"IF($C$28<>\"\",$C$28,\"\")","v":""},null,null,{"$f":"IF($C$28<>\"\",$C$28,\"\")","v":""},null,null,{"$f":"IF($C$28<>\"\",$C$28,\"\")","v":""},null,null,{"$f":"IF($C$28<>\"\",$C$28,\"\")","v":""},null,null,{"$f":"IF($C$28<>\"\",$C$28,\"\")","v":""},null,null,{"$f":"IF($C$28<>\"\",$C$28,\"\")","v":""},null,null,{"$f":"IF($C$28<>\"\",$C$28,\"\")","v":""},null,null,{"$f":"IF($C$28<>\"\",$C$28,\"\")","v":""},null,null,{"$f":"IF($C$28<>\"\",$C$28,\"\")","v":""},null,null,{"$f":"IF($C$28<>\"\",$C$28,\"\")","v":""},null,null,{"$f":"IF($C$28<>\"\",$C$28,\"\")","v":""},null,null,{"$f":"IF($C$28<>\"\",$C$28,\"\")","v":""},null,null,{"$f":"IF($C$28<>\"\",$C$28,\"\")","v":""},null,null,{"$f":"IF($C$28<>\"\",$C$28,\"\")","v":""},null,null,{"$f":"IF($C$28<>\"\",$C$28,\"\")","v":""},null,null,{"$f":"IF($C$28<>\"\",$C$28,\"\")","v":""},null,null,{"$f":"IF($C$28<>\"\",$C$28,\"\")","v":""},null,null,{"$f":"IF($C$28<>\"\",$C$28,\"\")","v":""}]
["Week 4",null,null,{"$f":"IF($C$29<>\"\",$C$29,\"\")","v":""},null,null,{"$f":"IF($C$29<>\"\",$C$29,\"\")","v":""},null,null,{"$f":"IF($C$29<>\"\",$C$29,\"\")","v":""},null,null,{"$f":"IF($C$29<>\"\",$C$29,\"\")","v":""},null,null,{"$f":"IF($C$29<>\"\",$C$29,\"\")","v":""},null,null,{"$f":"IF($C$29<>\"\",$C$29,\"\")","v":""},null,null,{"$f":"IF($C$29<>\"\",$C$29,\"\")","v":""},null,null,{"$f":"IF($C$29<>\"\",$C$29,\"\")","v":""},null,null,{"$f":"IF($C$29<>\"\",$C$29,\"\")","v":""},null,null,{"$f":"IF($C$29<>\"\",$C$29,\"\")","v":""},null,null,{"$f":"IF($C$29<>\"\",$C$29,\"\")","v":""},null,null,{"$f":"IF($C$29<>\"\",$C$29,\"\")","v":""},null,null,{"$f":"IF($C$29<>\"\",$C$29,\"\")","v":""},null,null,{"$f":"IF($C$29<>\"\",$C$29,\"\")","v":""},null,null,{"$f":"IF($C$29<>\"\",$C$29,\"\")","v":""},null,null,{"$f":"IF($C$29<>\"\",$C$29,\"\")","v":""},null,null,{"$f":"IF($C$29<>\"\",$C$29,\"\")","v":""},null,null,{"$f":"IF($C$29<>\"\",$C$29,\"\")","v":""},null,null,{"$f":"IF($C$29<>\"\",$C$29,\"\")","v":""},null,null,{"$f":"IF($C$29<>\"\",$C$29,\"\")","v":""},null,null,{"$f":"IF($C$29<>\"\",$C$29,\"\")","v":""},null,null,{"$f":"IF($C$29<>\"\",$C$29,\"\")","v":""},null,null,{"$f":"IF($C$29<>\"\",$C$29,\"\")","v":""},null,null,{"$f":"IF($C$29<>\"\",$C$29,\"\")","v":""},null,null,{"$f":"IF($C$29<>\"\",$C$29,\"\")","v":""},null,null,{"$f":"IF($C$29<>\"\",$C$29,\"\")","v":""},null,null,{"$f":"IF($C$29<>\"\",$C$29,\"\")","v":""},null,null,{"$f":"IF($C$29<>\"\",$C$29,\"\")","v":""},null,null,{"$f":"IF($C$29<>\"\",$C$29,\"\")","v":""},null,null,{"$f":"IF($C$29<>\"\",$C$29,\"\")","v":""}]
["Week 5",null,null,{"$f":"IF($C$30<>\"\",$C$30,\"\")","v":""},null,null,{"$f":"IF($C$30<>\"\",$C$30,\"\")","v":""},null,null,{"$f":"IF($C$30<>\"\",$C$30,\"\")","v":""},null,null,{"$f":"IF($C$30<>\"\",$C$30,\"\")","v":""},null,null,{"$f":"IF($C$30<>\"\",$C$30,\"\")","v":""},null,null,{"$f":"IF($C$30<>\"\",$C$30,\"\")","v":""},null,null,{"$f":"IF($C$30<>\"\",$C$30,\"\")","v":""},null,null,{"$f":"IF($C$30<>\"\",$C$30,\"\")","v":""},null,null,{"$f":"IF($C$30<>\"\",$C$30,\"\")","v":""},null,null,{"$f":"IF($C$30<>\"\",$C$30,\"\")","v":""},null,null,{"$f":"IF($C$30<>\"\",$C$30,\"\")","v":""},null,null,{"$f":"IF($C$30<>\"\",$C$30,\"\")","v":""},null,null,{"$f":"IF($C$30<>\"\",$C$30,\"\")","v":""},null,null,{"$f":"IF($C$30<>\"\",$C$30,\"\")","v":""},null,null,{"$f":"IF($C$30<>\"\",$C$30,\"\")","v":""},null,null,{"$f":"IF($C$30<>\"\",$C$30,\"\")","v":""},null,null,{"$f":"IF($C$30<>\"\",$C$30,\"\")","v":""},null,null,{"$f":"IF($C$30<>\"\",$C$30,\"\")","v":""},null,null,{"$f":"IF($C$30<>\"\",$C$30,\"\")","v":""},null,null,{"$f":"IF($C$30<>\"\",$C$30,\"\")","v":""},null,null,{"$f":"IF($C$30<>\"\",$C$30,\"\")","v":""},null,null,{"$f":"IF($C$30<>\"\",$C$30,\"\")","v":""},null,null,{"$f":"IF($C$30<>\"\",$C$30,\"\")","v":""},null,null,{"$f":"IF($C$30<>\"\",$C$30,\"\")","v":""},null,null,{"$f":"IF($C$30<>\"\",$C$30,\"\")","v":""},null,null,{"$f":"IF($C$30<>\"\",$C$30,\"\")","v":""},null,null,{"$f":"IF($C$30<>\"\",$C$30,\"\")","v":""},null,null,{"$f":"IF($C$30<>\"\",$C$30,\"\")","v":""},null,null,{"$f":"IF($C$30<>\"\",$C$30,\"\")","v":""},null,null,{"$f":"IF($C$30<>\"\",$C$30,\"\")","v":""}]
["Month 5"]
["Week 1",null,null,{"$f":"IF($C$32<>\"\",$C$32,\"\")","v":""},null,null,{"$f":"IF($C$32<>\"\",$C$32,\"\")","v":""},null,null,{"$f":"IF($C$32<>\"\",$C$32,\"\")","v":""},null,null,{"$f":"IF($C$32<>\"\",$C$32,\"\")","v":""},null,null,{"$f":"IF($C$32<>\"\",$C$32,\"\")","v":""},null,null,{"$f":"IF($C$32<>\"\",$C$32,\"\")","v":""},null,null,{"$f":"IF($C$32<>\"\",$C$32,\"\")","v":""},null,null,{"$f":"IF($C$32<>\"\",$C$32,\"\")","v":""},null,null,{"$f":"IF($C$32<>\"\",$C$32,\"\")","v":""},null,null,{"$f":"IF($C$32<>\"\",$C$32,\"\")","v":""},null,null,{"$f":"IF($C$32<>\"\",$C$32,\"\")","v":""},null,null,{"$f":"IF($C$32<>\"\",$C$32,\"\")","v":""},null,null,{"$f":"IF($C$32<>\"\",$C$32,\"\")","v":""},null,null,{"$f":"IF($C$32<>\"\",$C$32,\"\")","v":""},null,null,{"$f":"IF($C$32<>\"\",$C$32,\"\")","v":""},null,null,{"$f":"IF($C$32<>\"\",$C$32,\"\")","v":""},null,null,{"$f":"IF($C$32<>\"\",$C$32,\"\")","v":""},null,null,{"$f":"IF($C$32<>\"\",$C$32,\"\")","v":""},null,null,{"$f":"IF($C$32<>\"\",$C$32,\"\")","v":""},null,null,{"$f":"IF($C$32<>\"\",$C$32,\"\")","v":""},null,null,{"$f":"IF($C$32<>\"\",$C$32,\"\")","v":""},null,null,{"$f":"IF($C$32<>\"\",$C$32,\"\")","v":""},null,null,{"$f":"IF($C$32<>\"\",$C$32,\"\")","v":""},null,null,{"$f":"IF($C$32<>\"\",$C$32,\"\")","v":""},null,null,{"$f":"IF($C$32<>\"\",$C$32,\"\")","v":""},null,null,{"$f":"IF($C$32<>\"\",$C$32,\"\")","v":""},null,null,{"$f":"IF($C$32<>\"\",$C$32,\"\")","v":""},null,null,{"$f":"IF($C$32<>\"\",$C$32,\"\")","v":""},null,null,{"$f":"IF($C$32<>\"\",$C$32,\"\")","v":""},null,null,{"$f":"IF($C$32<>\"\",$C$32,\"\")","v":""}]
["Week 2",null,null,{"$f":"IF($C$33<>\"\",$C$33,\"\")","v":""},null,null,{"$f":"IF($C$33<>\"\",$C$33,\"\")","v":""},null,null,{"$f":"IF($C$33<>\"\",$C$33,\"\")","v":""},null,null,{"$f":"IF($C$33<>\"\",$C$33,\"\")","v":""},null,null,{"$f":"IF($C$33<>\"\",$C$33,\"\")","v":""},null,null,{"$f":"IF($C$33<>\"\",$C$33,\"\")","v":""},null,null,{"$f":"IF($C$33<>\"\",$C$33,\"\")","v":""},null,null,{"$f":"IF($C$33<>\"\",$C$33,\"\")","v":""},null,null,{"$f":"IF($C$33<>\"\",$C$33,\"\")","v":""},null,null,{"$f":"IF($C$33<>\"\",$C$33,\"\")","v":""},null,null,{"$f":"IF($C$33<>\"\",$C$33,\"\")","v":""},null,null,{"$f":"IF($C$33<>\"\",$C$33,\"\")","v":""},null,null,{"$f":"IF($C$33<>\"\",$C$33,\"\")","v":""},null,null,{"$f":"IF($C$33<>\"\",$C$33,\"\")","v":""},null,null,{"$f":"IF($C$33<>\"\",$C$33,\"\")","v":""},null,null,{"$f":"IF($C$33<>\"\",$C$33,\"\")","v":""},null,null,{"$f":"IF($C$33<>\"\",$C$33,\"\")","v":""},null,null,{"$f":"IF($C$33<>\"\",$C$33,\"\")","v":""},null,null,{"$f":"IF($C$33<>\"\",$C$33,\"\")","v":""},null,null,{"$f":"IF($C$33<>\"\",$C$33,\"\")","v":""},null,null,{"$f":"IF($C$33<>\"\",$C$33,\"\")","v":""},null,null,{"$f":"IF($C$33<>\"\",$C$33,\"\")","v":""},null,null,{"$f":"IF($C$33<>\"\",$C$33,\"\")","v":""},null,null,{"$f":"IF($C$33<>\"\",$C$33,\"\")","v":""},null,null,{"$f":"IF($C$33<>\"\",$C$33,\"\")","v":""},null,null,{"$f":"IF($C$33<>\"\",$C$33,\"\")","v":""},null,null,{"$f":"IF($C$33<>\"\",$C$33,\"\")","v":""},null,null,{"$f":"IF($C$33<>\"\",$C$33,\"\")","v":""},null,null,{"$f":"IF($C$33<>\"\",$C$33,\"\")","v":""},null,null,{"$f":"IF($C$33<>\"\",$C$33,\"\")","v":""}]
["Week 3",null,null,{"$f":"IF($C$34<>\"\",$C$34,\"\")","v":""},null,null,{"$f":"IF($C$34<>\"\",$C$34,\"\")","v":""},null,null,{"$f":"IF($C$34<>\"\",$C$34,\"\")","v":""},null,null,{"$f":"IF($C$34<>\"\",$C$34,\"\")","v":""},null,null,{"$f":"IF($C$34<>\"\",$C$34,\"\")","v":""},null,null,{"$f":"IF($C$34<>\"\",$C$34,\"\")","v":""},null,null,{"$f":"IF($C$34<>\"\",$C$34,\"\")","v":""},null,null,{"$f":"IF($C$34<>\"\",$C$34,\"\")","v":""},null,null,{"$f":"IF($C$34<>\"\",$C$34,\"\")","v":""},null,null,{"$f":"IF($C$34<>\"\",$C$34,\"\")","v":""},null,null,{"$f":"IF($C$34<>\"\",$C$34,\"\")","v":""},null,null,{"$f":"IF($C$34<>\"\",$C$34,\"\")","v":""},null,null,{"$f":"IF($C$34<>\"\",$C$34,\"\")","v":""},null,null,{"$f":"IF($C$34<>\"\",$C$34,\"\")","v":""},null,null,{"$f":"IF($C$34<>\"\",$C$34,\"\")","v":""},null,null,{"$f":"IF($C$34<>\"\",$C$34,\"\")","v":""},null,null,{"$f":"IF($C$34<>\"\",$C$34,\"\")","v":""},null,null,{"$f":"IF($C$34<>\"\",$C$34,\"\")","v":""},null,null,{"$f":"IF($C$34<>\"\",$C$34,\"\")","v":""},null,null,{"$f":"IF($C$34<>\"\",$C$34,\"\")","v":""},null,null,{"$f":"IF($C$34<>\"\",$C$34,\"\")","v":""},null,null,{"$f":"IF($C$34<>\"\",$C$34,\"\")","v":""},null,null,{"$f":"IF($C$34<>\"\",$C$34,\"\")","v":""},null,null,{"$f":"IF($C$34<>\"\",$C$34,\"\")","v":""},null,null,{"$f":"IF($C$34<>\"\",$C$34,\"\")","v":""},null,null,{"$f":"IF($C$34<>\"\",$C$34,\"\")","v":""},null,null,{"$f":"IF($C$34<>\"\",$C$34,\"\")","v":""},null,null,{"$f":"IF($C$34<>\"\",$C$34,\"\")","v":""},null,null,{"$f":"IF($C$34<>\"\",$C$34,\"\")","v":""},null,null,{"$f":"IF($C$34<>\"\",$C$34,\"\")","v":""}]
["Week 4",null,null,{"$f":"IF($C$35<>\"\",$C$35,\"\")","v":""},null,null,{"$f":"IF($C$35<>\"\",$C$35,\"\")","v":""},null,null,{"$f":"IF($C$35<>\"\",$C$35,\"\")","v":""},null,null,{"$f":"IF($C$35<>\"\",$C$35,\"\")","v":""},null,null,{"$f":"IF($C$35<>\"\",$C$35,\"\")","v":""},null,null,{"$f":"IF($C$35<>\"\",$C$35,\"\")","v":""},null,null,{"$f":"IF($C$35<>\"\",$C$35,\"\")","v":""},null,null,{"$f":"IF($C$35<>\"\",$C$35,\"\")","v":""},null,null,{"$f":"IF($C$35<>\"\",$C$35,\"\")","v":""},null,null,{"$f":"IF($C$35<>\"\",$C$35,\"\")","v":""},null,null,{"$f":"IF($C$35<>\"\",$C$35,\"\")","v":""},null,null,{"$f":"IF($C$35<>\"\",$C$35,\"\")","v":""},null,null,{"$f":"IF($C$35<>\"\",$C$35,\"\")","v":""},null,null,{"$f":"IF($C$35<>\"\",$C$35,\"\")","v":""},null,null,{"$f":"IF($C$35<>\"\",$C$35,\"\")","v":""},null,null,{"$f":"IF($C$35<>\"\",$C$35,\"\")","v":""},null,null,{"$f":"IF($C$35<>\"\",$C$35,\"\")","v":""},null,null,{"$f":"IF($C$35<>\"\",$C$35,\"\")","v":""},null,null,{"$f":"IF($C$35<>\"\",$C$35,\"\")","v":""},null,null,{"$f":"IF($C$35<>\"\",$C$35,\"\")","v":""},null,null,{"$f":"IF($C$35<>\"\",$C$35,\"\")","v":""},null,null,{"$f":"IF($C$35<>\"\",$C$35,\"\")","v":""},null,null,{"$f":"IF($C$35<>\"\",$C$35,\"\")","v":""},null,null,{"$f":"IF($C$35<>\"\",$C$35,\"\")","v":""},null,null,{"$f":"IF($C$35<>\"\",$C$35,\"\")","v":""},null,null,{"$f":"IF($C$35<>\"\",$C$35,\"\")","v":""},null,null,{"$f":"IF($C$35<>\"\",$C$35,\"\")","v":""},null,null,{"$f":"IF($C$35<>\"\",$C$35,\"\")","v":""},null,null,{"$f":"IF($C$35<>\"\",$C$35,\"\")","v":""},null,null,{"$f":"IF($C$35<>\"\",$C$35,\"\")","v":""}]
["Week 5",null,null,{"$f":"IF($C$36<>\"\",$C$36,\"\")","v":""},null,null,{"$f":"IF($C$36<>\"\",$C$36,\"\")","v":""},null,null,{"$f":"IF($C$36<>\"\",$C$36,\"\")","v":""},null,null,{"$f":"IF($C$36<>\"\",$C$36,\"\")","v":""},null,null,{"$f":"IF($C$36<>\"\",$C$36,\"\")","v":""},null,null,{"$f":"IF($C$36<>\"\",$C$36,\"\")","v":""},null,null,{"$f":"IF($C$36<>\"\",$C$36,\"\")","v":""},null,null,{"$f":"IF($C$36<>\"\",$C$36,\"\")","v":""},null,null,{"$f":"IF($C$36<>\"\",$C$36,\"\")","v":""},null,null,{"$f":"IF($C$36<>\"\",$C$36,\"\")","v":""},null,null,{"$f":"IF($C$36<>\"\",$C$36,\"\")","v":""},null,null,{"$f":"IF($C$36<>\"\",$C$36,\"\")","v":""},null,null,{"$f":"IF($C$36<>\"\",$C$36,\"\")","v":""},null,null,{"$f":"IF($C$36<>\"\",$C$36,\"\")","v":""},null,null,{"$f":"IF($C$36<>\"\",$C$36,\"\")","v":""},null,null,{"$f":"IF($C$36<>\"\",$C$36,\"\")","v":""},null,null,{"$f":"IF($C$36<>\"\",$C$36,\"\")","v":""},null,null,{"$f":"IF($C$36<>\"\",$C$36,\"\")","v":""},null,null,{"$f":"IF($C$36<>\"\",$C$36,\"\")","v":""},null,null,{"$f":"IF($C$36<>\"\",$C$36,\"\")","v":""},null,null,{"$f":"IF($C$36<>\"\",$C$36,\"\")","v":""},null,null,{"$f":"IF($C$36<>\"\",$C$36,\"\")","v":""},null,null,{"$f":"IF($C$36<>\"\",$C$36,\"\")","v":""},null,null,{"$f":"IF($C$36<>\"\",$C$36,\"\")","v":""},null,null,{"$f":"IF($C$36<>\"\",$C$36,\"\")","v":""},null,null,{"$f":"IF($C$36<>\"\",$C$36,\"\")","v":""},null,null,{"$f":"IF($C$36<>\"\",$C$36,\"\")","v":""},null,null,{"$f":"IF($C$36<>\"\",$C$36,\"\")","v":""},null,null,{"$f":"IF($C$36<>\"\",$C$36,\"\")","v":""},null,null,{"$f":"IF($C$36<>\"\",$C$36,\"\")","v":""}]
["Month 6"]
["Week 1",null,null,{"$f":"IF($C$38<>\"\",$C$38,\"\")","v":""},null,null,{"$f":"IF($C$38<>\"\",$C$38,\"\")","v":""},null,null,{"$f":"IF($C$38<>\"\",$C$38,\"\")","v":""},null,null,{"$f":"IF($C$38<>\"\",$C$38,\"\")","v":""},null,null,{"$f":"IF($C$38<>\"\",$C$38,\"\")","v":""},null,null,{"$f":"IF($C$38<>\"\",$C$38,\"\")","v":""},null,null,{"$f":"IF($C$38<>\"\",$C$38,\"\")","v":""},null,null,{"$f":"IF($C$38<>\"\",$C$38,\"\")","v":""},null,null,{"$f":"IF($C$38<>\"\",$C$38,\"\")","v":""},null,null,{"$f":"IF($C$38<>\"\",$C$38,\"\")","v":""},null,null,{"$f":"IF($C$38<>\"\",$C$38,\"\")","v":""},null,null,{"$f":"IF($C$38<>\"\",$C$38,\"\")","v":""},null,null,{"$f":"IF($C$38<>\"\",$C$38,\"\")","v":""},null,null,{"$f":"IF($C$38<>\"\",$C$38,\"\")","v":""},null,null,{"$f":"IF($C$38<>\"\",$C$38,\"\")","v":""},null,null,{"$f":"IF($C$38<>\"\",$C$38,\"\")","v":""},null,null,{"$f":"IF($C$38<>\"\",$C$38,\"\")","v":""},null,null,{"$f":"IF($C$38<>\"\",$C$38,\"\")","v":""},null,null,{"$f":"IF($C$38<>\"\",$C$38,\"\")","v":""},null,null,{"$f":"IF($C$38<>\"\",$C$38,\"\")","v":""},null,null,{"$f":"IF($C$38<>\"\",$C$38,\"\")","v":""},null,null,{"$f":"IF($C$38<>\"\",$C$38,\"\")","v":""},null,null,{"$f":"IF($C$38<>\"\",$C$38,\"\")","v":""},null,null,{"$f":"IF($C$38<>\"\",$C$38,\"\")","v":""},null,null,{"$f":"IF($C$38<>\"\",$C$38,\"\")","v":""},null,null,{"$f":"IF($C$38<>\"\",$C$38,\"\")","v":""},null,null,{"$f":"IF($C$38<>\"\",$C$38,\"\")","v":""},null,null,{"$f":"IF($C$38<>\"\",$C$38,\"\")","v":""},null,null,{"$f":"IF($C$38<>\"\",$C$38,\"\")","v":""},null,null,{"$f":"IF($C$38<>\"\",$C$38,\"\")","v":""}]
["Week 2",null,null,{"$f":"IF($C$39<>\"\",$C$39,\"\")","v":""},null,null,{"$f":"IF($C$39<>\"\",$C$39,\"\")","v":""},null,null,{"$f":"IF($C$39<>\"\",$C$39,\"\")","v":""},null,null,{"$f":"IF($C$39<>\"\",$C$39,\"\")","v":""},null,null,{"$f":"IF($C$39<>\"\",$C$39,\"\")","v":""},null,null,{"$f":"IF($C$39<>\"\",$C$39,\"\")","v":""},null,null,{"$f":"IF($C$39<>\"\",$C$39,\"\")","v":""},null,null,{"$f":"IF($C$39<>\"\",$C$39,\"\")","v":""},null,null,{"$f":"IF($C$39<>\"\",$C$39,\"\")","v":""},null,null,{"$f":"IF($C$39<>\"\",$C$39,\"\")","v":""},null,null,{"$f":"IF($C$39<>\"\",$C$39,\"\")","v":""},null,null,{"$f":"IF($C$39<>\"\",$C$39,\"\")","v":""},null,null,{"$f":"IF($C$39<>\"\",$C$39,\"\")","v":""},null,null,{"$f":"IF($C$39<>\"\",$C$39,\"\")","v":""},null,null,{"$f":"IF($C$39<>\"\",$C$39,\"\")","v":""},null,null,{"$f":"IF($C$39<>\"\",$C$39,\"\")","v":""},null,null,{"$f":"IF($C$39<>\"\",$C$39,\"\")","v":""},null,null,{"$f":"IF($C$39<>\"\",$C$39,\"\")","v":""},null,null,{"$f":"IF($C$39<>\"\",$C$39,\"\")","v":""},null,null,{"$f":"IF($C$39<>\"\",$C$39,\"\")","v":""},null,null,{"$f":"IF($C$39<>\"\",$C$39,\"\")","v":""},null,null,{"$f":"IF($C$39<>\"\",$C$39,\"\")","v":""},null,null,{"$f":"IF($C$39<>\"\",$C$39,\"\")","v":""},null,null,{"$f":"IF($C$39<>\"\",$C$39,\"\")","v":""},null,null,{"$f":"IF($C$39<>\"\",$C$39,\"\")","v":""},null,null,{"$f":"IF($C$39<>\"\",$C$39,\"\")","v":""},null,null,{"$f":"IF($C$39<>\"\",$C$39,\"\")","v":""},null,null,{"$f":"IF($C$39<>\"\",$C$39,\"\")","v":""},null,null,{"$f":"IF($C$39<>\"\",$C$39,\"\")","v":""},null,null,{"$f":"IF($C$39<>\"\",$C$39,\"\")","v":""}]
["Week 3",null,null,{"$f":"IF($C$40<>\"\",$C$40,\"\")","v":""},null,null,{"$f":"IF($C$40<>\"\",$C$40,\"\")","v":""},null,null,{"$f":"IF($C$40<>\"\",$C$40,\"\")","v":""},null,null,{"$f":"IF($C$40<>\"\",$C$40,\"\")","v":""},null,null,{"$f":"IF($C$40<>\"\",$C$40,\"\")","v":""},null,null,{"$f":"IF($C$40<>\"\",$C$40,\"\")","v":""},null,null,{"$f":"IF($C$40<>\"\",$C$40,\"\")","v":""},null,null,{"$f":"IF($C$40<>\"\",$C$40,\"\")","v":""},null,null,{"$f":"IF($C$40<>\"\",$C$40,\"\")","v":""},null,null,{"$f":"IF($C$40<>\"\",$C$40,\"\")","v":""},null,null,{"$f":"IF($C$40<>\"\",$C$40,\"\")","v":""},null,null,{"$f":"IF($C$40<>\"\",$C$40,\"\")","v":""},null,null,{"$f":"IF($C$40<>\"\",$C$40,\"\")","v":""},null,null,{"$f":"IF($C$40<>\"\",$C$40,\"\")","v":""},null,null,{"$f":"IF($C$40<>\"\",$C$40,\"\")","v":""},null,null,{"$f":"IF($C$40<>\"\",$C$40,\"\")","v":""},null,null,{"$f":"IF($C$40<>\"\",$C$40,\"\")","v":""},null,null,{"$f":"IF($C$40<>\"\",$C$40,\"\")","v":""},null,null,{"$f":"IF($C$40<>\"\",$C$40,\"\")","v":""},null,null,{"$f":"IF($C$40<>\"\",$C$40,\"\")","v":""},null,null,{"$f":"IF($C$40<>\"\",$C$40,\"\")","v":""},null,null,{"$f":"IF($C$40<>\"\",$C$40,\"\")","v":""},null,null,{"$f":"IF($C$40<>\"\",$C$40,\"\")","v":""},null,null,{"$f":"IF($C$40<>\"\",$C$40,\"\")","v":""},null,null,{"$f":"IF($C$40<>\"\",$C$40,\"\")","v":""},null,null,{"$f":"IF($C$40<>\"\",$C$40,\"\")","v":""},null,null,{"$f":"IF($C$40<>\"\",$C$40,\"\")","v":""},null,null,{"$f":"IF($C$40<>\"\",$C$40,\"\")","v":""},null,null,{"$f":"IF($C$40<>\"\",$C$40,\"\")","v":""},null,null,{"$f":"IF($C$40<>\"\",$C$40,\"\")","v":""}]
["Week 4",null,null,{"$f":"IF($C$41<>\"\",$C$41,\"\")","v":""},null,null,{"$f":"IF($C$41<>\"\",$C$41,\"\")","v":""},null,null,{"$f":"IF($C$41<>\"\",$C$41,\"\")","v":""},null,null,{"$f":"IF($C$41<>\"\",$C$41,\"\")","v":""},null,null,{"$f":"IF($C$41<>\"\",$C$41,\"\")","v":""},null,null,{"$f":"IF($C$41<>\"\",$C$41,\"\")","v":""},null,null,{"$f":"IF($C$41<>\"\",$C$41,\"\")","v":""},null,null,{"$f":"IF($C$41<>\"\",$C$41,\"\")","v":""},null,null,{"$f":"IF($C$41<>\"\",$C$41,\"\")","v":""},null,null,{"$f":"IF($C$41<>\"\",$C$41,\"\")","v":""},null,null,{"$f":"IF($C$41<>\"\",$C$41,\"\")","v":""},null,null,{"$f":"IF($C$41<>\"\",$C$41,\"\")","v":""},null,null,{"$f":"IF($C$41<>\"\",$C$41,\"\")","v":""},null,null,{"$f":"IF($C$41<>\"\",$C$41,\"\")","v":""},null,null,{"$f":"IF($C$41<>\"\",$C$41,\"\")","v":""},null,null,{"$f":"IF($C$41<>\"\",$C$41,\"\")","v":""},null,null,{"$f":"IF($C$41<>\"\",$C$41,\"\")","v":""},null,null,{"$f":"IF($C$41<>\"\",$C$41,\"\")","v":""},null,null,{"$f":"IF($C$41<>\"\",$C$41,\"\")","v":""},null,null,{"$f":"IF($C$41<>\"\",$C$41,\"\")","v":""},null,null,{"$f":"IF($C$41<>\"\",$C$41,\"\")","v":""},null,null,{"$f":"IF($C$41<>\"\",$C$41,\"\")","v":""},null,null,{"$f":"IF($C$41<>\"\",$C$41,\"\")","v":""},null,null,{"$f":"IF($C$41<>\"\",$C$41,\"\")","v":""},null,null,{"$f":"IF($C$41<>\"\",$C$41,\"\")","v":""},null,null,{"$f":"IF($C$41<>\"\",$C$41,\"\")","v":""},null,null,{"$f":"IF($C$41<>\"\",$C$41,\"\")","v":""},null,null,{"$f":"IF($C$41<>\"\",$C$41,\"\")","v":""},null,null,{"$f":"IF($C$41<>\"\",$C$41,\"\")","v":""},null,null,{"$f":"IF($C$41<>\"\",$C$41,\"\")","v":""}]
["Week 5",null,null,{"$f":"IF($C$42<>\"\",$C$42,\"\")","v":""},null,null,{"$f":"IF($C$42<>\"\",$C$42,\"\")","v":""},null,null,{"$f":"IF($C$42<>\"\",$C$42,\"\")","v":""},null,null,{"$f":"IF($C$42<>\"\",$C$42,\"\")","v":""},null,null,{"$f":"IF($C$42<>\"\",$C$42,\"\")","v":""},null,null,{"$f":"IF($C$42<>\"\",$C$42,\"\")","v":""},null,null,{"$f":"IF($C$42<>\"\",$C$42,\"\")","v":""},null,null,{"$f":"IF($C$42<>\"\",$C$42,\"\")","v":""},null,null,{"$f":"IF($C$42<>\"\",$C$42,\"\")","v":""},null,null,{"$f":"IF($C$42<>\"\",$C$42,\"\")","v":""},null,null,{"$f":"IF($C$42<>\"\",$C$42,\"\")","v":""},null,null,{"$f":"IF($C$42<>\"\",$C$42,\"\")","v":""},null,null,{"$f":"IF($C$42<>\"\",$C$42,\"\")","v":""},null,null,{"$f":"IF($C$42<>\"\",$C$42,\"\")","v":""},null,null,{"$f":"IF($C$42<>\"\",$C$42,\"\")","v":""},null,null,{"$f":"IF($C$42<>\"\",$C$42,\"\")","v":""},null,null,{"$f":"IF($C$42<>\"\",$C$42,\"\")","v":""},null,null,{"$f":"IF($C$42<>\"\",$C$42,\"\")","v":""},null,null,{"$f":"IF($C$42<>\"\",$C$42,\"\")","v":""},null,null,{"$f":"IF($C$42<>\"\",$C$42,\"\")","v":""},null,null,{"$f":"IF($C$42<>\"\",$C$42,\"\")","v":""},null,null,{"$f":"IF($C$42<>\"\",$C$42,\"\")","v":""},null,null,{"$f":"IF($C$42<>\"\",$C$42,\"\")","v":""},null,null,{"$f":"IF($C$42<>\"\",$C$42,\"\")","v":""},null,null,{"$f":"IF($C$42<>\"\",$C$42,\"\")","v":""},null,null,{"$f":"IF($C$42<>\"\",$C$42,\"\")","v":""},null,null,{"$f":"IF($C$42<>\"\",$C$42,\"\")","v":""},null,null,{"$f":"IF($C$42<>\"\",$C$42,\"\")","v":""},null,null,{"$f":"IF($C$42<>\"\",$C$42,\"\")","v":""},null,null,{"$f":"IF($C$42<>\"\",$C$42,\"\")","v":""}]
["# of sessions attended",null,null,{"$f":"ROWS(D7:D42)-COUNTBLANK(D7:D42)","v":0},null,null,{"$f":"ROWS(G7:G42)-COUNTBLANK(G7:G42)","v":0},null,null,{"$f":"ROWS(J7:J42)-COUNTBLANK(J7:J42)","v":0},null,null,{"$f":"ROWS(M7:M42)-COUNTBLANK(M7:M42)","v":0},null,null,{"$f":"ROWS(P7:P42)-COUNTBLANK(P7:P42)","v":0},null,null,{"$f":"ROWS(S7:S42)-COUNTBLANK(S7:S42)","v":0},null,null,{"$f":"ROWS(V7:V42)-COUNTBLANK(V7:V42)","v":0},null,null,{"$f":"ROWS(Y7:Y42)-COUNTBLANK(Y7:Y42)","v":0},null,null,{"$f":"ROWS(AB7:AB42)-COUNTBLANK(AB7:AB42)","v":0},null,null,{"$f":"ROWS(AE7:AE42)-COUNTBLANK(AE7:AE42)","v":0},null,null,{"$f":"ROWS(AH7:AH42)-COUNTBLANK(AH7:AH42)","v":0},null,null,{"$f":"ROWS(AK7:AK42)-COUNTBLANK(AK7:AK42)","v":0},null,null,{"$f":"ROWS(AN7:AN42)-COUNTBLANK(AN7:AN42)","v":0},null,null,{"$f":"ROWS(AQ7:AQ42)-COUNTBLANK(AQ7:AQ42)","v":0},null,null,{"$f":"ROWS(AT7:AT42)-COUNTBLANK(AT7:AT42)","v":0},null,null,{"$f":"ROWS(AW7:AW42)-COUNTBLANK(AW7:AW42)","v":0},null,null,{"$f":"ROWS(AZ7:AZ42)-COUNTBLANK(AZ7:AZ42)","v":0},null,null,{"$f":"ROWS(BC7:BC42)-COUNTBLANK(BC7:BC42)","v":0},null,null,{"$f":"ROWS(BF7:BF42)-COUNTBLANK(BF7:BF42)","v":0},null,null,{"$f":"ROWS(BI7:BI42)-COUNTBLANK(BI7:BI42)","v":0},null,null,{"$f":"ROWS(BL7:BL42)-COUNTBLANK(BL7:BL42)","v":0},null,null,{"$f":"ROWS(BO7:BO42)-COUNTBLANK(BO7:BO42)","v":0},null,null,{"$f":"ROWS(BR7:BR42)-COUNTBLANK(BR7:BR42)","v":0},null,null,{"$f":"ROWS(BU7:BU42)-COUNTBLANK(BU7:BU42)","v":0},null,null,{"$f":"ROWS(BX7:BX42)-COUNTBLANK(BX7:BX42)","v":0},null,null,{"$f":"ROWS(CA7:CA42)-COUNTBLANK(CA7:CA42)","v":0},null,null,{"$f":"ROWS(CD7:CD42)-COUNTBLANK(CD7:CD42)","v":0},null,null,{"$f":"ROWS(CG7:CG42)-COUNTBLANK(CG7:CG42)","v":0},null,null,{"$f":"ROWS(CJ7:CJ42)-COUNTBLANK(CJ7:CJ42)","v":0},null,null,{"$f":"ROWS(CM7:CM42)-COUNTBLANK(CM7:CM42)","v":0}]
["Attended ≥ 4 sesssions",null,null,{"$f":"IF(D43>=4,1,0)","v":0},null,null,{"$f":"IF(G43>=4,1,0)","v":0},null,null,{"$f":"IF(J43>=4,1,0)","v":0},null,null,{"$f":"IF(M43>=4,1,0)","v":0},null,null,{"$f":"IF(P43>=4,1,0)","v":0},null,null,{"$f":"IF(S43>=4,1,0)","v":0},null,null,{"$f":"IF(V43>=4,1,0)","v":0},null,null,{"$f":"IF(Y43>=4,1,0)","v":0},null,null,{"$f":"IF(AB43>=4,1,0)","v":0},null,null,{"$f":"IF(AE43>=4,1,0)","v":0},null,null,{"$f":"IF(AH43>=4,1,0)","v":0},null,null,{"$f":"IF(AK43>=4,1,0)","v":0},null,null,{"$f":"IF(AN43>=4,1,0)","v":0},null,null,{"$f":"IF(AQ43>=4,1,0)","v":0},null,null,{"$f":"IF(AT43>=4,1,0)","v":0},null,null,{"$f":"IF(AW43>=4,1,0)","v":0},null,null,{"$f":"IF(AZ43>=4,1,0)","v":0},null,null,{"$f":"IF(BC43>=4,1,0)","v":0},null,null,{"$f":"IF(BF43>=4,1,0)","v":0},null,null,{"$f":"IF(BI43>=4,1,0)","v":0},null,null,{"$f":"IF(BL43>=4,1,0)","v":0},null,null,{"$f":"IF(BO43>=4,1,0)","v":0},null,null,{"$f":"IF(BR43>=4,1,0)","v":0},null,null,{"$f":"IF(BU43>=4,1,0)","v":0},null,null,{"$f":"IF(BX43>=4,1,0)","v":0},null,null,{"$f":"IF(CA43>=4,1,0)","v":0},null,null,{"$f":"IF(CD43>=4,1,0)","v":0},null,null,{"$f":"IF(CG43>=4,1,0)","v":0},null,null,{"$f":"IF(CJ43>=4,1,0)","v":0},null,null,{"$f":"IF(CM43>=4,1,0)","v":0}]
["# Attended ≥ 4 sessions",null,null,{"$f":"SUM(D44:CO44)","v":0}]
["# of sessions weight entered Core",null,null,null,{"$f":"COUNTIFS(E7:E42,\">0\",E7:E42,\"<999\")","v":0},null,null,{"$f":"COUNTIFS(H7:H42,\">0\",H7:H42,\"<999\")","v":0},null,null,{"$f":"COUNTIFS(K7:K42,\">0\",K7:K42,\"<999\")","v":0},null,null,{"$f":"COUNTIFS(N7:N42,\">0\",N7:N42,\"<999\")","v":0},null,null,{"$f":"COUNTIFS(Q7:Q42,\">0\",Q7:Q42,\"<999\")","v":0},null,null,{"$f":"COUNTIFS(T7:T42,\">0\",T7:T42,\"<999\")","v":0},null,null,{"$f":"COUNTIFS(W7:W42,\">0\",W7:W42,\"<999\")","v":0},null,null,{"$f":"COUNTIFS(Z7:Z42,\">0\",Z7:Z42,\"<999\")","v":0},null,null,{"$f":"COUNTIFS(AC7:AC42,\">0\",AC7:AC42,\"<999\")","v":0},null,null,{"$f":"COUNTIFS(AF7:AF42,\">0\",AF7:AF42,\"<999\")","v":0},null,null,{"$f":"COUNTIFS(AI7:AI42,\">0\",AI7:AI42,\"<999\")","v":0},null,null,{"$f":"COUNTIFS(AL7:AL42,\">0\",AL7:AL42,\"<999\")","v":0},null,null,{"$f":"COUNTIFS(AO7:AO42,\">0\",AO7:AO42,\"<999\")","v":0},null,null,{"$f":"COUNTIFS(AR7:AR42,\">0\",AR7:AR42,\"<999\")","v":0},null,null,{"$f":"COUNTIFS(AU7:AU42,\">0\",AU7:AU42,\"<999\")","v":0},null,null,{"$f":"COUNTIFS(AX7:AX42,\">0\",AX7:AX42,\"<999\")","v":0},null,null,{"$f":"COUNTIFS(BA7:BA42,\">0\",BA7:BA42,\"<999\")","v":0},null,null,{"$f":"COUNTIFS(BD7:BD42,\">0\",BD7:BD42,\"<999\")","v":0},null,null,{"$f":"COUNTIFS(BG7:BG42,\">0\",BG7:BG42,\"<999\")","v":0},null,null,{"$f":"COUNTIFS(BJ7:BJ42,\">0\",BJ7:BJ42,\"<999\")","v":0},null,null,{"$f":"COUNTIFS(BM7:BM42,\">0\",BM7:BM42,\"<999\")","v":0},null,null,{"$f":"COUNTIFS(BP7:BP42,\">0\",BP7:BP42,\"<999\")","v":0},null,null,{"$f":"COUNTIFS(BS7:BS42,\">0\",BS7:BS42,\"<999\")","v":0},null,null,{"$f":"COUNTIFS(BV7:BV42,\">0\",BV7:BV42,\"<999\")","v":0},null,null,{"$f":"COUNTIFS(BY7:BY42,\">0\",BY7:BY42,\"<999\")","v":0},null,null,{"$f":"COUNTIFS(CB7:CB42,\">0\",CB7:CB42,\"<999\")","v":0},null,null,{"$f":"COUNTIFS(CE7:CE42,\">0\",CE7:CE42,\"<999\")","v":0},null,null,{"$f":"COUNTIFS(CH7:CH42,\">0\",CH7:CH42,\"<999\")","v":0},null,null,{"$f":"COUNTIFS(CK7:CK42,\">0\",CK7:CK42,\"<999\")","v":0},null,null,{"$f":"COUNTIFS(CN7:CN42,\">0\",CN7:CN42,\"<999\")","v":0}]
["# of sessions PA entered",null,null,null,null,{"$f":"COUNTIF(F7:F42,\"<>999\")-COUNTBLANK(F7:F42)","v":0},null,null,{"$f":"COUNTIF(I7:I42,\"<>999\")-COUNTBLANK(I7:I42)","v":0},null,null,{"$f":"COUNTIF(L7:L42,\"<>999\")-COUNTBLANK(L7:L42)","v":0},null,null,{"$f":"COUNTIF(O7:O42,\"<>999\")-COUNTBLANK(O7:O42)","v":0},null,null,{"$f":"COUNTIF(R7:R42,\"<>999\")-COUNTBLANK(R7:R42)","v":0},null,null,{"$f":"COUNTIF(U7:U42,\"<>999\")-COUNTBLANK(U7:U42)","v":0},null,null,{"$f":"COUNTIF(X7:X42,\"<>999\")-COUNTBLANK(X7:X42)","v":0},null,null,{"$f":"COUNTIF(AA7:AA42,\"<>999\")-COUNTBLANK(AA7:AA42)","v":0},null,null,{"$f":"COUNTIF(AD7:AD42,\"<>999\")-COUNTBLANK(AD7:AD42)","v":0},null,null,{"$f":"COUNTIF(AG7:AG42,\"<>999\")-COUNTBLANK(AG7:AG42)","v":0},null,null,{"$f":"COUNTIF(AJ7:AJ42,\"<>999\")-COUNTBLANK(AJ7:AJ42)","v":0},null,null,{"$f":"COUNTIF(AM7:AM42,\"<>999\")-COUNTBLANK(AM7:AM42)","v":0},null,null,{"$f":"COUNTIF(AP7:AP42,\"<>999\")-COUNTBLANK(AP7:AP42)","v":0},null,null,{"$f":"COUNTIF(AS7:AS42,\"<>999\")-COUNTBLANK(AS7:AS42)","v":0},null,null,{"$f":"COUNTIF(AV7:AV42,\"<>999\")-COUNTBLANK(AV7:AV42)","v":0},null,null,{"$f":"COUNTIF(AY7:AY42,\"<>999\")-COUNTBLANK(AY7:AY42)","v":0},null,null,{"$f":"COUNTIF(BB7:BB42,\"<>999\")-COUNTBLANK(BB7:BB42)","v":0},null,null,{"$f":"COUNTIF(BE7:BE42,\"<>999\")-COUNTBLANK(BE7:BE42)","v":0},null,null,{"$f":"COUNTIF(BH7:BH42,\"<>999\")-COUNTBLANK(BH7:BH42)","v":0},null,null,{"$f":"COUNTIF(BK7:BK42,\"<>999\")-COUNTBLANK(BK7:BK42)","v":0},null,null,{"$f":"COUNTIF(BN7:BN42,\"<>999\")-COUNTBLANK(BN7:BN42)","v":0},null,null,{"$f":"COUNTIF(BQ7:BQ42,\"<>999\")-COUNTBLANK(BQ7:BQ42)","v":0},null,null,{"$f":"COUNTIF(BT7:BT42,\"<>999\")-COUNTBLANK(BT7:BT42)","v":0},null,null,{"$f":"COUNTIF(BW7:BW42,\"<>999\")-COUNTBLANK(BW7:BW42)","v":0},null,null,{"$f":"COUNTIF(BZ7:BZ42,\"<>999\")-COUNTBLANK(BZ7:BZ42)","v":0},null,null,{"$f":"COUNTIF(CC7:CC42,\"<>999\")-COUNTBLANK(CC7:CC42)","v":0},null,null,{"$f":"COUNTIF(CF7:CF42,\"<>999\")-COUNTBLANK(CF7:CF42)","v":0},null,null,{"$f":"COUNTIF(CI7:CI42,\"<>999\")-COUNTBLANK(CI7:CI42)","v":0},null,null,{"$f":"COUNTIF(CL7:CL42,\"<>999\")-COUNTBLANK(CL7:CL42)","v":0},null,null,{"$f":"COUNTIF(CO7:CO42,\"<>999\")-COUNTBLANK(CO7:CO42)","v":0}]
["# of sessions weight entered",null,null,null,{"$f":"E46","v":0},null,null,{"$f":"H46","v":0},null,null,{"$f":"K46","v":0},null,null,{"$f":"N46","v":0},null,null,{"$f":"Q46","v":0},null,null,{"$f":"T46","v":0},null,null,{"$f":"W46","v":0},null,null,{"$f":"Z46","v":0},null,null,{"$f":"AC46","v":0},null,null,{"$f":"AF46","v":0},null,null,{"$f":"AI46","v":0},null,null,{"$f":"AL46","v":0},null,null,{"$f":"AO46","v":0},null,null,{"$f":"AR46","v":0},null,null,{"$f":"AU46","v":0},null,null,{"$f":"AX46","v":0},null,null,{"$f":"BA46","v":0},null,null,{"$f":"BD46","v":0},null,null,{"$f":"BG46","v":0},null,null,{"$f":"BJ46","v":0},null,null,{"$f":"BM46","v":0},null,null,{"$f":"BP46","v":0},null,null,{"$f":"BS46","v":0},null,null,{"$f":"BV46","v":0},null,null,{"$f":"BY46","v":0},null,null,{"$f":"CB46","v":0},null,null,{"$f":"CE46","v":0},null,null,{"$f":"CH46","v":0},null,null,{"$f":"CK46","v":0},null,null,{"$f":"CN46","v":0}]
["Total Core Hours =",null,null,{"$f":"SUM(D43:CM43)","v":0}]
[]
["Month 1 of sessions attended",null,{"$f":"ROWS(C8:C12)-COUNTBLANK(C8:C12)","v":0},{"$f":"ROWS(D8:D12)-COUNTBLANK(D8:D12)","v":0},null,null,{"$f":"ROWS(G8:G12)-COUNTBLANK(G8:G12)","v":0},null,null,{"$f":"ROWS(J8:J12)-COUNTBLANK(J8:J12)","v":0},null,null,{"$f":"ROWS(M8:M12)-COUNTBLANK(M8:M12)","v":0},null,null,{"$f":"ROWS(P8:P12)-COUNTBLANK(P8:P12)","v":0},null,null,{"$f":"ROWS(S8:S12)-COUNTBLANK(S8:S12)","v":0},null,null,{"$f":"ROWS(V8:V12)-COUNTBLANK(V8:V12)","v":0},null,null,{"$f":"ROWS(Y8:Y12)-COUNTBLANK(Y8:Y12)","v":0},null,null,{"$f":"ROWS(AB8:AB12)-COUNTBLANK(AB8:AB12)","v":0},null,null,{"$f":"ROWS(AE8:AE12)-COUNTBLANK(AE8:AE12)","v":0},null,null,{"$f":"ROWS(AH8:AH12)-COUNTBLANK(AH8:AH12)","v":0},null,null,{"$f":"ROWS(AK8:AK12)-COUNTBLANK(AK8:AK12)","v":0},null,null,{"$f":"ROWS(AN8:AN12)-COUNTBLANK(AN8:AN12)","v":0},null,null,{"$f":"ROWS(AQ8:AQ12)-COUNTBLANK(AQ8:AQ12)","v":0},null,null,{"$f":"ROWS(AT8:AT12)-COUNTBLANK(AT8:AT12)","v":0},null,null,{"$f":"ROWS(AW8:AW12)-COUNTBLANK(AW8:AW12)","v":0},null,null,{"$f":"ROWS(AZ8:AZ12)-COUNTBLANK(AZ8:AZ12)","v":0},null,null,{"$f":"ROWS(BC8:BC12)-COUNTBLANK(BC8:BC12)","v":0},null,null,{"$f":"ROWS(BF8:BF12)-COUNTBLANK(BF8:BF12)","v":0},null,null,{"$f":"ROWS(BI8:BI12)-COUNTBLANK(BI8:BI12)","v":0},null,null,{"$f":"ROWS(BL8:BL12)-COUNTBLANK(BL8:BL12)","v":0},null,null,{"$f":"ROWS(BO8:BO12)-COUNTBLANK(BO8:BO12)","v":0},null,null,{"$f":"ROWS(BR8:BR12)-COUNTBLANK(BR8:BR12)","v":0},null,null,{"$f":"ROWS(BU8:BU12)-COUNTBLANK(BU8:BU12)","v":0},null,null,{"$f":"ROWS(BX8:BX12)-COUNTBLANK(BX8:BX12)","v":0},null,null,{"$f":"ROWS(CA8:CA12)-COUNTBLANK(CA8:CA12)","v":0},null,null,{"$f":"ROWS(CD8:CD12)-COUNTBLANK(CD8:CD12)","v":0},null,null,{"$f":"ROWS(CG8:CG12)-COUNTBLANK(CG8:CG12)","v":0},null,null,{"$f":"ROWS(CJ8:CJ12)-COUNTBLANK(CJ8:CJ12)","v":0},null,null,{"$f":"ROWS(CM8:CM12)-COUNTBLANK(CM8:CM12)","v":0}]
["Month 2 of sessions attended",null,{"$f":"ROWS(C14:C18)-COUNTBLANK(C14:C18)","v":0},{"$f":"ROWS(D14:D18)-COUNTBLANK(D14:D18)","v":0},null,null,{"$f":"ROWS(G14:G18)-COUNTBLANK(G14:G18)","v":0},null,null,{"$f":"ROWS(J14:J18)-COUNTBLANK(J14:J18)","v":0},null,null,{"$f":"ROWS(M14:M18)-COUNTBLANK(M14:M18)","v":0},null,null,{"$f":"ROWS(P14:P18)-COUNTBLANK(P14:P18)","v":0},null,null,{"$f":"ROWS(S14:S18)-COUNTBLANK(S14:S18)","v":0},null,null,{"$f":"ROWS(V14:V18)-COUNTBLANK(V14:V18)","v":0},null,null,{"$f":"ROWS(Y14:Y18)-COUNTBLANK(Y14:Y18)","v":0},null,null,{"$f":"ROWS(AB14:AB18)-COUNTBLANK(AB14:AB18)","v":0},null,null,{"$f":"ROWS(AE14:AE18)-COUNTBLANK(AE14:AE18)","v":0},null,null,{"$f":"ROWS(AH14:AH18)-COUNTBLANK(AH14:AH18)","v":0},null,null,{"$f":"ROWS(AK14:AK18)-COUNTBLANK(AK14:AK18)","v":0},null,null,{"$f":"ROWS(AN14:AN18)-COUNTBLANK(AN14:AN18)","v":0},null,null,{"$f":"ROWS(AQ14:AQ18)-COUNTBLANK(AQ14:AQ18)","v":0},null,null,{"$f":"ROWS(AT14:AT18)-COUNTBLANK(AT14:AT18)","v":0},null,null,{"$f":"ROWS(AW14:AW18)-COUNTBLANK(AW14:AW18)","v":0},null,null,{"$f":"ROWS(AZ14:AZ18)-COUNTBLANK(AZ14:AZ18)","v":0},null,null,{"$f":"ROWS(BC14:BC18)-COUNTBLANK(BC14:BC18)","v":0},null,null,{"$f":"ROWS(BF14:BF18)-COUNTBLANK(BF14:BF18)","v":0},null,null,{"$f":"ROWS(BI14:BI18)-COUNTBLANK(BI14:BI18)","v":0},null,null,{"$f":"ROWS(BL14:BL18)-COUNTBLANK(BL14:BL18)","v":0},null,null,{"$f":"ROWS(BO14:BO18)-COUNTBLANK(BO14:BO18)","v":0},null,null,{"$f":"ROWS(BR14:BR18)-COUNTBLANK(BR14:BR18)","v":0},null,null,{"$f":"ROWS(BU14:BU18)-COUNTBLANK(BU14:BU18)","v":0},null,null,{"$f":"ROWS(BX14:BX18)-COUNTBLANK(BX14:BX18)","v":0},null,null,{"$f":"ROWS(CA14:CA18)-COUNTBLANK(CA14:CA18)","v":0},null,null,{"$f":"ROWS(CD14:CD18)-COUNTBLANK(CD14:CD18)","v":0},null,null,{"$f":"ROWS(CG14:CG18)-COUNTBLANK(CG14:CG18)","v":0},null,null,{"$f":"ROWS(CJ14:CJ18)-COUNTBLANK(CJ14:CJ18)","v":0},null,null,{"$f":"ROWS(CM14:CM18)-COUNTBLANK(CM14:CM18)","v":0}]
["Month 3 of sessions attended",null,{"$f":"ROWS(C20:C24)-COUNTBLANK(C20:C24)","v":0},{"$f":"ROWS(D20:D24)-COUNTBLANK(D20:D24)","v":0},null,null,{"$f":"ROWS(G20:G24)-COUNTBLANK(G20:G24)","v":0},null,null,{"$f":"ROWS(J20:J24)-COUNTBLANK(J20:J24)","v":0},null,null,{"$f":"ROWS(M20:M24)-COUNTBLANK(M20:M24)","v":0},null,null,{"$f":"ROWS(P20:P24)-COUNTBLANK(P20:P24)","v":0},null,null,{"$f":"ROWS(S20:S24)-COUNTBLANK(S20:S24)","v":0},null,null,{"$f":"ROWS(V20:V24)-COUNTBLANK(V20:V24)","v":0},null,null,{"$f":"ROWS(Y20:Y24)-COUNTBLANK(Y20:Y24)","v":0},null,null,{"$f":"ROWS(AB20:AB24)-COUNTBLANK(AB20:AB24)","v":0},null,null,{"$f":"ROWS(AE20:AE24)-COUNTBLANK(AE20:AE24)","v":0},null,null,{"$f":"ROWS(AH20:AH24)-COUNTBLANK(AH20:AH24)","v":0},null,null,{"$f":"ROWS(AK20:AK24)-COUNTBLANK(AK20:AK24)","v":0},null,null,{"$f":"ROWS(AN20:AN24)-COUNTBLANK(AN20:AN24)","v":0},null,null,{"$f":"ROWS(AQ20:AQ24)-COUNTBLANK(AQ20:AQ24)","v":0},null,null,{"$f":"ROWS(AT20:AT24)-COUNTBLANK(AT20:AT24)","v":0},null,null,{"$f":"ROWS(AW20:AW24)-COUNTBLANK(AW20:AW24)","v":0},null,null,{"$f":"ROWS(AZ20:AZ24)-COUNTBLANK(AZ20:AZ24)","v":0},null,null,{"$f":"ROWS(BC20:BC24)-COUNTBLANK(BC20:BC24)","v":0},null,null,{"$f":"ROWS(BF20:BF24)-COUNTBLANK(BF20:BF24)","v":0},null,null,{"$f":"ROWS(BI20:BI24)-COUNTBLANK(BI20:BI24)","v":0},null,null,{"$f":"ROWS(BL20:BL24)-COUNTBLANK(BL20:BL24)","v":0},null,null,{"$f":"ROWS(BO20:BO24)-COUNTBLANK(BO20:BO24)","v":0},null,null,{"$f":"ROWS(BR20:BR24)-COUNTBLANK(BR20:BR24)","v":0},null,null,{"$f":"ROWS(BU20:BU24)-COUNTBLANK(BU20:BU24)","v":0},null,null,{"$f":"ROWS(BX20:BX24)-COUNTBLANK(BX20:BX24)","v":0},null,null,{"$f":"ROWS(CA20:CA24)-COUNTBLANK(CA20:CA24)","v":0},null,null,{"$f":"ROWS(CD20:CD24)-COUNTBLANK(CD20:CD24)","v":0},null,null,{"$f":"ROWS(CG20:CG24)-COUNTBLANK(CG20:CG24)","v":0},null,null,{"$f":"ROWS(CJ20:CJ24)-COUNTBLANK(CJ20:CJ24)","v":0},null,null,{"$f":"ROWS(CM20:CM24)-COUNTBLANK(CM20:CM24)","v":0}]
["Month 4 of sessions attended",null,{"$f":"ROWS(C26:C30)-COUNTBLANK(C26:C30)","v":0},{"$f":"ROWS(D26:D30)-COUNTBLANK(D26:D30)","v":0},null,null,{"$f":"ROWS(G26:G30)-COUNTBLANK(G26:G30)","v":0},null,null,{"$f":"ROWS(J26:J30)-COUNTBLANK(J26:J30)","v":0},null,null,{"$f":"ROWS(M26:M30)-COUNTBLANK(M26:M30)","v":0},null,null,{"$f":"ROWS(P26:P30)-COUNTBLANK(P26:P30)","v":0},null,null,{"$f":"ROWS(S26:S30)-COUNTBLANK(S26:S30)","v":0},null,null,{"$f":"ROWS(V26:V30)-COUNTBLANK(V26:V30)","v":0},null,null,{"$f":"ROWS(Y26:Y30)-COUNTBLANK(Y26:Y30)","v":0},null,null,{"$f":"ROWS(AB26:AB30)-COUNTBLANK(AB26:AB30)","v":0},null,null,{"$f":"ROWS(AE26:AE30)-COUNTBLANK(AE26:AE30)","v":0},null,null,{"$f":"ROWS(AH26:AH30)-COUNTBLANK(AH26:AH30)","v":0},null,null,{"$f":"ROWS(AK26:AK30)-COUNTBLANK(AK26:AK30)","v":0},null,null,{"$f":"ROWS(AN26:AN30)-COUNTBLANK(AN26:AN30)","v":0},null,null,{"$f":"ROWS(AQ26:AQ30)-COUNTBLANK(AQ26:AQ30)","v":0},null,null,{"$f":"ROWS(AT26:AT30)-COUNTBLANK(AT26:AT30)","v":0},null,null,{"$f":"ROWS(AW26:AW30)-COUNTBLANK(AW26:AW30)","v":0},null,null,{"$f":"ROWS(AZ26:AZ30)-COUNTBLANK(AZ26:AZ30)","v":0},null,null,{"$f":"ROWS(BC26:BC30)-COUNTBLANK(BC26:BC30)","v":0},null,null,{"$f":"ROWS(BF26:BF30)-COUNTBLANK(BF26:BF30)","v":0},null,null,{"$f":"ROWS(BI26:BI30)-COUNTBLANK(BI26:BI30)","v":0},null,null,{"$f":"ROWS(BL26:BL30)-COUNTBLANK(BL26:BL30)","v":0},null,null,{"$f":"ROWS(BO26:BO30)-COUNTBLANK(BO26:BO30)","v":0},null,null,{"$f":"ROWS(BR26:BR30)-COUNTBLANK(BR26:BR30)","v":0},null,null,{"$f":"ROWS(BU26:BU30)-COUNTBLANK(BU26:BU30)","v":0},null,null,{"$f":"ROWS(BX26:BX30)-COUNTBLANK(BX26:BX30)","v":0},null,null,{"$f":"ROWS(CA26:CA30)-COUNTBLANK(CA26:CA30)","v":0},null,null,{"$f":"ROWS(CD26:CD30)-COUNTBLANK(CD26:CD30)","v":0},null,null,{"$f":"ROWS(CG26:CG30)-COUNTBLANK(CG26:CG30)","v":0},null,null,{"$f":"ROWS(CJ26:CJ30)-COUNTBLANK(CJ26:CJ30)","v":0},null,null,{"$f":"ROWS(CM26:CM30)-COUNTBLANK(CM26:CM30)","v":0}]
["Month 5 of sessions attended",null,{"$f":"ROWS(C32:C36)-COUNTBLANK(C32:C36)","v":0},{"$f":"ROWS(D32:D36)-COUNTBLANK(D32:D36)","v":0},null,null,{"$f":"ROWS(G32:G36)-COUNTBLANK(G32:G36)","v":0},null,null,{"$f":"ROWS(J32:J36)-COUNTBLANK(J32:J36)","v":0},null,null,{"$f":"ROWS(M32:M36)-COUNTBLANK(M32:M36)","v":0},null,null,{"$f":"ROWS(P32:P36)-COUNTBLANK(P32:P36)","v":0},null,null,{"$f":"ROWS(S32:S36)-COUNTBLANK(S32:S36)","v":0},null,null,{"$f":"ROWS(V32:V36)-COUNTBLANK(V32:V36)","v":0},null,null,{"$f":"ROWS(Y32:Y36)-COUNTBLANK(Y32:Y36)","v":0},null,null,{"$f":"ROWS(AB32:AB36)-COUNTBLANK(AB32:AB36)","v":0},null,null,{"$f":"ROWS(AE32:AE36)-COUNTBLANK(AE32:AE36)","v":0},null,null,{"$f":"ROWS(AH32:AH36)-COUNTBLANK(AH32:AH36)","v":0},null,null,{"$f":"ROWS(AK32:AK36)-COUNTBLANK(AK32:AK36)","v":0},null,null,{"$f":"ROWS(AN32:AN36)-COUNTBLANK(AN32:AN36)","v":0},null,null,{"$f":"ROWS(AQ32:AQ36)-COUNTBLANK(AQ32:AQ36)","v":0},null,null,{"$f":"ROWS(AT32:AT36)-COUNTBLANK(AT32:AT36)","v":0},null,null,{"$f":"ROWS(AW32:AW36)-COUNTBLANK(AW32:AW36)","v":0},null,null,{"$f":"ROWS(AZ32:AZ36)-COUNTBLANK(AZ32:AZ36)","v":0},null,null,{"$f":"ROWS(BC32:BC36)-COUNTBLANK(BC32:BC36)","v":0},null,null,{"$f":"ROWS(BF32:BF36)-COUNTBLANK(BF32:BF36)","v":0},null,null,{"$f":"ROWS(BI32:BI36)-COUNTBLANK(BI32:BI36)","v":0},null,null,{"$f":"ROWS(BL32:BL36)-COUNTBLANK(BL32:BL36)","v":0},null,null,{"$f":"ROWS(BO32:BO36)-COUNTBLANK(BO32:BO36)","v":0},null,null,{"$f":"ROWS(BR32:BR36)-COUNTBLANK(BR32:BR36)","v":0},null,null,{"$f":"ROWS(BU32:BU36)-COUNTBLANK(BU32:BU36)","v":0},null,null,{"$f":"ROWS(BX32:BX36)-COUNTBLANK(BX32:BX36)","v":0},null,null,{"$f":"ROWS(CA32:CA36)-COUNTBLANK(CA32:CA36)","v":0},null,null,{"$f":"ROWS(CD32:CD36)-COUNTBLANK(CD32:CD36)","v":0},null,null,{"$f":"ROWS(CG32:CG36)-COUNTBLANK(CG32:CG36)","v":0},null,null,{"$f":"ROWS(CJ32:CJ36)-COUNTBLANK(CJ32:CJ36)","v":0},null,null,{"$f":"ROWS(CM32:CM36)-COUNTBLANK(CM32:CM36)","v":0}]
["Month 6 of sessions attended",null,{"$f":"ROWS(C38:C42)-COUNTBLANK(C38:C42)","v":0},{"$f":"ROWS(D38:D42)-COUNTBLANK(D38:D42)","v":0},null,null,{"$f":"ROWS(G38:G42)-COUNTBLANK(G38:G42)","v":0},null,null,{"$f":"ROWS(J38:J42)-COUNTBLANK(J38:J42)","v":0},null,null,{"$f":"ROWS(M38:M42)-COUNTBLANK(M38:M42)","v":0},null,null,{"$f":"ROWS(P38:P42)-COUNTBLANK(P38:P42)","v":0},null,null,{"$f":"ROWS(S38:S42)-COUNTBLANK(S38:S42)","v":0},null,null,{"$f":"ROWS(V38:V42)-COUNTBLANK(V38:V42)","v":0},null,null,{"$f":"ROWS(Y38:Y42)-COUNTBLANK(Y38:Y42)","v":0},null,null,{"$f":"ROWS(AB38:AB42)-COUNTBLANK(AB38:AB42)","v":0},null,null,{"$f":"ROWS(AE38:AE42)-COUNTBLANK(AE38:AE42)","v":0},null,null,{"$f":"ROWS(AH38:AH42)-COUNTBLANK(AH38:AH42)","v":0},null,null,{"$f":"ROWS(AK38:AK42)-COUNTBLANK(AK38:AK42)","v":0},null,null,{"$f":"ROWS(AN38:AN42)-COUNTBLANK(AN38:AN42)","v":0},null,null,{"$f":"ROWS(AQ38:AQ42)-COUNTBLANK(AQ38:AQ42)","v":0},null,null,{"$f":"ROWS(AT38:AT42)-COUNTBLANK(AT38:AT42)","v":0},null,null,{"$f":"ROWS(AW38:AW42)-COUNTBLANK(AW38:AW42)","v":0},null,null,{"$f":"ROWS(AZ38:AZ42)-COUNTBLANK(AZ38:AZ42)","v":0},null,null,{"$f":"ROWS(BC38:BC42)-COUNTBLANK(BC38:BC42)","v":0},null,null,{"$f":"ROWS(BF38:BF42)-COUNTBLANK(BF38:BF42)","v":0},null,null,{"$f":"ROWS(BI38:BI42)-COUNTBLANK(BI38:BI42)","v":0},null,null,{"$f":"ROWS(BL38:BL42)-COUNTBLANK(BL38:BL42)","v":0},null,null,{"$f":"ROWS(BO38:BO42)-COUNTBLANK(BO38:BO42)","v":0},null,null,{"$f":"ROWS(BR38:BR42)-COUNTBLANK(BR38:BR42)","v":0},null,null,{"$f":"ROWS(BU38:BU42)-COUNTBLANK(BU38:BU42)","v":0},null,null,{"$f":"ROWS(BX38:BX42)-COUNTBLANK(BX38:BX42)","v":0},null,null,{"$f":"ROWS(CA38:CA42)-COUNTBLANK(CA38:CA42)","v":0},null,null,{"$f":"ROWS(CD38:CD42)-COUNTBLANK(CD38:CD42)","v":0},null,null,{"$f":"ROWS(CG38:CG42)-COUNTBLANK(CG38:CG42)","v":0},null,null,{"$f":"ROWS(CJ38:CJ42)-COUNTBLANK(CJ38:CJ42)","v":0},null,null,{"$f":"ROWS(CM38:CM42)-COUNTBLANK(CM38:CM42)","v":0}]
[]
["Month 1 Average PA minutes",null,null,null,null,{"$f":"(SUMIF(F8:F12, \"<997\"))/D51","v":{"$error":"#DIV/0!"}},null,null,{"$f":"(SUMIF(I8:I12, \"<997\"))/G51","v":{"$error":"#DIV/0!"}},null,null,{"$f":"(SUMIF(L8:L12, \"<997\"))/J51","v":{"$error":"#DIV/0!"}},null,null,{"$f":"(SUMIF(O8:O12, \"<997\"))/M51","v":{"$error":"#DIV/0!"}},null,null,{"$f":"(SUMIF(R8:R12, \"<997\"))/P51","v":{"$error":"#DIV/0!"}},null,null,{"$f":"(SUMIF(U8:U12, \"<997\"))/S51","v":{"$error":"#DIV/0!"}},null,null,{"$f":"(SUMIF(X8:X12, \"<997\"))/V51","v":{"$error":"#DIV/0!"}},null,null,{"$f":"(SUMIF(AA8:AA12, \"<997\"))/Y51","v":{"$error":"#DIV/0!"}},null,null,{"$f":"(SUMIF(AD8:AD12, \"<997\"))/AB51","v":{"$error":"#DIV/0!"}},null,null,{"$f":"(SUMIF(AG8:AG12, \"<997\"))/AE51","v":{"$error":"#DIV/0!"}},null,null,{"$f":"(SUMIF(AJ8:AJ12, \"<997\"))/AH51","v":{"$error":"#DIV/0!"}},null,null,{"$f":"(SUMIF(AM8:AM12, \"<997\"))/AK51","v":{"$error":"#DIV/0!"}},null,null,{"$f":"(SUMIF(AP8:AP12, \"<997\"))/AN51","v":{"$error":"#DIV/0!"}},null,null,{"$f":"(SUMIF(AS8:AS12, \"<997\"))/AQ51","v":{"$error":"#DIV/0!"}},null,null,{"$f":"(SUMIF(AV8:AV12, \"<997\"))/AT51","v":{"$error":"#DIV/0!"}},null,null,{"$f":"(SUMIF(AY8:AY12, \"<997\"))/AW51","v":{"$error":"#DIV/0!"}},null,null,{"$f":"(SUMIF(BB8:BB12, \"<997\"))/AZ51","v":{"$error":"#DIV/0!"}},null,null,{"$f":"(SUMIF(BE8:BE12, \"<997\"))/BC51","v":{"$error":"#DIV/0!"}},null,null,{"$f":"(SUMIF(BH8:BH12, \"<997\"))/BF51","v":{"$error":"#DIV/0!"}},null,null,{"$f":"(SUMIF(BK8:BK12, \"<997\"))/BI51","v":{"$error":"#DIV/0!"}},null,null,{"$f":"(SUMIF(BN8:BN12, \"<997\"))/BL51","v":{"$error":"#DIV/0!"}},null,null,{"$f":"(SUMIF(BQ8:BQ12, \"<997\"))/BO51","v":{"$error":"#DIV/0!"}},null,null,{"$f":"(SUMIF(BT8:BT12, \"<997\"))/BR51","v":{"$error":"#DIV/0!"}},null,null,{"$f":"(SUMIF(BW8:BW12, \"<997\"))/BU51","v":{"$error":"#DIV/0!"}},null,null,{"$f":"(SUMIF(BZ8:BZ12, \"<997\"))/BX51","v":{"$error":"#DIV/0!"}},null,null,{"$f":"(SUMIF(CC8:CC12, \"<997\"))/CA51","v":{"$error":"#DIV/0!"}},null,null,{"$f":"(SUMIF(CF8:CF12, \"<997\"))/CD51","v":{"$error":"#DIV/0!"}},null,null,{"$f":"(SUMIF(CI8:CI12, \"<997\"))/CG51","v":{"$error":"#DIV/0!"}},null,null,{"$f":"(SUMIF(CL8:CL12, \"<997\"))/CJ51","v":{"$error":"#DIV/0!"}},null,null,{"$f":"(SUMIF(CO8:CO12, \"<997\"))/CM51","v":{"$error":"#DIV/0!"}}]
["Month 2 Average PA minutes",null,null,null,null,{"$f":"(SUMIF(F14:F18, \"<997\"))/D52","v":{"$error":"#DIV/0!"}},null,null,{"$f":"(SUMIF(I14:I18, \"<997\"))/G52","v":{"$error":"#DIV/0!"}},null,null,{"$f":"(SUMIF(L14:L18, \"<997\"))/J52","v":{"$error":"#DIV/0!"}},null,null,{"$f":"(SUMIF(O14:O18, \"<997\"))/M52","v":{"$error":"#DIV/0!"}},null,null,{"$f":"(SUMIF(R14:R18, \"<997\"))/P52","v":{"$error":"#DIV/0!"}},null,null,{"$f":"(SUMIF(U14:U18, \"<997\"))/S52","v":{"$error":"#DIV/0!"}},null,null,{"$f":"(SUMIF(X14:X18, \"<997\"))/V52","v":{"$error":"#DIV/0!"}},null,null,{"$f":"(SUMIF(AA14:AA18, \"<997\"))/Y52","v":{"$error":"#DIV/0!"}},null,null,{"$f":"(SUMIF(AD14:AD18, \"<997\"))/AB52","v":{"$error":"#DIV/0!"}},null,null,{"$f":"(SUMIF(AG14:AG18, \"<997\"))/AE52","v":{"$error":"#DIV/0!"}},null,null,{"$f":"(SUMIF(AJ14:AJ18, \"<997\"))/AH52","v":{"$error":"#DIV/0!"}},null,null,{"$f":"(SUMIF(AM14:AM18, \"<997\"))/AK52","v":{"$error":"#DIV/0!"}},null,null,{"$f":"(SUMIF(AP14:AP18, \"<997\"))/AN52","v":{"$error":"#DIV/0!"}},null,null,{"$f":"(SUMIF(AS14:AS18, \"<997\"))/AQ52","v":{"$error":"#DIV/0!"}},null,null,{"$f":"(SUMIF(AV14:AV18, \"<997\"))/AT52","v":{"$error":"#DIV/0!"}},null,null,{"$f":"(SUMIF(AY14:AY18, \"<997\"))/AW52","v":{"$error":"#DIV/0!"}},null,null,{"$f":"(SUMIF(BB14:BB18, \"<997\"))/AZ52","v":{"$error":"#DIV/0!"}},null,null,{"$f":"(SUMIF(BE14:BE18, \"<997\"))/BC52","v":{"$error":"#DIV/0!"}},null,null,{"$f":"(SUMIF(BH14:BH18, \"<997\"))/BF52","v":{"$error":"#DIV/0!"}},null,null,{"$f":"(SUMIF(BK14:BK18, \"<997\"))/BI52","v":{"$error":"#DIV/0!"}},null,null,{"$f":"(SUMIF(BN14:BN18, \"<997\"))/BL52","v":{"$error":"#DIV/0!"}},null,null,{"$f":"(SUMIF(BQ14:BQ18, \"<997\"))/BO52","v":{"$error":"#DIV/0!"}},null,null,{"$f":"(SUMIF(BT14:BT18, \"<997\"))/BR52","v":{"$error":"#DIV/0!"}},null,null,{"$f":"(SUMIF(BW14:BW18, \"<997\"))/BU52","v":{"$error":"#DIV/0!"}},null,null,{"$f":"(SUMIF(BZ14:BZ18, \"<997\"))/BX52","v":{"$error":"#DIV/0!"}},null,null,{"$f":"(SUMIF(CC14:CC18, \"<997\"))/CA52","v":{"$error":"#DIV/0!"}},null,null,{"$f":"(SUMIF(CF14:CF18, \"<997\"))/CD52","v":{"$error":"#DIV/0!"}},null,null,{"$f":"(SUMIF(CI14:CI18, \"<997\"))/CG52","v":{"$error":"#DIV/0!"}},null,null,{"$f":"(SUMIF(CL14:CL18, \"<997\"))/CJ52","v":{"$error":"#DIV/0!"}},null,null,{"$f":"(SUMIF(CO14:CO18, \"<997\"))/CM52","v":{"$error":"#DIV/0!"}}]
["Month 3 Average PA minutes",null,null,null,null,{"$f":"(SUMIF(F20:F24, \"<997\"))/D53","v":{"$error":"#DIV/0!"}},null,null,{"$f":"(SUMIF(I20:I24, \"<997\"))/G53","v":{"$error":"#DIV/0!"}},null,null,{"$f":"(SUMIF(L20:L24, \"<997\"))/J53","v":{"$error":"#DIV/0!"}},null,null,{"$f":"(SUMIF(O20:O24, \"<997\"))/M53","v":{"$error":"#DIV/0!"}},null,null,{"$f":"(SUMIF(R20:R24, \"<997\"))/P53","v":{"$error":"#DIV/0!"}},null,null,{"$f":"(SUMIF(U20:U24, \"<997\"))/S53","v":{"$error":"#DIV/0!"}},null,null,{"$f":"(SUMIF(X20:X24, \"<997\"))/V53","v":{"$error":"#DIV/0!"}},null,null,{"$f":"(SUMIF(AA20:AA24, \"<997\"))/Y53","v":{"$error":"#DIV/0!"}},null,null,{"$f":"(SUMIF(AD20:AD24, \"<997\"))/AB53","v":{"$error":"#DIV/0!"}},null,null,{"$f":"(SUMIF(AG20:AG24, \"<997\"))/AE53","v":{"$error":"#DIV/0!"}},null,null,{"$f":"(SUMIF(AJ20:AJ24, \"<997\"))/AH53","v":{"$error":"#DIV/0!"}},null,null,{"$f":"(SUMIF(AM20:AM24, \"<997\"))/AK53","v":{"$error":"#DIV/0!"}},null,null,{"$f":"(SUMIF(AP20:AP24, \"<997\"))/AN53","v":{"$error":"#DIV/0!"}},null,null,{"$f":"(SUMIF(AS20:AS24, \"<997\"))/AQ53","v":{"$error":"#DIV/0!"}},null,null,{"$f":"(SUMIF(AV20:AV24, \"<997\"))/AT53","v":{"$error":"#DIV/0!"}},null,null,{"$f":"(SUMIF(AY20:AY24, \"<997\"))/AW53","v":{"$error":"#DIV/0!"}},null,null,{"$f":"(SUMIF(BB20:BB24, \"<997\"))/AZ53","v":{"$error":"#DIV/0!"}},null,null,{"$f":"(SUMIF(BE20:BE24, \"<997\"))/BC53","v":{"$error":"#DIV/0!"}},null,null,{"$f":"(SUMIF(BH20:BH24, \"<997\"))/BF53","v":{"$error":"#DIV/0!"}},null,null,{"$f":"(SUMIF(BK20:BK24, \"<997\"))/BI53","v":{"$error":"#DIV/0!"}},null,null,{"$f":"(SUMIF(BN20:BN24, \"<997\"))/BL53","v":{"$error":"#DIV/0!"}},null,null,{"$f":"(SUMIF(BQ20:BQ24, \"<997\"))/BO53","v":{"$error":"#DIV/0!"}},null,null,{"$f":"(SUMIF(BT20:BT24, \"<997\"))/BR53","v":{"$error":"#DIV/0!"}},null,null,{"$f":"(SUMIF(BW20:BW24, \"<997\"))/BU53","v":{"$error":"#DIV/0!"}},null,null,{"$f":"(SUMIF(BZ20:BZ24, \"<997\"))/BX53","v":{"$error":"#DIV/0!"}},null,null,{"$f":"(SUMIF(CC20:CC24, \"<997\"))/CA53","v":{"$error":"#DIV/0!"}},null,null,{"$f":"(SUMIF(CF20:CF24, \"<997\"))/CD53","v":{"$error":"#DIV/0!"}},null,null,{"$f":"(SUMIF(CI20:CI24, \"<997\"))/CG53","v":{"$error":"#DIV/0!"}},null,null,{"$f":"(SUMIF(CL20:CL24, \"<997\"))/CJ53","v":{"$error":"#DIV/0!"}},null,null,{"$f":"(SUMIF(CO20:CO24, \"<997\"))/CM53","v":{"$error":"#DIV/0!"}}]
["Month 4 Average PA minutes",null,null,null,null,{"$f":"(SUMIF(F26:F30, \"<997\"))/D54","v":{"$error":"#DIV/0!"}},null,null,{"$f":"(SUMIF(I26:I30, \"<997\"))/G54","v":{"$error":"#DIV/0!"}},null,null,{"$f":"(SUMIF(L26:L30, \"<997\"))/J54","v":{"$error":"#DIV/0!"}},null,null,{"$f":"(SUMIF(O26:O30, \"<997\"))/M54","v":{"$error":"#DIV/0!"}},null,null,{"$f":"(SUMIF(R26:R30, \"<997\"))/P54","v":{"$error":"#DIV/0!"}},null,null,{"$f":"(SUMIF(U26:U30, \"<997\"))/S54","v":{"$error":"#DIV/0!"}},null,null,{"$f":"(SUMIF(X26:X30, \"<997\"))/V54","v":{"$error":"#DIV/0!"}},null,null,{"$f":"(SUMIF(AA26:AA30, \"<997\"))/Y54","v":{"$error":"#DIV/0!"}},null,null,{"$f":"(SUMIF(AD26:AD30, \"<997\"))/AB54","v":{"$error":"#DIV/0!"}},null,null,{"$f":"(SUMIF(AG26:AG30, \"<997\"))/AE54","v":{"$error":"#DIV/0!"}},null,null,{"$f":"(SUMIF(AJ26:AJ30, \"<997\"))/AH54","v":{"$error":"#DIV/0!"}},null,null,{"$f":"(SUMIF(AM26:AM30, \"<997\"))/AK54","v":{"$error":"#DIV/0!"}},null,null,{"$f":"(SUMIF(AP26:AP30, \"<997\"))/AN54","v":{"$error":"#DIV/0!"}},null,null,{"$f":"(SUMIF(AS26:AS30, \"<997\"))/AQ54","v":{"$error":"#DIV/0!"}},null,null,{"$f":"(SUMIF(AV26:AV30, \"<997\"))/AT54","v":{"$error":"#DIV/0!"}},null,null,{"$f":"(SUMIF(AY26:AY30, \"<997\"))/AW54","v":{"$error":"#DIV/0!"}},null,null,{"$f":"(SUMIF(BB26:BB30, \"<997\"))/AZ54","v":{"$error":"#DIV/0!"}},null,null,{"$f":"(SUMIF(BE26:BE30, \"<997\"))/BC54","v":{"$error":"#DIV/0!"}},null,null,{"$f":"(SUMIF(BH26:BH30, \"<997\"))/BF54","v":{"$error":"#DIV/0!"}},null,null,{"$f":"(SUMIF(BK26:BK30, \"<997\"))/BI54","v":{"$error":"#DIV/0!"}},null,null,{"$f":"(SUMIF(BN26:BN30, \"<997\"))/BL54","v":{"$error":"#DIV/0!"}},null,null,{"$f":"(SUMIF(BQ26:BQ30, \"<997\"))/BO54","v":{"$error":"#DIV/0!"}},null,null,{"$f":"(SUMIF(BT26:BT30, \"<997\"))/BR54","v":{"$error":"#DIV/0!"}},null,null,{"$f":"(SUMIF(BW26:BW30, \"<997\"))/BU54","v":{"$error":"#DIV/0!"}},null,null,{"$f":"(SUMIF(BZ26:BZ30, \"<997\"))/BX54","v":{"$error":"#DIV/0!"}},null,null,{"$f":"(SUMIF(CC26:CC30, \"<997\"))/CA54","v":{"$error":"#DIV/0!"}},null,null,{"$f":"(SUMIF(CF26:CF30, \"<997\"))/CD54","v":{"$error":"#DIV/0!"}},null,null,{"$f":"(SUMIF(CI26:CI30, \"<997\"))/CG54","v":{"$error":"#DIV/0!"}},null,null,{"$f":"(SUMIF(CL26:CL30, \"<997\"))/CJ54","v":{"$error":"#DIV/0!"}},null,null,{"$f":"(SUMIF(CO26:CO30, \"<997\"))/CM54","v":{"$error":"#DIV/0!"}}]
["Month 5 Average PA minutes",null,null,null,null,{"$f":"(SUMIF(F32:F36, \"<997\"))/D55","v":{"$error":"#DIV/0!"}},null,null,{"$f":"(SUMIF(I32:I36, \"<997\"))/G55","v":{"$error":"#DIV/0!"}},null,null,{"$f":"(SUMIF(L32:L36, \"<997\"))/J55","v":{"$error":"#DIV/0!"}},null,null,{"$f":"(SUMIF(O32:O36, \"<997\"))/M55","v":{"$error":"#DIV/0!"}},null,null,{"$f":"(SUMIF(R32:R36, \"<997\"))/P55","v":{"$error":"#DIV/0!"}},null,null,{"$f":"(SUMIF(U32:U36, \"<997\"))/S55","v":{"$error":"#DIV/0!"}},null,null,{"$f":"(SUMIF(X32:X36, \"<997\"))/V55","v":{"$error":"#DIV/0!"}},null,null,{"$f":"(SUMIF(AA32:AA36, \"<997\"))/Y55","v":{"$error":"#DIV/0!"}},null,null,{"$f":"(SUMIF(AD32:AD36, \"<997\"))/AB55","v":{"$error":"#DIV/0!"}},null,null,{"$f":"(SUMIF(AG32:AG36, \"<997\"))/AE55","v":{"$error":"#DIV/0!"}},null,null,{"$f":"(SUMIF(AJ32:AJ36, \"<997\"))/AH55","v":{"$error":"#DIV/0!"}},null,null,{"$f":"(SUMIF(AM32:AM36, \"<997\"))/AK55","v":{"$error":"#DIV/0!"}},null,null,{"$f":"(SUMIF(AP32:AP36, \"<997\"))/AN55","v":{"$error":"#DIV/0!"}},null,null,{"$f":"(SUMIF(AS32:AS36, \"<997\"))/AQ55","v":{"$error":"#DIV/0!"}},null,null,{"$f":"(SUMIF(AV32:AV36, \"<997\"))/AT55","v":{"$error":"#DIV/0!"}},null,null,{"$f":"(SUMIF(AY32:AY36, \"<997\"))/AW55","v":{"$error":"#DIV/0!"}},null,null,{"$f":"(SUMIF(BB32:BB36, \"<997\"))/AZ55","v":{"$error":"#DIV/0!"}},null,null,{"$f":"(SUMIF(BE32:BE36, \"<997\"))/BC55","v":{"$error":"#DIV/0!"}},null,null,{"$f":"(SUMIF(BH32:BH36, \"<997\"))/BF55","v":{"$error":"#DIV/0!"}},null,null,{"$f":"(SUMIF(BK32:BK36, \"<997\"))/BI55","v":{"$error":"#DIV/0!"}},null,null,{"$f":"(SUMIF(BN32:BN36, \"<997\"))/BL55","v":{"$error":"#DIV/0!"}},null,null,{"$f":"(SUMIF(BQ32:BQ36, \"<997\"))/BO55","v":{"$error":"#DIV/0!"}},null,null,{"$f":"(SUMIF(BT32:BT36, \"<997\"))/BR55","v":{"$error":"#DIV/0!"}},null,null,{"$f":"(SUMIF(BW32:BW36, \"<997\"))/BU55","v":{"$error":"#DIV/0!"}},null,null,{"$f":"(SUMIF(BZ32:BZ36, \"<997\"))/BX55","v":{"$error":"#DIV/0!"}},null,null,{"$f":"(SUMIF(CC32:CC36, \"<997\"))/CA55","v":{"$error":"#DIV/0!"}},null,null,{"$f":"(SUMIF(CF32:CF36, \"<997\"))/CD55","v":{"$error":"#DIV/0!"}},null,null,{"$f":"(SUMIF(CI32:CI36, \"<997\"))/CG55","v":{"$error":"#DIV/0!"}},null,null,{"$f":"(SUMIF(CL32:CL36, \"<997\"))/CJ55","v":{"$error":"#DIV/0!"}},null,null,{"$f":"(SUMIF(CO32:CO36, \"<997\"))/CM55","v":{"$error":"#DIV/0!"}}]
["Month 6 Average PA minutes",null,null,null,null,{"$f":"(SUMIF(F38:F42, \"<997\"))/D56","v":{"$error":"#DIV/0!"}},null,null,{"$f":"(SUMIF(I38:I42, \"<997\"))/G56","v":{"$error":"#DIV/0!"}},null,null,{"$f":"(SUMIF(L38:L42, \"<997\"))/J56","v":{"$error":"#DIV/0!"}},null,null,{"$f":"(SUMIF(O38:O42, \"<997\"))/M56","v":{"$error":"#DIV/0!"}},null,null,{"$f":"(SUMIF(R38:R42, \"<997\"))/P56","v":{"$error":"#DIV/0!"}},null,null,{"$f":"(SUMIF(U38:U42, \"<997\"))/S56","v":{"$error":"#DIV/0!"}},null,null,{"$f":"(SUMIF(X38:X42, \"<997\"))/V56","v":{"$error":"#DIV/0!"}},null,null,{"$f":"(SUMIF(AA38:AA42, \"<997\"))/Y56","v":{"$error":"#DIV/0!"}},null,null,{"$f":"(SUMIF(AD38:AD42, \"<997\"))/AB56","v":{"$error":"#DIV/0!"}},null,null,{"$f":"(SUMIF(AG38:AG42, \"<997\"))/AE56","v":{"$error":"#DIV/0!"}},null,null,{"$f":"(SUMIF(AJ38:AJ42, \"<997\"))/AH56","v":{"$error":"#DIV/0!"}},null,null,{"$f":"(SUMIF(AM38:AM42, \"<997\"))/AK56","v":{"$error":"#DIV/0!"}},null,null,{"$f":"(SUMIF(AP38:AP42, \"<997\"))/AN56","v":{"$error":"#DIV/0!"}},null,null,{"$f":"(SUMIF(AS38:AS42, \"<997\"))/AQ56","v":{"$error":"#DIV/0!"}},null,null,{"$f":"(SUMIF(AV38:AV42, \"<997\"))/AT56","v":{"$error":"#DIV/0!"}},null,null,{"$f":"(SUMIF(AY38:AY42, \"<997\"))/AW56","v":{"$error":"#DIV/0!"}},null,null,{"$f":"(SUMIF(BB38:BB42, \"<997\"))/AZ56","v":{"$error":"#DIV/0!"}},null,null,{"$f":"(SUMIF(BE38:BE42, \"<997\"))/BC56","v":{"$error":"#DIV/0!"}},null,null,{"$f":"(SUMIF(BH38:BH42, \"<997\"))/BF56","v":{"$error":"#DIV/0!"}},null,null,{"$f":"(SUMIF(BK38:BK42, \"<997\"))/BI56","v":{"$error":"#DIV/0!"}},null,null,{"$f":"(SUMIF(BN38:BN42, \"<997\"))/BL56","v":{"$error":"#DIV/0!"}},null,null,{"$f":"(SUMIF(BQ38:BQ42, \"<997\"))/BO56","v":{"$error":"#DIV/0!"}},null,null,{"$f":"(SUMIF(BT38:BT42, \"<997\"))/BR56","v":{"$error":"#DIV/0!"}},null,null,{"$f":"(SUMIF(BW38:BW42, \"<997\"))/BU56","v":{"$error":"#DIV/0!"}},null,null,{"$f":"(SUMIF(BZ38:BZ42, \"<997\"))/BX56","v":{"$error":"#DIV/0!"}},null,null,{"$f":"(SUMIF(CC38:CC42, \"<997\"))/CA56","v":{"$error":"#DIV/0!"}},null,null,{"$f":"(SUMIF(CF38:CF42, \"<997\"))/CD56","v":{"$error":"#DIV/0!"}},null,null,{"$f":"(SUMIF(CI38:CI42, \"<997\"))/CG56","v":{"$error":"#DIV/0!"}},null,null,{"$f":"(SUMIF(CL38:CL42, \"<997\"))/CJ56","v":{"$error":"#DIV/0!"}},null,null,{"$f":"(SUMIF(CO38:CO42, \"<997\"))/CM56","v":{"$error":"#DIV/0!"}}]

{"sheet":"Months 7-12","index":3,"n_rows":62,"n_cols":93,"rows_kept":62,"cut":false,"hidden":false,"merged":[[0,0,0,7],[3,2,5,2],[3,90,3,92],[4,66,4,68],[4,69,4,71],[4,72,4,74],[4,75,4,77],[4,78,4,80],[4,81,4,83],[4,84,4,86],[4,87,4,89],[4,90,4,92],[3,75,3,77],[3,78,3,80],[3,81,3,83],[3,84,3,86],[3,87,3,89],[3,9,3,11],[4,9,4,11],[3,66,3,68],[3,69,3,71],[3,72,3,74],[3,12,3,14],[4,12,4,14],[3,15,3,17],[4,15,4,17],[3,18,3,20],[4,18,4,20],[3,21,3,23],[4,21,4,23],[3,24,3,26],[4,24,4,26],[3,27,3,29],[3,0,5,0],[3,1,5,1],[3,3,3,5],[4,3,4,5],[3,6,3,8],[4,6,4,8],[4,27,4,29],[3,30,3,32],[4,30,4,32],[3,33,3,35],[4,33,4,35],[3,36,3,38],[4,36,4,38],[3,39,3,41],[4,39,4,41],[3,42,3,44],[4,42,4,44],[3,45,3,47],[4,45,4,47],[3,48,3,50],[4,48,4,50],[3,51,3,53],[4,51,4,53],[3,63,3,65],[4,63,4,65],[3,54,3,56],[4,54,4,56],[3,57,3,59],[4,57,4,59],[3,60,3,62],[4,60,4,62]]}
["National Diabetes Prevention Program Months 7-12 Class Data:"]
[]
[]
[null,"Module name\nPlease choose from the drop down","Session Date","Participant #1",null,null,"Participant #2",null,null,"Participant #3",null,null,"Participant #4",null,null,"Participant #5",null,null,"Participant #6",null,null,"Participant #7",null,null,"Participant #8",null,null,"Participant #9",null,null,"Participant #10",null,null,"Participant #11",null,null,"Participant #12",null,null,"Participant #13",null,null,"Participant #14",null,null,"Participant #15",null,null,"Participant #16",null,null,"Participant #17",null,null,"Participant #18",null,null,"Participant #19",null,null,"Participant #20",null,null,"Participant #21",null,null,"Participant #22",null,null,"Participant #23",null,null,"Participant #24",null,null,"Participant #25",null,null,"Participant #26",null,null,"Participant #27",null,null,"Participant #28",null,null,"Participant #29",null,null,"Participant #30"]
[null,null,null,{"$f":"Demographics!B10","v":0},null,null,{"$f":"Demographics!B11","v":0},null,null,{"$f":"Demographics!B12","v":0},null,null,{"$f":"Demographics!B13","v":0},null,null,{"$f":"Demographics!B14","v":0},null,null,{"$f":"Demographics!B15","v":0},null,null,{"$f":"Demographics!B16","v":0},null,null,{"$f":"Demographics!B17","v":0},null,null,{"$f":"Demographics!B18","v":0},null,null,{"$f":"Demographics!B19","v":0},null,null,{"$f":"Demographics!B20","v":0},null,null,{"$f":"Demographics!B21","v":0},null,null,{"$f":"Demographics!B22","v":0},null,null,{"$f":"Demographics!B23","v":0},null,null,{"$f":"Demographics!B24","v":0},null,null,{"$f":"Demographics!B25","v":0},null,null,{"$f":"Demographics!B26","v":0},null,null,{"$f":"Demographics!B27","v":0},null,null,{"$f":"Demographics!B28","v":0},null,null,{"$f":"Demographics!B29","v":0},null,null,{"$f":"Demographics!B30","v":0},null,null,{"$f":"Demographics!B31","v":0},null,null,{"$f":"Demographics!B32","v":0},null,null,{"$f":"Demographics!B33","v":0},null,null,{"$f":"Demographics!B34","v":0},null,null,{"$f":"Demographics!B35","v":0},null,null,{"$f":"Demographics!B36","v":0},null,null,{"$f":"Demographics!B37","v":0},null,null,{"$f":"Demographics!B38","v":0},null,null,{"$f":"Demographics!B39","v":0}]
[null,null,null,"Session Date","Weight ","PA","Session Date","Weight ","PA","Session Date","Weight ","PA","Session Date","Weight ","PA","Session Date","Weight ","PA","Session Date","Weight ","PA","Session Date","Weight ","PA","Session Date","Weight ","PA","Session Date","Weight ","PA","Session Date","Weight ","PA","Session Date","Weight ","PA","Session Date","Weight ","PA","Session Date","Weight ","PA","Session Date","Weight ","PA","Session Date","Weight ","PA","Session Date","Weight ","PA","Session Date","Weight ","PA","Session Date","Weight ","PA","Session Date","Weight ","PA","Session Date","Weight ","PA","Session Date","Weight ","PA","Session Date","Weight ","PA","Session Date","Weight ","PA","Session Date","Weight ","PA","Session Date","Weight ","PA","Session Date","Weight ","PA","Session Date","Weight ","PA","Session Date","Weight ","PA","Session Date","Weight ","PA","Session Date","Weight ","PA"]
["Month 7"]
["Week 1",null,null,{"$f":"IF($C$8<>\"\",$C$8,\"\")","v":""},null,null,{"$f":"IF($C$8<>\"\",$C$8,\"\")","v":""},null,null,{"$f":"IF($C$8<>\"\",$C$8,\"\")","v":""},null,null,{"$f":"IF($C$8<>\"\",$C$8,\"\")","v":""},null,null,{"$f":"IF($C$8<>\"\",$C$8,\"\")","v":""},null,null,{"$f":"IF($C$8<>\"\",$C$8,\"\")","v":""},null,null,{"$f":"IF($C$8<>\"\",$C$8,\"\")","v":""},null,null,{"$f":"IF($C$8<>\"\",$C$8,\"\")","v":""},null,null,{"$f":"IF($C$8<>\"\",$C$8,\"\")","v":""},null,null,{"$f":"IF($C$8<>\"\",$C$8,\"\")","v":""},null,null,{"$f":"IF($C$8<>\"\",$C$8,\"\")","v":""},null,null,{"$f":"IF($C$8<>\"\",$C$8,\"\")","v":""},null,null,{"$f":"IF($C$8<>\"\",$C$8,\"\")","v":""},null,null,{"$f":"IF($C$8<>\"\",$C$8,\"\")","v":""},null,null,{"$f":"IF($C$8<>\"\",$C$8,\"\")","v":""},null,null,{"$f":"IF($C$8<>\"\",$C$8,\"\")","v":""},null,null,{"$f":"IF($C$8<>\"\",$C$8,\"\")","v":""},null,null,{"$f":"IF($C$8<>\"\",$C$8,\"\")","v":""},null,null,{"$f":"IF($C$8<>\"\",$C$8,\"\")","v":""},null,null,{"$f":"IF($C$8<>\"\",$C$8,\"\")","v":""},null,null,{"$f":"IF($C$8<>\"\",$C$8,\"\")","v":""},null,null,{"$f":"IF($C$8<>\"\",$C$8,\"\")","v":""},null,null,{"$f":"IF($C$8<>\"\",$C$8,\"\")","v":""},null,null,{"$f":"IF($C$8<>\"\",$C$8,\"\")","v":""},null,null,{"$f":"IF($C$8<>\"\",$C$8,\"\")","v":""},null,null,{"$f":"IF($C$8<>\"\",$C$8,\"\")","v":""},null,null,{"$f":"IF($C$8<>\"\",$C$8,\"\")","v":""},null,null,{"$f":"IF($C$8<>\"\",$C$8,\"\")","v":""},null,null,{"$f":"IF($C$8<>\"\",$C$8,\"\")","v":""},null,null,{"$f":"IF($C$8<>\"\",$C$8,\"\")","v":""}]
["Week 2",null,null,{"$f":"IF($C$9<>\"\",$C$9,\"\")","v":""},null,null,{"$f":"IF($C$9<>\"\",$C$9,\"\")","v":""},null,null,{"$f":"IF($C$9<>\"\",$C$9,\"\")","v":""},null,null,{"$f":"IF($C$9<>\"\",$C$9,\"\")","v":""},null,null,{"$f":"IF($C$9<>\"\",$C$9,\"\")","v":""},null,null,{"$f":"IF($C$9<>\"\",$C$9,\"\")","v":""},null,null,{"$f":"IF($C$9<>\"\",$C$9,\"\")","v":""},null,null,{"$f":"IF($C$9<>\"\",$C$9,\"\")","v":""},null,null,{"$f":"IF($C$9<>\"\",$C$9,\"\")","v":""},null,null,{"$f":"IF($C$9<>\"\",$C$9,\"\")","v":""},null,null,{"$f":"IF($C$9<>\"\",$C$9,\"\")","v":""},null,null,{"$f":"IF($C$9<>\"\",$C$9,\"\")","v":""},null,null,{"$f":"IF($C$9<>\"\",$C$9,\"\")","v":""},null,null,{"$f":"IF($C$9<>\"\",$C$9,\"\")","v":""},null,null,{"$f":"IF($C$9<>\"\",$C$9,\"\")","v":""},null,null,{"$f":"IF($C$9<>\"\",$C$9,\"\")","v":""},null,null,{"$f":"IF($C$9<>\"\",$C$9,\"\")","v":""},null,null,{"$f":"IF($C$9<>\"\",$C$9,\"\")","v":""},null,null,{"$f":"IF($C$9<>\"\",$C$9,\"\")","v":""},null,null,{"$f":"IF($C$9<>\"\",$C$9,\"\")","v":""},null,null,{"$f":"IF($C$9<>\"\",$C$9,\"\")","v":""},null,null,{"$f":"IF($C$9<>\"\",$C$9,\"\")","v":""},null,null,{"$f":"IF($C$9<>\"\",$C$9,\"\")","v":""},null,null,{"$f":"IF($C$9<>\"\",$C$9,\"\")","v":""},null,null,{"$f":"IF($C$9<>\"\",$C$9,\"\")","v":""},null,null,{"$f":"IF($C$9<>\"\",$C$9,\"\")","v":""},null,null,{"$f":"IF($C$9<>\"\",$C$9,\"\")","v":""},null,null,{"$f":"IF($C$9<>\"\",$C$9,\"\")","v":""},null,null,{"$f":"IF($C$9<>\"\",$C$9,\"\")","v":""},null,null,{"$f":"IF($C$9<>\"\",$C$9,\"\")","v":""}]
["Week 3",null,null,{"$f":"IF($C$10<>\"\",$C$10,\"\")","v":""},null,null,{"$f":"IF($C$10<>\"\",$C$10,\"\")","v":""},null,null,{"$f":"IF($C$10<>\"\",$C$10,\"\")","v":""},null,null,{"$f":"IF($C$10<>\"\",$C$10,\"\")","v":""},null,null,{"$f":"IF($C$10<>\"\",$C$10,\"\")","v":""},null,null,{"$f":"IF($C$10<>\"\",$C$10,\"\")","v":""},null,null,{"$f":"IF($C$10<>\"\",$C$10,\"\")","v":""},null,null,{"$f":"IF($C$10<>\"\",$C$10,\"\")","v":""},null,null,{"$f":"IF($C$10<>\"\",$C$10,\"\")","v":""},null,null,{"$f":"IF($C$10<>\"\",$C$10,\"\")","v":""},null,null,{"$f":"IF($C$10<>\"\",$C$10,\"\")","v":""},null,null,{"$f":"IF($C$10<>\"\",$C$10,\"\")","v":""},null,null,{"$f":"IF($C$10<>\"\",$C$10,\"\")","v":""},null,null,{"$f":"IF($C$10<>\"\",$C$10,\"\")","v":""},null,null,{"$f":"IF($C$10<>\"\",$C$10,\"\")","v":""},null,null,{"$f":"IF($C$10<>\"\",$C$10,\"\")","v":""},null,null,{"$f":"IF($C$10<>\"\",$C$10,\"\")","v":""},null,null,{"$f":"IF($C$10<>\"\",$C$10,\"\")","v":""},null,null,{"$f":"IF($C$10<>\"\",$C$10,\"\")","v":""},null,null,{"$f":"IF($C$10<>\"\",$C$10,\"\")","v":""},null,null,{"$f":"IF($C$10<>\"\",$C$10,\"\")","v":""},null,null,{"$f":"IF($C$10<>\"\",$C$10,\"\")","v":""},null,null,{"$f":"IF($C$10<>\"\",$C$10,\"\")","v":""},null,null,{"$f":"IF($C$10<>\"\",$C$10,\"\")","v":""},null,null,{"$f":"IF($C$10<>\"\",$C$10,\"\")","v":""},null,null,{"$f":"IF($C$10<>\"\",$C$10,\"\")","v":""},null,null,{"$f":"IF($C$10<>\"\",$C$10,\"\")","v":""},null,null,{"$f":"IF($C$10<>\"\",$C$10,\"\")","v":""},null,null,{"$f":"IF($C$10<>\"\",$C$10,\"\")","v":""},null,null,{"$f":"IF($C$10<>\"\",$C$10,\"\")","v":""}]
["Week 4",null,null,{"$f":"IF($C$11<>\"\",$C$11,\"\")","v":""},null,null,{"$f":"IF($C$11<>\"\",$C$11,\"\")","v":""},null,null,{"$f":"IF($C$11<>\"\",$C$11,\"\")","v":""},null,null,{"$f":"IF($C$11<>\"\",$C$11,\"\")","v":""},null,null,{"$f":"IF($C$11<>\"\",$C$11,\"\")","v":""},null,null,{"$f":"IF($C$11<>\"\",$C$11,\"\")","v":""},null,null,{"$f":"IF($C$11<>\"\",$C$11,\"\")","v":""},null,null,{"$f":"IF($C$11<>\"\",$C$11,\"\")","v":""},null,null,{"$f":"IF($C$11<>\"\",$C$11,\"\")","v":""},null,null,{"$f":"IF($C$11<>\"\",$C$11,\"\")","v":""},null,null,{"$f":"IF($C$11<>\"\",$C$11,\"\")","v":""},null,null,{"$f":"IF($C$11<>\"\",$C$11,\"\")","v":""},null,null,{"$f":"IF($C$11<>\"\",$C$11,\"\")","v":""},null,null,{"$f":"IF($C$11<>\"\",$C$11,\"\")","v":""},null,null,{"$f":"IF($C$11<>\"\",$C$11,\"\")","v":""},null,null,{"$f":"IF($C$11<>\"\",$C$11,\"\")","v":""},null,null,{"$f":"IF($C$11<>\"\",$C$11,\"\")","v":""},null,null,{"$f":"IF($C$11<>\"\",$C$11,\"\")","v":""},null,null,{"$f":"IF($C$11<>\"\",$C$11,\"\")","v":""},null,null,{"$f":"IF($C$11<>\"\",$C$11,\"\")","v":""},null,null,{"$f":"IF($C$11<>\"\",$C$11,\"\")","v":""},null,null,{"$f":"IF($C$11<>\"\",$C$11,\"\")","v":""},null,null,{"$f":"IF($C$11<>\"\",$C$11,\"\")","v":""},null,null,{"$f":"IF($C$11<>\"\",$C$11,\"\")","v":""},null,null,{"$f":"IF($C$11<>\"\",$C$11,\"\")","v":""},null,null,{"$f":"IF($C$11<>\"\",$C$11,\"\")","v":""},null,null,{"$f":"IF($C$11<>\"\",$C$11,\"\")","v":""},null,null,{"$f":"IF($C$11<>\"\",$C$11,\"\")","v":""},null,null,{"$f":"IF($C$11<>\"\",$C$11,\"\")","v":""},null,null,{"$f":"IF($C$11<>\"\",$C$11,\"\")","v":""}]
["Week 5",null,null,{"$f":"IF($C$12<>\"\",$C$12,\"\")","v":""},null,null,{"$f":"IF($C$12<>\"\",$C$12,\"\")","v":""},null,null,{"$f":"IF($C$12<>\"\",$C$12,\"\")","v":""},null,null,{"$f":"IF($C$12<>\"\",$C$12,\"\")","v":""},null,null,{"$f":"IF($C$12<>\"\",$C$12,\"\")","v":""},null,null,{"$f":"IF($C$12<>\"\",$C$12,\"\")","v":""},null,null,{"$f":"IF($C$12<>\"\",$C$12,\"\")","v":""},null,null,{"$f":"IF($C$12<>\"\",$C$12,\"\")","v":""},null,null,{"$f":"IF($C$12<>\"\",$C$12,\"\")","v":""},null,null,{"$f":"IF($C$12<>\"\",$C$12,\"\")","v":""},null,null,{"$f":"IF($C$12<>\"\",$C$12,\"\")","v":""},null,null,{"$f":"IF($C$12<>\"\",$C$12,\"\")","v":""},null,null,{"$f":"IF($C$12<>\"\",$C$12,\"\")","v":""},null,null,{"$f":"IF($C$12<>\"\",$C$12,\"\")","v":""},null,null,{"$f":"IF($C$12<>\"\",$C$12,\"\")","v":""},null,null,{"$f":"IF($C$12<>\"\",$C$12,\"\")","v":""},null,null,{"$f":"IF($C$12<>\"\",$C$12,\"\")","v":""},null,null,{"$f":"IF($C$12<>\"\",$C$12,\"\")","v":""},null,null,{"$f":"IF($C$12<>\"\",$C$12,\"\")","v":""},null,null,{"$f":"IF($C$12<>\"\",$C$12,\"\")","v":""},null,null,{"$f":"IF($C$12<>\"\",$C$12,\"\")","v":""},null,null,{"$f":"IF($C$12<>\"\",$C$12,\"\")","v":""},null,null,{"$f":"IF($C$12<>\"\",$C$12,\"\")","v":""},null,null,{"$f":"IF($C$12<>\"\",$C$12,\"\")","v":""},null,null,{"$f":"IF($C$12<>\"\",$C$12,\"\")","v":""},null,null,{"$f":"IF($C$12<>\"\",$C$12,\"\")","v":""},null,null,{"$f":"IF($C$12<>\"\",$C$12,\"\")","v":""},null,null,{"$f":"IF($C$12<>\"\",$C$12,\"\")","v":""},null,null,{"$f":"IF($C$12<>\"\",$C$12,\"\")","v":""},null,null,{"$f":"IF($C$12<>\"\",$C$12,\"\")","v":""}]
["Month 8"]
["Week 1",null,null,{"$f":"IF($C$14<>\"\",$C$14,\"\")","v":""},null,null,{"$f":"IF($C$14<>\"\",$C$14,\"\")","v":""},null,null,{"$f":"IF($C$14<>\"\",$C$14,\"\")","v":""},null,null,{"$f":"IF($C$14<>\"\",$C$14,\"\")","v":""},null,null,{"$f":"IF($C$14<>\"\",$C$14,\"\")","v":""},null,null,{"$f":"IF($C$14<>\"\",$C$14,\"\")","v":""},null,null,{"$f":"IF($C$14<>\"\",$C$14,\"\")","v":""},null,null,{"$f":"IF($C$14<>\"\",$C$14,\"\")","v":""},null,null,{"$f":"IF($C$14<>\"\",$C$14,\"\")","v":""},null,null,{"$f":"IF($C$14<>\"\",$C$14,\"\")","v":""},null,null,{"$f":"IF($C$14<>\"\",$C$14,\"\")","v":""},null,null,{"$f":"IF($C$14<>\"\",$C$14,\"\")","v":""},null,null,{"$f":"IF($C$14<>\"\",$C$14,\"\")","v":""},null,null,{"$f":"IF($C$14<>\"\",$C$14,\"\")","v":""},null,null,{"$f":"IF($C$14<>\"\",$C$14,\"\")","v":""},null,null,{"$f":"IF($C$14<>\"\",$C$14,\"\")","v":""},null,null,{"$f":"IF($C$14<>\"\",$C$14,\"\")","v":""},null,null,{"$f":"IF($C$14<>\"\",$C$14,\"\")","v":""},null,null,{"$f":"IF($C$14<>\"\",$C$14,\"\")","v":""},null,null,{"$f":"IF($C$14<>\"\",$C$14,\"\")","v":""},null,null,{"$f":"IF($C$14<>\"\",$C$14,\"\")","v":""},null,null,{"$f":"IF($C$14<>\"\",$C$14,\"\")","v":""},null,null,{"$f":"IF($C$14<>\"\",$C$14,\"\")","v":""},null,null,{"$f":"IF($C$14<>\"\",$C$14,\"\")","v":""},null,null,{"$f":"IF($C$14<>\"\",$C$14,\"\")","v":""},null,null,{"$f":"IF($C$14<>\"\",$C$14,\"\")","v":""},null,null,{"$f":"IF($C$14<>\"\",$C$14,\"\")","v":""},null,null,{"$f":"IF($C$14<>\"\",$C$14,\"\")","v":""},null,null,{"$f":"IF($C$14<>\"\",$C$14,\"\")","v":""},null,null,{"$f":"IF($C$14<>\"\",$C$14,\"\")","v":""}]
["Week 2",null,null,{"$f":"IF($C$15<>\"\",$C$15,\"\")","v":""},null,null,{"$f":"IF($C$15<>\"\",$C$15,\"\")","v":""},null,null,{"$f":"IF($C$15<>\"\",$C$15,\"\")","v":""},null,null,{"$f":"IF($C$15<>\"\",$C$15,\"\")","v":""},null,null,{"$f":"IF($C$15<>\"\",$C$15,\"\")","v":""},null,null,{"$f":"IF($C$15<>\"\",$C$15,\"\")","v":""},null,null,{"$f":"IF($C$15<>\"\",$C$15,\"\")","v":""},null,null,{"$f":"IF($C$15<>\"\",$C$15,\"\")","v":""},null,null,{"$f":"IF($C$15<>\"\",$C$15,\"\")","v":""},null,null,{"$f":"IF($C$15<>\"\",$C$15,\"\")","v":""},null,null,{"$f":"IF($C$15<>\"\",$C$15,\"\")","v":""},null,null,{"$f":"IF($C$15<>\"\",$C$15,\"\")","v":""},null,null,{"$f":"IF($C$15<>\"\",$C$15,\"\")","v":""},null,null,{"$f":"IF($C$15<>\"\",$C$15,\"\")","v":""},null,null,{"$f":"IF($C$15<>\"\",$C$15,\"\")","v":""},null,null,{"$f":"IF($C$15<>\"\",$C$15,\"\")","v":""},null,null,{"$f":"IF($C$15<>\"\",$C$15,\"\")","v":""},null,null,{"$f":"IF($C$15<>\"\",$C$15,\"\")","v":""},null,null,{"$f":"IF($C$15<>\"\",$C$15,\"\")","v":""},null,null,{"$f":"IF($C$15<>\"\",$C$15,\"\")","v":""},null,null,{"$f":"IF($C$15<>\"\",$C$15,\"\")","v":""},null,null,{"$f":"IF($C$15<>\"\",$C$15,\"\")","v":""},null,null,{"$f":"IF($C$15<>\"\",$C$15,\"\")","v":""},null,null,{"$f":"IF($C$15<>\"\",$C$15,\"\")","v":""},null,null,{"$f":"IF($C$15<>\"\",$C$15,\"\")","v":""},null,null,{"$f":"IF($C$15<>\"\",$C$15,\"\")","v":""},null,null,{"$f":"IF($C$15<>\"\",$C$15,\"\")","v":""},null,null,{"$f":"IF($C$15<>\"\",$C$15,\"\")","v":""},null,null,{"$f":"IF($C$15<>\"\",$C$15,\"\")","v":""},null,null,{"$f":"IF($C$15<>\"\",$C$15,\"\")","v":""}]
["Week 3",null,null,{"$f":"IF($C$16<>\"\",$C$16,\"\")","v":""},null,null,{"$f":"IF($C$16<>\"\",$C$16,\"\")","v":""},null,null,{"$f":"IF($C$16<>\"\",$C$16,\"\")","v":""},null,null,{"$f":"IF($C$16<>\"\",$C$16,\"\")","v":""},null,null,{"$f":"IF($C$16<>\"\",$C$16,\"\")","v":""},null,null,{"$f":"IF($C$16<>\"\",$C$16,\"\")","v":""},null,null,{"$f":"IF($C$16<>\"\",$C$16,\"\")","v":""},null,null,{"$f":"IF($C$16<>\"\",$C$16,\"\")","v":""},null,null,{"$f":"IF($C$16<>\"\",$C$16,\"\")","v":""},null,null,{"$f":"IF($C$16<>\"\",$C$16,\"\")","v":""},null,null,{"$f":"IF($C$16<>\"\",$C$16,\"\")","v":""},null,null,{"$f":"IF($C$16<>\"\",$C$16,\"\")","v":""},null,null,{"$f":"IF($C$16<>\"\",$C$16,\"\")","v":""},null,null,{"$f":"IF($C$16<>\"\",$C$16,\"\")","v":""},null,null,{"$f":"IF($C$16<>\"\",$C$16,\"\")","v":""},null,null,{"$f":"IF($C$16<>\"\",$C$16,\"\")","v":""},null,null,{"$f":"IF($C$16<>\"\",$C$16,\"\")","v":""},null,null,{"$f":"IF($C$16<>\"\",$C$16,\"\")","v":""},null,null,{"$f":"IF($C$16<>\"\",$C$16,\"\")","v":""},null,null,{"$f":"IF($C$16<>\"\",$C$16,\"\")","v":""},null,null,{"$f":"IF($C$16<>\"\",$C$16,\"\")","v":""},null,null,{"$f":"IF($C$16<>\"\",$C$16,\"\")","v":""},null,null,{"$f":"IF($C$16<>\"\",$C$16,\"\")","v":""},null,null,{"$f":"IF($C$16<>\"\",$C$16,\"\")","v":""},null,null,{"$f":"IF($C$16<>\"\",$C$16,\"\")","v":""},null,null,{"$f":"IF($C$16<>\"\",$C$16,\"\")","v":""},null,null,{"$f":"IF($C$16<>\"\",$C$16,\"\")","v":""},null,null,{"$f":"IF($C$16<>\"\",$C$16,\"\")","v":""},null,null,{"$f":"IF($C$16<>\"\",$C$16,\"\")","v":""},null,null,{"$f":"IF($C$16<>\"\",$C$16,\"\")","v":""}]
["Week 4",null,null,{"$f":"IF($C$17<>\"\",$C$17,\"\")","v":""},null,null,{"$f":"IF($C$17<>\"\",$C$17,\"\")","v":""},null,null,{"$f":"IF($C$17<>\"\",$C$17,\"\")","v":""},null,null,{"$f":"IF($C$17<>\"\",$C$17,\"\")","v":""},null,null,{"$f":"IF($C$17<>\"\",$C$17,\"\")","v":""},null,null,{"$f":"IF($C$17<>\"\",$C$17,\"\")","v":""},null,null,{"$f":"IF($C$17<>\"\",$C$17,\"\")","v":""},null,null,{"$f":"IF($C$17<>\"\",$C$17,\"\")","v":""},null,null,{"$f":"IF($C$17<>\"\",$C$17,\"\")","v":""},null,null,{"$f":"IF($C$17<>\"\",$C$17,\"\")","v":""},null,null,{"$f":"IF($C$17<>\"\",$C$17,\"\")","v":""},null,null,{"$f":"IF($C$17<>\"\",$C$17,\"\")","v":""},null,null,{"$f":"IF($C$17<>\"\",$C$17,\"\")","v":""},null,null,{"$f":"IF($C$17<>\"\",$C$17,\"\")","v":""},null,null,{"$f":"IF($C$17<>\"\",$C$17,\"\")","v":""},null,null,{"$f":"IF($C$17<>\"\",$C$17,\"\")","v":""},null,null,{"$f":"IF($C$17<>\"\",$C$17,\"\")","v":""},null,null,{"$f":"IF($C$17<>\"\",$C$17,\"\")","v":""},null,null,{"$f":"IF($C$17<>\"\",$C$17,\"\")","v":""},null,null,{"$f":"IF($C$17<>\"\",$C$17,\"\")","v":""},null,null,{"$f":"IF($C$17<>\"\",$C$17,\"\")","v":""},null,null,{"$f":"IF($C$17<>\"\",$C$17,\"\")","v":""},null,null,{"$f":"IF($C$17<>\"\",$C$17,\"\")","v":""},null,null,{"$f":"IF($C$17<>\"\",$C$17,\"\")","v":""},null,null,{"$f":"IF($C$17<>\"\",$C$17,\"\")","v":""},null,null,{"$f":"IF($C$17<>\"\",$C$17,\"\")","v":""},null,null,{"$f":"IF($C$17<>\"\",$C$17,\"\")","v":""},null,null,{"$f":"IF($C$17<>\"\",$C$17,\"\")","v":""},null,null,{"$f":"IF($C$17<>\"\",$C$17,\"\")","v":""},null,null,{"$f":"IF($C$17<>\"\",$C$17,\"\")","v":""}]
["Week 5",null,null,{"$f":"IF($C$18<>\"\",$C$18,\"\")","v":""},null,null,{"$f":"IF($C$18<>\"\",$C$18,\"\")","v":""},null,null,{"$f":"IF($C$18<>\"\",$C$18,\"\")","v":""},null,null,{"$f":"IF($C$18<>\"\",$C$18,\"\")","v":""},null,null,{"$f":"IF($C$18<>\"\",$C$18,\"\")","v":""},null,null,{"$f":"IF($C$18<>\"\",$C$18,\"\")","v":""},null,null,{"$f":"IF($C$18<>\"\",$C$18,\"\")","v":""},null,null,{"$f":"IF($C$18<>\"\",$C$18,\"\")","v":""},null,null,{"$f":"IF($C$18<>\"\",$C$18,\"\")","v":""},null,null,{"$f":"IF($C$18<>\"\",$C$18,\"\")","v":""},null,null,{"$f":"IF($C$18<>\"\",$C$18,\"\")","v":""},null,null,{"$f":"IF($C$18<>\"\",$C$18,\"\")","v":""},null,null,{"$f":"IF($C$18<>\"\",$C$18,\"\")","v":""},null,null,{"$f":"IF($C$18<>\"\",$C$18,\"\")","v":""},null,null,{"$f":"IF($C$18<>\"\",$C$18,\"\")","v":""},null,null,{"$f":"IF($C$18<>\"\",$C$18,\"\")","v":""},null,null,{"$f":"IF($C$18<>\"\",$C$18,\"\")","v":""},null,null,{"$f":"IF($C$18<>\"\",$C$18,\"\")","v":""},null,null,{"$f":"IF($C$18<>\"\",$C$18,\"\")","v":""},null,null,{"$f":"IF($C$18<>\"\",$C$18,\"\")","v":""},null,null,{"$f":"IF($C$18<>\"\",$C$18,\"\")","v":""},null,null,{"$f":"IF($C$18<>\"\",$C$18,\"\")","v":""},null,null,{"$f":"IF($C$18<>\"\",$C$18,\"\")","v":""},null,null,{"$f":"IF($C$18<>\"\",$C$18,\"\")","v":""},null,null,{"$f":"IF($C$18<>\"\",$C$18,\"\")","v":""},null,null,{"$f":"IF($C$18<>\"\",$C$18,\"\")","v":""},null,null,{"$f":"IF($C$18<>\"\",$C$18,\"\")","v":""},null,null,{"$f":"IF($C$18<>\"\",$C$18,\"\")","v":""},null,null,{"$f":"IF($C$18<>\"\",$C$18,\"\")","v":""},null,null,{"$f":"IF($C$18<>\"\",$C$18,\"\")","v":""}]
["Month 9"]
["Week 1",null,null,{"$f":"IF($C$20<>\"\",$C$20,\"\")","v":""},null,null,{"$f":"IF($C$20<>\"\",$C$20,\"\")","v":""},null,null,{"$f":"IF($C$20<>\"\",$C$20,\"\")","v":""},null,null,{"$f":"IF($C$20<>\"\",$C$20,\"\")","v":""},null,null,{"$f":"IF($C$20<>\"\",$C$20,\"\")","v":""},null,null,{"$f":"IF($C$20<>\"\",$C$20,\"\")","v":""},null,null,{"$f":"IF($C$20<>\"\",$C$20,\"\")","v":""},null,null,{"$f":"IF($C$20<>\"\",$C$20,\"\")","v":""},null,null,{"$f":"IF($C$20<>\"\",$C$20,\"\")","v":""},null,null,{"$f":"IF($C$20<>\"\",$C$20,\"\")","v":""},null,null,{"$f":"IF($C$20<>\"\",$C$20,\"\")","v":""},null,null,{"$f":"IF($C$20<>\"\",$C$20,\"\")","v":""},null,null,{"$f":"IF($C$20<>\"\",$C$20,\"\")","v":""},null,null,{"$f":"IF($C$20<>\"\",$C$20,\"\")","v":""},null,null,{"$f":"IF($C$20<>\"\",$C$20,\"\")","v":""},null,null,{"$f":"IF($C$20<>\"\",$C$20,\"\")","v":""},null,null,{"$f":"IF($C$20<>\"\",$C$20,\"\")","v":""},null,null,{"$f":"IF($C$20<>\"\",$C$20,\"\")","v":""},null,null,{"$f":"IF($C$20<>\"\",$C$20,\"\")","v":""},null,null,{"$f":"IF($C$20<>\"\",$C$20,\"\")","v":""},null,null,{"$f":"IF($C$20<>\"\",$C$20,\"\")","v":""},null,null,{"$f":"IF($C$20<>\"\",$C$20,\"\")","v":""},null,null,{"$f":"IF($C$20<>\"\",$C$20,\"\")","v":""},null,null,{"$f":"IF($C$20<>\"\",$C$20,\"\")","v":""},null,null,{"$f":"IF($C$20<>\"\",$C$20,\"\")","v":""},null,null,{"$f":"IF($C$20<>\"\",$C$20,\"\")","v":""},null,null,{"$f":"IF($C$20<>\"\",$C$20,\"\")","v":""},null,null,{"$f":"IF($C$20<>\"\",$C$20,\"\")","v":""},null,null,{"$f":"IF($C$20<>\"\",$C$20,\"\")","v":""},null,null,{"$f":"IF($C$20<>\"\",$C$20,\"\")","v":""}]
["Week 2",null,null,{"$f":"IF($C$21<>\"\",$C$21,\"\")","v":""},null,null,{"$f":"IF($C$21<>\"\",$C$21,\"\")","v":""},null,null,{"$f":"IF($C$21<>\"\",$C$21,\"\")","v":""},null,null,{"$f":"IF($C$21<>\"\",$C$21,\"\")","v":""},null,null,{"$f":"IF($C$21<>\"\",$C$21,\"\")","v":""},null,null,{"$f":"IF($C$21<>\"\",$C$21,\"\")","v":""},null,null,{"$f":"IF($C$21<>\"\",$C$21,\"\")","v":""},null,null,{"$f":"IF($C$21<>\"\",$C$21,\"\")","v":""},null,null,{"$f":"IF($C$21<>\"\",$C$21,\"\")","v":""},null,null,{"$f":"IF($C$21<>\"\",$C$21,\"\")","v":""},null,null,{"$f":"IF($C$21<>\"\",$C$21,\"\")","v":""},null,null,{"$f":"IF($C$21<>\"\",$C$21,\"\")","v":""},null,null,{"$f":"IF($C$21<>\"\",$C$21,\"\")","v":""},null,null,{"$f":"IF($C$21<>\"\",$C$21,\"\")","v":""},null,null,{"$f":"IF($C$21<>\"\",$C$21,\"\")","v":""},null,null,{"$f":"IF($C$21<>\"\",$C$21,\"\")","v":""},null,null,{"$f":"IF($C$21<>\"\",$C$21,\"\")","v":""},null,null,{"$f":"IF($C$21<>\"\",$C$21,\"\")","v":""},null,null,{"$f":"IF($C$21<>\"\",$C$21,\"\")","v":""},null,null,{"$f":"IF($C$21<>\"\",$C$21,\"\")","v":""},null,null,{"$f":"IF($C$21<>\"\",$C$21,\"\")","v":""},null,null,{"$f":"IF($C$21<>\"\",$C$21,\"\")","v":""},null,null,{"$f":"IF($C$21<>\"\",$C$21,\"\")","v":""},null,null,{"$f":"IF($C$21<>\"\",$C$21,\"\")","v":""},null,null,{"$f":"IF($C$21<>\"\",$C$21,\"\")","v":""},null,null,{"$f":"IF($C$21<>\"\",$C$21,\"\")","v":""},null,null,{"$f":"IF($C$21<>\"\",$C$21,\"\")","v":""},null,null,{"$f":"IF($C$21<>\"\",$C$21,\"\")","v":""},null,null,{"$f":"IF($C$21<>\"\",$C$21,\"\")","v":""},null,null,{"$f":"IF($C$21<>\"\",$C$21,\"\")","v":""}]
["Week 3",null,null,{"$f":"IF($C$22<>\"\",$C$22,\"\")","v":""},null,null,{"$f":"IF($C$22<>\"\",$C$22,\"\")","v":""},null,null,{"$f":"IF($C$22<>\"\",$C$22,\"\")","v":""},null,null,{"$f":"IF($C$22<>\"\",$C$22,\"\")","v":""},null,null,{"$f":"IF($C$22<>\"\",$C$22,\"\")","v":""},null,null,{"$f":"IF($C$22<>\"\",$C$22,\"\")","v":""},null,null,{"$f":"IF($C$22<>\"\",$C$22,\"\")","v":""},null,null,{"$f":"IF($C$22<>\"\",$C$22,\"\")","v":""},null,null,{"$f":"IF($C$22<>\"\",$C$22,\"\")","v":""},null,null,{"$f":"IF($C$22<>\"\",$C$22,\"\")","v":""},null,null,{"$f":"IF($C$22<>\"\",$C$22,\"\")","v":""},null,null,{"$f":"IF($C$22<>\"\",$C$22,\"\")","v":""},null,null,{"$f":"IF($C$22<>\"\",$C$22,\"\")","v":""},null,null,{"$f":"IF($C$22<>\"\",$C$22,\"\")","v":""},null,null,{"$f":"IF($C$22<>\"\",$C$22,\"\")","v":""},null,null,{"$f":"IF($C$22<>\"\",$C$22,\"\")","v":""},null,null,{"$f":"IF($C$22<>\"\",$C$22,\"\")","v":""},null,null,{"$f":"IF($C$22<>\"\",$C$22,\"\")","v":""},null,null,{"$f":"IF($C$22<>\"\",$C$22,\"\")","v":""},null,null,{"$f":"IF($C$22<>\"\",$C$22,\"\")","v":""},null,null,{"$f":"IF($C$22<>\"\",$C$22,\"\")","v":""},null,null,{"$f":"IF($C$22<>\"\",$C$22,\"\")","v":""},null,null,{"$f":"IF($C$22<>\"\",$C$22,\"\")","v":""},null,null,{"$f":"IF($C$22<>\"\",$C$22,\"\")","v":""},null,null,{"$f":"IF($C$22<>\"\",$C$22,\"\")","v":""},null,null,{"$f":"IF($C$22<>\"\",$C$22,\"\")","v":""},null,null,{"$f":"IF($C$22<>\"\",$C$22,\"\")","v":""},null,null,{"$f":"IF($C$22<>\"\",$C$22,\"\")","v":""},null,null,{"$f":"IF($C$22<>\"\",$C$22,\"\")","v":""},null,null,{"$f":"IF($C$22<>\"\",$C$22,\"\")","v":""}]
["Week 4",null,null,{"$f":"IF($C$23<>\"\",$C$23,\"\")","v":""},null,null,{"$f":"IF($C$23<>\"\",$C$23,\"\")","v":""},null,null,{"$f":"IF($C$23<>\"\",$C$23,\"\")","v":""},null,null,{"$f":"IF($C$23<>\"\",$C$23,\"\")","v":""},null,null,{"$f":"IF($C$23<>\"\",$C$23,\"\")","v":""},null,null,{"$f":"IF($C$23<>\"\",$C$23,\"\")","v":""},null,null,{"$f":"IF($C$23<>\"\",$C$23,\"\")","v":""},null,null,{"$f":"IF($C$23<>\"\",$C$23,\"\")","v":""},null,null,{"$f":"IF($C$23<>\"\",$C$23,\"\")","v":""},null,null,{"$f":"IF($C$23<>\"\",$C$23,\"\")","v":""},null,null,{"$f":"IF($C$23<>\"\",$C$23,\"\")","v":""},null,null,{"$f":"IF($C$23<>\"\",$C$23,\"\")","v":""},null,null,{"$f":"IF($C$23<>\"\",$C$23,\"\")","v":""},null,null,{"$f":"IF($C$23<>\"\",$C$23,\"\")","v":""},null,null,{"$f":"IF($C$23<>\"\",$C$23,\"\")","v":""},null,null,{"$f":"IF($C$23<>\"\",$C$23,\"\")","v":""},null,null,{"$f":"IF($C$23<>\"\",$C$23,\"\")","v":""},null,null,{"$f":"IF($C$23<>\"\",$C$23,\"\")","v":""},null,null,{"$f":"IF($C$23<>\"\",$C$23,\"\")","v":""},null,null,{"$f":"IF($C$23<>\"\",$C$23,\"\")","v":""},null,null,{"$f":"IF($C$23<>\"\",$C$23,\"\")","v":""},null,null,{"$f":"IF($C$23<>\"\",$C$23,\"\")","v":""},null,null,{"$f":"IF($C$23<>\"\",$C$23,\"\")","v":""},null,null,{"$f":"IF($C$23<>\"\",$C$23,\"\")","v":""},null,null,{"$f":"IF($C$23<>\"\",$C$23,\"\")","v":""},null,null,{"$f":"IF($C$23<>\"\",$C$23,\"\")","v":""},null,null,{"$f":"IF($C$23<>\"\",$C$23,\"\")","v":""},null,null,{"$f":"IF($C$23<>\"\",$C$23,\"\")","v":""},null,null,{"$f":"IF($C$23<>\"\",$C$23,\"\")","v":""},null,null,{"$f":"IF($C$23<>\"\",$C$23,\"\")","v":""}]
["Week 5",null,null,{"$f":"IF($C$24<>\"\",$C$24,\"\")","v":""},null,null,{"$f":"IF($C$24<>\"\",$C$24,\"\")","v":""},null,null,{"$f":"IF($C$24<>\"\",$C$24,\"\")","v":""},null,null,{"$f":"IF($C$24<>\"\",$C$24,\"\")","v":""},null,null,{"$f":"IF($C$24<>\"\",$C$24,\"\")","v":""},null,null,{"$f":"IF($C$24<>\"\",$C$24,\"\")","v":""},null,null,{"$f":"IF($C$24<>\"\",$C$24,\"\")","v":""},null,null,{"$f":"IF($C$24<>\"\",$C$24,\"\")","v":""},null,null,{"$f":"IF($C$24<>\"\",$C$24,\"\")","v":""},null,null,{"$f":"IF($C$24<>\"\",$C$24,\"\")","v":""},null,null,{"$f":"IF($C$24<>\"\",$C$24,\"\")","v":""},null,null,{"$f":"IF($C$24<>\"\",$C$24,\"\")","v":""},null,null,{"$f":"IF($C$24<>\"\",$C$24,\"\")","v":""},null,null,{"$f":"IF($C$24<>\"\",$C$24,\"\")","v":""},null,null,{"$f":"IF($C$24<>\"\",$C$24,\"\")","v":""},null,null,{"$f":"IF($C$24<>\"\",$C$24,\"\")","v":""},null,null,{"$f":"IF($C$24<>\"\",$C$24,\"\")","v":""},null,null,{"$f":"IF($C$24<>\"\",$C$24,\"\")","v":""},null,null,{"$f":"IF($C$24<>\"\",$C$24,\"\")","v":""},null,null,{"$f":"IF($C$24<>\"\",$C$24,\"\")","v":""},null,null,{"$f":"IF($C$24<>\"\",$C$24,\"\")","v":""},null,null,{"$f":"IF($C$24<>\"\",$C$24,\"\")","v":""},null,null,{"$f":"IF($C$24<>\"\",$C$24,\"\")","v":""},null,null,{"$f":"IF($C$24<>\"\",$C$24,\"\")","v":""},null,null,{"$f":"IF($C$24<>\"\",$C$24,\"\")","v":""},null,null,{"$f":"IF($C$24<>\"\",$C$24,\"\")","v":""},null,null,{"$f":"IF($C$24<>\"\",$C$24,\"\")","v":""},null,null,{"$f":"IF($C$24<>\"\",$C$24,\"\")","v":""},null,null,{"$f":"IF($C$24<>\"\",$C$24,\"\")","v":""},null,null,{"$f":"IF($C$24<>\"\",$C$24,\"\")","v":""}]
["Month 10"]
["Week 1",null,null,{"$f":"IF($C$26<>\"\",$C$26,\"\")","v":""},null,null,{"$f":"IF($C$26<>\"\",$C$26,\"\")","v":""},null,null,{"$f":"IF($C$26<>\"\",$C$26,\"\")","v":""},null,null,{"$f":"IF($C$26<>\"\",$C$26,\"\")","v":""},null,null,{"$f":"IF($C$26<>\"\",$C$26,\"\")","v":""},null,null,{"$f":"IF($C$26<>\"\",$C$26,\"\")","v":""},null,null,{"$f":"IF($C$26<>\"\",$C$26,\"\")","v":""},null,null,{"$f":"IF($C$26<>\"\",$C$26,\"\")","v":""},null,null,{"$f":"IF($C$26<>\"\",$C$26,\"\")","v":""},null,null,{"$f":"IF($C$26<>\"\",$C$26,\"\")","v":""},null,null,{"$f":"IF($C$26<>\"\",$C$26,\"\")","v":""},null,null,{"$f":"IF($C$26<>\"\",$C$26,\"\")","v":""},null,null,{"$f":"IF($C$26<>\"\",$C$26,\"\")","v":""},null,null,{"$f":"IF($C$26<>\"\",$C$26,\"\")","v":""},null,null,{"$f":"IF($C$26<>\"\",$C$26,\"\")","v":""},null,null,{"$f":"IF($C$26<>\"\",$C$26,\"\")","v":""},null,null,{"$f":"IF($C$26<>\"\",$C$26,\"\")","v":""},null,null,{"$f":"IF($C$26<>\"\",$C$26,\"\")","v":""},null,null,{"$f":"IF($C$26<>\"\",$C$26,\"\")","v":""},null,null,{"$f":"IF($C$26<>\"\",$C$26,\"\")","v":""},null,null,{"$f":"IF($C$26<>\"\",$C$26,\"\")","v":""},null,null,{"$f":"IF($C$26<>\"\",$C$26,\"\")","v":""},null,null,{"$f":"IF($C$26<>\"\",$C$26,\"\")","v":""},null,null,{"$f":"IF($C$26<>\"\",$C$26,\"\")","v":""},null,null,{"$f":"IF($C$26<>\"\",$C$26,\"\")","v":""},null,null,{"$f":"IF($C$26<>\"\",$C$26,\"\")","v":""},null,null,{"$f":"IF($C$26<>\"\",$C$26,\"\")","v":""},null,null,{"$f":"IF($C$26<>\"\",$C$26,\"\")","v":""},null,null,{"$f":"IF($C$26<>\"\",$C$26,\"\")","v":""},null,null,{"$f":"IF($C$26<>\"\",$C$26,\"\")","v":""}]
["Week 2",null,null,{"$f":"IF($C$27<>\"\",$C$27,\"\")","v":""},null,null,{"$f":"IF($C$27<>\"\",$C$27,\"\")","v":""},null,null,{"$f":"IF($C$27<>\"\",$C$27,\"\")","v":""},null,null,{"$f":"IF($C$27<>\"\",$C$27,\"\")","v":""},null,null,{"$f":"IF($C$27<>\"\",$C$27,\"\")","v":""},null,null,{"$f":"IF($C$27<>\"\",$C$27,\"\")","v":""},null,null,{"$f":"IF($C$27<>\"\",$C$27,\"\")","v":""},null,null,{"$f":"IF($C$27<>\"\",$C$27,\"\")","v":""},null,null,{"$f":"IF($C$27<>\"\",$C$27,\"\")","v":""},null,null,{"$f":"IF($C$27<>\"\",$C$27,\"\")","v":""},null,null,{"$f":"IF($C$27<>\"\",$C$27,\"\")","v":""},null,null,{"$f":"IF($C$27<>\"\",$C$27,\"\")","v":""},null,null,{"$f":"IF($C$27<>\"\",$C$27,\"\")","v":""},null,null,{"$f":"IF($C$27<>\"\",$C$27,\"\")","v":""},null,null,{"$f":"IF($C$27<>\"\",$C$27,\"\")","v":""},null,null,{"$f":"IF($C$27<>\"\",$C$27,\"\")","v":""},null,null,{"$f":"IF($C$27<>\"\",$C$27,\"\")","v":""},null,null,{"$f":"IF($C$27<>\"\",$C$27,\"\")","v":""},null,null,{"$f":"IF($C$27<>\"\",$C$27,\"\")","v":""},null,null,{"$f":"IF($C$27<>\"\",$C$27,\"\")","v":""},null,null,{"$f":"IF($C$27<>\"\",$C$27,\"\")","v":""},null,null,{"$f":"IF($C$27<>\"\",$C$27,\"\")","v":""},null,null,{"$f":"IF($C$27<>\"\",$C$27,\"\")","v":""},null,null,{"$f":"IF($C$27<>\"\",$C$27,\"\")","v":""},null,null,{"$f":"IF($C$27<>\"\",$C$27,\"\")","v":""},null,null,{"$f":"IF($C$27<>\"\",$C$27,\"\")","v":""},null,null,{"$f":"IF($C$27<>\"\",$C$27,\"\")","v":""},null,null,{"$f":"IF($C$27<>\"\",$C$27,\"\")","v":""},null,null,{"$f":"IF($C$27<>\"\",$C$27,\"\")","v":""},null,null,{"$f":"IF($C$27<>\"\",$C$27,\"\")","v":""}]
["Week 3",null,null,{"$f":"IF($C$28<>\"\",$C$28,\"\")","v":""},null,null,{"$f":"IF($C$28<>\"\",$C$28,\"\")","v":""},null,null,{"$f":"IF($C$28<>\"\",$C$28,\"\")","v":""},null,null,{"$f":"IF($C$28<>\"\",$C$28,\"\")","v":""},null,null,{"$f":"IF($C$28<>\"\",$C$28,\"\")","v":""},null,null,{"$f":"IF($C$28<>\"\",$C$28,\"\")","v":""},null,null,{"$f":"IF($C$28<>\"\",$C$28,\"\")","v":""},null,null,{"$f":"IF($C$28<>\"\",$C$28,\"\")","v":""},null,null,{"$f":"IF($C$28<>\"\",$C$28,\"\")","v":""},null,null,{"$f":"IF($C$28<>\"\",$C$28,\"\")","v":""},null,null,{"$f":"IF($C$28<>\"\",$C$28,\"\")","v":""},null,null,{"$f":"IF($C$28<>\"\",$C$28,\"\")","v":""},null,null,{"$f":"IF($C$28<>\"\",$C$28,\"\")","v":""},null,null,{"$f":"IF($C$28<>\"\",$C$28,\"\")","v":""},null,null,{"$f":"IF($C$28<>\"\",$C$28,\"\")","v":""},null,null,{"$f":"IF($C$28<>\"\",$C$28,\"\")","v":""},null,null,{"$f":"IF($C$28<>\"\",$C$28,\"\")","v":""},null,null,{"$f":"IF($C$28<>\"\",$C$28,\"\")","v":""},null,null,{"$f":"IF($C$28<>\"\",$C$28,\"\")","v":""},null,null,{"$f":"IF($C$28<>\"\",$C$28,\"\")","v":""},null,null,{"$f":"IF($C$28<>\"\",$C$28,\"\")","v":""},null,null,{"$f":"IF($C$28<>\"\",$C$28,\"\")","v":""},null,null,{"$f":"IF($C$28<>\"\",$C$28,\"\")","v":""},null,null,{"$f":"IF($C$28<>\"\",$C$28,\"\")","v":""},null,null,{"$f":"IF($C$28<>\"\",$C$28,\"\")","v":""},null,null,{"$f":"IF($C$28<>\"\",$C$28,\"\")","v":""},null,null,{"$f":"IF($C$28<>\"\",$C$28,\"\")","v":""},null,null,{"$f":"IF($C$28<>\"\",$C$28,\"\")","v":""},null,null,{"$f":"IF($C$28<>\"\",$C$28,\"\")","v":""},null,null,{"$f":"IF($C$28<>\"\",$C$28,\"\")","v":""}]
["Week 4",null,null,{"$f":"IF($C$29<>\"\",$C$29,\"\")","v":""},null,null,{"$f":"IF($C$29<>\"\",$C$29,\"\")","v":""},null,null,{"$f":"IF($C$29<>\"\",$C$29,\"\")","v":""},null,null,{"$f":"IF($C$29<>\"\",$C$29,\"\")","v":""},null,null,{"$f":"IF($C$29<>\"\",$C$29,\"\")","v":""},null,null,{"$f":"IF($C$29<>\"\",$C$29,\"\")","v":""},null,null,{"$f":"IF($C$29<>\"\",$C$29,\"\")","v":""},null,null,{"$f":"IF($C$29<>\"\",$C$29,\"\")","v":""},null,null,{"$f":"IF($C$29<>\"\",$C$29,\"\")","v":""},null,null,{"$f":"IF($C$29<>\"\",$C$29,\"\")","v":""},null,null,{"$f":"IF($C$29<>\"\",$C$29,\"\")","v":""},null,null,{"$f":"IF($C$29<>\"\",$C$29,\"\")","v":""},null,null,{"$f":"IF($C$29<>\"\",$C$29,\"\")","v":""},null,null,{"$f":"IF($C$29<>\"\",$C$29,\"\")","v":""},null,null,{"$f":"IF($C$29<>\"\",$C$29,\"\")","v":""},null,null,{"$f":"IF($C$29<>\"\",$C$29,\"\")","v":""},null,null,{"$f":"IF($C$29<>\"\",$C$29,\"\")","v":""},null,null,{"$f":"IF($C$29<>\"\",$C$29,\"\")","v":""},null,null,{"$f":"IF($C$29<>\"\",$C$29,\"\")","v":""},null,null,{"$f":"IF($C$29<>\"\",$C$29,\"\")","v":""},null,null,{"$f":"IF($C$29<>\"\",$C$29,\"\")","v":""},null,null,{"$f":"IF($C$29<>\"\",$C$29,\"\")","v":""},null,null,{"$f":"IF($C$29<>\"\",$C$29,\"\")","v":""},null,null,{"$f":"IF($C$29<>\"\",$C$29,\"\")","v":""},null,null,{"$f":"IF($C$29<>\"\",$C$29,\"\")","v":""},null,null,{"$f":"IF($C$29<>\"\",$C$29,\"\")","v":""},null,null,{"$f":"IF($C$29<>\"\",$C$29,\"\")","v":""},null,null,{"$f":"IF($C$29<>\"\",$C$29,\"\")","v":""},null,null,{"$f":"IF($C$29<>\"\",$C$29,\"\")","v":""},null,null,{"$f":"IF($C$29<>\"\",$C$29,\"\")","v":""}]
["Week 5",null,null,{"$f":"IF($C$30<>\"\",$C$30,\"\")","v":""},null,null,{"$f":"IF($C$30<>\"\",$C$30,\"\")","v":""},null,null,{"$f":"IF($C$30<>\"\",$C$30,\"\")","v":""},null,null,{"$f":"IF($C$30<>\"\",$C$30,\"\")","v":""},null,null,{"$f":"IF($C$30<>\"\",$C$30,\"\")","v":""},null,null,{"$f":"IF($C$30<>\"\",$C$30,\"\")","v":""},null,null,{"$f":"IF($C$30<>\"\",$C$30,\"\")","v":""},null,null,{"$f":"IF($C$30<>\"\",$C$30,\"\")","v":""},null,null,{"$f":"IF($C$30<>\"\",$C$30,\"\")","v":""},null,null,{"$f":"IF($C$30<>\"\",$C$30,\"\")","v":""},null,null,{"$f":"IF($C$30<>\"\",$C$30,\"\")","v":""},null,null,{"$f":"IF($C$30<>\"\",$C$30,\"\")","v":""},null,null,{"$f":"IF($C$30<>\"\",$C$30,\"\")","v":""},null,null,{"$f":"IF($C$30<>\"\",$C$30,\"\")","v":""},null,null,{"$f":"IF($C$30<>\"\",$C$30,\"\")","v":""},null,null,{"$f":"IF($C$30<>\"\",$C$30,\"\")","v":""},null,null,{"$f":"IF($C$30<>\"\",$C$30,\"\")","v":""},null,null,{"$f":"IF($C$30<>\"\",$C$30,\"\")","v":""},null,null,{"$f":"IF($C$30<>\"\",$C$30,\"\")","v":""},null,null,{"$f":"IF($C$30<>\"\",$C$30,\"\")","v":""},null,null,{"$f":"IF($C$30<>\"\",$C$30,\"\")","v":""},null,null,{"$f":"IF($C$30<>\"\",$C$30,\"\")","v":""},null,null,{"$f":"IF($C$30<>\"\",$C$30,\"\")","v":""},null,null,{"$f":"IF($C$30<>\"\",$C$30,\"\")","v":""},null,null,{"$f":"IF($C$30<>\"\",$C$30,\"\")","v":""},null,null,{"$f":"IF($C$30<>\"\",$C$30,\"\")","v":""},null,null,{"$f":"IF($C$30<>\"\",$C$30,\"\")","v":""},null,null,{"$f":"IF($C$30<>\"\",$C$30,\"\")","v":""},null,null,{"$f":"IF($C$30<>\"\",$C$30,\"\")","v":""},null,null,{"$f":"IF($C$30<>\"\",$C$30,\"\")","v":""}]
["Month 11"]
["Week 1",null,null,{"$f":"IF($C$32<>\"\",$C$32,\"\")","v":""},null,null,{"$f":"IF($C$32<>\"\",$C$32,\"\")","v":""},null,null,{"$f":"IF($C$32<>\"\",$C$32,\"\")","v":""},null,null,{"$f":"IF($C$32<>\"\",$C$32,\"\")","v":""},null,null,{"$f":"IF($C$32<>\"\",$C$32,\"\")","v":""},null,null,{"$f":"IF($C$32<>\"\",$C$32,\"\")","v":""},null,null,{"$f":"IF($C$32<>\"\",$C$32,\"\")","v":""},null,null,{"$f":"IF($C$32<>\"\",$C$32,\"\")","v":""},null,null,{"$f":"IF($C$32<>\"\",$C$32,\"\")","v":""},null,null,{"$f":"IF($C$32<>\"\",$C$32,\"\")","v":""},null,null,{"$f":"IF($C$32<>\"\",$C$32,\"\")","v":""},null,null,{"$f":"IF($C$32<>\"\",$C$32,\"\")","v":""},null,null,{"$f":"IF($C$32<>\"\",$C$32,\"\")","v":""},null,null,{"$f":"IF($C$32<>\"\",$C$32,\"\")","v":""},null,null,{"$f":"IF($C$32<>\"\",$C$32,\"\")","v":""},null,null,{"$f":"IF($C$32<>\"\",$C$32,\"\")","v":""},null,null,{"$f":"IF($C$32<>\"\",$C$32,\"\")","v":""},null,null,{"$f":"IF($C$32<>\"\",$C$32,\"\")","v":""},null,null,{"$f":"IF($C$32<>\"\",$C$32,\"\")","v":""},null,null,{"$f":"IF($C$32<>\"\",$C$32,\"\")","v":""},null,null,{"$f":"IF($C$32<>\"\",$C$32,\"\")","v":""},null,null,{"$f":"IF($C$32<>\"\",$C$32,\"\")","v":""},null,null,{"$f":"IF($C$32<>\"\",$C$32,\"\")","v":""},null,null,{"$f":"IF($C$32<>\"\",$C$32,\"\")","v":""},null,null,{"$f":"IF($C$32<>\"\",$C$32,\"\")","v":""},null,null,{"$f":"IF($C$32<>\"\",$C$32,\"\")","v":""},null,null,{"$f":"IF($C$32<>\"\",$C$32,\"\")","v":""},null,null,{"$f":"IF($C$32<>\"\",$C$32,\"\")","v":""},null,null,{"$f":"IF($C$32<>\"\",$C$32,\"\")","v":""},null,null,{"$f":"IF($C$32<>\"\",$C$32,\"\")","v":""}]
["Week 2",null,null,{"$f":"IF($C$33<>\"\",$C$33,\"\")","v":""},null,null,{"$f":"IF($C$33<>\"\",$C$33,\"\")","v":""},null,null,{"$f":"IF($C$33<>\"\",$C$33,\"\")","v":""},null,null,{"$f":"IF($C$33<>\"\",$C$33,\"\")","v":""},null,null,{"$f":"IF($C$33<>\"\",$C$33,\"\")","v":""},null,null,{"$f":"IF($C$33<>\"\",$C$33,\"\")","v":""},null,null,{"$f":"IF($C$33<>\"\",$C$33,\"\")","v":""},null,null,{"$f":"IF($C$33<>\"\",$C$33,\"\")","v":""},null,null,{"$f":"IF($C$33<>\"\",$C$33,\"\")","v":""},null,null,{"$f":"IF($C$33<>\"\",$C$33,\"\")","v":""},null,null,{"$f":"IF($C$33<>\"\",$C$33,\"\")","v":""},null,null,{"$f":"IF($C$33<>\"\",$C$33,\"\")","v":""},null,null,{"$f":"IF($C$33<>\"\",$C$33,\"\")","v":""},null,null,{"$f":"IF($C$33<>\"\",$C$33,\"\")","v":""},null,null,{"$f":"IF($C$33<>\"\",$C$33,\"\")","v":""},null,null,{"$f":"IF($C$33<>\"\",$C$33,\"\")","v":""},null,null,{"$f":"IF($C$33<>\"\",$C$33,\"\")","v":""},null,null,{"$f":"IF($C$33<>\"\",$C$33,\"\")","v":""},null,null,{"$f":"IF($C$33<>\"\",$C$33,\"\")","v":""},null,null,{"$f":"IF($C$33<>\"\",$C$33,\"\")","v":""},null,null,{"$f":"IF($C$33<>\"\",$C$33,\"\")","v":""},null,null,{"$f":"IF($C$33<>\"\",$C$33,\"\")","v":""},null,null,{"$f":"IF($C$33<>\"\",$C$33,\"\")","v":""},null,null,{"$f":"IF($C$33<>\"\",$C$33,\"\")","v":""},null,null,{"$f":"IF($C$33<>\"\",$C$33,\"\")","v":""},null,null,{"$f":"IF($C$33<>\"\",$C$33,\"\")","v":""},null,null,{"$f":"IF($C$33<>\"\",$C$33,\"\")","v":""},null,null,{"$f":"IF($C$33<>\"\",$C$33,\"\")","v":""},null,null,{"$f":"IF($C$33<>\"\",$C$33,\"\")","v":""},null,null,{"$f":"IF($C$33<>\"\",$C$33,\"\")","v":""}]
["Week 3",null,null,{"$f":"IF($C$34<>\"\",$C$34,\"\")","v":""},null,null,{"$f":"IF($C$34<>\"\",$C$34,\"\")","v":""},null,null,{"$f":"IF($C$34<>\"\",$C$34,\"\")","v":""},null,null,{"$f":"IF($C$34<>\"\",$C$34,\"\")","v":""},null,null,{"$f":"IF($C$34<>\"\",$C$34,\"\")","v":""},null,null,{"$f":"IF($C$34<>\"\",$C$34,\"\")","v":""},null,null,{"$f":"IF($C$34<>\"\",$C$34,\"\")","v":""},null,null,{"$f":"IF($C$34<>\"\",$C$34,\"\")","v":""},null,null,{"$f":"IF($C$34<>\"\",$C$34,\"\")","v":""},null,null,{"$f":"IF($C$34<>\"\",$C$34,\"\")","v":""},null,null,{"$f":"IF($C$34<>\"\",$C$34,\"\")","v":""},null,null,{"$f":"IF($C$34<>\"\",$C$34,\"\")","v":""},null,null,{"$f":"IF($C$34<>\"\",$C$34,\"\")","v":""},null,null,{"$f":"IF($C$34<>\"\",$C$34,\"\")","v":""},null,null,{"$f":"IF($C$34<>\"\",$C$34,\"\")","v":""},null,null,{"$f":"IF($C$34<>\"\",$C$34,\"\")","v":""},null,null,{"$f":"IF($C$34<>\"\",$C$34,\"\")","v":""},null,null,{"$f":"IF($C$34<>\"\",$C$34,\"\")","v":""},null,null,{"$f":"IF($C$34<>\"\",$C$34,\"\")","v":""},null,null,{"$f":"IF($C$34<>\"\",$C$34,\"\")","v":""},null,null,{"$f":"IF($C$34<>\"\",$C$34,\"\")","v":""},null,null,{"$f":"IF($C$34<>\"\",$C$34,\"\")","v":""},null,null,{"$f":"IF($C$34<>\"\",$C$34,\"\")","v":""},null,null,{"$f":"IF($C$34<>\"\",$C$34,\"\")","v":""},null,null,{"$f":"IF($C$34<>\"\",$C$34,\"\")","v":""},null,null,{"$f":"IF($C$34<>\"\",$C$34,\"\")","v":""},null,null,{"$f":"IF($C$34<>\"\",$C$34,\"\")","v":""},null,null,{"$f":"IF($C$34<>\"\",$C$34,\"\")","v":""},null,null,{"$f":"IF($C$34<>\"\",$C$34,\"\")","v":""},null,null,{"$f":"IF($C$34<>\"\",$C$34,\"\")","v":""}]
["Week 4",null,null,{"$f":"IF($C$35<>\"\",$C$35,\"\")","v":""},null,null,{"$f":"IF($C$35<>\"\",$C$35,\"\")","v":""},null,null,{"$f":"IF($C$35<>\"\",$C$35,\"\")","v":""},null,null,{"$f":"IF($C$35<>\"\",$C$35,\"\")","v":""},null,null,{"$f":"IF($C$35<>\"\",$C$35,\"\")","v":""},null,null,{"$f":"IF($C$35<>\"\",$C$35,\"\")","v":""},null,null,{"$f":"IF($C$35<>\"\",$C$35,\"\")","v":""},null,null,{"$f":"IF($C$35<>\"\",$C$35,\"\")","v":""},null,null,{"$f":"IF($C$35<>\"\",$C$35,\"\")","v":""},null,null,{"$f":"IF($C$35<>\"\",$C$35,\"\")","v":""},null,null,{"$f":"IF($C$35<>\"\",$C$35,\"\")","v":""},null,null,{"$f":"IF($C$35<>\"\",$C$35,\"\")","v":""},null,null,{"$f":"IF($C$35<>\"\",$C$35,\"\")","v":""},null,null,{"$f":"IF($C$35<>\"\",$C$35,\"\")","v":""},null,null,{"$f":"IF($C$35<>\"\",$C$35,\"\")","v":""},null,null,{"$f":"IF($C$35<>\"\",$C$35,\"\")","v":""},null,null,{"$f":"IF($C$35<>\"\",$C$35,\"\")","v":""},null,null,{"$f":"IF($C$35<>\"\",$C$35,\"\")","v":""},null,null,{"$f":"IF($C$35<>\"\",$C$35,\"\")","v":""},null,null,{"$f":"IF($C$35<>\"\",$C$35,\"\")","v":""},null,null,{"$f":"IF($C$35<>\"\",$C$35,\"\")","v":""},null,null,{"$f":"IF($C$35<>\"\",$C$35,\"\")","v":""},null,null,{"$f":"IF($C$35<>\"\",$C$35,\"\")","v":""},null,null,{"$f":"IF($C$35<>\"\",$C$35,\"\")","v":""},null,null,{"$f":"IF($C$35<>\"\",$C$35,\"\")","v":""},null,null,{"$f":"IF($C$35<>\"\",$C$35,\"\")","v":""},null,null,{"$f":"IF($C$35<>\"\",$C$35,\"\")","v":""},null,null,{"$f":"IF($C$35<>\"\",$C$35,\"\")","v":""},null,null,{"$f":"IF($C$35<>\"\",$C$35,\"\")","v":""},null,null,{"$f":"IF($C$35<>\"\",$C$35,\"\")","v":""}]
["Week 5",null,null,{"$f":"IF($C$36<>\"\",$C$36,\"\")","v":""},null,null,{"$f":"IF($C$36<>\"\",$C$36,\"\")","v":""},null,null,{"$f":"IF($C$36<>\"\",$C$36,\"\")","v":""},null,null,{"$f":"IF($C$36<>\"\",$C$36,\"\")","v":""},null,null,{"$f":"IF($C$36<>\"\",$C$36,\"\")","v":""},null,null,{"$f":"IF($C$36<>\"\",$C$36,\"\")","v":""},null,null,{"$f":"IF($C$36<>\"\",$C$36,\"\")","v":""},null,null,{"$f":"IF($C$36<>\"\",$C$36,\"\")","v":""},null,null,{"$f":"IF($C$36<>\"\",$C$36,\"\")","v":""},null,null,{"$f":"IF($C$36<>\"\",$C$36,\"\")","v":""},null,null,{"$f":"IF($C$36<>\"\",$C$36,\"\")","v":""},null,null,{"$f":"IF($C$36<>\"\",$C$36,\"\")","v":""},null,null,{"$f":"IF($C$36<>\"\",$C$36,\"\")","v":""},null,null,{"$f":"IF($C$36<>\"\",$C$36,\"\")","v":""},null,null,{"$f":"IF($C$36<>\"\",$C$36,\"\")","v":""},null,null,{"$f":"IF($C$36<>\"\",$C$36,\"\")","v":""},null,null,{"$f":"IF($C$36<>\"\",$C$36,\"\")","v":""},null,null,{"$f":"IF($C$36<>\"\",$C$36,\"\")","v":""},null,null,{"$f":"IF($C$36<>\"\",$C$36,\"\")","v":""},null,null,{"$f":"IF($C$36<>\"\",$C$36,\"\")","v":""},null,null,{"$f":"IF($C$36<>\"\",$C$36,\"\")","v":""},null,null,{"$f":"IF($C$36<>\"\",$C$36,\"\")","v":""},null,null,{"$f":"IF($C$36<>\"\",$C$36,\"\")","v":""},null,null,{"$f":"IF($C$36<>\"\",$C$36,\"\")","v":""},null,null,{"$f":"IF($C$36<>\"\",$C$36,\"\")","v":""},null,null,{"$f":"IF($C$36<>\"\",$C$36,\"\")","v":""},null,null,{"$f":"IF($C$36<>\"\",$C$36,\"\")","v":""},null,null,{"$f":"IF($C$36<>\"\",$C$36,\"\")","v":""},null,null,{"$f":"IF($C$36<>\"\",$C$36,\"\")","v":""},null,null,{"$f":"IF($C$36<>\"\",$C$36,\"\")","v":""}]
["Month 12"]
["Week 1",null,null,{"$f":"IF($C$38<>\"\",$C$38,\"\")","v":""},null,null,{"$f":"IF($C$38<>\"\",$C$38,\"\")","v":""},null,null,{"$f":"IF($C$38<>\"\",$C$38,\"\")","v":""},null,null,{"$f":"IF($C$38<>\"\",$C$38,\"\")","v":""},null,null,{"$f":"IF($C$38<>\"\",$C$38,\"\")","v":""},null,null,{"$f":"IF($C$38<>\"\",$C$38,\"\")","v":""},null,null,{"$f":"IF($C$38<>\"\",$C$38,\"\")","v":""},null,null,{"$f":"IF($C$38<>\"\",$C$38,\"\")","v":""},null,null,{"$f":"IF($C$38<>\"\",$C$38,\"\")","v":""},null,null,{"$f":"IF($C$38<>\"\",$C$38,\"\")","v":""},null,null,{"$f":"IF($C$38<>\"\",$C$38,\"\")","v":""},null,null,{"$f":"IF($C$38<>\"\",$C$38,\"\")","v":""},null,null,{"$f":"IF($C$38<>\"\",$C$38,\"\")","v":""},null,null,{"$f":"IF($C$38<>\"\",$C$38,\"\")","v":""},null,null,{"$f":"IF($C$38<>\"\",$C$38,\"\")","v":""},null,null,{"$f":"IF($C$38<>\"\",$C$38,\"\")","v":""},null,null,{"$f":"IF($C$38<>\"\",$C$38,\"\")","v":""},null,null,{"$f":"IF($C$38<>\"\",$C$38,\"\")","v":""},null,null,{"$f":"IF($C$38<>\"\",$C$38,\"\")","v":""},null,null,{"$f":"IF($C$38<>\"\",$C$38,\"\")","v":""},null,null,{"$f":"IF($C$38<>\"\",$C$38,\"\")","v":""},null,null,{"$f":"IF($C$38<>\"\",$C$38,\"\")","v":""},null,null,{"$f":"IF($C$38<>\"\",$C$38,\"\")","v":""},null,null,{"$f":"IF($C$38<>\"\",$C$38,\"\")","v":""},null,null,{"$f":"IF($C$38<>\"\",$C$38,\"\")","v":""},null,null,{"$f":"IF($C$38<>\"\",$C$38,\"\")","v":""},null,null,{"$f":"IF($C$38<>\"\",$C$38,\"\")","v":""},null,null,{"$f":"IF($C$38<>\"\",$C$38,\"\")","v":""},null,null,{"$f":"IF($C$38<>\"\",$C$38,\"\")","v":""},null,null,{"$f":"IF($C$38<>\"\",$C$38,\"\")","v":""}]
["Week 2",null,null,{"$f":"IF($C$39<>\"\",$C$39,\"\")","v":""},null,null,{"$f":"IF($C$39<>\"\",$C$39,\"\")","v":""},null,null,{"$f":"IF($C$39<>\"\",$C$39,\"\")","v":""},null,null,{"$f":"IF($C$39<>\"\",$C$39,\"\")","v":""},null,null,{"$f":"IF($C$39<>\"\",$C$39,\"\")","v":""},null,null,{"$f":"IF($C$39<>\"\",$C$39,\"\")","v":""},null,null,{"$f":"IF($C$39<>\"\",$C$39,\"\")","v":""},null,null,{"$f":"IF($C$39<>\"\",$C$39,\"\")","v":""},null,null,{"$f":"IF($C$39<>\"\",$C$39,\"\")","v":""},null,null,{"$f":"IF($C$39<>\"\",$C$39,\"\")","v":""},null,null,{"$f":"IF($C$39<>\"\",$C$39,\"\")","v":""},null,null,{"$f":"IF($C$39<>\"\",$C$39,\"\")","v":""},null,null,{"$f":"IF($C$39<>\"\",$C$39,\"\")","v":""},null,null,{"$f":"IF($C$39<>\"\",$C$39,\"\")","v":""},null,null,{"$f":"IF($C$39<>\"\",$C$39,\"\")","v":""},null,null,{"$f":"IF($C$39<>\"\",$C$39,\"\")","v":""},null,null,{"$f":"IF($C$39<>\"\",$C$39,\"\")","v":""},null,null,{"$f":"IF($C$39<>\"\",$C$39,\"\")","v":""},null,null,{"$f":"IF($C$39<>\"\",$C$39,\"\")","v":""},null,null,{"$f":"IF($C$39<>\"\",$C$39,\"\")","v":""},null,null,{"$f":"IF($C$39<>\"\",$C$39,\"\")","v":""},null,null,{"$f":"IF($C$39<>\"\",$C$39,\"\")","v":""},null,null,{"$f":"IF($C$39<>\"\",$C$39,\"\")","v":""},null,null,{"$f":"IF($C$39<>\"\",$C$39,\"\")","v":""},null,null,{"$f":"IF($C$39<>\"\",$C$39,\"\")","v":""},null,null,{"$f":"IF($C$39<>\"\",$C$39,\"\")","v":""},null,null,{"$f":"IF($C$39<>\"\",$C$39,\"\")","v":""},null,null,{"$f":"IF($C$39<>\"\",$C$39,\"\")","v":""},null,null,{"$f":"IF($C$39<>\"\",$C$39,\"\")","v":""},null,null,{"$f":"IF($C$39<>\"\",$C$39,\"\")","v":""}]
["Week 3",null,null,{"$f":"IF($C$40<>\"\",$C$40,\"\")","v":""},null,null,{"$f":"IF($C$40<>\"\",$C$40,\"\")","v":""},null,null,{"$f":"IF($C$40<>\"\",$C$40,\"\")","v":""},null,null,{"$f":"IF($C$40<>\"\",$C$40,\"\")","v":""},null,null,{"$f":"IF($C$40<>\"\",$C$40,\"\")","v":""},null,null,{"$f":"IF($C$40<>\"\",$C$40,\"\")","v":""},null,null,{"$f":"IF($C$40<>\"\",$C$40,\"\")","v":""},null,null,{"$f":"IF($C$40<>\"\",$C$40,\"\")","v":""},null,null,{"$f":"IF($C$40<>\"\",$C$40,\"\")","v":""},null,null,{"$f":"IF($C$40<>\"\",$C$40,\"\")","v":""},null,null,{"$f":"IF($C$40<>\"\",$C$40,\"\")","v":""},null,null,{"$f":"IF($C$40<>\"\",$C$40,\"\")","v":""},null,null,{"$f":"IF($C$40<>\"\",$C$40,\"\")","v":""},null,null,{"$f":"IF($C$40<>\"\",$C$40,\"\")","v":""},null,null,{"$f":"IF($C$40<>\"\",$C$40,\"\")","v":""},null,null,{"$f":"IF($C$40<>\"\",$C$40,\"\")","v":""},null,null,{"$f":"IF($C$40<>\"\",$C$40,\"\")","v":""},null,null,{"$f":"IF($C$40<>\"\",$C$40,\"\")","v":""},null,null,{"$f":"IF($C$40<>\"\",$C$40,\"\")","v":""},null,null,{"$f":"IF($C$40<>\"\",$C$40,\"\")","v":""},null,null,{"$f":"IF($C$40<>\"\",$C$40,\"\")","v":""},null,null,{"$f":"IF($C$40<>\"\",$C$40,\"\")","v":""},null,null,{"$f":"IF($C$40<>\"\",$C$40,\"\")","v":""},null,null,{"$f":"IF($C$40<>\"\",$C$40,\"\")","v":""},null,null,{"$f":"IF($C$40<>\"\",$C$40,\"\")","v":""},null,null,{"$f":"IF($C$40<>\"\",$C$40,\"\")","v":""},null,null,{"$f":"IF($C$40<>\"\",$C$40,\"\")","v":""},null,null,{"$f":"IF($C$40<>\"\",$C$40,\"\")","v":""},null,null,{"$f":"IF($C$40<>\"\",$C$40,\"\")","v":""},null,null,{"$f":"IF($C$40<>\"\",$C$40,\"\")","v":""}]
["Week 4",null,null,{"$f":"IF($C$41<>\"\",$C$41,\"\")","v":""},null,null,{"$f":"IF($C$41<>\"\",$C$41,\"\")","v":""},null,null,{"$f":"IF($C$41<>\"\",$C$41,\"\")","v":""},null,null,{"$f":"IF($C$41<>\"\",$C$41,\"\")","v":""},null,null,{"$f":"IF($C$41<>\"\",$C$41,\"\")","v":""},null,null,{"$f":"IF($C$41<>\"\",$C$41,\"\")","v":""},null,null,{"$f":"IF($C$41<>\"\",$C$41,\"\")","v":""},null,null,{"$f":"IF($C$41<>\"\",$C$41,\"\")","v":""},null,null,{"$f":"IF($C$41<>\"\",$C$41,\"\")","v":""},null,null,{"$f":"IF($C$41<>\"\",$C$41,\"\")","v":""},null,null,{"$f":"IF($C$41<>\"\",$C$41,\"\")","v":""},null,null,{"$f":"IF($C$41<>\"\",$C$41,\"\")","v":""},null,null,{"$f":"IF($C$41<>\"\",$C$41,\"\")","v":""},null,null,{"$f":"IF($C$41<>\"\",$C$41,\"\")","v":""},null,null,{"$f":"IF($C$41<>\"\",$C$41,\"\")","v":""},null,null,{"$f":"IF($C$41<>\"\",$C$41,\"\")","v":""},null,null,{"$f":"IF($C$41<>\"\",$C$41,\"\")","v":""},null,null,{"$f":"IF($C$41<>\"\",$C$41,\"\")","v":""},null,null,{"$f":"IF($C$41<>\"\",$C$41,\"\")","v":""},null,null,{"$f":"IF($C$41<>\"\",$C$41,\"\")","v":""},null,null,{"$f":"IF($C$41<>\"\",$C$41,\"\")","v":""},null,null,{"$f":"IF($C$41<>\"\",$C$41,\"\")","v":""},null,null,{"$f":"IF($C$41<>\"\",$C$41,\"\")","v":""},null,null,{"$f":"IF($C$41<>\"\",$C$41,\"\")","v":""},null,null,{"$f":"IF($C$41<>\"\",$C$41,\"\")","v":""},null,null,{"$f":"IF($C$41<>\"\",$C$41,\"\")","v":""},null,null,{"$f":"IF($C$41<>\"\",$C$41,\"\")","v":""},null,null,{"$f":"IF($C$41<>\"\",$C$41,\"\")","v":""},null,null,{"$f":"IF($C$41<>\"\",$C$41,\"\")","v":""},null,null,{"$f":"IF($C$41<>\"\",$C$41,\"\")","v":""}]
["Week 5",null,null,{"$f":"IF($C$42<>\"\",$C$42,\"\")","v":""},null,null,{"$f":"IF($C$42<>\"\",$C$42,\"\")","v":""},null,null,{"$f":"IF($C$42<>\"\",$C$42,\"\")","v":""},null,null,{"$f":"IF($C$42<>\"\",$C$42,\"\")","v":""},null,null,{"$f":"IF($C$42<>\"\",$C$42,\"\")","v":""},null,null,{"$f":"IF($C$42<>\"\",$C$42,\"\")","v":""},null,null,{"$f":"IF($C$42<>\"\",$C$42,\"\")","v":""},null,null,{"$f":"IF($C$42<>\"\",$C$42,\"\")","v":""},null,null,{"$f":"IF($C$42<>\"\",$C$42,\"\")","v":""},null,null,{"$f":"IF($C$42<>\"\",$C$42,\"\")","v":""},null,null,{"$f":"IF($C$42<>\"\",$C$42,\"\")","v":""},null,null,{"$f":"IF($C$42<>\"\",$C$42,\"\")","v":""},null,null,{"$f":"IF($C$42<>\"\",$C$42,\"\")","v":""},null,null,{"$f":"IF($C$42<>\"\",$C$42,\"\")","v":""},null,null,{"$f":"IF($C$42<>\"\",$C$42,\"\")","v":""},null,null,{"$f":"IF($C$42<>\"\",$C$42,\"\")","v":""},null,null,{"$f":"IF($C$42<>\"\",$C$42,\"\")","v":""},null,null,{"$f":"IF($C$42<>\"\",$C$42,\"\")","v":""},null,null,{"$f":"IF($C$42<>\"\",$C$42,\"\")","v":""},null,null,{"$f":"IF($C$42<>\"\",$C$42,\"\")","v":""},null,null,{"$f":"IF($C$42<>\"\",$C$42,\"\")","v":""},null,null,{"$f":"IF($C$42<>\"\",$C$42,\"\")","v":""},null,null,{"$f":"IF($C$42<>\"\",$C$42,\"\")","v":""},null,null,{"$f":"IF($C$42<>\"\",$C$42,\"\")","v":""},null,null,{"$f":"IF($C$42<>\"\",$C$42,\"\")","v":""},null,null,{"$f":"IF($C$42<>\"\",$C$42,\"\")","v":""},null,null,{"$f":"IF($C$42<>\"\",$C$42,\"\")","v":""},null,null,{"$f":"IF($C$42<>\"\",$C$42,\"\")","v":""},null,null,{"$f":"IF($C$42<>\"\",$C$42,\"\")","v":""},null,null,{"$f":"IF($C$42<>\"\",$C$42,\"\")","v":""}]
["# of sessions attended",null,null,{"$f":"ROWS(D7:D42)-COUNTBLANK(D7:D42)","v":0},null,null,{"$f":"ROWS(G7:G42)-COUNTBLANK(G7:G42)","v":0},null,null,{"$f":"ROWS(J7:J42)-COUNTBLANK(J7:J42)","v":0},null,null,{"$f":"ROWS(M7:M42)-COUNTBLANK(M7:M42)","v":0},null,null,{"$f":"ROWS(P7:P42)-COUNTBLANK(P7:P42)","v":0},null,null,{"$f":"ROWS(S7:S42)-COUNTBLANK(S7:S42)","v":0},null,null,{"$f":"ROWS(V7:V42)-COUNTBLANK(V7:V42)","v":0},null,null,{"$f":"ROWS(Y7:Y42)-COUNTBLANK(Y7:Y42)","v":0},null,null,{"$f":"ROWS(AB7:AB42)-COUNTBLANK(AB7:AB42)","v":0},null,null,{"$f":"ROWS(AE7:AE42)-COUNTBLANK(AE7:AE42)","v":0},null,null,{"$f":"ROWS(AH7:AH42)-COUNTBLANK(AH7:AH42)","v":0},null,null,{"$f":"ROWS(AK7:AK42)-COUNTBLANK(AK7:AK42)","v":0},null,null,{"$f":"ROWS(AN7:AN42)-COUNTBLANK(AN7:AN42)","v":0},null,null,{"$f":"ROWS(AQ7:AQ42)-COUNTBLANK(AQ7:AQ42)","v":0},null,null,{"$f":"ROWS(AT7:AT42)-COUNTBLANK(AT7:AT42)","v":0},null,null,{"$f":"ROWS(AW7:AW42)-COUNTBLANK(AW7:AW42)","v":0},null,null,{"$f":"ROWS(AZ7:AZ42)-COUNTBLANK(AZ7:AZ42)","v":0},null,null,{"$f":"ROWS(BC7:BC42)-COUNTBLANK(BC7:BC42)","v":0},null,null,{"$f":"ROWS(BF7:BF42)-COUNTBLANK(BF7:BF42)","v":0},null,null,{"$f":"ROWS(BI7:BI42)-COUNTBLANK(BI7:BI42)","v":0},null,null,{"$f":"ROWS(BL7:BL42)-COUNTBLANK(BL7:BL42)","v":0},null,null,{"$f":"ROWS(BO7:BO42)-COUNTBLANK(BO7:BO42)","v":0},null,null,{"$f":"ROWS(BR7:BR42)-COUNTBLANK(BR7:BR42)","v":0},null,null,{"$f":"ROWS(BU7:BU42)-COUNTBLANK(BU7:BU42)","v":0},null,null,{"$f":"ROWS(BX7:BX42)-COUNTBLANK(BX7:BX42)","v":0},null,null,{"$f":"ROWS(CA7:CA42)-COUNTBLANK(CA7:CA42)","v":0},null,null,{"$f":"ROWS(CD7:CD42)-COUNTBLANK(CD7:CD42)","v":0},null,null,{"$f":"ROWS(CG7:CG42)-COUNTBLANK(CG7:CG42)","v":0},null,null,{"$f":"ROWS(CJ7:CJ42)-COUNTBLANK(CJ7:CJ42)","v":0},null,null,{"$f":"ROWS(CM7:CM42)-COUNTBLANK(CM7:CM42)","v":0}]
["# of sessions weight entered",null,null,null,{"$f":"COUNTIFS(E7:E42,\">0\",E7:E42,\"<999\")","v":0},null,null,{"$f":"COUNTIFS(H7:H42,\">0\",H7:H42,\"<999\")","v":0},null,null,{"$f":"COUNTIFS(K7:K42,\">0\",K7:K42,\"<999\")","v":0},null,null,{"$f":"COUNTIFS(N7:N42,\">0\",N7:N42,\"<999\")","v":0},null,null,{"$f":"COUNTIFS(Q7:Q42,\">0\",Q7:Q42,\"<999\")","v":0},null,null,{"$f":"COUNTIFS(T7:T42,\">0\",T7:T42,\"<999\")","v":0},null,null,{"$f":"COUNTIFS(W7:W42,\">0\",W7:W42,\"<999\")","v":0},null,null,{"$f":"COUNTIFS(Z7:Z42,\">0\",Z7:Z42,\"<999\")","v":0},null,null,{"$f":"COUNTIFS(AC7:AC42,\">0\",AC7:AC42,\"<999\")","v":0},null,null,{"$f":"COUNTIFS(AF7:AF42,\">0\",AF7:AF42,\"<999\")","v":0},null,null,{"$f":"COUNTIFS(AI7:AI42,\">0\",AI7:AI42,\"<999\")","v":0},null,null,{"$f":"COUNTIFS(AL7:AL42,\">0\",AL7:AL42,\"<999\")","v":0},null,null,{"$f":"COUNTIFS(AO7:AO42,\">0\",AO7:AO42,\"<999\")","v":0},null,null,{"$f":"COUNTIFS(AR7:AR42,\">0\",AR7:AR42,\"<999\")","v":0},null,null,{"$f":"COUNTIFS(AU7:AU42,\">0\",AU7:AU42,\"<999\")","v":0},null,null,{"$f":"COUNTIFS(AX7:AX42,\">0\",AX7:AX42,\"<999\")","v":0},null,null,{"$f":"COUNTIFS(BA7:BA42,\">0\",BA7:BA42,\"<999\")","v":0},null,null,{"$f":"COUNTIFS(BD7:BD42,\">0\",BD7:BD42,\"<999\")","v":0},null,null,{"$f":"COUNTIFS(BG7:BG42,\">0\",BG7:BG42,\"<999\")","v":0},null,null,{"$f":"COUNTIFS(BJ7:BJ42,\">0\",BJ7:BJ42,\"<999\")","v":0},null,null,{"$f":"COUNTIFS(BM7:BM42,\">0\",BM7:BM42,\"<999\")","v":0},null,null,{"$f":"COUNTIFS(BP7:BP42,\">0\",BP7:BP42,\"<999\")","v":0},null,null,{"$f":"COUNTIFS(BS7:BS42,\">0\",BS7:BS42,\"<999\")","v":0},null,null,{"$f":"COUNTIFS(BV7:BV42,\">0\",BV7:BV42,\"<999\")","v":0},null,null,{"$f":"COUNTIFS(BY7:BY42,\">0\",BY7:BY42,\"<999\")","v":0},null,null,{"$f":"COUNTIFS(CB7:CB42,\">0\",CB7:CB42,\"<999\")","v":0},null,null,{"$f":"COUNTIFS(CE7:CE42,\">0\",CE7:CE42,\"<999\")","v":0},null,null,{"$f":"COUNTIFS(CH7:CH42,\">0\",CH7:CH42,\"<999\")","v":0},null,null,{"$f":"COUNTIFS(CK7:CK42,\">0\",CK7:CK42,\"<999\")","v":0},null,null,{"$f":"COUNTIFS(CN7:CN42,\">0\",CN7:CN42,\"<999\")","v":0}]
["# of sessions PA entered",null,null,null,null,{"$f":"COUNTIFS(F7:F42,\"<999\")","v":0},null,null,{"$f":"COUNTIFS(I7:I42,\"<999\")","v":0},null,null,{"$f":"COUNTIFS(L7:L42,\"<999\")","v":0},null,null,{"$f":"COUNTIFS(O7:O42,\"<999\")","v":0},null,null,{"$f":"COUNTIFS(R7:R42,\"<999\")","v":0},null,null,{"$f":"COUNTIFS(U7:U42,\"<999\")","v":0},null,null,{"$f":"COUNTIFS(X7:X42,\"<999\")","v":0},null,null,{"$f":"COUNTIFS(AA7:AA42,\"<999\")","v":0},null,null,{"$f":"COUNTIFS(AD7:AD42,\"<999\")","v":0},null,null,{"$f":"COUNTIFS(AG7:AG42,\"<999\")","v":0},null,null,{"$f":"COUNTIFS(AJ7:AJ42,\"<999\")","v":0},null,null,{"$f":"COUNTIFS(AM7:AM42,\"<999\")","v":0},null,null,{"$f":"COUNTIFS(AP7:AP42,\"<999\")","v":0},null,null,{"$f":"COUNTIFS(AS7:AS42,\"<999\")","v":0},null,null,{"$f":"COUNTIFS(AV7:AV42,\"<999\")","v":0},null,null,{"$f":"COUNTIFS(AY7:AY42,\"<999\")","v":0},null,null,{"$f":"COUNTIFS(BB7:BB42,\"<999\")","v":0},null,null,{"$f":"COUNTIFS(BE7:BE42,\"<999\")","v":0},null,null,{"$f":"COUNTIFS(BH7:BH42,\"<999\")","v":0},null,null,{"$f":"COUNTIFS(BK7:BK42,\"<999\")","v":0},null,null,{"$f":"COUNTIFS(BN7:BN42,\"<999\")","v":0},null,null,{"$f":"COUNTIFS(BQ7:BQ42,\"<999\")","v":0},null,null,{"$f":"COUNTIFS(BT7:BT42,\"<999\")","v":0},null,null,{"$f":"COUNTIFS(BW7:BW42,\"<999\")","v":0},null,null,{"$f":"COUNTIFS(BZ7:BZ42,\"<999\")","v":0},null,null,{"$f":"COUNTIFS(CC7:CC42,\"<999\")","v":0},null,null,{"$f":"COUNTIFS(CF7:CF42,\"<999\")","v":0},null,null,{"$f":"COUNTIFS(CI7:CI42,\"<999\")","v":0},null,null,{"$f":"COUNTIFS(CL7:CL42,\"<999\")","v":0},null,null,{"$f":"COUNTIFS(CO7:CO42,\"<999\")","v":0}]
["Total Post Core Hours =",null,null,{"$f":"SUM(D43:CM43)","v":0}]
[]
[]
[]
["Month 1 of sessions attended",null,{"$f":"ROWS(C8:C12)-COUNTBLANK(C8:C12)","v":0},{"$f":"ROWS(D8:D12)-COUNTBLANK(D8:D12)","v":0},null,null,{"$f":"ROWS(G8:G12)-COUNTBLANK(G8:G12)","v":0},null,null,{"$f":"ROWS(J8:J12)-COUNTBLANK(J8:J12)","v":0},null,null,{"$f":"ROWS(M8:M12)-COUNTBLANK(M8:M12)","v":0},null,null,{"$f":"ROWS(P8:P12)-COUNTBLANK(P8:P12)","v":0},null,null,{"$f":"ROWS(S8:S12)-COUNTBLANK(S8:S12)","v":0},null,null,{"$f":"ROWS(V8:V12)-COUNTBLANK(V8:V12)","v":0},null,null,{"$f":"ROWS(Y8:Y12)-COUNTBLANK(Y8:Y12)","v":0},null,null,{"$f":"ROWS(AB8:AB12)-COUNTBLANK(AB8:AB12)","v":0},null,null,{"$f":"ROWS(AE8:AE12)-COUNTBLANK(AE8:AE12)","v":0},null,null,{"$f":"ROWS(AH8:AH12)-COUNTBLANK(AH8:AH12)","v":0},null,null,{"$f":"ROWS(AK8:AK12)-COUNTBLANK(AK8:AK12)","v":0},null,null,{"$f":"ROWS(AN8:AN12)-COUNTBLANK(AN8:AN12)","v":0},null,null,{"$f":"ROWS(AQ8:AQ12)-COUNTBLANK(AQ8:AQ12)","v":0},null,null,{"$f":"ROWS(AT8:AT12)-COUNTBLANK(AT8:AT12)","v":0},null,null,{"$f":"ROWS(AW8:AW12)-COUNTBLANK(AW8:AW12)","v":0},null,null,{"$f":"ROWS(AZ8:AZ12)-COUNTBLANK(AZ8:AZ12)","v":0},null,null,{"$f":"ROWS(BC8:BC12)-COUNTBLANK(BC8:BC12)","v":0},null,null,{"$f":"ROWS(BF8:BF12)-COUNTBLANK(BF8:BF12)","v":0},null,null,{"$f":"ROWS(BI8:BI12)-COUNTBLANK(BI8:BI12)","v":0},null,null,{"$f":"ROWS(BL8:BL12)-COUNTBLANK(BL8:BL12)","v":0},null,null,{"$f":"ROWS(BO8:BO12)-COUNTBLANK(BO8:BO12)","v":0},null,null,{"$f":"ROWS(BR8:BR12)-COUNTBLANK(BR8:BR12)","v":0},null,null,{"$f":"ROWS(BU8:BU12)-COUNTBLANK(BU8:BU12)","v":0},null,null,{"$f":"ROWS(BX8:BX12)-COUNTBLANK(BX8:BX12)","v":0},null,null,{"$f":"ROWS(CA8:CA12)-COUNTBLANK(CA8:CA12)","v":0},null,null,{"$f":"ROWS(CD8:CD12)-COUNTBLANK(CD8:CD12)","v":0},null,null,{"$f":"ROWS(CG8:CG12)-COUNTBLANK(CG8:CG12)","v":0},null,null,{"$f":"ROWS(CJ8:CJ12)-COUNTBLANK(CJ8:CJ12)","v":0},null,null,{"$f":"ROWS(CM8:CM12)-COUNTBLANK(CM8:CM12)","v":0}]
["Month 2 of sessions attended",null,{"$f":"ROWS(C14:C18)-COUNTBLANK(C14:C18)","v":0},{"$f":"ROWS(D14:D18)-COUNTBLANK(D14:D18)","v":0},null,null,{"$f":"ROWS(G14:G18)-COUNTBLANK(G14:G18)","v":0},null,null,{"$f":"ROWS(J14:J18)-COUNTBLANK(J14:J18)","v":0},null,null,{"$f":"ROWS(M14:M18)-COUNTBLANK(M14:M18)","v":0},null,null,{"$f":"ROWS(P14:P18)-COUNTBLANK(P14:P18)","v":0},null,null,{"$f":"ROWS(S14:S18)-COUNTBLANK(S14:S18)","v":0},null,null,{"$f":"ROWS(V14:V18)-COUNTBLANK(V14:V18)","v":0},null,null,{"$f":"ROWS(Y14:Y18)-COUNTBLANK(Y14:Y18)","v":0},null,null,{"$f":"ROWS(AB14:AB18)-COUNTBLANK(AB14:AB18)","v":0},null,null,{"$f":"ROWS(AE14:AE18)-COUNTBLANK(AE14:AE18)","v":0},null,null,{"$f":"ROWS(AH14:AH18)-COUNTBLANK(AH14:AH18)","v":0},null,null,{"$f":"ROWS(AK14:AK18)-COUNTBLANK(AK14:AK18)","v":0},null,null,{"$f":"ROWS(AN14:AN18)-COUNTBLANK(AN14:AN18)","v":0},null,null,{"$f":"ROWS(AQ14:AQ18)-COUNTBLANK(AQ14:AQ18)","v":0},null,null,{"$f":"ROWS(AT14:AT18)-COUNTBLANK(AT14:AT18)","v":0},null,null,{"$f":"ROWS(AW14:AW18)-COUNTBLANK(AW14:AW18)","v":0},null,null,{"$f":"ROWS(AZ14:AZ18)-COUNTBLANK(AZ14:AZ18)","v":0},null,null,{"$f":"ROWS(BC14:BC18)-COUNTBLANK(BC14:BC18)","v":0},null,null,{"$f":"ROWS(BF14:BF18)-COUNTBLANK(BF14:BF18)","v":0},null,null,{"$f":"ROWS(BI14:BI18)-COUNTBLANK(BI14:BI18)","v":0},null,null,{"$f":"ROWS(BL14:BL18)-COUNTBLANK(BL14:BL18)","v":0},null,null,{"$f":"ROWS(BO14:BO18)-COUNTBLANK(BO14:BO18)","v":0},null,null,{"$f":"ROWS(BR14:BR18)-COUNTBLANK(BR14:BR18)","v":0},null,null,{"$f":"ROWS(BU14:BU18)-COUNTBLANK(BU14:BU18)","v":0},null,null,{"$f":"ROWS(BX14:BX18)-COUNTBLANK(BX14:BX18)","v":0},null,null,{"$f":"ROWS(CA14:CA18)-COUNTBLANK(CA14:CA18)","v":0},null,null,{"$f":"ROWS(CD14:CD18)-COUNTBLANK(CD14:CD18)","v":0},null,null,{"$f":"ROWS(CG14:CG18)-COUNTBLANK(CG14:CG18)","v":0},null,null,{"$f":"ROWS(CJ14:CJ18)-COUNTBLANK(CJ14:CJ18)","v":0},null,null,{"$f":"ROWS(CM14:CM18)-COUNTBLANK(CM14:CM18)","v":0}]
["Month 3 of sessions attended",null,{"$f":"ROWS(C20:C24)-COUNTBLANK(C20:C24)","v":0},{"$f":"ROWS(D20:D24)-COUNTBLANK(D20:D24)","v":0},null,null,{"$f":"ROWS(G20:G24)-COUNTBLANK(G20:G24)","v":0},null,null,{"$f":"ROWS(J20:J24)-COUNTBLANK(J20:J24)","v":0},null,null,{"$f":"ROWS(M20:M24)-COUNTBLANK(M20:M24)","v":0},null,null,{"$f":"ROWS(P20:P24)-COUNTBLANK(P20:P24)","v":0},null,null,{"$f":"ROWS(S20:S24)-COUNTBLANK(S20:S24)","v":0},null,null,{"$f":"ROWS(V20:V24)-COUNTBLANK(V20:V24)","v":0},null,null,{"$f":"ROWS(Y20:Y24)-COUNTBLANK(Y20:Y24)","v":0},null,null,{"$f":"ROWS(AB20:AB24)-COUNTBLANK(AB20:AB24)","v":0},null,null,{"$f":"ROWS(AE20:AE24)-COUNTBLANK(AE20:AE24)","v":0},null,null,{"$f":"ROWS(AH20:AH24)-COUNTBLANK(AH20:AH24)","v":0},null,null,{"$f":"ROWS(AK20:AK24)-COUNTBLANK(AK20:AK24)","v":0},null,null,{"$f":"ROWS(AN20:AN24)-COUNTBLANK(AN20:AN24)","v":0},null,null,{"$f":"ROWS(AQ20:AQ24)-COUNTBLANK(AQ20:AQ24)","v":0},null,null,{"$f":"ROWS(AT20:AT24)-COUNTBLANK(AT20:AT24)","v":0},null,null,{"$f":"ROWS(AW20:AW24)-COUNTBLANK(AW20:AW24)","v":0},null,null,{"$f":"ROWS(AZ20:AZ24)-COUNTBLANK(AZ20:AZ24)","v":0},null,null,{"$f":"ROWS(BC20:BC24)-COUNTBLANK(BC20:BC24)","v":0},null,null,{"$f":"ROWS(BF20:BF24)-COUNTBLANK(BF20:BF24)","v":0},null,null,{"$f":"ROWS(BI20:BI24)-COUNTBLANK(BI20:BI24)","v":0},null,null,{"$f":"ROWS(BL20:BL24)-COUNTBLANK(BL20:BL24)","v":0},null,null,{"$f":"ROWS(BO20:BO24)-COUNTBLANK(BO20:BO24)","v":0},null,null,{"$f":"ROWS(BR20:BR24)-COUNTBLANK(BR20:BR24)","v":0},null,null,{"$f":"ROWS(BU20:BU24)-COUNTBLANK(BU20:BU24)","v":0},null,null,{"$f":"ROWS(BX20:BX24)-COUNTBLANK(BX20:BX24)","v":0},null,null,{"$f":"ROWS(CA20:CA24)-COUNTBLANK(CA20:CA24)","v":0},null,null,{"$f":"ROWS(CD20:CD24)-COUNTBLANK(CD20:CD24)","v":0},null,null,{"$f":"ROWS(CG20:CG24)-COUNTBLANK(CG20:CG24)","v":0},null,null,{"$f":"ROWS(CJ20:CJ24)-COUNTBLANK(CJ20:CJ24)","v":0},null,null,{"$f":"ROWS(CM20:CM24)-COUNTBLANK(CM20:CM24)","v":0}]
["Month 4 of sessions attended",null,{"$f":"ROWS(C26:C30)-COUNTBLANK(C26:C30)","v":0},{"$f":"ROWS(D26:D30)-COUNTBLANK(D26:D30)","v":0},null,null,{"$f":"ROWS(G26:G30)-COUNTBLANK(G26:G30)","v":0},null,null,{"$f":"ROWS(J26:J30)-COUNTBLANK(J26:J30)","v":0},null,null,{"$f":"ROWS(M26:M30)-COUNTBLANK(M26:M30)","v":0},null,null,{"$f":"ROWS(P26:P30)-COUNTBLANK(P26:P30)","v":0},null,null,{"$f":"ROWS(S26:S30)-COUNTBLANK(S26:S30)","v":0},null,null,{"$f":"ROWS(V26:V30)-COUNTBLANK(V26:V30)","v":0},null,null,{"$f":"ROWS(Y26:Y30)-COUNTBLANK(Y26:Y30)","v":0},null,null,{"$f":"ROWS(AB26:AB30)-COUNTBLANK(AB26:AB30)","v":0},null,null,{"$f":"ROWS(AE26:AE30)-COUNTBLANK(AE26:AE30)","v":0},null,null,{"$f":"ROWS(AH26:AH30)-COUNTBLANK(AH26:AH30)","v":0},null,null,{"$f":"ROWS(AK26:AK30)-COUNTBLANK(AK26:AK30)","v":0},null,null,{"$f":"ROWS(AN26:AN30)-COUNTBLANK(AN26:AN30)","v":0},null,null,{"$f":"ROWS(AQ26:AQ30)-COUNTBLANK(AQ26:AQ30)","v":0},null,null,{"$f":"ROWS(AT26:AT30)-COUNTBLANK(AT26:AT30)","v":0},null,null,{"$f":"ROWS(AW26:AW30)-COUNTBLANK(AW26:AW30)","v":0},null,null,{"$f":"ROWS(AZ26:AZ30)-COUNTBLANK(AZ26:AZ30)","v":0},null,null,{"$f":"ROWS(BC26:BC30)-COUNTBLANK(BC26:BC30)","v":0},null,null,{"$f":"ROWS(BF26:BF30)-COUNTBLANK(BF26:BF30)","v":0},null,null,{"$f":"ROWS(BI26:BI30)-COUNTBLANK(BI26:BI30)","v":0},null,null,{"$f":"ROWS(BL26:BL30)-COUNTBLANK(BL26:BL30)","v":0},null,null,{"$f":"ROWS(BO26:BO30)-COUNTBLANK(BO26:BO30)","v":0},null,null,{"$f":"ROWS(BR26:BR30)-COUNTBLANK(BR26:BR30)","v":0},null,null,{"$f":"ROWS(BU26:BU30)-COUNTBLANK(BU26:BU30)","v":0},null,null,{"$f":"ROWS(BX26:BX30)-COUNTBLANK(BX26:BX30)","v":0},null,null,{"$f":"ROWS(CA26:CA30)-COUNTBLANK(CA26:CA30)","v":0},null,null,{"$f":"ROWS(CD26:CD30)-COUNTBLANK(CD26:CD30)","v":0},null,null,{"$f":"ROWS(CG26:CG30)-COUNTBLANK(CG26:CG30)","v":0},null,null,{"$f":"ROWS(CJ26:CJ30)-COUNTBLANK(CJ26:CJ30)","v":0},null,null,{"$f":"ROWS(CM26:CM30)-COUNTBLANK(CM26:CM30)","v":0}]
["Month 5 of sessions attended",null,{"$f":"ROWS(C32:C36)-COUNTBLANK(C32:C36)","v":0},{"$f":"ROWS(D32:D36)-COUNTBLANK(D32:D36)","v":0},null,null,{"$f":"ROWS(G32:G36)-COUNTBLANK(G32:G36)","v":0},null,null,{"$f":"ROWS(J32:J36)-COUNTBLANK(J32:J36)","v":0},null,null,{"$f":"ROWS(M32:M36)-COUNTBLANK(M32:M36)","v":0},null,null,{"$f":"ROWS(P32:P36)-COUNTBLANK(P32:P36)","v":0},null,null,{"$f":"ROWS(S32:S36)-COUNTBLANK(S32:S36)","v":0},null,null,{"$f":"ROWS(V32:V36)-COUNTBLANK(V32:V36)","v":0},null,null,{"$f":"ROWS(Y32:Y36)-COUNTBLANK(Y32:Y36)","v":0},null,null,{"$f":"ROWS(AB32:AB36)-COUNTBLANK(AB32:AB36)","v":0},null,null,{"$f":"ROWS(AE32:AE36)-COUNTBLANK(AE32:AE36)","v":0},null,null,{"$f":"ROWS(AH32:AH36)-COUNTBLANK(AH32:AH36)","v":0},null,null,{"$f":"ROWS(AK32:AK36)-COUNTBLANK(AK32:AK36)","v":0},null,null,{"$f":"ROWS(AN32:AN36)-COUNTBLANK(AN32:AN36)","v":0},null,null,{"$f":"ROWS(AQ32:AQ36)-COUNTBLANK(AQ32:AQ36)","v":0},null,null,{"$f":"ROWS(AT32:AT36)-COUNTBLANK(AT32:AT36)","v":0},null,null,{"$f":"ROWS(AW32:AW36)-COUNTBLANK(AW32:AW36)","v":0},null,null,{"$f":"ROWS(AZ32:AZ36)-COUNTBLANK(AZ32:AZ36)","v":0},null,null,{"$f":"ROWS(BC32:BC36)-COUNTBLANK(BC32:BC36)","v":0},null,null,{"$f":"ROWS(BF32:BF36)-COUNTBLANK(BF32:BF36)","v":0},null,null,{"$f":"ROWS(BI32:BI36)-COUNTBLANK(BI32:BI36)","v":0},null,null,{"$f":"ROWS(BL32:BL36)-COUNTBLANK(BL32:BL36)","v":0},null,null,{"$f":"ROWS(BO32:BO36)-COUNTBLANK(BO32:BO36)","v":0},null,null,{"$f":"ROWS(BR32:BR36)-COUNTBLANK(BR32:BR36)","v":0},null,null,{"$f":"ROWS(BU32:BU36)-COUNTBLANK(BU32:BU36)","v":0},null,null,{"$f":"ROWS(BX32:BX36)-COUNTBLANK(BX32:BX36)","v":0},null,null,{"$f":"ROWS(CA32:CA36)-COUNTBLANK(CA32:CA36)","v":0},null,null,{"$f":"ROWS(CD32:CD36)-COUNTBLANK(CD32:CD36)","v":0},null,null,{"$f":"ROWS(CG32:CG36)-COUNTBLANK(CG32:CG36)","v":0},null,null,{"$f":"ROWS(CJ32:CJ36)-COUNTBLANK(CJ32:CJ36)","v":0},null,null,{"$f":"ROWS(CM32:CM36)-COUNTBLANK(CM32:CM36)","v":0}]
["Month 6 of sessions attended",null,{"$f":"ROWS(C38:C42)-COUNTBLANK(C38:C42)","v":0},{"$f":"ROWS(D38:D42)-COUNTBLANK(D38:D42)","v":0},null,null,{"$f":"ROWS(G38:G42)-COUNTBLANK(G38:G42)","v":0},null,null,{"$f":"ROWS(J38:J42)-COUNTBLANK(J38:J42)","v":0},null,null,{"$f":"ROWS(M38:M42)-COUNTBLANK(M38:M42)","v":0},null,null,{"$f":"ROWS(P38:P42)-COUNTBLANK(P38:P42)","v":0},null,null,{"$f":"ROWS(S38:S42)-COUNTBLANK(S38:S42)","v":0},null,null,{"$f":"ROWS(V38:V42)-COUNTBLANK(V38:V42)","v":0},null,null,{"$f":"ROWS(Y38:Y42)-COUNTBLANK(Y38:Y42)","v":0},null,null,{"$f":"ROWS(AB38:AB42)-COUNTBLANK(AB38:AB42)","v":0},null,null,{"$f":"ROWS(AE38:AE42)-COUNTBLANK(AE38:AE42)","v":0},null,null,{"$f":"ROWS(AH38:AH42)-COUNTBLANK(AH38:AH42)","v":0},null,null,{"$f":"ROWS(AK38:AK42)-COUNTBLANK(AK38:AK42)","v":0},null,null,{"$f":"ROWS(AN38:AN42)-COUNTBLANK(AN38:AN42)","v":0},null,null,{"$f":"ROWS(AQ38:AQ42)-COUNTBLANK(AQ38:AQ42)","v":0},null,null,{"$f":"ROWS(AT38:AT42)-COUNTBLANK(AT38:AT42)","v":0},null,null,{"$f":"ROWS(AW38:AW42)-COUNTBLANK(AW38:AW42)","v":0},null,null,{"$f":"ROWS(AZ38:AZ42)-COUNTBLANK(AZ38:AZ42)","v":0},null,null,{"$f":"ROWS(BC38:BC42)-COUNTBLANK(BC38:BC42)","v":0},null,null,{"$f":"ROWS(BF38:BF42)-COUNTBLANK(BF38:BF42)","v":0},null,null,{"$f":"ROWS(BI38:BI42)-COUNTBLANK(BI38:BI42)","v":0},null,null,{"$f":"ROWS(BL38:BL42)-COUNTBLANK(BL38:BL42)","v":0},null,null,{"$f":"ROWS(BO38:BO42)-COUNTBLANK(BO38:BO42)","v":0},null,null,{"$f":"ROWS(BR38:BR42)-COUNTBLANK(BR38:BR42)","v":0},null,null,{"$f":"ROWS(BU38:BU42)-COUNTBLANK(BU38:BU42)","v":0},null,null,{"$f":"ROWS(BX38:BX42)-COUNTBLANK(BX38:BX42)","v":0},null,null,{"$f":"ROWS(CA38:CA42)-COUNTBLANK(CA38:CA42)","v":0},null,null,{"$f":"ROWS(CD38:CD42)-COUNTBLANK(CD38:CD42)","v":0},null,null,{"$f":"ROWS(CG38:CG42)-COUNTBLANK(CG38:CG42)","v":0},null,null,{"$f":"ROWS(CJ38:CJ42)-COUNTBLANK(CJ38:CJ42)","v":0},null,null,{"$f":"ROWS(CM38:CM42)-COUNTBLANK(CM38:CM42)","v":0}]
[]
["Month 1 Average PA minutes",null,null,null,null,{"$f":"(SUMIF(F8:F12, \"<997\"))/D50","v":{"$error":"#DIV/0!"}},null,null,{"$f":"(SUMIF(I8:I12, \"<997\"))/G50","v":{"$error":"#DIV/0!"}},null,null,{"$f":"(SUMIF(L8:L12, \"<997\"))/J50","v":{"$error":"#DIV/0!"}},null,null,{"$f":"(SUMIF(O8:O12, \"<997\"))/M50","v":{"$error":"#DIV/0!"}},null,null,{"$f":"(SUMIF(R8:R12, \"<997\"))/P50","v":{"$error":"#DIV/0!"}},null,null,{"$f":"(SUMIF(U8:U12, \"<997\"))/S50","v":{"$error":"#DIV/0!"}},null,null,{"$f":"(SUMIF(X8:X12, \"<997\"))/V50","v":{"$error":"#DIV/0!"}},null,null,{"$f":"(SUMIF(AA8:AA12, \"<997\"))/Y50","v":{"$error":"#DIV/0!"}},null,null,{"$f":"(SUMIF(AD8:AD12, \"<997\"))/AB50","v":{"$error":"#DIV/0!"}},null,null,{"$f":"(SUMIF(AG8:AG12, \"<997\"))/AE50","v":{"$error":"#DIV/0!"}},null,null,{"$f":"(SUMIF(AJ8:AJ12, \"<997\"))/AH50","v":{"$error":"#DIV/0!"}},null,null,{"$f":"(SUMIF(AM8:AM12, \"<997\"))/AK50","v":{"$error":"#DIV/0!"}},null,null,{"$f":"(SUMIF(AP8:AP12, \"<997\"))/AN50","v":{"$error":"#DIV/0!"}},null,null,{"$f":"(SUMIF(AS8:AS12, \"<997\"))/AQ50","v":{"$error":"#DIV/0!"}},null,null,{"$f":"(SUMIF(AV8:AV12, \"<997\"))/AT50","v":{"$error":"#DIV/0!"}},null,null,{"$f":"(SUMIF(AY8:AY12, \"<997\"))/AW50","v":{"$error":"#DIV/0!"}},null,null,{"$f":"(SUMIF(BB8:BB12, \"<997\"))/AZ50","v":{"$error":"#DIV/0!"}},null,null,{"$f":"(SUMIF(BE8:BE12, \"<997\"))/BC50","v":{"$error":"#DIV/0!"}},null,null,{"$f":"(SUMIF(BH8:BH12, \"<997\"))/BF50","v":{"$error":"#DIV/0!"}},null,null,{"$f":"(SUMIF(BK8:BK12, \"<997\"))/BI50","v":{"$error":"#DIV/0!"}},null,null,{"$f":"(SUMIF(BN8:BN12, \"<997\"))/BL50","v":{"$error":"#DIV/0!"}},null,null,{"$f":"(SUMIF(BQ8:BQ12, \"<997\"))/BO50","v":{"$error":"#DIV/0!"}},null,null,{"$f":"(SUMIF(BT8:BT12, \"<997\"))/BR50","v":{"$error":"#DIV/0!"}},null,null,{"$f":"(SUMIF(BW8:BW12, \"<997\"))/BU50","v":{"$error":"#DIV/0!"}},null,null,{"$f":"(SUMIF(BZ8:BZ12, \"<997\"))/BX50","v":{"$error":"#DIV/0!"}},null,null,{"$f":"(SUMIF(CC8:CC12, \"<997\"))/CA50","v":{"$error":"#DIV/0!"}},null,null,{"$f":"(SUMIF(CF8:CF12, \"<997\"))/CD50","v":{"$error":"#DIV/0!"}},null,null,{"$f":"(SUMIF(CI8:CI12, \"<997\"))/CG50","v":{"$error":"#DIV/0!"}},null,null,{"$f":"(SUMIF(CL8:CL12, \"<997\"))/CJ50","v":{"$error":"#DIV/0!"}},null,null,{"$f":"(SUMIF(CO8:CO12, \"<997\"))/CM50","v":{"$error":"#DIV/0!"}}]
["Month 2 Average PA minutes",null,null,null,null,{"$f":"(SUMIF(F14:F18, \"<997\"))/D51","v":{"$error":"#DIV/0!"}},null,null,{"$f":"(SUMIF(I14:I18, \"<997\"))/G51","v":{"$error":"#DIV/0!"}},null,null,{"$f":"(SUMIF(L14:L18, \"<997\"))/J51","v":{"$error":"#DIV/0!"}},null,null,{"$f":"(SUMIF(O14:O18, \"<997\"))/M51","v":{"$error":"#DIV/0!"}},null,null,{"$f":"(SUMIF(R14:R18, \"<997\"))/P51","v":{"$error":"#DIV/0!"}},null,null,{"$f":"(SUMIF(U14:U18, \"<997\"))/S51","v":{"$error":"#DIV/0!"}},null,null,{"$f":"(SUMIF(X14:X18, \"<997\"))/V51","v":{"$error":"#DIV/0!"}},null,null,{"$f":"(SUMIF(AA14:AA18, \"<997\"))/Y51","v":{"$error":"#DIV/0!"}},null,null,{"$f":"(SUMIF(AD14:AD18, \"<997\"))/AB51","v":{"$error":"#DIV/0!"}},null,null,{"$f":"(SUMIF(AG14:AG18, \"<997\"))/AE51","v":{"$error":"#DIV/0!"}},null,null,{"$f":"(SUMIF(AJ14:AJ18, \"<997\"))/AH51","v":{"$error":"#DIV/0!"}},null,null,{"$f":"(SUMIF(AM14:AM18, \"<997\"))/AK51","v":{"$error":"#DIV/0!"}},null,null,{"$f":"(SUMIF(AP14:AP18, \"<997\"))/AN51","v":{"$error":"#DIV/0!"}},null,null,{"$f":"(SUMIF(AS14:AS18, \"<997\"))/AQ51","v":{"$error":"#DIV/0!"}},null,null,{"$f":"(SUMIF(AV14:AV18, \"<997\"))/AT51","v":{"$error":"#DIV/0!"}},null,null,{"$f":"(SUMIF(AY14:AY18, \"<997\"))/AW51","v":{"$error":"#DIV/0!"}},null,null,{"$f":"(SUMIF(BB14:BB18, \"<997\"))/AZ51","v":{"$error":"#DIV/0!"}},null,null,{"$f":"(SUMIF(BE14:BE18, \"<997\"))/BC51","v":{"$error":"#DIV/0!"}},null,null,{"$f":"(SUMIF(BH14:BH18, \"<997\"))/BF51","v":{"$error":"#DIV/0!"}},null,null,{"$f":"(SUMIF(BK14:BK18, \"<997\"))/BI51","v":{"$error":"#DIV/0!"}},null,null,{"$f":"(SUMIF(BN14:BN18, \"<997\"))/BL51","v":{"$error":"#DIV/0!"}},null,null,{"$f":"(SUMIF(BQ14:BQ18, \"<997\"))/BO51","v":{"$error":"#DIV/0!"}},null,null,{"$f":"(SUMIF(BT14:BT18, \"<997\"))/BR51","v":{"$error":"#DIV/0!"}},null,null,{"$f":"(SUMIF(BW14:BW18, \"<997\"))/BU51","v":{"$error":"#DIV/0!"}},null,null,{"$f":"(SUMIF(BZ14:BZ18, \"<997\"))/BX51","v":{"$error":"#DIV/0!"}},null,null,{"$f":"(SUMIF(CC14:CC18, \"<997\"))/CA51","v":{"$error":"#DIV/0!"}},null,null,{"$f":"(SUMIF(CF14:CF18, \"<997\"))/CD51","v":{"$error":"#DIV/0!"}},null,null,{"$f":"(SUMIF(CI14:CI18, \"<997\"))/CG51","v":{"$error":"#DIV/0!"}},null,null,{"$f":"(SUMIF(CL14:CL18, \"<997\"))/CJ51","v":{"$error":"#DIV/0!"}},null,null,{"$f":"(SUMIF(CO14:CO18, \"<997\"))/CM51","v":{"$error":"#DIV/0!"}}]
["Month 3 Average PA minutes",null,null,null,null,{"$f":"(SUMIF(F20:F24, \"<997\"))/D52","v":{"$error":"#DIV/0!"}},null,null,{"$f":"(SUMIF(I20:I24, \"<997\"))/G52","v":{"$error":"#DIV/0!"}},null,null,{"$f":"(SUMIF(L20:L24, \"<997\"))/J52","v":{"$error":"#DIV/0!"}},null,null,{"$f":"(SUMIF(O20:O24, \"<997\"))/M52","v":{"$error":"#DIV/0!"}},null,null,{"$f":"(SUMIF(R20:R24, \"<997\"))/P52","v":{"$error":"#DIV/0!"}},null,null,{"$f":"(SUMIF(U20:U24, \"<997\"))/S52","v":{"$error":"#DIV/0!"}},null,null,{"$f":"(SUMIF(X20:X24, \"<997\"))/V52","v":{"$error":"#DIV/0!"}},null,null,{"$f":"(SUMIF(AA20:AA24, \"<997\"))/Y52","v":{"$error":"#DIV/0!"}},null,null,{"$f":"(SUMIF(AD20:AD24, \"<997\"))/AB52","v":{"$error":"#DIV/0!"}},null,null,{"$f":"(SUMIF(AG20:AG24, \"<997\"))/AE52","v":{"$error":"#DIV/0!"}},null,null,{"$f":"(SUMIF(AJ20:AJ24, \"<997\"))/AH52","v":{"$error":"#DIV/0!"}},null,null,{"$f":"(SUMIF(AM20:AM24, \"<997\"))/AK52","v":{"$error":"#DIV/0!"}},null,null,{"$f":"(SUMIF(AP20:AP24, \"<997\"))/AN52","v":{"$error":"#DIV/0!"}},null,null,{"$f":"(SUMIF(AS20:AS24, \"<997\"))/AQ52","v":{"$error":"#DIV/0!"}},null,null,{"$f":"(SUMIF(AV20:AV24, \"<997\"))/AT52","v":{"$error":"#DIV/0!"}},null,null,{"$f":"(SUMIF(AY20:AY24, \"<997\"))/AW52","v":{"$error":"#DIV/0!"}},null,null,{"$f":"(SUMIF(BB20:BB24, \"<997\"))/AZ52","v":{"$error":"#DIV/0!"}},null,null,{"$f":"(SUMIF(BE20:BE24, \"<997\"))/BC52","v":{"$error":"#DIV/0!"}},null,null,{"$f":"(SUMIF(BH20:BH24, \"<997\"))/BF52","v":{"$error":"#DIV/0!"}},null,null,{"$f":"(SUMIF(BK20:BK24, \"<997\"))/BI52","v":{"$error":"#DIV/0!"}},null,null,{"$f":"(SUMIF(BN20:BN24, \"<997\"))/BL52","v":{"$error":"#DIV/0!"}},null,null,{"$f":"(SUMIF(BQ20:BQ24, \"<997\"))/BO52","v":{"$error":"#DIV/0!"}},null,null,{"$f":"(SUMIF(BT20:BT24, \"<997\"))/BR52","v":{"$error":"#DIV/0!"}},null,null,{"$f":"(SUMIF(BW20:BW24, \"<997\"))/BU52","v":{"$error":"#DIV/0!"}},null,null,{"$f":"(SUMIF(BZ20:BZ24, \"<997\"))/BX52","v":{"$error":"#DIV/0!"}},null,null,{"$f":"(SUMIF(CC20:CC24, \"<997\"))/CA52","v":{"$error":"#DIV/0!"}},null,null,{"$f":"(SUMIF(CF20:CF24, \"<997\"))/CD52","v":{"$error":"#DIV/0!"}},null,null,{"$f":"(SUMIF(CI20:CI24, \"<997\"))/CG52","v":{"$error":"#DIV/0!"}},null,null,{"$f":"(SUMIF(CL20:CL24, \"<997\"))/CJ52","v":{"$error":"#DIV/0!"}},null,null,{"$f":"(SUMIF(CO20:CO24, \"<997\"))/CM52","v":{"$error":"#DIV/0!"}}]
["Month 4 Average PA minutes",null,null,null,null,{"$f":"(SUMIF(F26:F30, \"<997\"))/D53","v":{"$error":"#DIV/0!"}},null,null,{"$f":"(SUMIF(I26:I30, \"<997\"))/G53","v":{"$error":"#DIV/0!"}},null,null,{"$f":"(SUMIF(L26:L30, \"<997\"))/J53","v":{"$error":"#DIV/0!"}},null,null,{"$f":"(SUMIF(O26:O30, \"<997\"))/M53","v":{"$error":"#DIV/0!"}},null,null,{"$f":"(SUMIF(R26:R30, \"<997\"))/P53","v":{"$error":"#DIV/0!"}},null,null,{"$f":"(SUMIF(U26:U30, \"<997\"))/S53","v":{"$error":"#DIV/0!"}},null,null,{"$f":"(SUMIF(X26:X30, \"<997\"))/V53","v":{"$error":"#DIV/0!"}},null,null,{"$f":"(SUMIF(AA26:AA30, \"<997\"))/Y53","v":{"$error":"#DIV/0!"}},null,null,{"$f":"(SUMIF(AD26:AD30, \"<997\"))/AB53","v":{"$error":"#DIV/0!"}},null,null,{"$f":"(SUMIF(AG26:AG30, \"<997\"))/AE53","v":{"$error":"#DIV/0!"}},null,null,{"$f":"(SUMIF(AJ26:AJ30, \"<997\"))/AH53","v":{"$error":"#DIV/0!"}},null,null,{"$f":"(SUMIF(AM26:AM30, \"<997\"))/AK53","v":{"$error":"#DIV/0!"}},null,null,{"$f":"(SUMIF(AP26:AP30, \"<997\"))/AN53","v":{"$error":"#DIV/0!"}},null,null,{"$f":"(SUMIF(AS26:AS30, \"<997\"))/AQ53","v":{"$error":"#DIV/0!"}},null,null,{"$f":"(SUMIF(AV26:AV30, \"<997\"))/AT53","v":{"$error":"#DIV/0!"}},null,null,{"$f":"(SUMIF(AY26:AY30, \"<997\"))/AW53","v":{"$error":"#DIV/0!"}},null,null,{"$f":"(SUMIF(BB26:BB30, \"<997\"))/AZ53","v":{"$error":"#DIV/0!"}},null,null,{"$f":"(SUMIF(BE26:BE30, \"<997\"))/BC53","v":{"$error":"#DIV/0!"}},null,null,{"$f":"(SUMIF(BH26:BH30, \"<997\"))/BF53","v":{"$error":"#DIV/0!"}},null,null,{"$f":"(SUMIF(BK26:BK30, \"<997\"))/BI53","v":{"$error":"#DIV/0!"}},null,null,{"$f":"(SUMIF(BN26:BN30, \"<997\"))/BL53","v":{"$error":"#DIV/0!"}},null,null,{"$f":"(SUMIF(BQ26:BQ30, \"<997\"))/BO53","v":{"$error":"#DIV/0!"}},null,null,{"$f":"(SUMIF(BT26:BT30, \"<997\"))/BR53","v":{"$error":"#DIV/0!"}},null,null,{"$f":"(SUMIF(BW26:BW30, \"<997\"))/BU53","v":{"$error":"#DIV/0!"}},null,null,{"$f":"(SUMIF(BZ26:BZ30, \"<997\"))/BX53","v":{"$error":"#DIV/0!"}},null,null,{"$f":"(SUMIF(CC26:CC30, \"<997\"))/CA53","v":{"$error":"#DIV/0!"}},null,null,{"$f":"(SUMIF(CF26:CF30, \"<997\"))/CD53","v":{"$error":"#DIV/0!"}},null,null,{"$f":"(SUMIF(CI26:CI30, \"<997\"))/CG53","v":{"$error":"#DIV/0!"}},null,null,{"$f":"(SUMIF(CL26:CL30, \"<997\"))/CJ53","v":{"$error":"#DIV/0!"}},null,null,{"$f":"(SUMIF(CO26:CO30, \"<997\"))/CM53","v":{"$error":"#DIV/0!"}}]
["Month 5 Average PA minutes",null,null,null,null,{"$f":"(SUMIF(F32:F36, \"<997\"))/D54","v":{"$error":"#DIV/0!"}},null,null,{"$f":"(SUMIF(I32:I36, \"<997\"))/G54","v":{"$error":"#DIV/0!"}},null,null,{"$f":"(SUMIF(L32:L36, \"<997\"))/J54","v":{"$error":"#DIV/0!"}},null,null,{"$f":"(SUMIF(O32:O36, \"<997\"))/M54","v":{"$error":"#DIV/0!"}},null,null,{"$f":"(SUMIF(R32:R36, \"<997\"))/P54","v":{"$error":"#DIV/0!"}},null,null,{"$f":"(SUMIF(U32:U36, \"<997\"))/S54","v":{"$error":"#DIV/0!"}},null,null,{"$f":"(SUMIF(X32:X36, \"<997\"))/V54","v":{"$error":"#DIV/0!"}},null,null,{"$f":"(SUMIF(AA32:AA36, \"<997\"))/Y54","v":{"$error":"#DIV/0!"}},null,null,{"$f":"(SUMIF(AD32:AD36, \"<997\"))/AB54","v":{"$error":"#DIV/0!"}},null,null,{"$f":"(SUMIF(AG32:AG36, \"<997\"))/AE54","v":{"$error":"#DIV/0!"}},null,null,{"$f":"(SUMIF(AJ32:AJ36, \"<997\"))/AH54","v":{"$error":"#DIV/0!"}},null,null,{"$f":"(SUMIF(AM32:AM36, \"<997\"))/AK54","v":{"$error":"#DIV/0!"}},null,null,{"$f":"(SUMIF(AP32:AP36, \"<997\"))/AN54","v":{"$error":"#DIV/0!"}},null,null,{"$f":"(SUMIF(AS32:AS36, \"<997\"))/AQ54","v":{"$error":"#DIV/0!"}},null,null,{"$f":"(SUMIF(AV32:AV36, \"<997\"))/AT54","v":{"$error":"#DIV/0!"}},null,null,{"$f":"(SUMIF(AY32:AY36, \"<997\"))/AW54","v":{"$error":"#DIV/0!"}},null,null,{"$f":"(SUMIF(BB32:BB36, \"<997\"))/AZ54","v":{"$error":"#DIV/0!"}},null,null,{"$f":"(SUMIF(BE32:BE36, \"<997\"))/BC54","v":{"$error":"#DIV/0!"}},null,null,{"$f":"(SUMIF(BH32:BH36, \"<997\"))/BF54","v":{"$error":"#DIV/0!"}},null,null,{"$f":"(SUMIF(BK32:BK36, \"<997\"))/BI54","v":{"$error":"#DIV/0!"}},null,null,{"$f":"(SUMIF(BN32:BN36, \"<997\"))/BL54","v":{"$error":"#DIV/0!"}},null,null,{"$f":"(SUMIF(BQ32:BQ36, \"<997\"))/BO54","v":{"$error":"#DIV/0!"}},null,null,{"$f":"(SUMIF(BT32:BT36, \"<997\"))/BR54","v":{"$error":"#DIV/0!"}},null,null,{"$f":"(SUMIF(BW32:BW36, \"<997\"))/BU54","v":{"$error":"#DIV/0!"}},null,null,{"$f":"(SUMIF(BZ32:BZ36, \"<997\"))/BX54","v":{"$error":"#DIV/0!"}},null,null,{"$f":"(SUMIF(CC32:CC36, \"<997\"))/CA54","v":{"$error":"#DIV/0!"}},null,null,{"$f":"(SUMIF(CF32:CF36, \"<997\"))/CD54","v":{"$error":"#DIV/0!"}},null,null,{"$f":"(SUMIF(CI32:CI36, \"<997\"))/CG54","v":{"$error":"#DIV/0!"}},null,null,{"$f":"(SUMIF(CL32:CL36, \"<997\"))/CJ54","v":{"$error":"#DIV/0!"}},null,null,{"$f":"(SUMIF(CO32:CO36, \"<997\"))/CM54","v":{"$error":"#DIV/0!"}}]
["Month 6 Average PA minutes",null,null,null,null,{"$f":"(SUMIF(F38:F42, \"<997\"))/D55","v":{"$error":"#DIV/0!"}},null,null,{"$f":"(SUMIF(I38:I42, \"<997\"))/G55","v":{"$error":"#DIV/0!"}},null,null,{"$f":"(SUMIF(L38:L42, \"<997\"))/J55","v":{"$error":"#DIV/0!"}},null,null,{"$f":"(SUMIF(O38:O42, \"<997\"))/M55","v":{"$error":"#DIV/0!"}},null,null,{"$f":"(SUMIF(R38:R42, \"<997\"))/P55","v":{"$error":"#DIV/0!"}},null,null,{"$f":"(SUMIF(U38:U42, \"<997\"))/S55","v":{"$error":"#DIV/0!"}},null,null,{"$f":"(SUMIF(X38:X42, \"<997\"))/V55","v":{"$error":"#DIV/0!"}},null,null,{"$f":"(SUMIF(AA38:AA42, \"<997\"))/Y55","v":{"$error":"#DIV/0!"}},null,null,{"$f":"(SUMIF(AD38:AD42, \"<997\"))/AB55","v":{"$error":"#DIV/0!"}},null,null,{"$f":"(SUMIF(AG38:AG42, \"<997\"))/AE55","v":{"$error":"#DIV/0!"}},null,null,{"$f":"(SUMIF(AJ38:AJ42, \"<997\"))/AH55","v":{"$error":"#DIV/0!"}},null,null,{"$f":"(SUMIF(AM38:AM42, \"<997\"))/AK55","v":{"$error":"#DIV/0!"}},null,null,{"$f":"(SUMIF(AP38:AP42, \"<997\"))/AN55","v":{"$error":"#DIV/0!"}},null,null,{"$f":"(SUMIF(AS38:AS42, \"<997\"))/AQ55","v":{"$error":"#DIV/0!"}},null,null,{"$f":"(SUMIF(AV38:AV42, \"<997\"))/AT55","v":{"$error":"#DIV/0!"}},null,null,{"$f":"(SUMIF(AY38:AY42, \"<997\"))/AW55","v":{"$error":"#DIV/0!"}},null,null,{"$f":"(SUMIF(BB38:BB42, \"<997\"))/AZ55","v":{"$error":"#DIV/0!"}},null,null,{"$f":"(SUMIF(BE38:BE42, \"<997\"))/BC55","v":{"$error":"#DIV/0!"}},null,null,{"$f":"(SUMIF(BH38:BH42, \"<997\"))/BF55","v":{"$error":"#DIV/0!"}},null,null,{"$f":"(SUMIF(BK38:BK42, \"<997\"))/BI55","v":{"$error":"#DIV/0!"}},null,null,{"$f":"(SUMIF(BN38:BN42, \"<997\"))/BL55","v":{"$error":"#DIV/0!"}},null,null,{"$f":"(SUMIF(BQ38:BQ42, \"<997\"))/BO55","v":{"$error":"#DIV/0!"}},null,null,{"$f":"(SUMIF(BT38:BT42, \"<997\"))/BR55","v":{"$error":"#DIV/0!"}},null,null,{"$f":"(SUMIF(BW38:BW42, \"<997\"))/BU55","v":{"$error":"#DIV/0!"}},null,null,{"$f":"(SUMIF(BZ38:BZ42, \"<997\"))/BX55","v":{"$error":"#DIV/0!"}},null,null,{"$f":"(SUMIF(CC38:CC42, \"<997\"))/CA55","v":{"$error":"#DIV/0!"}},null,null,{"$f":"(SUMIF(CF38:CF42, \"<997\"))/CD55","v":{"$error":"#DIV/0!"}},null,null,{"$f":"(SUMIF(CI38:CI42, \"<997\"))/CG55","v":{"$error":"#DIV/0!"}},null,null,{"$f":"(SUMIF(CL38:CL42, \"<997\"))/CJ55","v":{"$error":"#DIV/0!"}},null,null,{"$f":"(SUMIF(CO38:CO42, \"<997\"))/CM55","v":{"$error":"#DIV/0!"}}]

{"sheet":"Legend","index":4,"n_rows":29,"n_cols":13,"rows_kept":29,"cut":false,"hidden":true,"merged":[]}
["Participant Eligibility","Ethnicity","Race","Gender","Hear about NDPP","Health Care Coverage","Months 1-6 Modules","Month 7-12 Modules",null,"WISEWOMAN client",null,null,"Provider referral"]
["HemoglobinA1C","Hispanic","White","M","Friend, Family, or Coworker","Medicare","Introduction to the Program","When Weight Loss Stalls",null,"Yes",null,null,"Yes"]
["FastingPlasmaGlucose","NonHispanic","Black/AfricanAmerican","F","NDPP Participant","Medicaid","Get Active to Prevent T2","Take a Fitness Break",null,"No",null,null,"No"]
["OralGlucoseToleranceTest",null,"Asian",null,"Doctor Office, Clinic or Hospital","Private Insurance","Track Your Activity","Stay Active to Prevent T2"]
["RiskAssessmentTest",null,"AmericanIndian/AlaskaNative",null,"Brochure, Flyer or Poster","No-insurance","Eat Well to Prevent T2","Stay Active Away from Home"]
["GestationalDiabetes",null,"NativeHawaiian/PacificIslander",null,"Radio, Newspaper or TV","Veterans Affairs","Track Your Food","More About T2"]
["NotEligible",null,null,null,"Website","Other","Get More Active","More About Carbs"]
[null,null,null,null,"Other",null,"Burn More Calories Than you Take In","Have Healthy Food You Enjoy"]
[null,null,null,null,null,null,"Shop and Cook to Prevent T2","Get Enough Sleep"]
[null,null,null,null,null,null,"Manage Stress","Get Back on Track"]
[null,null,null,null,null,null,"Find Time for Fitness","Prevent T2--for Life!"]
[null,null,null,null,null,null,"Cope with Triggers"]
[null,null,null,null,null,null,"Keep Your Heart Healthy"]
[null,null,null,null,null,null,"Take Charge of Your Thoughts"]
[null,null,null,null,null,null,"Get Support"]
[null,null,null,null,null,null,"Eat Well Away From Home"]
[null,null,null,null,null,null,"Stay Motivated to Prevent T2"]
[null,null,null,null,null,null,"When Weight Loss Stalls"]
[null,null,null,null,null,null,"Take a Fitness Break"]
[null,null,null,null,null,null,"Stay Active to Prevent T2"]
[null,null,null,null,null,null,"Stay Active Away from Home"]
[null,null,null,null,null,null,"More About T2"]
[null,null,null,null,null,null,"More About Carbs"]
[null,null,null,null,null,null,"Have Healthy Food You Enjoy"]
[null,null,null,null,null,null,"Get Enough Sleep"]
[null,null,null,null,null,null,"Get Back on Track"]
[null,null,null,null,null,null,"Prevent T2--for Life!"]
[null,null,null,null,null,null,"Physical Activity "]
[null,null,null,null,null,null,"Classroom Activity"]

{"sheet":"Overall Weight","index":5,"n_rows":74,"n_cols":31,"rows_kept":74,"cut":false,"hidden":true,"merged":[]}
[]
["Session #","Participant #1","Participant #2","Participant #3","Participant #4","Participant #5","Participant #6","Participant #7","Participant #8","Participant #9","Participant #10","Participant #11","Participant #12","Participant #13","Participant #14","Participant #15","Participant #16","Participant #17","Participant #18","Participant #19","Participant #20","Participant #21","Participant #22","Participant #23","Participant #24","Participant #25","Participant #26","Participant #27","Participant #28","Participant #29","Participant #30"]
["Month 1",{"$f":"IF(AND('Months 1-6'!E7>0,'Months 1-6'!E7<999),'Months 1-6'!E7,\"\")","v":""},{"$f":"IF(AND('Months 1-6'!H7>0,'Months 1-6'!H7<999),'Months 1-6'!H7,\"\")","v":""},{"$f":"IF(AND('Months 1-6'!K7>0,'Months 1-6'!K7<999),'Months 1-6'!K7,\"\")","v":""},{"$f":"IF(AND('Months 1-6'!N7>0,'Months 1-6'!N7<999),'Months 1-6'!N7,\"\")","v":""},{"$f":"IF(AND('Months 1-6'!Q7>0,'Months 1-6'!Q7<999),'Months 1-6'!Q7,\"\")","v":""},{"$f":"IF(AND('Months 1-6'!T7>0,'Months 1-6'!T7<999),'Months 1-6'!T7,\"\")","v":""},{"$f":"IF(AND('Months 1-6'!W7>0,'Months 1-6'!W7<999),'Months 1-6'!W7,\"\")","v":""},{"$f":"IF(AND('Months 1-6'!Z7>0,'Months 1-6'!Z7<999),'Months 1-6'!Z7,\"\")","v":""},{"$f":"IF(AND('Months 1-6'!AC7>0,'Months 1-6'!AC7<999),'Months 1-6'!AC7,\"\")","v":""},{"$f":"IF(AND('Months 1-6'!AF7>0,'Months 1-6'!AF7<999),'Months 1-6'!AF7,\"\")","v":""},{"$f":"IF(AND('Months 1-6'!AI7>0,'Months 1-6'!AI7<999),'Months 1-6'!AI7,\"\")","v":""},{"$f":"IF(AND('Months 1-6'!AL7>0,'Months 1-6'!AL7<999),'Months 1-6'!AL7,\"\")","v":""},{"$f":"IF(AND('Months 1-6'!AO7>0,'Months 1-6'!AO7<999),'Months 1-6'!AO7,\"\")","v":""},{"$f":"IF(AND('Months 1-6'!AR7>0,'Months 1-6'!AR7<999),'Months 1-6'!AR7,\"\")","v":""},{"$f":"IF(AND('Months 1-6'!AU7>0,'Months 1-6'!AU7<999),'Months 1-6'!AU7,\"\")","v":""},{"$f":"IF(AND('Months 1-6'!AX7>0,'Months 1-6'!AX7<999),'Months 1-6'!AX7,\"\")","v":""},{"$f":"IF(AND('Months 1-6'!BA7>0,'Months 1-6'!BA7<999),'Months 1-6'!BA7,\"\")","v":""},{"$f":"IF(AND('Months 1-6'!BD7>0,'Months 1-6'!BD7<999),'Months 1-6'!BD7,\"\")","v":""},{"$f":"IF(AND('Months 1-6'!BG7>0,'Months 1-6'!BG7<999),'Months 1-6'!BG7,\"\")","v":""},{"$f":"IF(AND('Months 1-6'!BJ7>0,'Months 1-6'!BJ7<999),'Months 1-6'!BJ7,\"\")","v":""},{"$f":"IF(AND('Months 1-6'!BM7>0,'Months 1-6'!BM7<999),'Months 1-6'!BM7,\"\")","v":""},{"$f":"IF(AND('Months 1-6'!BP7>0,'Months 1-6'!BP7<999),'Months 1-6'!BP7,\"\")","v":""},{"$f":"IF(AND('Months 1-6'!BS7>0,'Months 1-6'!BS7<999),'Months 1-6'!BS7,\"\")","v":""},{"$f":"IF(AND('Months 1-6'!BV7>0,'Months 1-6'!BV7<999),'Months 1-6'!BV7,\"\")","v":""},{"$f":"IF(AND('Months 1-6'!BY7>0,'Months 1-6'!BY7<999),'Months 1-6'!BY7,\"\")","v":""},{"$f":"IF(AND('Months 1-6'!CB7>0,'Months 1-6'!CB7<999),'Months 1-6'!CB7,\"\")","v":""},{"$f":"IF(AND('Months 1-6'!CE7>0,'Months 1-6'!CE7<999),'Months 1-6'!CE7,\"\")","v":""},{"$f":"IF(AND('Months 1-6'!CH7>0,'Months 1-6'!CH7<999),'Months 1-6'!CH7,\"\")","v":""},{"$f":"IF(AND('Months 1-6'!CK7>0,'Months 1-6'!CK7<999),'Months 1-6'!CK7,\"\")","v":""},{"$f":"IF(AND('Months 1-6'!CN7>0,'Months 1-6'!CN7<999),'Months 1-6'!CN7,\"\")","v":""}]
["Week 1",{"$f":"IF(AND('Months 1-6'!E8>0,'Months 1-6'!E8<999),'Months 1-6'!E8,\"\")","v":""},{"$f":"IF(AND('Months 1-6'!H8>0,'Months 1-6'!H8<999),'Months 1-6'!H8,\"\")","v":""},{"$f":"IF(AND('Months 1-6'!K8>0,'Months 1-6'!K8<999),'Months 1-6'!K8,\"\")","v":""},{"$f":"IF(AND('Months 1-6'!N8>0,'Months 1-6'!N8<999),'Months 1-6'!N8,\"\")","v":""},{"$f":"IF(AND('Months 1-6'!Q8>0,'Months 1-6'!Q8<999),'Months 1-6'!Q8,\"\")","v":""},{"$f":"IF(AND('Months 1-6'!T8>0,'Months 1-6'!T8<999),'Months 1-6'!T8,\"\")","v":""},{"$f":"IF(AND('Months 1-6'!W8>0,'Months 1-6'!W8<999),'Months 1-6'!W8,\"\")","v":""},{"$f":"IF(AND('Months 1-6'!Z8>0,'Months 1-6'!Z8<999),'Months 1-6'!Z8,\"\")","v":""},{"$f":"IF(AND('Months 1-6'!AC8>0,'Months 1-6'!AC8<999),'Months 1-6'!AC8,\"\")","v":""},{"$f":"IF(AND('Months 1-6'!AF8>0,'Months 1-6'!AF8<999),'Months 1-6'!AF8,\"\")","v":""},{"$f":"IF(AND('Months 1-6'!AI8>0,'Months 1-6'!AI8<999),'Months 1-6'!AI8,\"\")","v":""},{"$f":"IF(AND('Months 1-6'!AL8>0,'Months 1-6'!AL8<999),'Months 1-6'!AL8,\"\")","v":""},{"$f":"IF(AND('Months 1-6'!AO8>0,'Months 1-6'!AO8<999),'Months 1-6'!AO8,\"\")","v":""},{"$f":"IF(AND('Months 1-6'!AR8>0,'Months 1-6'!AR8<999),'Months 1-6'!AR8,\"\")","v":""},{"$f":"IF(AND('Months 1-6'!AU8>0,'Months 1-6'!AU8<999),'Months 1-6'!AU8,\"\")","v":""},{"$f":"IF(AND('Months 1-6'!AX8>0,'Months 1-6'!AX8<999),'Months 1-6'!AX8,\"\")","v":""},{"$f":"IF(AND('Months 1-6'!BA8>0,'Months 1-6'!BA8<999),'Months 1-6'!BA8,\"\")","v":""},{"$f":"IF(AND('Months 1-6'!BD8>0,'Months 1-6'!BD8<999),'Months 1-6'!BD8,\"\")","v":""},{"$f":"IF(AND('Months 1-6'!BG8>0,'Months 1-6'!BG8<999),'Months 1-6'!BG8,\"\")","v":""},{"$f":"IF(AND('Months 1-6'!BJ8>0,'Months 1-6'!BJ8<999),'Months 1-6'!BJ8,\"\")","v":""},{"$f":"IF(AND('Months 1-6'!BM8>0,'Months 1-6'!BM8<999),'Months 1-6'!BM8,\"\")","v":""},{"$f":"IF(AND('Months 1-6'!BP8>0,'Months 1-6'!BP8<999),'Months 1-6'!BP8,\"\")","v":""},{"$f":"IF(AND('Months 1-6'!BS8>0,'Months 1-6'!BS8<999),'Months 1-6'!BS8,\"\")","v":""},{"$f":"IF(AND('Months 1-6'!BV8>0,'Months 1-6'!BV8<999),'Months 1-6'!BV8,\"\")","v":""},{"$f":"IF(AND('Months 1-6'!BY8>0,'Months 1-6'!BY8<999),'Months 1-6'!BY8,\"\")","v":""},{"$f":"IF(AND('Months 1-6'!CB8>0,'Months 1-6'!CB8<999),'Months 1-6'!CB8,\"\")","v":""},{"$f":"IF(AND('Months 1-6'!CE8>0,'Months 1-6'!CE8<999),'Months 1-6'!CE8,\"\")","v":""},{"$f":"IF(AND('Months 1-6'!CH8>0,'Months 1-6'!CH8<999),'Months 1-6'!CH8,\"\")","v":""},{"$f":"IF(AND('Months 1-6'!CK8>0,'Months 1-6'!CK8<999),'Months 1-6'!CK8,\"\")","v":""},{"$f":"IF(AND('Months 1-6'!CN8>0,'Months 1-6'!CN8<999),'Months 1-6'!CN8,\"\")","v":""}]
["Week 2",{"$f":"IF(AND('Months 1-6'!E9>0,'Months 1-6'!E9<999),'Months 1-6'!E9,\"\")","v":""},{"$f":"IF(AND('Months 1-6'!H9>0,'Months 1-6'!H9<999),'Months 1-6'!H9,\"\")","v":""},{"$f":"IF(AND('Months 1-6'!K9>0,'Months 1-6'!K9<999),'Months 1-6'!K9,\"\")","v":""},{"$f":"IF(AND('Months 1-6'!N9>0,'Months 1-6'!N9<999),'Months 1-6'!N9,\"\")","v":""},{"$f":"IF(AND('Months 1-6'!Q9>0,'Months 1-6'!Q9<999),'Months 1-6'!Q9,\"\")","v":""},{"$f":"IF(AND('Months 1-6'!T9>0,'Months 1-6'!T9<999),'Months 1-6'!T9,\"\")","v":""},{"$f":"IF(AND('Months 1-6'!W9>0,'Months 1-6'!W9<999),'Months 1-6'!W9,\"\")","v":""},{"$f":"IF(AND('Months 1-6'!Z9>0,'Months 1-6'!Z9<999),'Months 1-6'!Z9,\"\")","v":""},{"$f":"IF(AND('Months 1-6'!AC9>0,'Months 1-6'!AC9<999),'Months 1-6'!AC9,\"\")","v":""},{"$f":"IF(AND('Months 1-6'!AF9>0,'Months 1-6'!AF9<999),'Months 1-6'!AF9,\"\")","v":""},{"$f":"IF(AND('Months 1-6'!AI9>0,'Months 1-6'!AI9<999),'Months 1-6'!AI9,\"\")","v":""},{"$f":"IF(AND('Months 1-6'!AL9>0,'Months 1-6'!AL9<999),'Months 1-6'!AL9,\"\")","v":""},{"$f":"IF(AND('Months 1-6'!AO9>0,'Months 1-6'!AO9<999),'Months 1-6'!AO9,\"\")","v":""},{"$f":"IF(AND('Months 1-6'!AR9>0,'Months 1-6'!AR9<999),'Months 1-6'!AR9,\"\")","v":""},{"$f":"IF(AND('Months 1-6'!AU9>0,'Months 1-6'!AU9<999),'Months 1-6'!AU9,\"\")","v":""},{"$f":"IF(AND('Months 1-6'!AX9>0,'Months 1-6'!AX9<999),'Months 1-6'!AX9,\"\")","v":""},{"$f":"IF(AND('Months 1-6'!BA9>0,'Months 1-6'!BA9<999),'Months 1-6'!BA9,\"\")","v":""},{"$f":"IF(AND('Months 1-6'!BD9>0,'Months 1-6'!BD9<999),'Months 1-6'!BD9,\"\")","v":""},{"$f":"IF(AND('Months 1-6'!BG9>0,'Months 1-6'!BG9<999),'Months 1-6'!BG9,\"\")","v":""},{"$f":"IF(AND('Months 1-6'!BJ9>0,'Months 1-6'!BJ9<999),'Months 1-6'!BJ9,\"\")","v":""},{"$f":"IF(AND('Months 1-6'!BM9>0,'Months 1-6'!BM9<999),'Months 1-6'!BM9,\"\")","v":""},{"$f":"IF(AND('Months 1-6'!BP9>0,'Months 1-6'!BP9<999),'Months 1-6'!BP9,\"\")","v":""},{"$f":"IF(AND('Months 1-6'!BS9>0,'Months 1-6'!BS9<999),'Months 1-6'!BS9,\"\")","v":""},{"$f":"IF(AND('Months 1-6'!BV9>0,'Months 1-6'!BV9<999),'Months 1-6'!BV9,\"\")","v":""},{"$f":"IF(AND('Months 1-6'!BY9>0,'Months 1-6'!BY9<999),'Months 1-6'!BY9,\"\")","v":""},{"$f":"IF(AND('Months 1-6'!CB9>0,'Months 1-6'!CB9<999),'Months 1-6'!CB9,\"\")","v":""},{"$f":"IF(AND('Months 1-6'!CE9>0,'Months 1-6'!CE9<999),'Months 1-6'!CE9,\"\")","v":""},{"$f":"IF(AND('Months 1-6'!CH9>0,'Months 1-6'!CH9<999),'Months 1-6'!CH9,\"\")","v":""},{"$f":"IF(AND('Months 1-6'!CK9>0,'Months 1-6'!CK9<999),'Months 1-6'!CK9,\"\")","v":""},{"$f":"IF(AND('Months 1-6'!CN9>0,'Months 1-6'!CN9<999),'Months 1-6'!CN9,\"\")","v":""}]
["Week 3",{"$f":"IF(AND('Months 1-6'!E10>0,'Months 1-6'!E10<999),'Months 1-6'!E10,\"\")","v":""},{"$f":"IF(AND('Months 1-6'!H10>0,'Months 1-6'!H10<999),'Months 1-6'!H10,\"\")","v":""},{"$f":"IF(AND('Months 1-6'!K10>0,'Months 1-6'!K10<999),'Months 1-6'!K10,\"\")","v":""},{"$f":"IF(AND('Months 1-6'!N10>0,'Months 1-6'!N10<999),'Months 1-6'!N10,\"\")","v":""},{"$f":"IF(AND('Months 1-6'!Q10>0,'Months 1-6'!Q10<999),'Months 1-6'!Q10,\"\")","v":""},{"$f":"IF(AND('Months 1-6'!T10>0,'Months 1-6'!T10<999),'Months 1-6'!T10,\"\")","v":""},{"$f":"IF(AND('Months 1-6'!W10>0,'Months 1-6'!W10<999),'Months 1-6'!W10,\"\")","v":""},{"$f":"IF(AND('Months 1-6'!Z10>0,'Months 1-6'!Z10<999),'Months 1-6'!Z10,\"\")","v":""},{"$f":"IF(AND('Months 1-6'!AC10>0,'Months 1-6'!AC10<999),'Months 1-6'!AC10,\"\")","v":""},{"$f":"IF(AND('Months 1-6'!AF10>0,'Months 1-6'!AF10<999),'Months 1-6'!AF10,\"\")","v":""},{"$f":"IF(AND('Months 1-6'!AI10>0,'Months 1-6'!AI10<999),'Months 1-6'!AI10,\"\")","v":""},{"$f":"IF(AND('Months 1-6'!AL10>0,'Months 1-6'!AL10<999),'Months 1-6'!AL10,\"\")","v":""},{"$f":"IF(AND('Months 1-6'!AO10>0,'Months 1-6'!AO10<999),'Months 1-6'!AO10,\"\")","v":""},{"$f":"IF(AND('Months 1-6'!AR10>0,'Months 1-6'!AR10<999),'Months 1-6'!AR10,\"\")","v":""},{"$f":"IF(AND('Months 1-6'!AU10>0,'Months 1-6'!AU10<999),'Months 1-6'!AU10,\"\")","v":""},{"$f":"IF(AND('Months 1-6'!AX10>0,'Months 1-6'!AX10<999),'Months 1-6'!AX10,\"\")","v":""},{"$f":"IF(AND('Months 1-6'!BA10>0,'Months 1-6'!BA10<999),'Months 1-6'!BA10,\"\")","v":""},{"$f":"IF(AND('Months 1-6'!BD10>0,'Months 1-6'!BD10<999),'Months 1-6'!BD10,\"\")","v":""},{"$f":"IF(AND('Months 1-6'!BG10>0,'Months 1-6'!BG10<999),'Months 1-6'!BG10,\"\")","v":""},{"$f":"IF(AND('Months 1-6'!BJ10>0,'Months 1-6'!BJ10<999),'Months 1-6'!BJ10,\"\")","v":""},{"$f":"IF(AND('Months 1-6'!BM10>0,'Months 1-6'!BM10<999),'Months 1-6'!BM10,\"\")","v":""},{"$f":"IF(AND('Months 1-6'!BP10>0,'Months 1-6'!BP10<999),'Months 1-6'!BP10,\"\")","v":""},{"$f":"IF(AND('Months 1-6'!BS10>0,'Months 1-6'!BS10<999),'Months 1-6'!BS10,\"\")","v":""},{"$f":"IF(AND('Months 1-6'!BV10>0,'Months 1-6'!BV10<999),'Months 1-6'!BV10,\"\")","v":""},{"$f":"IF(AND('Months 1-6'!BY10>0,'Months 1-6'!BY10<999),'Months 1-6'!BY10,\"\")","v":""},{"$f":"IF(AND('Months 1-6'!CB10>0,'Months 1-6'!CB10<999),'Months 1-6'!CB10,\"\")","v":""},{"$f":"IF(AND('Months 1-6'!CE10>0,'Months 1-6'!CE10<999),'Months 1-6'!CE10,\"\")","v":""},{"$f":"IF(AND('Months 1-6'!CH10>0,'Months 1-6'!CH10<999),'Months 1-6'!CH10,\"\")","v":""},{"$f":"IF(AND('Months 1-6'!CK10>0,'Months 1-6'!CK10<999),'Months 1-6'!CK10,\"\")","v":""},{"$f":"IF(AND('Months 1-6'!CN10>0,'Months 1-6'!CN10<999),'Months 1-6'!CN10,\"\")","v":""}]
["Week 4",{"$f":"IF(AND('Months 1-6'!E11>0,'Months 1-6'!E11<999),'Months 1-6'!E11,\"\")","v":""},{"$f":"IF(AND('Months 1-6'!H11>0,'Months 1-6'!H11<999),'Months 1-6'!H11,\"\")","v":""},{"$f":"IF(AND('Months 1-6'!K11>0,'Months 1-6'!K11<999),'Months 1-6'!K11,\"\")","v":""},{"$f":"IF(AND('Months 1-6'!N11>0,'Months 1-6'!N11<999),'Months 1-6'!N11,\"\")","v":""},{"$f":"IF(AND('Months 1-6'!Q11>0,'Months 1-6'!Q11<999),'Months 1-6'!Q11,\"\")","v":""},{"$f":"IF(AND('Months 1-6'!T11>0,'Months 1-6'!T11<999),'Months 1-6'!T11,\"\")","v":""},{"$f":"IF(AND('Months 1-6'!W11>0,'Months 1-6'!W11<999),'Months 1-6'!W11,\"\")","v":""},{"$f":"IF(AND('Months 1-6'!Z11>0,'Months 1-6'!Z11<999),'Months 1-6'!Z11,\"\")","v":""},{"$f":"IF(AND('Months 1-6'!AC11>0,'Months 1-6'!AC11<999),'Months 1-6'!AC11,\"\")","v":""},{"$f":"IF(AND('Months 1-6'!AF11>0,'Months 1-6'!AF11<999),'Months 1-6'!AF11,\"\")","v":""},{"$f":"IF(AND('Months 1-6'!AI11>0,'Months 1-6'!AI11<999),'Months 1-6'!AI11,\"\")","v":""},{"$f":"IF(AND('Months 1-6'!AL11>0,'Months 1-6'!AL11<999),'Months 1-6'!AL11,\"\")","v":""},{"$f":"IF(AND('Months 1-6'!AO11>0,'Months 1-6'!AO11<999),'Months 1-6'!AO11,\"\")","v":""},{"$f":"IF(AND('Months 1-6'!AR11>0,'Months 1-6'!AR11<999),'Months 1-6'!AR11,\"\")","v":""},{"$f":"IF(AND('Months 1-6'!AU11>0,'Months 1-6'!AU11<999),'Months 1-6'!AU11,\"\")","v":""},{"$f":"IF(AND('Months 1-6'!AX11>0,'Months 1-6'!AX11<999),'Months 1-6'!AX11,\"\")","v":""},{"$f":"IF(AND('Months 1-6'!BA11>0,'Months 1-6'!BA11<999),'Months 1-6'!BA11,\"\")","v":""},{"$f":"IF(AND('Months 1-6'!BD11>0,'Months 1-6'!BD11<999),'Months 1-6'!BD11,\"\")","v":""},{"$f":"IF(AND('Months 1-6'!BG11>0,'Months 1-6'!BG11<999),'Months 1-6'!BG11,\"\")","v":""},{"$f":"IF(AND('Months 1-6'!BJ11>0,'Months 1-6'!BJ11<999),'Months 1-6'!BJ11,\"\")","v":""},{"$f":"IF(AND('Months 1-6'!BM11>0,'Months 1-6'!BM11<999),'Months 1-6'!BM11,\"\")","v":""},{"$f":"IF(AND('Months 1-6'!BP11>0,'Months 1-6'!BP11<999),'Months 1-6'!BP11,\"\")","v":""},{"$f":"IF(AND('Months 1-6'!BS11>0,'Months 1-6'!BS11<999),'Months 1-6'!BS11,\"\")","v":""},{"$f":"IF(AND('Months 1-6'!BV11>0,'Months 1-6'!BV11<999),'Months 1-6'!BV11,\"\")","v":""},{"$f":"IF(AND('Months 1-6'!BY11>0,'Months 1-6'!BY11<999),'Months 1-6'!BY11,\"\")","v":""},{"$f":"IF(AND('Months 1-6'!CB11>0,'Months 1-6'!CB11<999),'Months 1-6'!CB11,\"\")","v":""},{"$f":"IF(AND('Months 1-6'!CE11>0,'Months 1-6'!CE11<999),'Months 1-6'!CE11,\"\")","v":""},{"$f":"IF(AND('Months 1-6'!CH11>0,'Months 1-6'!CH11<999),'Months 1-6'!CH11,\"\")","v":""},{"$f":"IF(AND('Months 1-6'!CK11>0,'Months 1-6'!CK11<999),'Months 1-6'!CK11,\"\")","v":""},{"$f":"IF(AND('Months 1-6'!CN11>0,'Months 1-6'!CN11<999),'Months 1-6'!CN11,\"\")","v":""}]
["Week 5",{"$f":"IF(AND('Months 1-6'!E12>0,'Months 1-6'!E12<999),'Months 1-6'!E12,\"\")","v":""},{"$f":"IF(AND('Months 1-6'!H12>0,'Months 1-6'!H12<999),'Months 1-6'!H12,\"\")","v":""},{"$f":"IF(AND('Months 1-6'!K12>0,'Months 1-6'!K12<999),'Months 1-6'!K12,\"\")","v":""},{"$f":"IF(AND('Months 1-6'!N12>0,'Months 1-6'!N12<999),'Months 1-6'!N12,\"\")","v":""},{"$f":"IF(AND('Months 1-6'!Q12>0,'Months 1-6'!Q12<999),'Months 1-6'!Q12,\"\")","v":""},{"$f":"IF(AND('Months 1-6'!T12>0,'Months 1-6'!T12<999),'Months 1-6'!T12,\"\")","v":""},{"$f":"IF(AND('Months 1-6'!W12>0,'Months 1-6'!W12<999),'Months 1-6'!W12,\"\")","v":""},{"$f":"IF(AND('Months 1-6'!Z12>0,'Months 1-6'!Z12<999),'Months 1-6'!Z12,\"\")","v":""},{"$f":"IF(AND('Months 1-6'!AC12>0,'Months 1-6'!AC12<999),'Months 1-6'!AC12,\"\")","v":""},{"$f":"IF(AND('Months 1-6'!AF12>0,'Months 1-6'!AF12<999),'Months 1-6'!AF12,\"\")","v":""},{"$f":"IF(AND('Months 1-6'!AI12>0,'Months 1-6'!AI12<999),'Months 1-6'!AI12,\"\")","v":""},{"$f":"IF(AND('Months 1-6'!AL12>0,'Months 1-6'!AL12<999),'Months 1-6'!AL12,\"\")","v":""},{"$f":"IF(AND('Months 1-6'!AO12>0,'Months 1-6'!AO12<999),'Months 1-6'!AO12,\"\")","v":""},{"$f":"IF(AND('Months 1-6'!AR12>0,'Months 1-6'!AR12<999),'Months 1-6'!AR12,\"\")","v":""},{"$f":"IF(AND('Months 1-6'!AU12>0,'Months 1-6'!AU12<999),'Months 1-6'!AU12,\"\")","v":""},{"$f":"IF(AND('Months 1-6'!AX12>0,'Months 1-6'!AX12<999),'Months 1-6'!AX12,\"\")","v":""},{"$f":"IF(AND('Months 1-6'!BA12>0,'Months 1-6'!BA12<999),'Months 1-6'!BA12,\"\")","v":""},{"$f":"IF(AND('Months 1-6'!BD12>0,'Months 1-6'!BD12<999),'Months 1-6'!BD12,\"\")","v":""},{"$f":"IF(AND('Months 1-6'!BG12>0,'Months 1-6'!BG12<999),'Months 1-6'!BG12,\"\")","v":""},{"$f":"IF(AND('Months 1-6'!BJ12>0,'Months 1-6'!BJ12<999),'Months 1-6'!BJ12,\"\")","v":""},{"$f":"IF(AND('Months 1-6'!BM12>0,'Months 1-6'!BM12<999),'Months 1-6'!BM12,\"\")","v":""},{"$f":"IF(AND('Months 1-6'!BP12>0,'Months 1-6'!BP12<999),'Months 1-6'!BP12,\"\")","v":""},{"$f":"IF(AND('Months 1-6'!BS12>0,'Months 1-6'!BS12<999),'Months 1-6'!BS12,\"\")","v":""},{"$f":"IF(AND('Months 1-6'!BV12>0,'Months 1-6'!BV12<999),'Months 1-6'!BV12,\"\")","v":""},{"$f":"IF(AND('Months 1-6'!BY12>0,'Months 1-6'!BY12<999),'Months 1-6'!BY12,\"\")","v":""},{"$f":"IF(AND('Months 1-6'!CB12>0,'Months 1-6'!CB12<999),'Months 1-6'!CB12,\"\")","v":""},{"$f":"IF(AND('Months 1-6'!CE12>0,'Months 1-6'!CE12<999),'Months 1-6'!CE12,\"\")","v":""},{"$f":"IF(AND('Months 1-6'!CH12>0,'Months 1-6'!CH12<999),'Months 1-6'!CH12,\"\")","v":""},{"$f":"IF(AND('Months 1-6'!CK12>0,'Months 1-6'!CK12<999),'Months 1-6'!CK12,\"\")","v":""},{"$f":"IF(AND('Months 1-6'!CN12>0,'Months 1-6'!CN12<999),'Months 1-6'!CN12,\"\")","v":""}]
["Month 2",{"$f":"IF(AND('Months 1-6'!E13>0,'Months 1-6'!E13<999),'Months 1-6'!E13,\"\")","v":""},{"$f":"IF(AND('Months 1-6'!H13>0,'Months 1-6'!H13<999),'Months 1-6'!H13,\"\")","v":""},{"$f":"IF(AND('Months 1-6'!K13>0,'Months 1-6'!K13<999),'Months 1-6'!K13,\"\")","v":""},{"$f":"IF(AND('Months 1-6'!N13>0,'Months 1-6'!N13<999),'Months 1-6'!N13,\"\")","v":""},{"$f":"IF(AND('Months 1-6'!Q13>0,'Months 1-6'!Q13<999),'Months 1-6'!Q13,\"\")","v":""},{"$f":"IF(AND('Months 1-6'!T13>0,'Months 1-6'!T13<999),'Months 1-6'!T13,\"\")","v":""},{"$f":"IF(AND('Months 1-6'!W13>0,'Months 1-6'!W13<999),'Months 1-6'!W13,\"\")","v":""},{"$f":"IF(AND('Months 1-6'!Z13>0,'Months 1-6'!Z13<999),'Months 1-6'!Z13,\"\")","v":""},{"$f":"IF(AND('Months 1-6'!AC13>0,'Months 1-6'!AC13<999),'Months 1-6'!AC13,\"\")","v":""},{"$f":"IF(AND('Months 1-6'!AF13>0,'Months 1-6'!AF13<999),'Months 1-6'!AF13,\"\")","v":""},{"$f":"IF(AND('Months 1-6'!AI13>0,'Months 1-6'!AI13<999),'Months 1-6'!AI13,\"\")","v":""},{"$f":"IF(AND('Months 1-6'!AL13>0,'Months 1-6'!AL13<999),'Months 1-6'!AL13,\"\")","v":""},{"$f":"IF(AND('Months 1-6'!AO13>0,'Months 1-6'!AO13<999),'Months 1-6'!AO13,\"\")","v":""},{"$f":"IF(AND('Months 1-6'!AR13>0,'Months 1-6'!AR13<999),'Months 1-6'!AR13,\"\")","v":""},{"$f":"IF(AND('Months 1-6'!AU13>0,'Months 1-6'!AU13<999),'Months 1-6'!AU13,\"\")","v":""},{"$f":"IF(AND('Months 1-6'!AX13>0,'Months 1-6'!AX13<999),'Months 1-6'!AX13,\"\")","v":""},{"$f":"IF(AND('Months 1-6'!BA13>0,'Months 1-6'!BA13<999),'Months 1-6'!BA13,\"\")","v":""},{"$f":"IF(AND('Months 1-6'!BD13>0,'Months 1-6'!BD13<999),'Months 1-6'!BD13,\"\")","v":""},{"$f":"IF(AND('Months 1-6'!BG13>0,'Months 1-6'!BG13<999),'Months 1-6'!BG13,\"\")","v":""},{"$f":"IF(AND('Months 1-6'!BJ13>0,'Months 1-6'!BJ13<999),'Months 1-6'!BJ13,\"\")","v":""},{"$f":"IF(AND('Months 1-6'!BM13>0,'Months 1-6'!BM13<999),'Months 1-6'!BM13,\"\")","v":""},{"$f":"IF(AND('Months 1-6'!BP13>0,'Months 1-6'!BP13<999),'Months 1-6'!BP13,\"\")","v":""},{"$f":"IF(AND('Months 1-6'!BS13>0,'Months 1-6'!BS13<999),'Months 1-6'!BS13,\"\")","v":""},{"$f":"IF(AND('Months 1-6'!BV13>0,'Months 1-6'!BV13<999),'Months 1-6'!BV13,\"\")","v":""},{"$f":"IF(AND('Months 1-6'!BY13>0,'Months 1-6'!BY13<999),'Months 1-6'!BY13,\"\")","v":""},{"$f":"IF(AND('Months 1-6'!CB13>0,'Months 1-6'!CB13<999),'Months 1-6'!CB13,\"\")","v":""},{"$f":"IF(AND('Months 1-6'!CE13>0,'Months 1-6'!CE13<999),'Months 1-6'!CE13,\"\")","v":""},{"$f":"IF(AND('Months 1-6'!CH13>0,'Months 1-6'!CH13<999),'Months 1-6'!CH13,\"\")","v":""},{"$f":"IF(AND('Months 1-6'!CK13>0,'Months 1-6'!CK13<999),'Months 1-6'!CK13,\"\")","v":""},{"$f":"IF(AND('Months 1-6'!CN13>0,'Months 1-6'!CN13<999),'Months 1-6'!CN13,\"\")","v":""}]
["Week 1",{"$f":"IF(AND('Months 1-6'!E14>0,'Months 1-6'!E14<999),'Months 1-6'!E14,\"\")","v":""},{"$f":"IF(AND('Months 1-6'!H14>0,'Months 1-6'!H14<999),'Months 1-6'!H14,\"\")","v":""},{"$f":"IF(AND('Months 1-6'!K14>0,'Months 1-6'!K14<999),'Months 1-6'!K14,\"\")","v":""},{"$f":"IF(AND('Months 1-6'!N14>0,'Months 1-6'!N14<999),'Months 1-6'!N14,\"\")","v":""},{"$f":"IF(AND('Months 1-6'!Q14>0,'Months 1-6'!Q14<999),'Months 1-6'!Q14,\"\")","v":""},{"$f":"IF(AND('Months 1-6'!T14>0,'Months 1-6'!T14<999),'Months 1-6'!T14,\"\")","v":""},{"$f":"IF(AND('Months 1-6'!W14>0,'Months 1-6'!W14<999),'Months 1-6'!W14,\"\")","v":""},{"$f":"IF(AND('Months 1-6'!Z14>0,'Months 1-6'!Z14<999),'Months 1-6'!Z14,\"\")","v":""},{"$f":"IF(AND('Months 1-6'!AC14>0,'Months 1-6'!AC14<999),'Months 1-6'!AC14,\"\")","v":""},{"$f":"IF(AND('Months 1-6'!AF14>0,'Months 1-6'!AF14<999),'Months 1-6'!AF14,\"\")","v":""},{"$f":"IF(AND('Months 1-6'!AI14>0,'Months 1-6'!AI14<999),'Months 1-6'!AI14,\"\")","v":""},{"$f":"IF(AND('Months 1-6'!AL14>0,'Months 1-6'!AL14<999),'Months 1-6'!AL14,\"\")","v":""},{"$f":"IF(AND('Months 1-6'!AO14>0,'Months 1-6'!AO14<999),'Months 1-6'!AO14,\"\")","v":""},{"$f":"IF(AND('Months 1-6'!AR14>0,'Months 1-6'!AR14<999),'Months 1-6'!AR14,\"\")","v":""},{"$f":"IF(AND('Months 1-6'!AU14>0,'Months 1-6'!AU14<999),'Months 1-6'!AU14,\"\")","v":""},{"$f":"IF(AND('Months 1-6'!AX14>0,'Months 1-6'!AX14<999),'Months 1-6'!AX14,\"\")","v":""},{"$f":"IF(AND('Months 1-6'!BA14>0,'Months 1-6'!BA14<999),'Months 1-6'!BA14,\"\")","v":""},{"$f":"IF(AND('Months 1-6'!BD14>0,'Months 1-6'!BD14<999),'Months 1-6'!BD14,\"\")","v":""},{"$f":"IF(AND('Months 1-6'!BG14>0,'Months 1-6'!BG14<999),'Months 1-6'!BG14,\"\")","v":""},{"$f":"IF(AND('Months 1-6'!BJ14>0,'Months 1-6'!BJ14<999),'Months 1-6'!BJ14,\"\")","v":""},{"$f":"IF(AND('Months 1-6'!BM14>0,'Months 1-6'!BM14<999),'Months 1-6'!BM14,\"\")","v":""},{"$f":"IF(AND('Months 1-6'!BP14>0,'Months 1-6'!BP14<999),'Months 1-6'!BP14,\"\")","v":""},{"$f":"IF(AND('Months 1-6'!BS14>0,'Months 1-6'!BS14<999),'Months 1-6'!BS14,\"\")","v":""},{"$f":"IF(AND('Months 1-6'!BV14>0,'Months 1-6'!BV14<999),'Months 1-6'!BV14,\"\")","v":""},{"$f":"IF(AND('Months 1-6'!BY14>0,'Months 1-6'!BY14<999),'Months 1-6'!BY14,\"\")","v":""},{"$f":"IF(AND('Months 1-6'!CB14>0,'Months 1-6'!CB14<999),'Months 1-6'!CB14,\"\")","v":""},{"$f":"IF(AND('Months 1-6'!CE14>0,'Months 1-6'!CE14<999),'Months 1-6'!CE14,\"\")","v":""},{"$f":"IF(AND('Months 1-6'!CH14>0,'Months 1-6'!CH14<999),'Months 1-6'!CH14,\"\")","v":""},{"$f":"IF(AND('Months 1-6'!CK14>0,'Months 1-6'!CK14<999),'Months 1-6'!CK14,\"\")","v":""},{"$f":"IF(AND('Months 1-6'!CN14>0,'Months 1-6'!CN14<999),'Months 1-6'!CN14,\"\")","v":""}]
["Week 2",{"$f":"IF(AND('Months 1-6'!E15>0,'Months 1-6'!E15<999),'Months 1-6'!E15,\"\")","v":""},{"$f":"IF(AND('Months 1-6'!H15>0,'Months 1-6'!H15<999),'Months 1-6'!H15,\"\")","v":""},{"$f":"IF(AND('Months 1-6'!K15>0,'Months 1-6'!K15<999),'Months 1-6'!K15,\"\")","v":""},{"$f":"IF(AND('Months 1-6'!N15>0,'Months 1-6'!N15<999),'Months 1-6'!N15,\"\")","v":""},{"$f":"IF(AND('Months 1-6'!Q15>0,'Months 1-6'!Q15<999),'Months 1-6'!Q15,\"\")","v":""},{"$f":"IF(AND('Months 1-6'!T15>0,'Months 1-6'!T15<999),'Months 1-6'!T15,\"\")","v":""},{"$f":"IF(AND('Months 1-6'!W15>0,'Months 1-6'!W15<999),'Months 1-6'!W15,\"\")","v":""},{"$f":"IF(AND('Months 1-6'!Z15>0,'Months 1-6'!Z15<999),'Months 1-6'!Z15,\"\")","v":""},{"$f":"IF(AND('Months 1-6'!AC15>0,'Months 1-6'!AC15<999),'Months 1-6'!AC15,\"\")","v":""},{"$f":"IF(AND('Months 1-6'!AF15>0,'Months 1-6'!AF15<999),'Months 1-6'!AF15,\"\")","v":""},{"$f":"IF(AND('Months 1-6'!AI15>0,'Months 1-6'!AI15<999),'Months 1-6'!AI15,\"\")","v":""},{"$f":"IF(AND('Months 1-6'!AL15>0,'Months 1-6'!AL15<999),'Months 1-6'!AL15,\"\")","v":""},{"$f":"IF(AND('Months 1-6'!AO15>0,'Months 1-6'!AO15<999),'Months 1-6'!AO15,\"\")","v":""},{"$f":"IF(AND('Months 1-6'!AR15>0,'Months 1-6'!AR15<999),'Months 1-6'!AR15,\"\")","v":""},{"$f":"IF(AND('Months 1-6'!AU15>0,'Months 1-6'!AU15<999),'Months 1-6'!AU15,\"\")","v":""},{"$f":"IF(AND('Months 1-6'!AX15>0,'Months 1-6'!AX15<999),'Months 1-6'!AX15,\"\")","v":""},{"$f":"IF(AND('Months 1-6'!BA15>0,'Months 1-6'!BA15<999),'Months 1-6'!BA15,\"\")","v":""},{"$f":"IF(AND('Months 1-6'!BD15>0,'Months 1-6'!BD15<999),'Months 1-6'!BD15,\"\")","v":""},{"$f":"IF(AND('Months 1-6'!BG15>0,'Months 1-6'!BG15<999),'Months 1-6'!BG15,\"\")","v":""},{"$f":"IF(AND('Months 1-6'!BJ15>0,'Months 1-6'!BJ15<999),'Months 1-6'!BJ15,\"\")","v":""},{"$f":"IF(AND('Months 1-6'!BM15>0,'Months 1-6'!BM15<999),'Months 1-6'!BM15,\"\")","v":""},{"$f":"IF(AND('Months 1-6'!BP15>0,'Months 1-6'!BP15<999),'Months 1-6'!BP15,\"\")","v":""},{"$f":"IF(AND('Months 1-6'!BS15>0,'Months 1-6'!BS15<999),'Months 1-6'!BS15,\"\")","v":""},{"$f":"IF(AND('Months 1-6'!BV15>0,'Months 1-6'!BV15<999),'Months 1-6'!BV15,\"\")","v":""},{"$f":"IF(AND('Months 1-6'!BY15>0,'Months 1-6'!BY15<999),'Months 1-6'!BY15,\"\")","v":""},{"$f":"IF(AND('Months 1-6'!CB15>0,'Months 1-6'!CB15<999),'Months 1-6'!CB15,\"\")","v":""},{"$f":"IF(AND('Months 1-6'!CE15>0,'Months 1-6'!CE15<999),'Months 1-6'!CE15,\"\")","v":""},{"$f":"IF(AND('Months 1-6'!CH15>0,'Months 1-6'!CH15<999),'Months 1-6'!CH15,\"\")","v":""},{"$f":"IF(AND('Months 1-6'!CK15>0,'Months 1-6'!CK15<999),'Months 1-6'!CK15,\"\")","v":""},{"$f":"IF(AND('Months 1-6'!CN15>0,'Months 1-6'!CN15<999),'Months 1-6'!CN15,\"\")","v":""}]
["Week 3",{"$f":"IF(AND('Months 1-6'!E16>0,'Months 1-6'!E16<999),'Months 1-6'!E16,\"\")","v":""},{"$f":"IF(AND('Months 1-6'!H16>0,'Months 1-6'!H16<999),'Months 1-6'!H16,\"\")","v":""},{"$f":"IF(AND('Months 1-6'!K16>0,'Months 1-6'!K16<999),'Months 1-6'!K16,\"\")","v":""},{"$f":"IF(AND('Months 1-6'!N16>0,'Months 1-6'!N16<999),'Months 1-6'!N16,\"\")","v":""},{"$f":"IF(AND('Months 1-6'!Q16>0,'Months 1-6'!Q16<999),'Months 1-6'!Q16,\"\")","v":""},{"$f":"IF(AND('Months 1-6'!T16>0,'Months 1-6'!T16<999),'Months 1-6'!T16,\"\")","v":""},{"$f":"IF(AND('Months 1-6'!W16>0,'Months 1-6'!W16<999),'Months 1-6'!W16,\"\")","v":""},{"$f":"IF(AND('Months 1-6'!Z16>0,'Months 1-6'!Z16<999),'Months 1-6'!Z16,\"\")","v":""},{"$f":"IF(AND('Months 1-6'!AC16>0,'Months 1-6'!AC16<999),'Months 1-6'!AC16,\"\")","v":""},{"$f":"IF(AND('Months 1-6'!AF16>0,'Months 1-6'!AF16<999),'Months 1-6'!AF16,\"\")","v":""},{"$f":"IF(AND('Months 1-6'!AI16>0,'Months 1-6'!AI16<999),'Months 1-6'!AI16,\"\")","v":""},{"$f":"IF(AND('Months 1-6'!AL16>0,'Months 1-6'!AL16<999),'Months 1-6'!AL16,\"\")","v":""},{"$f":"IF(AND('Months 1-6'!AO16>0,'Months 1-6'!AO16<999),'Months 1-6'!AO16,\"\")","v":""},{"$f":"IF(AND('Months 1-6'!AR16>0,'Months 1-6'!AR16<999),'Months 1-6'!AR16,\"\")","v":""},{"$f":"IF(AND('Months 1-6'!AU16>0,'Months 1-6'!AU16<999),'Months 1-6'!AU16,\"\")","v":""},{"$f":"IF(AND('Months 1-6'!AX16>0,'Months 1-6'!AX16<999),'Months 1-6'!AX16,\"\")","v":""},{"$f":"IF(AND('Months 1-6'!BA16>0,'Months 1-6'!BA16<999),'Months 1-6'!BA16,\"\")","v":""},{"$f":"IF(AND('Months 1-6'!BD16>0,'Months 1-6'!BD16<999),'Months 1-6'!BD16,\"\")","v":""},{"$f":"IF(AND('Months 1-6'!BG16>0,'Months 1-6'!BG16<999),'Months 1-6'!BG16,\"\")","v":""},{"$f":"IF(AND('Months 1-6'!BJ16>0,'Months 1-6'!BJ16<999),'Months 1-6'!BJ16,\"\")","v":""},{"$f":"IF(AND('Months 1-6'!BM16>0,'Months 1-6'!BM16<999),'Months 1-6'!BM16,\"\")","v":""},{"$f":"IF(AND('Months 1-6'!BP16>0,'Months 1-6'!BP16<999),'Months 1-6'!BP16,\"\")","v":""},{"$f":"IF(AND('Months 1-6'!BS16>0,'Months 1-6'!BS16<999),'Months 1-6'!BS16,\"\")","v":""},{"$f":"IF(AND('Months 1-6'!BV16>0,'Months 1-6'!BV16<999),'Months 1-6'!BV16,\"\")","v":""},{"$f":"IF(AND('Months 1-6'!BY16>0,'Months 1-6'!BY16<999),'Months 1-6'!BY16,\"\")","v":""},{"$f":"IF(AND('Months 1-6'!CB16>0,'Months 1-6'!CB16<999),'Months 1-6'!CB16,\"\")","v":""},{"$f":"IF(AND('Months 1-6'!CE16>0,'Months 1-6'!CE16<999),'Months 1-6'!CE16,\"\")","v":""},{"$f":"IF(AND('Months 1-6'!CH16>0,'Months 1-6'!CH16<999),'Months 1-6'!CH16,\"\")","v":""},{"$f":"IF(AND('Months 1-6'!CK16>0,'Months 1-6'!CK16<999),'Months 1-6'!CK16,\"\")","v":""},{"$f":"IF(AND('Months 1-6'!CN16>0,'Months 1-6'!CN16<999),'Months 1-6'!CN16,\"\")","v":""}]
["Week 4",{"$f":"IF(AND('Months 1-6'!E17>0,'Months 1-6'!E17<999),'Months 1-6'!E17,\"\")","v":""},{"$f":"IF(AND('Months 1-6'!H17>0,'Months 1-6'!H17<999),'Months 1-6'!H17,\"\")","v":""},{"$f":"IF(AND('Months 1-6'!K17>0,'Months 1-6'!K17<999),'Months 1-6'!K17,\"\")","v":""},{"$f":"IF(AND('Months 1-6'!N17>0,'Months 1-6'!N17<999),'Months 1-6'!N17,\"\")","v":""},{"$f":"IF(AND('Months 1-6'!Q17>0,'Months 1-6'!Q17<999),'Months 1-6'!Q17,\"\")","v":""},{"$f":"IF(AND('Months 1-6'!T17>0,'Months 1-6'!T17<999),'Months 1-6'!T17,\"\")","v":""},{"$f":"IF(AND('Months 1-6'!W17>0,'Months 1-6'!W17<999),'Months 1-6'!W17,\"\")","v":""},{"$f":"IF(AND('Months 1-6'!Z17>0,'Months 1-6'!Z17<999),'Months 1-6'!Z17,\"\")","v":""},{"$f":"IF(AND('Months 1-6'!AC17>0,'Months 1-6'!AC17<999),'Months 1-6'!AC17,\"\")","v":""},{"$f":"IF(AND('Months 1-6'!AF17>0,'Months 1-6'!AF17<999),'Months 1-6'!AF17,\"\")","v":""},{"$f":"IF(AND('Months 1-6'!AI17>0,'Months 1-6'!AI17<999),'Months 1-6'!AI17,\"\")","v":""},{"$f":"IF(AND('Months 1-6'!AL17>0,'Months 1-6'!AL17<999),'Months 1-6'!AL17,\"\")","v":""},{"$f":"IF(AND('Months 1-6'!AO17>0,'Months 1-6'!AO17<999),'Months 1-6'!AO17,\"\")","v":""},{"$f":"IF(AND('Months 1-6'!AR17>0,'Months 1-6'!AR17<999),'Months 1-6'!AR17,\"\")","v":""},{"$f":"IF(AND('Months 1-6'!AU17>0,'Months 1-6'!AU17<999),'Months 1-6'!AU17,\"\")","v":""},{"$f":"IF(AND('Months 1-6'!AX17>0,'Months 1-6'!AX17<999),'Months 1-6'!AX17,\"\")","v":""},{"$f":"IF(AND('Months 1-6'!BA17>0,'Months 1-6'!BA17<999),'Months 1-6'!BA17,\"\")","v":""},{"$f":"IF(AND('Months 1-6'!BD17>0,'Months 1-6'!BD17<999),'Months 1-6'!BD17,\"\")","v":""},{"$f":"IF(AND('Months 1-6'!BG17>0,'Months 1-6'!BG17<999),'Months 1-6'!BG17,\"\")","v":""},{"$f":"IF(AND('Months 1-6'!BJ17>0,'Months 1-6'!BJ17<999),'Months 1-6'!BJ17,\"\")","v":""},{"$f":"IF(AND('Months 1-6'!BM17>0,'Months 1-6'!BM17<999),'Months 1-6'!BM17,\"\")","v":""},{"$f":"IF(AND('Months 1-6'!BP17>0,'Months 1-6'!BP17<999),'Months 1-6'!BP17,\"\")","v":""},{"$f":"IF(AND('Months 1-6'!BS17>0,'Months 1-6'!BS17<999),'Months 1-6'!BS17,\"\")","v":""},{"$f":"IF(AND('Months 1-6'!BV17>0,'Months 1-6'!BV17<999),'Months 1-6'!BV17,\"\")","v":""},{"$f":"IF(AND('Months 1-6'!BY17>0,'Months 1-6'!BY17<999),'Months 1-6'!BY17,\"\")","v":""},{"$f":"IF(AND('Months 1-6'!CB17>0,'Months 1-6'!CB17<999),'Months 1-6'!CB17,\"\")","v":""},{"$f":"IF(AND('Months 1-6'!CE17>0,'Months 1-6'!CE17<999),'Months 1-6'!CE17,\"\")","v":""},{"$f":"IF(AND('Months 1-6'!CH17>0,'Months 1-6'!CH17<999),'Months 1-6'!CH17,\"\")","v":""},{"$f":"IF(AND('Months 1-6'!CK17>0,'Months 1-6'!CK17<999),'Months 1-6'!CK17,\"\")","v":""},{"$f":"IF(AND('Months 1-6'!CN17>0,'Months 1-6'!CN17<999),'Months 1-6'!CN17,\"\")","v":""}]
["Week 5",{"$f":"IF(AND('Months 1-6'!E18>0,'Months 1-6'!E18<999),'Months 1-6'!E18,\"\")","v":""},{"$f":"IF(AND('Months 1-6'!H18>0,'Months 1-6'!H18<999),'Months 1-6'!H18,\"\")","v":""},{"$f":"IF(AND('Months 1-6'!K18>0,'Months 1-6'!K18<999),'Months 1-6'!K18,\"\")","v":""},{"$f":"IF(AND('Months 1-6'!N18>0,'Months 1-6'!N18<999),'Months 1-6'!N18,\"\")","v":""},{"$f":"IF(AND('Months 1-6'!Q18>0,'Months 1-6'!Q18<999),'Months 1-6'!Q18,\"\")","v":""},{"$f":"IF(AND('Months 1-6'!T18>0,'Months 1-6'!T18<999),'Months 1-6'!T18,\"\")","v":""},{"$f":"IF(AND('Months 1-6'!W18>0,'Months 1-6'!W18<999),'Months 1-6'!W18,\"\")","v":""},{"$f":"IF(AND('Months 1-6'!Z18>0,'Months 1-6'!Z18<999),'Months 1-6'!Z18,\"\")","v":""},{"$f":"IF(AND('Months 1-6'!AC18>0,'Months 1-6'!AC18<999),'Months 1-6'!AC18,\"\")","v":""},{"$f":"IF(AND('Months 1-6'!AF18>0,'Months 1-6'!AF18<999),'Months 1-6'!AF18,\"\")","v":""},{"$f":"IF(AND('Months 1-6'!AI18>0,'Months 1-6'!AI18<999),'Months 1-6'!AI18,\"\")","v":""},{"$f":"IF(AND('Months 1-6'!AL18>0,'Months 1-6'!AL18<999),'Months 1-6'!AL18,\"\")","v":""},{"$f":"IF(AND('Months 1-6'!AO18>0,'Months 1-6'!AO18<999),'Months 1-6'!AO18,\"\")","v":""},{"$f":"IF(AND('Months 1-6'!AR18>0,'Months 1-6'!AR18<999),'Months 1-6'!AR18,\"\")","v":""},{"$f":"IF(AND('Months 1-6'!AU18>0,'Months 1-6'!AU18<999),'Months 1-6'!AU18,\"\")","v":""},{"$f":"IF(AND('Months 1-6'!AX18>0,'Months 1-6'!AX18<999),'Months 1-6'!AX18,\"\")","v":""},{"$f":"IF(AND('Months 1-6'!BA18>0,'Months 1-6'!BA18<999),'Months 1-6'!BA18,\"\")","v":""},{"$f":"IF(AND('Months 1-6'!BD18>0,'Months 1-6'!BD18<999),'Months 1-6'!BD18,\"\")","v":""},{"$f":"IF(AND('Months 1-6'!BG18>0,'Months 1-6'!BG18<999),'Months 1-6'!BG18,\"\")","v":""},{"$f":"IF(AND('Months 1-6'!BJ18>0,'Months 1-6'!BJ18<999),'Months 1-6'!BJ18,\"\")","v":""},{"$f":"IF(AND('Months 1-6'!BM18>0,'Months 1-6'!BM18<999),'Months 1-6'!BM18,\"\")","v":""},{"$f":"IF(AND('Months 1-6'!BP18>0,'Months 1-6'!BP18<999),'Months 1-6'!BP18,\"\")","v":""},{"$f":"IF(AND('Months 1-6'!BS18>0,'Months 1-6'!BS18<999),'Months 1-6'!BS18,\"\")","v":""},{"$f":"IF(AND('Months 1-6'!BV18>0,'Months 1-6'!BV18<999),'Months 1-6'!BV18,\"\")","v":""},{"$f":"IF(AND('Months 1-6'!BY18>0,'Months 1-6'!BY18<999),'Months 1-6'!BY18,\"\")","v":""},{"$f":"IF(AND('Months 1-6'!CB18>0,'Months 1-6'!CB18<999),'Months 1-6'!CB18,\"\")","v":""},{"$f":"IF(AND('Months 1-6'!CE18>0,'Months 1-6'!CE18<999),'Months 1-6'!CE18,\"\")","v":""},{"$f":"IF(AND('Months 1-6'!CH18>0,'Months 1-6'!CH18<999),'Months 1-6'!CH18,\"\")","v":""},{"$f":"IF(AND('Months 1-6'!CK18>0,'Months 1-6'!CK18<999),'Months 1-6'!CK18,\"\")","v":""},{"$f":"IF(AND('Months 1-6'!CN18>0,'Months 1-6'!CN18<999),'Months 1-6'!CN18,\"\")","v":""}]
["Month 3",{"$f":"IF(AND('Months 1-6'!E19>0,'Months 1-6'!E19<999),'Months 1-6'!E19,\"\")","v":""},{"$f":"IF(AND('Months 1-6'!H19>0,'Months 1-6'!H19<999),'Months 1-6'!H19,\"\")","v":""},{"$f":"IF(AND('Months 1-6'!K19>0,'Months 1-6'!K19<999),'Months 1-6'!K19,\"\")","v":""},{"$f":"IF(AND('Months 1-6'!N19>0,'Months 1-6'!N19<999),'Months 1-6'!N19,\"\")","v":""},{"$f":"IF(AND('Months 1-6'!Q19>0,'Months 1-6'!Q19<999),'Months 1-6'!Q19,\"\")","v":""},{"$f":"IF(AND('Months 1-6'!T19>0,'Months 1-6'!T19<999),'Months 1-6'!T19,\"\")","v":""},{"$f":"IF(AND('Months 1-6'!W19>0,'Months 1-6'!W19<999),'Months 1-6'!W19,\"\")","v":""},{"$f":"IF(AND('Months 1-6'!Z19>0,'Months 1-6'!Z19<999),'Months 1-6'!Z19,\"\")","v":""},{"$f":"IF(AND('Months 1-6'!AC19>0,'Months 1-6'!AC19<999),'Months 1-6'!AC19,\"\")","v":""},{"$f":"IF(AND('Months 1-6'!AF19>0,'Months 1-6'!AF19<999),'Months 1-6'!AF19,\"\")","v":""},{"$f":"IF(AND('Months 1-6'!AI19>0,'Months 1-6'!AI19<999),'Months 1-6'!AI19,\"\")","v":""},{"$f":"IF(AND('Months 1-6'!AL19>0,'Months 1-6'!AL19<999),'Months 1-6'!AL19,\"\")","v":""},{"$f":"IF(AND('Months 1-6'!AO19>0,'Months 1-6'!AO19<999),'Months 1-6'!AO19,\"\")","v":""},{"$f":"IF(AND('Months 1-6'!AR19>0,'Months 1-6'!AR19<999),'Months 1-6'!AR19,\"\")","v":""},{"$f":"IF(AND('Months 1-6'!AU19>0,'Months 1-6'!AU19<999),'Months 1-6'!AU19,\"\")","v":""},{"$f":"IF(AND('Months 1-6'!AX19>0,'Months 1-6'!AX19<999),'Months 1-6'!AX19,\"\")","v":""},{"$f":"IF(AND('Months 1-6'!BA19>0,'Months 1-6'!BA19<999),'Months 1-6'!BA19,\"\")","v":""},{"$f":"IF(AND('Months 1-6'!BD19>0,'Months 1-6'!BD19<999),'Months 1-6'!BD19,\"\")","v":""},{"$f":"IF(AND('Months 1-6'!BG19>0,'Months 1-6'!BG19<999),'Months 1-6'!BG19,\"\")","v":""},{"$f":"IF(AND('Months 1-6'!BJ19>0,'Months 1-6'!BJ19<999),'Months 1-6'!BJ19,\"\")","v":""},{"$f":"IF(AND('Months 1-6'!BM19>0,'Months 1-6'!BM19<999),'Months 1-6'!BM19,\"\")","v":""},{"$f":"IF(AND('Months 1-6'!BP19>0,'Months 1-6'!BP19<999),'Months 1-6'!BP19,\"\")","v":""},{"$f":"IF(AND('Months 1-6'!BS19>0,'Months 1-6'!BS19<999),'Months 1-6'!BS19,\"\")","v":""},{"$f":"IF(AND('Months 1-6'!BV19>0,'Months 1-6'!BV19<999),'Months 1-6'!BV19,\"\")","v":""},{"$f":"IF(AND('Months 1-6'!BY19>0,'Months 1-6'!BY19<999),'Months 1-6'!BY19,\"\")","v":""},{"$f":"IF(AND('Months 1-6'!CB19>0,'Months 1-6'!CB19<999),'Months 1-6'!CB19,\"\")","v":""},{"$f":"IF(AND('Months 1-6'!CE19>0,'Months 1-6'!CE19<999),'Months 1-6'!CE19,\"\")","v":""},{"$f":"IF(AND('Months 1-6'!CH19>0,'Months 1-6'!CH19<999),'Months 1-6'!CH19,\"\")","v":""},{"$f":"IF(AND('Months 1-6'!CK19>0,'Months 1-6'!CK19<999),'Months 1-6'!CK19,\"\")","v":""},{"$f":"IF(AND('Months 1-6'!CN19>0,'Months 1-6'!CN19<999),'Months 1-6'!CN19,\"\")","v":""}]
["Week 1",{"$f":"IF(AND('Months 1-6'!E20>0,'Months 1-6'!E20<999),'Months 1-6'!E20,\"\")","v":""},{"$f":"IF(AND('Months 1-6'!H20>0,'Months 1-6'!H20<999),'Months 1-6'!H20,\"\")","v":""},{"$f":"IF(AND('Months 1-6'!K20>0,'Months 1-6'!K20<999),'Months 1-6'!K20,\"\")","v":""},{"$f":"IF(AND('Months 1-6'!N20>0,'Months 1-6'!N20<999),'Months 1-6'!N20,\"\")","v":""},{"$f":"IF(AND('Months 1-6'!Q20>0,'Months 1-6'!Q20<999),'Months 1-6'!Q20,\"\")","v":""},{"$f":"IF(AND('Months 1-6'!T20>0,'Months 1-6'!T20<999),'Months 1-6'!T20,\"\")","v":""},{"$f":"IF(AND('Months 1-6'!W20>0,'Months 1-6'!W20<999),'Months 1-6'!W20,\"\")","v":""},{"$f":"IF(AND('Months 1-6'!Z20>0,'Months 1-6'!Z20<999),'Months 1-6'!Z20,\"\")","v":""},{"$f":"IF(AND('Months 1-6'!AC20>0,'Months 1-6'!AC20<999),'Months 1-6'!AC20,\"\")","v":""},{"$f":"IF(AND('Months 1-6'!AF20>0,'Months 1-6'!AF20<999),'Months 1-6'!AF20,\"\")","v":""},{"$f":"IF(AND('Months 1-6'!AI20>0,'Months 1-6'!AI20<999),'Months 1-6'!AI20,\"\")","v":""},{"$f":"IF(AND('Months 1-6'!AL20>0,'Months 1-6'!AL20<999),'Months 1-6'!AL20,\"\")","v":""},{"$f":"IF(AND('Months 1-6'!AO20>0,'Months 1-6'!AO20<999),'Months 1-6'!AO20,\"\")","v":""},{"$f":"IF(AND('Months 1-6'!AR20>0,'Months 1-6'!AR20<999),'Months 1-6'!AR20,\"\")","v":""},{"$f":"IF(AND('Months 1-6'!AU20>0,'Months 1-6'!AU20<999),'Months 1-6'!AU20,\"\")","v":""},{"$f":"IF(AND('Months 1-6'!AX20>0,'Months 1-6'!AX20<999),'Months 1-6'!AX20,\"\")","v":""},{"$f":"IF(AND('Months 1-6'!BA20>0,'Months 1-6'!BA20<999),'Months 1-6'!BA20,\"\")","v":""},{"$f":"IF(AND('Months 1-6'!BD20>0,'Months 1-6'!BD20<999),'Months 1-6'!BD20,\"\")","v":""},{"$f":"IF(AND('Months 1-6'!BG20>0,'Months 1-6'!BG20<999),'Months 1-6'!BG20,\"\")","v":""},{"$f":"IF(AND('Months 1-6'!BJ20>0,'Months 1-6'!BJ20<999),'Months 1-6'!BJ20,\"\")","v":""},{"$f":"IF(AND('Months 1-6'!BM20>0,'Months 1-6'!BM20<999),'Months 1-6'!BM20,\"\")","v":""},{"$f":"IF(AND('Months 1-6'!BP20>0,'Months 1-6'!BP20<999),'Months 1-6'!BP20,\"\")","v":""},{"$f":"IF(AND('Months 1-6'!BS20>0,'Months 1-6'!BS20<999),'Months 1-6'!BS20,\"\")","v":""},{"$f":"IF(AND('Months 1-6'!BV20>0,'Months 1-6'!BV20<999),'Months 1-6'!BV20,\"\")","v":""},{"$f":"IF(AND('Months 1-6'!BY20>0,'Months 1-6'!BY20<999),'Months 1-6'!BY20,\"\")","v":""},{"$f":"IF(AND('Months 1-6'!CB20>0,'Months 1-6'!CB20<999),'Months 1-6'!CB20,\"\")","v":""},{"$f":"IF(AND('Months 1-6'!CE20>0,'Months 1-6'!CE20<999),'Months 1-6'!CE20,\"\")","v":""},{"$f":"IF(AND('Months 1-6'!CH20>0,'Months 1-6'!CH20<999),'Months 1-6'!CH20,\"\")","v":""},{"$f":"IF(AND('Months 1-6'!CK20>0,'Months 1-6'!CK20<999),'Months 1-6'!CK20,\"\")","v":""},{"$f":"IF(AND('Months 1-6'!CN20>0,'Months 1-6'!CN20<999),'Months 1-6'!CN20,\"\")","v":""}]
["Week 2",{"$f":"IF(AND('Months 1-6'!E21>0,'Months 1-6'!E21<999),'Months 1-6'!E21,\"\")","v":""},{"$f":"IF(AND('Months 1-6'!H21>0,'Months 1-6'!H21<999),'Months 1-6'!H21,\"\")","v":""},{"$f":"IF(AND('Months 1-6'!K21>0,'Months 1-6'!K21<999),'Months 1-6'!K21,\"\")","v":""},{"$f":"IF(AND('Months 1-6'!N21>0,'Months 1-6'!N21<999),'Months 1-6'!N21,\"\")","v":""},{"$f":"IF(AND('Months 1-6'!Q21>0,'Months 1-6'!Q21<999),'Months 1-6'!Q21,\"\")","v":""},{"$f":"IF(AND('Months 1-6'!T21>0,'Months 1-6'!T21<999),'Months 1-6'!T21,\"\")","v":""},{"$f":"IF(AND('Months 1-6'!W21>0,'Months 1-6'!W21<999),'Months 1-6'!W21,\"\")","v":""},{"$f":"IF(AND('Months 1-6'!Z21>0,'Months 1-6'!Z21<999),'Months 1-6'!Z21,\"\")","v":""},{"$f":"IF(AND('Months 1-6'!AC21>0,'Months 1-6'!AC21<999),'Months 1-6'!AC21,\"\")","v":""},{"$f":"IF(AND('Months 1-6'!AF21>0,'Months 1-6'!AF21<999),'Months 1-6'!AF21,\"\")","v":""},{"$f":"IF(AND('Months 1-6'!AI21>0,'Months 1-6'!AI21<999),'Months 1-6'!AI21,\"\")","v":""},{"$f":"IF(AND('Months 1-6'!AL21>0,'Months 1-6'!AL21<999),'Months 1-6'!AL21,\"\")","v":""},{"$f":"IF(AND('Months 1-6'!AO21>0,'Months 1-6'!AO21<999),'Months 1-6'!AO21,\"\")","v":""},{"$f":"IF(AND('Months 1-6'!AR21>0,'Months 1-6'!AR21<999),'Months 1-6'!AR21,\"\")","v":""},{"$f":"IF(AND('Months 1-6'!AU21>0,'Months 1-6'!AU21<999),'Months 1-6'!AU21,\"\")","v":""},{"$f":"IF(AND('Months 1-6'!AX21>0,'Months 1-6'!AX21<999),'Months 1-6'!AX21,\"\")","v":""},{"$f":"IF(AND('Months 1-6'!BA21>0,'Months 1-6'!BA21<999),'Months 1-6'!BA21,\"\")","v":""},{"$f":"IF(AND('Months 1-6'!BD21>0,'Months 1-6'!BD21<999),'Months 1-6'!BD21,\"\")","v":""},{"$f":"IF(AND('Months 1-6'!BG21>0,'Months 1-6'!BG21<999),'Months 1-6'!BG21,\"\")","v":""},{"$f":"IF(AND('Months 1-6'!BJ21>0,'Months 1-6'!BJ21<999),'Months 1-6'!BJ21,\"\")","v":""},{"$f":"IF(AND('Months 1-6'!BM21>0,'Months 1-6'!BM21<999),'Months 1-6'!BM21,\"\")","v":""},{"$f":"IF(AND('Months 1-6'!BP21>0,'Months 1-6'!BP21<999),'Months 1-6'!BP21,\"\")","v":""},{"$f":"IF(AND('Months 1-6'!BS21>0,'Months 1-6'!BS21<999),'Months 1-6'!BS21,\"\")","v":""},{"$f":"IF(AND('Months 1-6'!BV21>0,'Months 1-6'!BV21<999),'Months 1-6'!BV21,\"\")","v":""},{"$f":"IF(AND('Months 1-6'!BY21>0,'Months 1-6'!BY21<999),'Months 1-6'!BY21,\"\")","v":""},{"$f":"IF(AND('Months 1-6'!CB21>0,'Months 1-6'!CB21<999),'Months 1-6'!CB21,\"\")","v":""},{"$f":"IF(AND('Months 1-6'!CE21>0,'Months 1-6'!CE21<999),'Months 1-6'!CE21,\"\")","v":""},{"$f":"IF(AND('Months 1-6'!CH21>0,'Months 1-6'!CH21<999),'Months 1-6'!CH21,\"\")","v":""},{"$f":"IF(AND('Months 1-6'!CK21>0,'Months 1-6'!CK21<999),'Months 1-6'!CK21,\"\")","v":""},{"$f":"IF(AND('Months 1-6'!CN21>0,'Months 1-6'!CN21<999),'Months 1-6'!CN21,\"\")","v":""}]
["Week 3",{"$f":"IF(AND('Months 1-6'!E22>0,'Months 1-6'!E22<999),'Months 1-6'!E22,\"\")","v":""},{"$f":"IF(AND('Months 1-6'!H22>0,'Months 1-6'!H22<999),'Months 1-6'!H22,\"\")","v":""},{"$f":"IF(AND('Months 1-6'!K22>0,'Months 1-6'!K22<999),'Months 1-6'!K22,\"\")","v":""},{"$f":"IF(AND('Months 1-6'!N22>0,'Months 1-6'!N22<999),'Months 1-6'!N22,\"\")","v":""},{"$f":"IF(AND('Months 1-6'!Q22>0,'Months 1-6'!Q22<999),'Months 1-6'!Q22,\"\")","v":""},{"$f":"IF(AND('Months 1-6'!T22>0,'Months 1-6'!T22<999),'Months 1-6'!T22,\"\")","v":""},{"$f":"IF(AND('Months 1-6'!W22>0,'Months 1-6'!W22<999),'Months 1-6'!W22,\"\")","v":""},{"$f":"IF(AND('Months 1-6'!Z22>0,'Months 1-6'!Z22<999),'Months 1-6'!Z22,\"\")","v":""},{"$f":"IF(AND('Months 1-6'!AC22>0,'Months 1-6'!AC22<999),'Months 1-6'!AC22,\"\")","v":""},{"$f":"IF(AND('Months 1-6'!AF22>0,'Months 1-6'!AF22<999),'Months 1-6'!AF22,\"\")","v":""},{"$f":"IF(AND('Months 1-6'!AI22>0,'Months 1-6'!AI22<999),'Months 1-6'!AI22,\"\")","v":""},{"$f":"IF(AND('Months 1-6'!AL22>0,'Months 1-6'!AL22<999),'Months 1-6'!AL22,\"\")","v":""},{"$f":"IF(AND('Months 1-6'!AO22>0,'Months 1-6'!AO22<999),'Months 1-6'!AO22,\"\")","v":""},{"$f":"IF(AND('Months 1-6'!AR22>0,'Months 1-6'!AR22<999),'Months 1-6'!AR22,\"\")","v":""},{"$f":"IF(AND('Months 1-6'!AU22>0,'Months 1-6'!AU22<999),'Months 1-6'!AU22,\"\")","v":""},{"$f":"IF(AND('Months 1-6'!AX22>0,'Months 1-6'!AX22<999),'Months 1-6'!AX22,\"\")","v":""},{"$f":"IF(AND('Months 1-6'!BA22>0,'Months 1-6'!BA22<999),'Months 1-6'!BA22,\"\")","v":""},{"$f":"IF(AND('Months 1-6'!BD22>0,'Months 1-6'!BD22<999),'Months 1-6'!BD22,\"\")","v":""},{"$f":"IF(AND('Months 1-6'!BG22>0,'Months 1-6'!BG22<999),'Months 1-6'!BG22,\"\")","v":""},{"$f":"IF(AND('Months 1-6'!BJ22>0,'Months 1-6'!BJ22<999),'Months 1-6'!BJ22,\"\")","v":""},{"$f":"IF(AND('Months 1-6'!BM22>0,'Months 1-6'!BM22<999),'Months 1-6'!BM22,\"\")","v":""},{"$f":"IF(AND('Months 1-6'!BP22>0,'Months 1-6'!BP22<999),'Months 1-6'!BP22,\"\")","v":""},{"$f":"IF(AND('Months 1-6'!BS22>0,'Months 1-6'!BS22<999),'Months 1-6'!BS22,\"\")","v":""},{"$f":"IF(AND('Months 1-6'!BV22>0,'Months 1-6'!BV22<999),'Months 1-6'!BV22,\"\")","v":""},{"$f":"IF(AND('Months 1-6'!BY22>0,'Months 1-6'!BY22<999),'Months 1-6'!BY22,\"\")","v":""},{"$f":"IF(AND('Months 1-6'!CB22>0,'Months 1-6'!CB22<999),'Months 1-6'!CB22,\"\")","v":""},{"$f":"IF(AND('Months 1-6'!CE22>0,'Months 1-6'!CE22<999),'Months 1-6'!CE22,\"\")","v":""},{"$f":"IF(AND('Months 1-6'!CH22>0,'Months 1-6'!CH22<999),'Months 1-6'!CH22,\"\")","v":""},{"$f":"IF(AND('Months 1-6'!CK22>0,'Months 1-6'!CK22<999),'Months 1-6'!CK22,\"\")","v":""},{"$f":"IF(AND('Months 1-6'!CN22>0,'Months 1-6'!CN22<999),'Months 1-6'!CN22,\"\")","v":""}]
["Week 4",{"$f":"IF(AND('Months 1-6'!E23>0,'Months 1-6'!E23<999),'Months 1-6'!E23,\"\")","v":""},{"$f":"IF(AND('Months 1-6'!H23>0,'Months 1-6'!H23<999),'Months 1-6'!H23,\"\")","v":""},{"$f":"IF(AND('Months 1-6'!K23>0,'Months 1-6'!K23<999),'Months 1-6'!K23,\"\")","v":""},{"$f":"IF(AND('Months 1-6'!N23>0,'Months 1-6'!N23<999),'Months 1-6'!N23,\"\")","v":""},{"$f":"IF(AND('Months 1-6'!Q23>0,'Months 1-6'!Q23<999),'Months 1-6'!Q23,\"\")","v":""},{"$f":"IF(AND('Months 1-6'!T23>0,'Months 1-6'!T23<999),'Months 1-6'!T23,\"\")","v":""},{"$f":"IF(AND('Months 1-6'!W23>0,'Months 1-6'!W23<999),'Months 1-6'!W23,\"\")","v":""},{"$f":"IF(AND('Months 1-6'!Z23>0,'Months 1-6'!Z23<999),'Months 1-6'!Z23,\"\")","v":""},{"$f":"IF(AND('Months 1-6'!AC23>0,'Months 1-6'!AC23<999),'Months 1-6'!AC23,\"\")","v":""},{"$f":"IF(AND('Months 1-6'!AF23>0,'Months 1-6'!AF23<999),'Months 1-6'!AF23,\"\")","v":""},{"$f":"IF(AND('Months 1-6'!AI23>0,'Months 1-6'!AI23<999),'Months 1-6'!AI23,\"\")","v":""},{"$f":"IF(AND('Months 1-6'!AL23>0,'Months 1-6'!AL23<999),'Months 1-6'!AL23,\"\")","v":""},{"$f":"IF(AND('Months 1-6'!AO23>0,'Months 1-6'!AO23<999),'Months 1-6'!AO23,\"\")","v":""},{"$f":"IF(AND('Months 1-6'!AR23>0,'Months 1-6'!AR23<999),'Months 1-6'!AR23,\"\")","v":""},{"$f":"IF(AND('Months 1-6'!AU23>0,'Months 1-6'!AU23<999),'Months 1-6'!AU23,\"\")","v":""},{"$f":"IF(AND('Months 1-6'!AX23>0,'Months 1-6'!AX23<999),'Months 1-6'!AX23,\"\")","v":""},{"$f":"IF(AND('Months 1-6'!BA23>0,'Months 1-6'!BA23<999),'Months 1-6'!BA23,\"\")","v":""},{"$f":"IF(AND('Months 1-6'!BD23>0,'Months 1-6'!BD23<999),'Months 1-6'!BD23,\"\")","v":""},{"$f":"IF(AND('Months 1-6'!BG23>0,'Months 1-6'!BG23<999),'Months 1-6'!BG23,\"\")","v":""},{"$f":"IF(AND('Months 1-6'!BJ23>0,'Months 1-6'!BJ23<999),'Months 1-6'!BJ23,\"\")","v":""},{"$f":"IF(AND('Months 1-6'!BM23>0,'Months 1-6'!BM23<999),'Months 1-6'!BM23,\"\")","v":""},{"$f":"IF(AND('Months 1-6'!BP23>0,'Months 1-6'!BP23<999),'Months 1-6'!BP23,\"\")","v":""},{"$f":"IF(AND('Months 1-6'!BS23>0,'Months 1-6'!BS23<999),'Months 1-6'!BS23,\"\")","v":""},{"$f":"IF(AND('Months 1-6'!BV23>0,'Months 1-6'!BV23<999),'Months 1-6'!BV23,\"\")","v":""},{"$f":"IF(AND('Months 1-6'!BY23>0,'Months 1-6'!BY23<999),'Months 1-6'!BY23,\"\")","v":""},{"$f":"IF(AND('Months 1-6'!CB23>0,'Months 1-6'!CB23<999),'Months 1-6'!CB23,\"\")","v":""},{"$f":"IF(AND('Months 1-6'!CE23>0,'Months 1-6'!CE23<999),'Months 1-6'!CE23,\"\")","v":""},{"$f":"IF(AND('Months 1-6'!CH23>0,'Months 1-6'!CH23<999),'Months 1-6'!CH23,\"\")","v":""},{"$f":"IF(AND('Months 1-6'!CK23>0,'Months 1-6'!CK23<999),'Months 1-6'!CK23,\"\")","v":""},{"$f":"IF(AND('Months 1-6'!CN23>0,'Months 1-6'!CN23<999),'Months 1-6'!CN23,\"\")","v":""}]
["Week 5",{"$f":"IF(AND('Months 1-6'!E24>0,'Months 1-6'!E24<999),'Months 1-6'!E24,\"\")","v":""},{"$f":"IF(AND('Months 1-6'!H24>0,'Months 1-6'!H24<999),'Months 1-6'!H24,\"\")","v":""},{"$f":"IF(AND('Months 1-6'!K24>0,'Months 1-6'!K24<999),'Months 1-6'!K24,\"\")","v":""},{"$f":"IF(AND('Months 1-6'!N24>0,'Months 1-6'!N24<999),'Months 1-6'!N24,\"\")","v":""},{"$f":"IF(AND('Months 1-6'!Q24>0,'Months 1-6'!Q24<999),'Months 1-6'!Q24,\"\")","v":""},{"$f":"IF(AND('Months 1-6'!T24>0,'Months 1-6'!T24<999),'Months 1-6'!T24,\"\")","v":""},{"$f":"IF(AND('Months 1-6'!W24>0,'Months 1-6'!W24<999),'Months 1-6'!W24,\"\")","v":""},{"$f":"IF(AND('Months 1-6'!Z24>0,'Months 1-6'!Z24<999),'Months 1-6'!Z24,\"\")","v":""},{"$f":"IF(AND('Months 1-6'!AC24>0,'Months 1-6'!AC24<999),'Months 1-6'!AC24,\"\")","v":""},{"$f":"IF(AND('Months 1-6'!AF24>0,'Months 1-6'!AF24<999),'Months 1-6'!AF24,\"\")","v":""},{"$f":"IF(AND('Months 1-6'!AI24>0,'Months 1-6'!AI24<999),'Months 1-6'!AI24,\"\")","v":""},{"$f":"IF(AND('Months 1-6'!AL24>0,'Months 1-6'!AL24<999),'Months 1-6'!AL24,\"\")","v":""},{"$f":"IF(AND('Months 1-6'!AO24>0,'Months 1-6'!AO24<999),'Months 1-6'!AO24,\"\")","v":""},{"$f":"IF(AND('Months 1-6'!AR24>0,'Months 1-6'!AR24<999),'Months 1-6'!AR24,\"\")","v":""},{"$f":"IF(AND('Months 1-6'!AU24>0,'Months 1-6'!AU24<999),'Months 1-6'!AU24,\"\")","v":""},{"$f":"IF(AND('Months 1-6'!AX24>0,'Months 1-6'!AX24<999),'Months 1-6'!AX24,\"\")","v":""},{"$f":"IF(AND('Months 1-6'!BA24>0,'Months 1-6'!BA24<999),'Months 1-6'!BA24,\"\")","v":""},{"$f":"IF(AND('Months 1-6'!BD24>0,'Months 1-6'!BD24<999),'Months 1-6'!BD24,\"\")","v":""},{"$f":"IF(AND('Months 1-6'!BG24>0,'Months 1-6'!BG24<999),'Months 1-6'!BG24,\"\")","v":""},{"$f":"IF(AND('Months 1-6'!BJ24>0,'Months 1-6'!BJ24<999),'Months 1-6'!BJ24,\"\")","v":""},{"$f":"IF(AND('Months 1-6'!BM24>0,'Months 1-6'!BM24<999),'Months 1-6'!BM24,\"\")","v":""},{"$f":"IF(AND('Months 1-6'!BP24>0,'Months 1-6'!BP24<999),'Months 1-6'!BP24,\"\")","v":""},{"$f":"IF(AND('Months 1-6'!BS24>0,'Months 1-6'!BS24<999),'Months 1-6'!BS24,\"\")","v":""},{"$f":"IF(AND('Months 1-6'!BV24>0,'Months 1-6'!BV24<999),'Months 1-6'!BV24,\"\")","v":""},{"$f":"IF(AND('Months 1-6'!BY24>0,'Months 1-6'!BY24<999),'Months 1-6'!BY24,\"\")","v":""},{"$f":"IF(AND('Months 1-6'!CB24>0,'Months 1-6'!CB24<999),'Months 1-6'!CB24,\"\")","v":""},{"$f":"IF(AND('Months 1-6'!CE24>0,'Months 1-6'!CE24<999),'Months 1-6'!CE24,\"\")","v":""},{"$f":"IF(AND('Months 1-6'!CH24>0,'Months 1-6'!CH24<999),'Months 1-6'!CH24,\"\")","v":""},{"$f":"IF(AND('Months 1-6'!CK24>0,'Months 1-6'!CK24<999),'Months 1-6'!CK24,\"\")","v":""},{"$f":"IF(AND('Months 1-6'!CN24>0,'Months 1-6'!CN24<999),'Months 1-6'!CN24,\"\")","v":""}]
["Month 4",{"$f":"IF(AND('Months 1-6'!E25>0,'Months 1-6'!E25<999),'Months 1-6'!E25,\"\")","v":""},{"$f":"IF(AND('Months 1-6'!H25>0,'Months 1-6'!H25<999),'Months 1-6'!H25,\"\")","v":""},{"$f":"IF(AND('Months 1-6'!K25>0,'Months 1-6'!K25<999),'Months 1-6'!K25,\"\")","v":""},{"$f":"IF(AND('Months 1-6'!N25>0,'Months 1-6'!N25<999),'Months 1-6'!N25,\"\")","v":""},{"$f":"IF(AND('Months 1-6'!Q25>0,'Months 1-6'!Q25<999),'Months 1-6'!Q25,\"\")","v":""},{"$f":"IF(AND('Months 1-6'!T25>0,'Months 1-6'!T25<999),'Months 1-6'!T25,\"\")","v":""},{"$f":"IF(AND('Months 1-6'!W25>0,'Months 1-6'!W25<999),'Months 1-6'!W25,\"\")","v":""},{"$f":"IF(AND('Months 1-6'!Z25>0,'Months 1-6'!Z25<999),'Months 1-6'!Z25,\"\")","v":""},{"$f":"IF(AND('Months 1-6'!AC25>0,'Months 1-6'!AC25<999),'Months 1-6'!AC25,\"\")","v":""},{"$f":"IF(AND('Months 1-6'!AF25>0,'Months 1-6'!AF25<999),'Months 1-6'!AF25,\"\")","v":""},{"$f":"IF(AND('Months 1-6'!AI25>0,'Months 1-6'!AI25<999),'Months 1-6'!AI25,\"\")","v":""},{"$f":"IF(AND('Months 1-6'!AL25>0,'Months 1-6'!AL25<999),'Months 1-6'!AL25,\"\")","v":""},{"$f":"IF(AND('Months 1-6'!AO25>0,'Months 1-6'!AO25<999),'Months 1-6'!AO25,\"\")","v":""},{"$f":"IF(AND('Months 1-6'!AR25>0,'Months 1-6'!AR25<999),'Months 1-6'!AR25,\"\")","v":""},{"$f":"IF(AND('Months 1-6'!AU25>0,'Months 1-6'!AU25<999),'Months 1-6'!AU25,\"\")","v":""},{"$f":"IF(AND('Months 1-6'!AX25>0,'Months 1-6'!AX25<999),'Months 1-6'!AX25,\"\")","v":""},{"$f":"IF(AND('Months 1-6'!BA25>0,'Months 1-6'!BA25<999),'Months 1-6'!BA25,\"\")","v":""},{"$f":"IF(AND('Months 1-6'!BD25>0,'Months 1-6'!BD25<999),'Months 1-6'!BD25,\"\")","v":""},{"$f":"IF(AND('Months 1-6'!BG25>0,'Months 1-6'!BG25<999),'Months 1-6'!BG25,\"\")","v":""},{"$f":"IF(AND('Months 1-6'!BJ25>0,'Months 1-6'!BJ25<999),'Months 1-6'!BJ25,\"\")","v":""},{"$f":"IF(AND('Months 1-6'!BM25>0,'Months 1-6'!BM25<999),'Months 1-6'!BM25,\"\")","v":""},{"$f":"IF(AND('Months 1-6'!BP25>0,'Months 1-6'!BP25<999),'Months 1-6'!BP25,\"\")","v":""},{"$f":"IF(AND('Months 1-6'!BS25>0,'Months 1-6'!BS25<999),'Months 1-6'!BS25,\"\")","v":""},{"$f":"IF(AND('Months 1-6'!BV25>0,'Months 1-6'!BV25<999),'Months 1-6'!BV25,\"\")","v":""},{"$f":"IF(AND('Months 1-6'!BY25>0,'Months 1-6'!BY25<999),'Months 1-6'!BY25,\"\")","v":""},{"$f":"IF(AND('Months 1-6'!CB25>0,'Months 1-6'!CB25<999),'Months 1-6'!CB25,\"\")","v":""},{"$f":"IF(AND('Months 1-6'!CE25>0,'Months 1-6'!CE25<999),'Months 1-6'!CE25,\"\")","v":""},{"$f":"IF(AND('Months 1-6'!CH25>0,'Months 1-6'!CH25<999),'Months 1-6'!CH25,\"\")","v":""},{"$f":"IF(AND('Months 1-6'!CK25>0,'Months 1-6'!CK25<999),'Months 1-6'!CK25,\"\")","v":""},{"$f":"IF(AND('Months 1-6'!CN25>0,'Months 1-6'!CN25<999),'Months 1-6'!CN25,\"\")","v":""}]
["Week 1",{"$f":"IF(AND('Months 1-6'!E26>0,'Months 1-6'!E26<999),'Months 1-6'!E26,\"\")","v":""},{"$f":"IF(AND('Months 1-6'!H26>0,'Months 1-6'!H26<999),'Months 1-6'!H26,\"\")","v":""},{"$f":"IF(AND('Months 1-6'!K26>0,'Months 1-6'!K26<999),'Months 1-6'!K26,\"\")","v":""},{"$f":"IF(AND('Months 1-6'!N26>0,'Months 1-6'!N26<999),'Months 1-6'!N26,\"\")","v":""},{"$f":"IF(AND('Months 1-6'!Q26>0,'Months 1-6'!Q26<999),'Months 1-6'!Q26,\"\")","v":""},{"$f":"IF(AND('Months 1-6'!T26>0,'Months 1-6'!T26<999),'Months 1-6'!T26,\"\")","v":""},{"$f":"IF(AND('Months 1-6'!W26>0,'Months 1-6'!W26<999),'Months 1-6'!W26,\"\")","v":""},{"$f":"IF(AND('Months 1-6'!Z26>0,'Months 1-6'!Z26<999),'Months 1-6'!Z26,\"\")","v":""},{"$f":"IF(AND('Months 1-6'!AC26>0,'Months 1-6'!AC26<999),'Months 1-6'!AC26,\"\")","v":""},{"$f":"IF(AND('Months 1-6'!AF26>0,'Months 1-6'!AF26<999),'Months 1-6'!AF26,\"\")","v":""},{"$f":"IF(AND('Months 1-6'!AI26>0,'Months 1-6'!AI26<999),'Months 1-6'!AI26,\"\")","v":""},{"$f":"IF(AND('Months 1-6'!AL26>0,'Months 1-6'!AL26<999),'Months 1-6'!AL26,\"\")","v":""},{"$f":"IF(AND('Months 1-6'!AO26>0,'Months 1-6'!AO26<999),'Months 1-6'!AO26,\"\")","v":""},{"$f":"IF(AND('Months 1-6'!AR26>0,'Months 1-6'!AR26<999),'Months 1-6'!AR26,\"\")","v":""},{"$f":"IF(AND('Months 1-6'!AU26>0,'Months 1-6'!AU26<999),'Months 1-6'!AU26,\"\")","v":""},{"$f":"IF(AND('Months 1-6'!AX26>0,'Months 1-6'!AX26<999),'Months 1-6'!AX26,\"\")","v":""},{"$f":"IF(AND('Months 1-6'!BA26>0,'Months 1-6'!BA26<999),'Months 1-6'!BA26,\"\")","v":""},{"$f":"IF(AND('Months 1-6'!BD26>0,'Months 1-6'!BD26<999),'Months 1-6'!BD26,\"\")","v":""},{"$f":"IF(AND('Months 1-6'!BG26>0,'Months 1-6'!BG26<999),'Months 1-6'!BG26,\"\")","v":""},{"$f":"IF(AND('Months 1-6'!BJ26>0,'Months 1-6'!BJ26<999),'Months 1-6'!BJ26,\"\")","v":""},{"$f":"IF(AND('Months 1-6'!BM26>0,'Months 1-6'!BM26<999),'Months 1-6'!BM26,\"\")","v":""},{"$f":"IF(AND('Months 1-6'!BP26>0,'Months 1-6'!BP26<999),'Months 1-6'!BP26,\"\")","v":""},{"$f":"IF(AND('Months 1-6'!BS26>0,'Months 1-6'!BS26<999),'Months 1-6'!BS26,\"\")","v":""},{"$f":"IF(AND('Months 1-6'!BV26>0,'Months 1-6'!BV26<999),'Months 1-6'!BV26,\"\")","v":""},{"$f":"IF(AND('Months 1-6'!BY26>0,'Months 1-6'!BY26<999),'Months 1-6'!BY26,\"\")","v":""},{"$f":"IF(AND('Months 1-6'!CB26>0,'Months 1-6'!CB26<999),'Months 1-6'!CB26,\"\")","v":""},{"$f":"IF(AND('Months 1-6'!CE26>0,'Months 1-6'!CE26<999),'Months 1-6'!CE26,\"\")","v":""},{"$f":"IF(AND('Months 1-6'!CH26>0,'Months 1-6'!CH26<999),'Months 1-6'!CH26,\"\")","v":""},{"$f":"IF(AND('Months 1-6'!CK26>0,'Months 1-6'!CK26<999),'Months 1-6'!CK26,\"\")","v":""},{"$f":"IF(AND('Months 1-6'!CN26>0,'Months 1-6'!CN26<999),'Months 1-6'!CN26,\"\")","v":""}]
["Week 2",{"$f":"IF(AND('Months 1-6'!E27>0,'Months 1-6'!E27<999),'Months 1-6'!E27,\"\")","v":""},{"$f":"IF(AND('Months 1-6'!H27>0,'Months 1-6'!H27<999),'Months 1-6'!H27,\"\")","v":""},{"$f":"IF(AND('Months 1-6'!K27>0,'Months 1-6'!K27<999),'Months 1-6'!K27,\"\")","v":""},{"$f":"IF(AND('Months 1-6'!N27>0,'Months 1-6'!N27<999),'Months 1-6'!N27,\"\")","v":""},{"$f":"IF(AND('Months 1-6'!Q27>0,'Months 1-6'!Q27<999),'Months 1-6'!Q27,\"\")","v":""},{"$f":"IF(AND('Months 1-6'!T27>0,'Months 1-6'!T27<999),'Months 1-6'!T27,\"\")","v":""},{"$f":"IF(AND('Months 1-6'!W27>0,'Months 1-6'!W27<999),'Months 1-6'!W27,\"\")","v":""},{"$f":"IF(AND('Months 1-6'!Z27>0,'Months 1-6'!Z27<999),'Months 1-6'!Z27,\"\")","v":""},{"$f":"IF(AND('Months 1-6'!AC27>0,'Months 1-6'!AC27<999),'Months 1-6'!AC27,\"\")","v":""},{"$f":"IF(AND('Months 1-6'!AF27>0,'Months 1-6'!AF27<999),'Months 1-6'!AF27,\"\")","v":""},{"$f":"IF(AND('Months 1-6'!AI27>0,'Months 1-6'!AI27<999),'Months 1-6'!AI27,\"\")","v":""},{"$f":"IF(AND('Months 1-6'!AL27>0,'Months 1-6'!AL27<999),'Months 1-6'!AL27,\"\")","v":""},{"$f":"IF(AND('Months 1-6'!AO27>0,'Months 1-6'!AO27<999),'Months 1-6'!AO27,\"\")","v":""},{"$f":"IF(AND('Months 1-6'!AR27>0,'Months 1-6'!AR27<999),'Months 1-6'!AR27,\"\")","v":""},{"$f":"IF(AND('Months 1-6'!AU27>0,'Months 1-6'!AU27<999),'Months 1-6'!AU27,\"\")","v":""},{"$f":"IF(AND('Months 1-6'!AX27>0,'Months 1-6'!AX27<999),'Months 1-6'!AX27,\"\")","v":""},{"$f":"IF(AND('Months 1-6'!BA27>0,'Months 1-6'!BA27<999),'Months 1-6'!BA27,\"\")","v":""},{"$f":"IF(AND('Months 1-6'!BD27>0,'Months 1-6'!BD27<999),'Months 1-6'!BD27,\"\")","v":""},{"$f":"IF(AND('Months 1-6'!BG27>0,'Months 1-6'!BG27<999),'Months 1-6'!BG27,\"\")","v":""},{"$f":"IF(AND('Months 1-6'!BJ27>0,'Months 1-6'!BJ27<999),'Months 1-6'!BJ27,\"\")","v":""},{"$f":"IF(AND('Months 1-6'!BM27>0,'Months 1-6'!BM27<999),'Months 1-6'!BM27,\"\")","v":""},{"$f":"IF(AND('Months 1-6'!BP27>0,'Months 1-6'!BP27<999),'Months 1-6'!BP27,\"\")","v":""},{"$f":"IF(AND('Months 1-6'!BS27>0,'Months 1-6'!BS27<999),'Months 1-6'!BS27,\"\")","v":""},{"$f":"IF(AND('Months 1-6'!BV27>0,'Months 1-6'!BV27<999),'Months 1-6'!BV27,\"\")","v":""},{"$f":"IF(AND('Months 1-6'!BY27>0,'Months 1-6'!BY27<999),'Months 1-6'!BY27,\"\")","v":""},{"$f":"IF(AND('Months 1-6'!CB27>0,'Months 1-6'!CB27<999),'Months 1-6'!CB27,\"\")","v":""},{"$f":"IF(AND('Months 1-6'!CE27>0,'Months 1-6'!CE27<999),'Months 1-6'!CE27,\"\")","v":""},{"$f":"IF(AND('Months 1-6'!CH27>0,'Months 1-6'!CH27<999),'Months 1-6'!CH27,\"\")","v":""},{"$f":"IF(AND('Months 1-6'!CK27>0,'Months 1-6'!CK27<999),'Months 1-6'!CK27,\"\")","v":""},{"$f":"IF(AND('Months 1-6'!CN27>0,'Months 1-6'!CN27<999),'Months 1-6'!CN27,\"\")","v":""}]
["Week 3",{"$f":"IF(AND('Months 1-6'!E28>0,'Months 1-6'!E28<999),'Months 1-6'!E28,\"\")","v":""},{"$f":"IF(AND('Months 1-6'!H28>0,'Months 1-6'!H28<999),'Months 1-6'!H28,\"\")","v":""},{"$f":"IF(AND('Months 1-6'!K28>0,'Months 1-6'!K28<999),'Months 1-6'!K28,\"\")","v":""},{"$f":"IF(AND('Months 1-6'!N28>0,'Months 1-6'!N28<999),'Months 1-6'!N28,\"\")","v":""},{"$f":"IF(AND('Months 1-6'!Q28>0,'Months 1-6'!Q28<999),'Months 1-6'!Q28,\"\")","v":""},{"$f":"IF(AND('Months 1-6'!T28>0,'Months 1-6'!T28<999),'Months 1-6'!T28,\"\")","v":""},{"$f":"IF(AND('Months 1-6'!W28>0,'Months 1-6'!W28<999),'Months 1-6'!W28,\"\")","v":""},{"$f":"IF(AND('Months 1-6'!Z28>0,'Months 1-6'!Z28<999),'Months 1-6'!Z28,\"\")","v":""},{"$f":"IF(AND('Months 1-6'!AC28>0,'Months 1-6'!AC28<999),'Months 1-6'!AC28,\"\")","v":""},{"$f":"IF(AND('Months 1-6'!AF28>0,'Months 1-6'!AF28<999),'Months 1-6'!AF28,\"\")","v":""},{"$f":"IF(AND('Months 1-6'!AI28>0,'Months 1-6'!AI28<999),'Months 1-6'!AI28,\"\")","v":""},{"$f":"IF(AND('Months 1-6'!AL28>0,'Months 1-6'!AL28<999),'Months 1-6'!AL28,\"\")","v":""},{"$f":"IF(AND('Months 1-6'!AO28>0,'Months 1-6'!AO28<999),'Months 1-6'!AO28,\"\")","v":""},{"$f":"IF(AND('Months 1-6'!AR28>0,'Months 1-6'!AR28<999),'Months 1-6'!AR28,\"\")","v":""},{"$f":"IF(AND('Months 1-6'!AU28>0,'Months 1-6'!AU28<999),'Months 1-6'!AU28,\"\")","v":""},{"$f":"IF(AND('Months 1-6'!AX28>0,'Months 1-6'!AX28<999),'Months 1-6'!AX28,\"\")","v":""},{"$f":"IF(AND('Months 1-6'!BA28>0,'Months 1-6'!BA28<999),'Months 1-6'!BA28,\"\")","v":""},{"$f":"IF(AND('Months 1-6'!BD28>0,'Months 1-6'!BD28<999),'Months 1-6'!BD28,\"\")","v":""},{"$f":"IF(AND('Months 1-6'!BG28>0,'Months 1-6'!BG28<999),'Months 1-6'!BG28,\"\")","v":""},{"$f":"IF(AND('Months 1-6'!BJ28>0,'Months 1-6'!BJ28<999),'Months 1-6'!BJ28,\"\")","v":""},{"$f":"IF(AND('Months 1-6'!BM28>0,'Months 1-6'!BM28<999),'Months 1-6'!BM28,\"\")","v":""},{"$f":"IF(AND('Months 1-6'!BP28>0,'Months 1-6'!BP28<999),'Months 1-6'!BP28,\"\")","v":""},{"$f":"IF(AND('Months 1-6'!BS28>0,'Months 1-6'!BS28<999),'Months 1-6'!BS28,\"\")","v":""},{"$f":"IF(AND('Months 1-6'!BV28>0,'Months 1-6'!BV28<999),'Months 1-6'!BV28,\"\")","v":""},{"$f":"IF(AND('Months 1-6'!BY28>0,'Months 1-6'!BY28<999),'Months 1-6'!BY28,\"\")","v":""},{"$f":"IF(AND('Months 1-6'!CB28>0,'Months 1-6'!CB28<999),'Months 1-6'!CB28,\"\")","v":""},{"$f":"IF(AND('Months 1-6'!CE28>0,'Months 1-6'!CE28<999),'Months 1-6'!CE28,\"\")","v":""},{"$f":"IF(AND('Months 1-6'!CH28>0,'Months 1-6'!CH28<999),'Months 1-6'!CH28,\"\")","v":""},{"$f":"IF(AND('Months 1-6'!CK28>0,'Months 1-6'!CK28<999),'Months 1-6'!CK28,\"\")","v":""},{"$f":"IF(AND('Months 1-6'!CN28>0,'Months 1-6'!CN28<999),'Months 1-6'!CN28,\"\")","v":""}]
["Week 4",{"$f":"IF(AND('Months 1-6'!E29>0,'Months 1-6'!E29<999),'Months 1-6'!E29,\"\")","v":""},{"$f":"IF(AND('Months 1-6'!H29>0,'Months 1-6'!H29<999),'Months 1-6'!H29,\"\")","v":""},{"$f":"IF(AND('Months 1-6'!K29>0,'Months 1-6'!K29<999),'Months 1-6'!K29,\"\")","v":""},{"$f":"IF(AND('Months 1-6'!N29>0,'Months 1-6'!N29<999),'Months 1-6'!N29,\"\")","v":""},{"$f":"IF(AND('Months 1-6'!Q29>0,'Months 1-6'!Q29<999),'Months 1-6'!Q29,\"\")","v":""},{"$f":"IF(AND('Months 1-6'!T29>0,'Months 1-6'!T29<999),'Months 1-6'!T29,\"\")","v":""},{"$f":"IF(AND('Months 1-6'!W29>0,'Months 1-6'!W29<999),'Months 1-6'!W29,\"\")","v":""},{"$f":"IF(AND('Months 1-6'!Z29>0,'Months 1-6'!Z29<999),'Months 1-6'!Z29,\"\")","v":""},{"$f":"IF(AND('Months 1-6'!AC29>0,'Months 1-6'!AC29<999),'Months 1-6'!AC29,\"\")","v":""},{"$f":"IF(AND('Months 1-6'!AF29>0,'Months 1-6'!AF29<999),'Months 1-6'!AF29,\"\")","v":""},{"$f":"IF(AND('Months 1-6'!AI29>0,'Months 1-6'!AI29<999),'Months 1-6'!AI29,\"\")","v":""},{"$f":"IF(AND('Months 1-6'!AL29>0,'Months 1-6'!AL29<999),'Months 1-6'!AL29,\"\")","v":""},{"$f":"IF(AND('Months 1-6'!AO29>0,'Months 1-6'!AO29<999),'Months 1-6'!AO29,\"\")","v":""},{"$f":"IF(AND('Months 1-6'!AR29>0,'Months 1-6'!AR29<999),'Months 1-6'!AR29,\"\")","v":""},{"$f":"IF(AND('Months 1-6'!AU29>0,'Months 1-6'!AU29<999),'Months 1-6'!AU29,\"\")","v":""},{"$f":"IF(AND('Months 1-6'!AX29>0,'Months 1-6'!AX29<999),'Months 1-6'!AX29,\"\")","v":""},{"$f":"IF(AND('Months 1-6'!BA29>0,'Months 1-6'!BA29<999),'Months 1-6'!BA29,\"\")","v":""},{"$f":"IF(AND('Months 1-6'!BD29>0,'Months 1-6'!BD29<999),'Months 1-6'!BD29,\"\")","v":""},{"$f":"IF(AND('Months 1-6'!BG29>0,'Months 1-6'!BG29<999),'Months 1-6'!BG29,\"\")","v":""},{"$f":"IF(AND('Months 1-6'!BJ29>0,'Months 1-6'!BJ29<999),'Months 1-6'!BJ29,\"\")","v":""},{"$f":"IF(AND('Months 1-6'!BM29>0,'Months 1-6'!BM29<999),'Months 1-6'!BM29,\"\")","v":""},{"$f":"IF(AND('Months 1-6'!BP29>0,'Months 1-6'!BP29<999),'Months 1-6'!BP29,\"\")","v":""},{"$f":"IF(AND('Months 1-6'!BS29>0,'Months 1-6'!BS29<999),'Months 1-6'!BS29,\"\")","v":""},{"$f":"IF(AND('Months 1-6'!BV29>0,'Months 1-6'!BV29<999),'Months 1-6'!BV29,\"\")","v":""},{"$f":"IF(AND('Months 1-6'!BY29>0,'Months 1-6'!BY29<999),'Months 1-6'!BY29,\"\")","v":""},{"$f":"IF(AND('Months 1-6'!CB29>0,'Months 1-6'!CB29<999),'Months 1-6'!CB29,\"\")","v":""},{"$f":"IF(AND('Months 1-6'!CE29>0,'Months 1-6'!CE29<999),'Months 1-6'!CE29,\"\")","v":""},{"$f":"IF(AND('Months 1-6'!CH29>0,'Months 1-6'!CH29<999),'Months 1-6'!CH29,\"\")","v":""},{"$f":"IF(AND('Months 1-6'!CK29>0,'Months 1-6'!CK29<999),'Months 1-6'!CK29,\"\")","v":""},{"$f":"IF(AND('Months 1-6'!CN29>0,'Months 1-6'!CN29<999),'Months 1-6'!CN29,\"\")","v":""}]
["Week 5",{"$f":"IF(AND('Months 1-6'!E30>0,'Months 1-6'!E30<999),'Months 1-6'!E30,\"\")","v":""},{"$f":"IF(AND('Months 1-6'!H30>0,'Months 1-6'!H30<999),'Months 1-6'!H30,\"\")","v":""},{"$f":"IF(AND('Months 1-6'!K30>0,'Months 1-6'!K30<999),'Months 1-6'!K30,\"\")","v":""},{"$f":"IF(AND('Months 1-6'!N30>0,'Months 1-6'!N30<999),'Months 1-6'!N30,\"\")","v":""},{"$f":"IF(AND('Months 1-6'!Q30>0,'Months 1-6'!Q30<999),'Months 1-6'!Q30,\"\")","v":""},{"$f":"IF(AND('Months 1-6'!T30>0,'Months 1-6'!T30<999),'Months 1-6'!T30,\"\")","v":""},{"$f":"IF(AND('Months 1-6'!W30>0,'Months 1-6'!W30<999),'Months 1-6'!W30,\"\")","v":""},{"$f":"IF(AND('Months 1-6'!Z30>0,'Months 1-6'!Z30<999),'Months 1-6'!Z30,\"\")","v":""},{"$f":"IF(AND('Months 1-6'!AC30>0,'Months 1-6'!AC30<999),'Months 1-6'!AC30,\"\")","v":""},{"$f":"IF(AND('Months 1-6'!AF30>0,'Months 1-6'!AF30<999),'Months 1-6'!AF30,\"\")","v":""},{"$f":"IF(AND('Months 1-6'!AI30>0,'Months 1-6'!AI30<999),'Months 1-6'!AI30,\"\")","v":""},{"$f":"IF(AND('Months 1-6'!AL30>0,'Months 1-6'!AL30<999),'Months 1-6'!AL30,\"\")","v":""},{"$f":"IF(AND('Months 1-6'!AO30>0,'Months 1-6'!AO30<999),'Months 1-6'!AO30,\"\")","v":""},{"$f":"IF(AND('Months 1-6'!AR30>0,'Months 1-6'!AR30<999),'Months 1-6'!AR30,\"\")","v":""},{"$f":"IF(AND('Months 1-6'!AU30>0,'Months 1-6'!AU30<999),'Months 1-6'!AU30,\"\")","v":""},{"$f":"IF(AND('Months 1-6'!AX30>0,'Months 1-6'!AX30<999),'Months 1-6'!AX30,\"\")","v":""},{"$f":"IF(AND('Months 1-6'!BA30>0,'Months 1-6'!BA30<999),'Months 1-6'!BA30,\"\")","v":""},{"$f":"IF(AND('Months 1-6'!BD30>0,'Months 1-6'!BD30<999),'Months 1-6'!BD30,\"\")","v":""},{"$f":"IF(AND('Months 1-6'!BG30>0,'Months 1-6'!BG30<999),'Months 1-6'!BG30,\"\")","v":""},{"$f":"IF(AND('Months 1-6'!BJ30>0,'Months 1-6'!BJ30<999),'Months 1-6'!BJ30,\"\")","v":""},{"$f":"IF(AND('Months 1-6'!BM30>0,'Months 1-6'!BM30<999),'Months 1-6'!BM30,\"\")","v":""},{"$f":"IF(AND('Months 1-6'!BP30>0,'Months 1-6'!BP30<999),'Months 1-6'!BP30,\"\")","v":""},{"$f":"IF(AND('Months 1-6'!BS30>0,'Months 1-6'!BS30<999),'Months 1-6'!BS30,\"\")","v":""},{"$f":"IF(AND('Months 1-6'!BV30>0,'Months 1-6'!BV30<999),'Months 1-6'!BV30,\"\")","v":""},{"$f":"IF(AND('Months 1-6'!BY30>0,'Months 1-6'!BY30<999),'Months 1-6'!BY30,\"\")","v":""},{"$f":"IF(AND('Months 1-6'!CB30>0,'Months 1-6'!CB30<999),'Months 1-6'!CB30,\"\")","v":""},{"$f":"IF(AND('Months 1-6'!CE30>0,'Months 1-6'!CE30<999),'Months 1-6'!CE30,\"\")","v":""},{"$f":"IF(AND('Months 1-6'!CH30>0,'Months 1-6'!CH30<999),'Months 1-6'!CH30,\"\")","v":""},{"$f":"IF(AND('Months 1-6'!CK30>0,'Months 1-6'!CK30<999),'Months 1-6'!CK30,\"\")","v":""},{"$f":"IF(AND('Months 1-6'!CN30>0,'Months 1-6'!CN30<999),'Months 1-6'!CN30,\"\")","v":""}]
["Month 5",{"$f":"IF(AND('Months 1-6'!E31>0,'Months 1-6'!E31<999),'Months 1-6'!E31,\"\")","v":""},{"$f":"IF(AND('Months 1-6'!H31>0,'Months 1-6'!H31<999),'Months 1-6'!H31,\"\")","v":""},{"$f":"IF(AND('Months 1-6'!K31>0,'Months 1-6'!K31<999),'Months 1-6'!K31,\"\")","v":""},{"$f":"IF(AND('Months 1-6'!N31>0,'Months 1-6'!N31<999),'Months 1-6'!N31,\"\")","v":""},{"$f":"IF(AND('Months 1-6'!Q31>0,'Months 1-6'!Q31<999),'Months 1-6'!Q31,\"\")","v":""},{"$f":"IF(AND('Months 1-6'!T31>0,'Months 1-6'!T31<999),'Months 1-6'!T31,\"\")","v":""},{"$f":"IF(AND('Months 1-6'!W31>0,'Months 1-6'!W31<999),'Months 1-6'!W31,\"\")","v":""},{"$f":"IF(AND('Months 1-6'!Z31>0,'Months 1-6'!Z31<999),'Months 1-6'!Z31,\"\")","v":""},{"$f":"IF(AND('Months 1-6'!AC31>0,'Months 1-6'!AC31<999),'Months 1-6'!AC31,\"\")","v":""},{"$f":"IF(AND('Months 1-6'!AF31>0,'Months 1-6'!AF31<999),'Months 1-6'!AF31,\"\")","v":""},{"$f":"IF(AND('Months 1-6'!AI31>0,'Months 1-6'!AI31<999),'Months 1-6'!AI31,\"\")","v":""},{"$f":"IF(AND('Months 1-6'!AL31>0,'Months 1-6'!AL31<999),'Months 1-6'!AL31,\"\")","v":""},{"$f":"IF(AND('Months 1-6'!AO31>0,'Months 1-6'!AO31<999),'Months 1-6'!AO31,\"\")","v":""},{"$f":"IF(AND('Months 1-6'!AR31>0,'Months 1-6'!AR31<999),'Months 1-6'!AR31,\"\")","v":""},{"$f":"IF(AND('Months 1-6'!AU31>0,'Months 1-6'!AU31<999),'Months 1-6'!AU31,\"\")","v":""},{"$f":"IF(AND('Months 1-6'!AX31>0,'Months 1-6'!AX31<999),'Months 1-6'!AX31,\"\")","v":""},{"$f":"IF(AND('Months 1-6'!BA31>0,'Months 1-6'!BA31<999),'Months 1-6'!BA31,\"\")","v":""},{"$f":"IF(AND('Months 1-6'!BD31>0,'Months 1-6'!BD31<999),'Months 1-6'!BD31,\"\")","v":""},{"$f":"IF(AND('Months 1-6'!BG31>0,'Months 1-6'!BG31<999),'Months 1-6'!BG31,\"\")","v":""},{"$f":"IF(AND('Months 1-6'!BJ31>0,'Months 1-6'!BJ31<999),'Months 1-6'!BJ31,\"\")","v":""},{"$f":"IF(AND('Months 1-6'!BM31>0,'Months 1-6'!BM31<999),'Months 1-6'!BM31,\"\")","v":""},{"$f":"IF(AND('Months 1-6'!BP31>0,'Months 1-6'!BP31<999),'Months 1-6'!BP31,\"\")","v":""},{"$f":"IF(AND('Months 1-6'!BS31>0,'Months 1-6'!BS31<999),'Months 1-6'!BS31,\"\")","v":""},{"$f":"IF(AND('Months 1-6'!BV31>0,'Months 1-6'!BV31<999),'Months 1-6'!BV31,\"\")","v":""},{"$f":"IF(AND('Months 1-6'!BY31>0,'Months 1-6'!BY31<999),'Months 1-6'!BY31,\"\")","v":""},{"$f":"IF(AND('Months 1-6'!CB31>0,'Months 1-6'!CB31<999),'Months 1-6'!CB31,\"\")","v":""},{"$f":"IF(AND('Months 1-6'!CE31>0,'Months 1-6'!CE31<999),'Months 1-6'!CE31,\"\")","v":""},{"$f":"IF(AND('Months 1-6'!CH31>0,'Months 1-6'!CH31<999),'Months 1-6'!CH31,\"\")","v":""},{"$f":"IF(AND('Months 1-6'!CK31>0,'Months 1-6'!CK31<999),'Months 1-6'!CK31,\"\")","v":""},{"$f":"IF(AND('Months 1-6'!CN31>0,'Months 1-6'!CN31<999),'Months 1-6'!CN31,\"\")","v":""}]
["Week 1",{"$f":"IF(AND('Months 1-6'!E32>0,'Months 1-6'!E32<999),'Months 1-6'!E32,\"\")","v":""},{"$f":"IF(AND('Months 1-6'!H32>0,'Months 1-6'!H32<999),'Months 1-6'!H32,\"\")","v":""},{"$f":"IF(AND('Months 1-6'!K32>0,'Months 1-6'!K32<999),'Months 1-6'!K32,\"\")","v":""},{"$f":"IF(AND('Months 1-6'!N32>0,'Months 1-6'!N32<999),'Months 1-6'!N32,\"\")","v":""},{"$f":"IF(AND('Months 1-6'!Q32>0,'Months 1-6'!Q32<999),'Months 1-6'!Q32,\"\")","v":""},{"$f":"IF(AND('Months 1-6'!T32>0,'Months 1-6'!T32<999),'Months 1-6'!T32,\"\")","v":""},{"$f":"IF(AND('Months 1-6'!W32>0,'Months 1-6'!W32<999),'Months 1-6'!W32,\"\")","v":""},{"$f":"IF(AND('Months 1-6'!Z32>0,'Months 1-6'!Z32<999),'Months 1-6'!Z32,\"\")","v":""},{"$f":"IF(AND('Months 1-6'!AC32>0,'Months 1-6'!AC32<999),'Months 1-6'!AC32,\"\")","v":""},{"$f":"IF(AND('Months 1-6'!AF32>0,'Months 1-6'!AF32<999),'Months 1-6'!AF32,\"\")","v":""},{"$f":"IF(AND('Months 1-6'!AI32>0,'Months 1-6'!AI32<999),'Months 1-6'!AI32,\"\")","v":""},{"$f":"IF(AND('Months 1-6'!AL32>0,'Months 1-6'!AL32<999),'Months 1-6'!AL32,\"\")","v":""},{"$f":"IF(AND('Months 1-6'!AO32>0,'Months 1-6'!AO32<999),'Months 1-6'!AO32,\"\")","v":""},{"$f":"IF(AND('Months 1-6'!AR32>0,'Months 1-6'!AR32<999),'Months 1-6'!AR32,\"\")","v":""},{"$f":"IF(AND('Months 1-6'!AU32>0,'Months 1-6'!AU32<999),'Months 1-6'!AU32,\"\")","v":""},{"$f":"IF(AND('Months 1-6'!AX32>0,'Months 1-6'!AX32<999),'Months 1-6'!AX32,\"\")","v":""},{"$f":"IF(AND('Months 1-6'!BA32>0,'Months 1-6'!BA32<999),'Months 1-6'!BA32,\"\")","v":""},{"$f":"IF(AND('Months 1-6'!BD32>0,'Months 1-6'!BD32<999),'Months 1-6'!BD32,\"\")","v":""},{"$f":"IF(AND('Months 1-6'!BG32>0,'Months 1-6'!BG32<999),'Months 1-6'!BG32,\"\")","v":""},{"$f":"IF(AND('Months 1-6'!BJ32>0,'Months 1-6'!BJ32<999),'Months 1-6'!BJ32,\"\")","v":""},{"$f":"IF(AND('Months 1-6'!BM32>0,'Months 1-6'!BM32<999),'Months 1-6'!BM32,\"\")","v":""},{"$f":"IF(AND('Months 1-6'!BP32>0,'Months 1-6'!BP32<999),'Months 1-6'!BP32,\"\")","v":""},{"$f":"IF(AND('Months 1-6'!BS32>0,'Months 1-6'!BS32<999),'Months 1-6'!BS32,\"\")","v":""},{"$f":"IF(AND('Months 1-6'!BV32>0,'Months 1-6'!BV32<999),'Months 1-6'!BV32,\"\")","v":""},{"$f":"IF(AND('Months 1-6'!BY32>0,'Months 1-6'!BY32<999),'Months 1-6'!BY32,\"\")","v":""},{"$f":"IF(AND('Months 1-6'!CB32>0,'Months 1-6'!CB32<999),'Months 1-6'!CB32,\"\")","v":""},{"$f":"IF(AND('Months 1-6'!CE32>0,'Months 1-6'!CE32<999),'Months 1-6'!CE32,\"\")","v":""},{"$f":"IF(AND('Months 1-6'!CH32>0,'Months 1-6'!CH32<999),'Months 1-6'!CH32,\"\")","v":""},{"$f":"IF(AND('Months 1-6'!CK32>0,'Months 1-6'!CK32<999),'Months 1-6'!CK32,\"\")","v":""},{"$f":"IF(AND('Months 1-6'!CN32>0,'Months 1-6'!CN32<999),'Months 1-6'!CN32,\"\")","v":""}]
["Week 2",{"$f":"IF(AND('Months 1-6'!E33>0,'Months 1-6'!E33<999),'Months 1-6'!E33,\"\")","v":""},{"$f":"IF(AND('Months 1-6'!H33>0,'Months 1-6'!H33<999),'Months 1-6'!H33,\"\")","v":""},{"$f":"IF(AND('Months 1-6'!K33>0,'Months 1-6'!K33<999),'Months 1-6'!K33,\"\")","v":""},{"$f":"IF(AND('Months 1-6'!N33>0,'Months 1-6'!N33<999),'Months 1-6'!N33,\"\")","v":""},{"$f":"IF(AND('Months 1-6'!Q33>0,'Months 1-6'!Q33<999),'Months 1-6'!Q33,\"\")","v":""},{"$f":"IF(AND('Months 1-6'!T33>0,'Months 1-6'!T33<999),'Months 1-6'!T33,\"\")","v":""},{"$f":"IF(AND('Months 1-6'!W33>0,'Months 1-6'!W33<999),'Months 1-6'!W33,\"\")","v":""},{"$f":"IF(AND('Months 1-6'!Z33>0,'Months 1-6'!Z33<999),'Months 1-6'!Z33,\"\")","v":""},{"$f":"IF(AND('Months 1-6'!AC33>0,'Months 1-6'!AC33<999),'Months 1-6'!AC33,\"\")","v":""},{"$f":"IF(AND('Months 1-6'!AF33>0,'Months 1-6'!AF33<999),'Months 1-6'!AF33,\"\")","v":""},{"$f":"IF(AND('Months 1-6'!AI33>0,'Months 1-6'!AI33<999),'Months 1-6'!AI33,\"\")","v":""},{"$f":"IF(AND('Months 1-6'!AL33>0,'Months 1-6'!AL33<999),'Months 1-6'!AL33,\"\")","v":""},{"$f":"IF(AND('Months 1-6'!AO33>0,'Months 1-6'!AO33<999),'Months 1-6'!AO33,\"\")","v":""},{"$f":"IF(AND('Months 1-6'!AR33>0,'Months 1-6'!AR33<999),'Months 1-6'!AR33,\"\")","v":""},{"$f":"IF(AND('Months 1-6'!AU33>0,'Months 1-6'!AU33<999),'Months 1-6'!AU33,\"\")","v":""},{"$f":"IF(AND('Months 1-6'!AX33>0,'Months 1-6'!AX33<999),'Months 1-6'!AX33,\"\")","v":""},{"$f":"IF(AND('Months 1-6'!BA33>0,'Months 1-6'!BA33<999),'Months 1-6'!BA33,\"\")","v":""},{"$f":"IF(AND('Months 1-6'!BD33>0,'Months 1-6'!BD33<999),'Months 1-6'!BD33,\"\")","v":""},{"$f":"IF(AND('Months 1-6'!BG33>0,'Months 1-6'!BG33<999),'Months 1-6'!BG33,\"\")","v":""},{"$f":"IF(AND('Months 1-6'!BJ33>0,'Months 1-6'!BJ33<999),'Months 1-6'!BJ33,\"\")","v":""},{"$f":"IF(AND('Months 1-6'!BM33>0,'Months 1-6'!BM33<999),'Months 1-6'!BM33,\"\")","v":""},{"$f":"IF(AND('Months 1-6'!BP33>0,'Months 1-6'!BP33<999),'Months 1-6'!BP33,\"\")","v":""},{"$f":"IF(AND('Months 1-6'!BS33>0,'Months 1-6'!BS33<999),'Months 1-6'!BS33,\"\")","v":""},{"$f":"IF(AND('Months 1-6'!BV33>0,'Months 1-6'!BV33<999),'Months 1-6'!BV33,\"\")","v":""},{"$f":"IF(AND('Months 1-6'!BY33>0,'Months 1-6'!BY33<999),'Months 1-6'!BY33,\"\")","v":""},{"$f":"IF(AND('Months 1-6'!CB33>0,'Months 1-6'!CB33<999),'Months 1-6'!CB33,\"\")","v":""},{"$f":"IF(AND('Months 1-6'!CE33>0,'Months 1-6'!CE33<999),'Months 1-6'!CE33,\"\")","v":""},{"$f":"IF(AND('Months 1-6'!CH33>0,'Months 1-6'!CH33<999),'Months 1-6'!CH33,\"\")","v":""},{"$f":"IF(AND('Months 1-6'!CK33>0,'Months 1-6'!CK33<999),'Months 1-6'!CK33,\"\")","v":""},{"$f":"IF(AND('Months 1-6'!CN33>0,'Months 1-6'!CN33<999),'Months 1-6'!CN33,\"\")","v":""}]
["Week 3",{"$f":"IF(AND('Months 1-6'!E34>0,'Months 1-6'!E34<999),'Months 1-6'!E34,\"\")","v":""},{"$f":"IF(AND('Months 1-6'!H34>0,'Months 1-6'!H34<999),'Months 1-6'!H34,\"\")","v":""},{"$f":"IF(AND('Months 1-6'!K34>0,'Months 1-6'!K34<999),'Months 1-6'!K34,\"\")","v":""},{"$f":"IF(AND('Months 1-6'!N34>0,'Months 1-6'!N34<999),'Months 1-6'!N34,\"\")","v":""},{"$f":"IF(AND('Months 1-6'!Q34>0,'Months 1-6'!Q34<999),'Months 1-6'!Q34,\"\")","v":""},{"$f":"IF(AND('Months 1-6'!T34>0,'Months 1-6'!T34<999),'Months 1-6'!T34,\"\")","v":""},{"$f":"IF(AND('Months 1-6'!W34>0,'Months 1-6'!W34<999),'Months 1-6'!W34,\"\")","v":""},{"$f":"IF(AND('Months 1-6'!Z34>0,'Months 1-6'!Z34<999),'Months 1-6'!Z34,\"\")","v":""},{"$f":"IF(AND('Months 1-6'!AC34>0,'Months 1-6'!AC34<999),'Months 1-6'!AC34,\"\")","v":""},{"$f":"IF(AND('Months 1-6'!AF34>0,'Months 1-6'!AF34<999),'Months 1-6'!AF34,\"\")","v":""},{"$f":"IF(AND('Months 1-6'!AI34>0,'Months 1-6'!AI34<999),'Months 1-6'!AI34,\"\")","v":""},{"$f":"IF(AND('Months 1-6'!AL34>0,'Months 1-6'!AL34<999),'Months 1-6'!AL34,\"\")","v":""},{"$f":"IF(AND('Months 1-6'!AO34>0,'Months 1-6'!AO34<999),'Months 1-6'!AO34,\"\")","v":""},{"$f":"IF(AND('Months 1-6'!AR34>0,'Months 1-6'!AR34<999),'Months 1-6'!AR34,\"\")","v":""},{"$f":"IF(AND('Months 1-6'!AU34>0,'Months 1-6'!AU34<999),'Months 1-6'!AU34,\"\")","v":""},{"$f":"IF(AND('Months 1-6'!AX34>0,'Months 1-6'!AX34<999),'Months 1-6'!AX34,\"\")","v":""},{"$f":"IF(AND('Months 1-6'!BA34>0,'Months 1-6'!BA34<999),'Months 1-6'!BA34,\"\")","v":""},{"$f":"IF(AND('Months 1-6'!BD34>0,'Months 1-6'!BD34<999),'Months 1-6'!BD34,\"\")","v":""},{"$f":"IF(AND('Months 1-6'!BG34>0,'Months 1-6'!BG34<999),'Months 1-6'!BG34,\"\")","v":""},{"$f":"IF(AND('Months 1-6'!BJ34>0,'Months 1-6'!BJ34<999),'Months 1-6'!BJ34,\"\")","v":""},{"$f":"IF(AND('Months 1-6'!BM34>0,'Months 1-6'!BM34<999),'Months 1-6'!BM34,\"\")","v":""},{"$f":"IF(AND('Months 1-6'!BP34>0,'Months 1-6'!BP34<999),'Months 1-6'!BP34,\"\")","v":""},{"$f":"IF(AND('Months 1-6'!BS34>0,'Months 1-6'!BS34<999),'Months 1-6'!BS34,\"\")","v":""},{"$f":"IF(AND('Months 1-6'!BV34>0,'Months 1-6'!BV34<999),'Months 1-6'!BV34,\"\")","v":""},{"$f":"IF(AND('Months 1-6'!BY34>0,'Months 1-6'!BY34<999),'Months 1-6'!BY34,\"\")","v":""},{"$f":"IF(AND('Months 1-6'!CB34>0,'Months 1-6'!CB34<999),'Months 1-6'!CB34,\"\")","v":""},{"$f":"IF(AND('Months 1-6'!CE34>0,'Months 1-6'!CE34<999),'Months 1-6'!CE34,\"\")","v":""},{"$f":"IF(AND('Months 1-6'!CH34>0,'Months 1-6'!CH34<999),'Months 1-6'!CH34,\"\")","v":""},{"$f":"IF(AND('Months 1-6'!CK34>0,'Months 1-6'!CK34<999),'Months 1-6'!CK34,\"\")","v":""},{"$f":"IF(AND('Months 1-6'!CN34>0,'Months 1-6'!CN34<999),'Months 1-6'!CN34,\"\")","v":""}]
["Week 4",{"$f":"IF(AND('Months 1-6'!E35>0,'Months 1-6'!E35<999),'Months 1-6'!E35,\"\")","v":""},{"$f":"IF(AND('Months 1-6'!H35>0,'Months 1-6'!H35<999),'Months 1-6'!H35,\"\")","v":""},{"$f":"IF(AND('Months 1-6'!K35>0,'Months 1-6'!K35<999),'Months 1-6'!K35,\"\")","v":""},{"$f":"IF(AND('Months 1-6'!N35>0,'Months 1-6'!N35<999),'Months 1-6'!N35,\"\")","v":""},{"$f":"IF(AND('Months 1-6'!Q35>0,'Months 1-6'!Q35<999),'Months 1-6'!Q35,\"\")","v":""},{"$f":"IF(AND('Months 1-6'!T35>0,'Months 1-6'!T35<999),'Months 1-6'!T35,\"\")","v":""},{"$f":"IF(AND('Months 1-6'!W35>0,'Months 1-6'!W35<999),'Months 1-6'!W35,\"\")","v":""},{"$f":"IF(AND('Months 1-6'!Z35>0,'Months 1-6'!Z35<999),'Months 1-6'!Z35,\"\")","v":""},{"$f":"IF(AND('Months 1-6'!AC35>0,'Months 1-6'!AC35<999),'Months 1-6'!AC35,\"\")","v":""},{"$f":"IF(AND('Months 1-6'!AF35>0,'Months 1-6'!AF35<999),'Months 1-6'!AF35,\"\")","v":""},{"$f":"IF(AND('Months 1-6'!AI35>0,'Months 1-6'!AI35<999),'Months 1-6'!AI35,\"\")","v":""},{"$f":"IF(AND('Months 1-6'!AL35>0,'Months 1-6'!AL35<999),'Months 1-6'!AL35,\"\")","v":""},{"$f":"IF(AND('Months 1-6'!AO35>0,'Months 1-6'!AO35<999),'Months 1-6'!AO35,\"\")","v":""},{"$f":"IF(AND('Months 1-6'!AR35>0,'Months 1-6'!AR35<999),'Months 1-6'!AR35,\"\")","v":""},{"$f":"IF(AND('Months 1-6'!AU35>0,'Months 1-6'!AU35<999),'Months 1-6'!AU35,\"\")","v":""},{"$f":"IF(AND('Months 1-6'!AX35>0,'Months 1-6'!AX35<999),'Months 1-6'!AX35,\"\")","v":""},{"$f":"IF(AND('Months 1-6'!BA35>0,'Months 1-6'!BA35<999),'Months 1-6'!BA35,\"\")","v":""},{"$f":"IF(AND('Months 1-6'!BD35>0,'Months 1-6'!BD35<999),'Months 1-6'!BD35,\"\")","v":""},{"$f":"IF(AND('Months 1-6'!BG35>0,'Months 1-6'!BG35<999),'Months 1-6'!BG35,\"\")","v":""},{"$f":"IF(AND('Months 1-6'!BJ35>0,'Months 1-6'!BJ35<999),'Months 1-6'!BJ35,\"\")","v":""},{"$f":"IF(AND('Months 1-6'!BM35>0,'Months 1-6'!BM35<999),'Months 1-6'!BM35,\"\")","v":""},{"$f":"IF(AND('Months 1-6'!BP35>0,'Months 1-6'!BP35<999),'Months 1-6'!BP35,\"\")","v":""},{"$f":"IF(AND('Months 1-6'!BS35>0,'Months 1-6'!BS35<999),'Months 1-6'!BS35,\"\")","v":""},{"$f":"IF(AND('Months 1-6'!BV35>0,'Months 1-6'!BV35<999),'Months 1-6'!BV35,\"\")","v":""},{"$f":"IF(AND('Months 1-6'!BY35>0,'Months 1-6'!BY35<999),'Months 1-6'!BY35,\"\")","v":""},{"$f":"IF(AND('Months 1-6'!CB35>0,'Months 1-6'!CB35<999),'Months 1-6'!CB35,\"\")","v":""},{"$f":"IF(AND('Months 1-6'!CE35>0,'Months 1-6'!CE35<999),'Months 1-6'!CE35,\"\")","v":""},{"$f":"IF(AND('Months 1-6'!CH35>0,'Months 1-6'!CH35<999),'Months 1-6'!CH35,\"\")","v":""},{"$f":"IF(AND('Months 1-6'!CK35>0,'Months 1-6'!CK35<999),'Months 1-6'!CK35,\"\")","v":""},{"$f":"IF(AND('Months 1-6'!CN35>0,'Months 1-6'!CN35<999),'Months 1-6'!CN35,\"\")","v":""}]
["Week 5",{"$f":"IF(AND('Months 1-6'!E36>0,'Months 1-6'!E36<999),'Months 1-6'!E36,\"\")","v":""},{"$f":"IF(AND('Months 1-6'!H36>0,'Months 1-6'!H36<999),'Months 1-6'!H36,\"\")","v":""},{"$f":"IF(AND('Months 1-6'!K36>0,'Months 1-6'!K36<999),'Months 1-6'!K36,\"\")","v":""},{"$f":"IF(AND('Months 1-6'!N36>0,'Months 1-6'!N36<999),'Months 1-6'!N36,\"\")","v":""},{"$f":"IF(AND('Months 1-6'!Q36>0,'Months 1-6'!Q36<999),'Months 1-6'!Q36,\"\")","v":""},{"$f":"IF(AND('Months 1-6'!T36>0,'Months 1-6'!T36<999),'Months 1-6'!T36,\"\")","v":""},{"$f":"IF(AND('Months 1-6'!W36>0,'Months 1-6'!W36<999),'Months 1-6'!W36,\"\")","v":""},{"$f":"IF(AND('Months 1-6'!Z36>0,'Months 1-6'!Z36<999),'Months 1-6'!Z36,\"\")","v":""},{"$f":"IF(AND('Months 1-6'!AC36>0,'Months 1-6'!AC36<999),'Months 1-6'!AC36,\"\")","v":""},{"$f":"IF(AND('Months 1-6'!AF36>0,'Months 1-6'!AF36<999),'Months 1-6'!AF36,\"\")","v":""},{"$f":"IF(AND('Months 1-6'!AI36>0,'Months 1-6'!AI36<999),'Months 1-6'!AI36,\"\")","v":""},{"$f":"IF(AND('Months 1-6'!AL36>0,'Months 1-6'!AL36<999),'Months 1-6'!AL36,\"\")","v":""},{"$f":"IF(AND('Months 1-6'!AO36>0,'Months 1-6'!AO36<999),'Months 1-6'!AO36,\"\")","v":""},{"$f":"IF(AND('Months 1-6'!AR36>0,'Months 1-6'!AR36<999),'Months 1-6'!AR36,\"\")","v":""},{"$f":"IF(AND('Months 1-6'!AU36>0,'Months 1-6'!AU36<999),'Months 1-6'!AU36,\"\")","v":""},{"$f":"IF(AND('Months 1-6'!AX36>0,'Months 1-6'!AX36<999),'Months 1-6'!AX36,\"\")","v":""},{"$f":"IF(AND('Months 1-6'!BA36>0,'Months 1-6'!BA36<999),'Months 1-6'!BA36,\"\")","v":""},{"$f":"IF(AND('Months 1-6'!BD36>0,'Months 1-6'!BD36<999),'Months 1-6'!BD36,\"\")","v":""},{"$f":"IF(AND('Months 1-6'!BG36>0,'Months 1-6'!BG36<999),'Months 1-6'!BG36,\"\")","v":""},{"$f":"IF(AND('Months 1-6'!BJ36>0,'Months 1-6'!BJ36<999),'Months 1-6'!BJ36,\"\")","v":""},{"$f":"IF(AND('Months 1-6'!BM36>0,'Months 1-6'!BM36<999),'Months 1-6'!BM36,\"\")","v":""},{"$f":"IF(AND('Months 1-6'!BP36>0,'Months 1-6'!BP36<999),'Months 1-6'!BP36,\"\")","v":""},{"$f":"IF(AND('Months 1-6'!BS36>0,'Months 1-6'!BS36<999),'Months 1-6'!BS36,\"\")","v":""},{"$f":"IF(AND('Months 1-6'!BV36>0,'Months 1-6'!BV36<999),'Months 1-6'!BV36,\"\")","v":""},{"$f":"IF(AND('Months 1-6'!BY36>0,'Months 1-6'!BY36<999),'Months 1-6'!BY36,\"\")","v":""},{"$f":"IF(AND('Months 1-6'!CB36>0,'Months 1-6'!CB36<999),'Months 1-6'!CB36,\"\")","v":""},{"$f":"IF(AND('Months 1-6'!CE36>0,'Months 1-6'!CE36<999),'Months 1-6'!CE36,\"\")","v":""},{"$f":"IF(AND('Months 1-6'!CH36>0,'Months 1-6'!CH36<999),'Months 1-6'!CH36,\"\")","v":""},{"$f":"IF(AND('Months 1-6'!CK36>0,'Months 1-6'!CK36<999),'Months 1-6'!CK36,\"\")","v":""},{"$f":"IF(AND('Months 1-6'!CN36>0,'Months 1-6'!CN36<999),'Months 1-6'!CN36,\"\")","v":""}]
["Month 6",{"$f":"IF(AND('Months 1-6'!E37>0,'Months 1-6'!E37<999),'Months 1-6'!E37,\"\")","v":""},{"$f":"IF(AND('Months 1-6'!H37>0,'Months 1-6'!H37<999),'Months 1-6'!H37,\"\")","v":""},{"$f":"IF(AND('Months 1-6'!K37>0,'Months 1-6'!K37<999),'Months 1-6'!K37,\"\")","v":""},{"$f":"IF(AND('Months 1-6'!N37>0,'Months 1-6'!N37<999),'Months 1-6'!N37,\"\")","v":""},{"$f":"IF(AND('Months 1-6'!Q37>0,'Months 1-6'!Q37<999),'Months 1-6'!Q37,\"\")","v":""},{"$f":"IF(AND('Months 1-6'!T37>0,'Months 1-6'!T37<999),'Months 1-6'!T37,\"\")","v":""},{"$f":"IF(AND('Months 1-6'!W37>0,'Months 1-6'!W37<999),'Months 1-6'!W37,\"\")","v":""},{"$f":"IF(AND('Months 1-6'!Z37>0,'Months 1-6'!Z37<999),'Months 1-6'!Z37,\"\")","v":""},{"$f":"IF(AND('Months 1-6'!AC37>0,'Months 1-6'!AC37<999),'Months 1-6'!AC37,\"\")","v":""},{"$f":"IF(AND('Months 1-6'!AF37>0,'Months 1-6'!AF37<999),'Months 1-6'!AF37,\"\")","v":""},{"$f":"IF(AND('Months 1-6'!AI37>0,'Months 1-6'!AI37<999),'Months 1-6'!AI37,\"\")","v":""},{"$f":"IF(AND('Months 1-6'!AL37>0,'Months 1-6'!AL37<999),'Months 1-6'!AL37,\"\")","v":""},{"$f":"IF(AND('Months 1-6'!AO37>0,'Months 1-6'!AO37<999),'Months 1-6'!AO37,\"\")","v":""},{"$f":"IF(AND('Months 1-6'!AR37>0,'Months 1-6'!AR37<999),'Months 1-6'!AR37,\"\")","v":""},{"$f":"IF(AND('Months 1-6'!AU37>0,'Months 1-6'!AU37<999),'Months 1-6'!AU37,\"\")","v":""},{"$f":"IF(AND('Months 1-6'!AX37>0,'Months 1-6'!AX37<999),'Months 1-6'!AX37,\"\")","v":""},{"$f":"IF(AND('Months 1-6'!BA37>0,'Months 1-6'!BA37<999),'Months 1-6'!BA37,\"\")","v":""},{"$f":"IF(AND('Months 1-6'!BD37>0,'Months 1-6'!BD37<999),'Months 1-6'!BD37,\"\")","v":""},{"$f":"IF(AND('Months 1-6'!BG37>0,'Months 1-6'!BG37<999),'Months 1-6'!BG37,\"\")","v":""},{"$f":"IF(AND('Months 1-6'!BJ37>0,'Months 1-6'!BJ37<999),'Months 1-6'!BJ37,\"\")","v":""},{"$f":"IF(AND('Months 1-6'!BM37>0,'Months 1-6'!BM37<999),'Months 1-6'!BM37,\"\")","v":""},{"$f":"IF(AND('Months 1-6'!BP37>0,'Months 1-6'!BP37<999),'Months 1-6'!BP37,\"\")","v":""},{"$f":"IF(AND('Months 1-6'!BS37>0,'Months 1-6'!BS37<999),'Months 1-6'!BS37,\"\")","v":""},{"$f":"IF(AND('Months 1-6'!BV37>0,'Months 1-6'!BV37<999),'Months 1-6'!BV37,\"\")","v":""},{"$f":"IF(AND('Months 1-6'!BY37>0,'Months 1-6'!BY37<999),'Months 1-6'!BY37,\"\")","v":""},{"$f":"IF(AND('Months 1-6'!CB37>0,'Months 1-6'!CB37<999),'Months 1-6'!CB37,\"\")","v":""},{"$f":"IF(AND('Months 1-6'!CE37>0,'Months 1-6'!CE37<999),'Months 1-6'!CE37,\"\")","v":""},{"$f":"IF(AND('Months 1-6'!CH37>0,'Months 1-6'!CH37<999),'Months 1-6'!CH37,\"\")","v":""},{"$f":"IF(AND('Months 1-6'!CK37>0,'Months 1-6'!CK37<999),'Months 1-6'!CK37,\"\")","v":""},{"$f":"IF(AND('Months 1-6'!CN37>0,'Months 1-6'!CN37<999),'Months 1-6'!CN37,\"\")","v":""}]
["Week 1",{"$f":"IF(AND('Months 1-6'!E38>0,'Months 1-6'!E38<999),'Months 1-6'!E38,\"\")","v":""},{"$f":"IF(AND('Months 1-6'!H38>0,'Months 1-6'!H38<999),'Months 1-6'!H38,\"\")","v":""},{"$f":"IF(AND('Months 1-6'!K38>0,'Months 1-6'!K38<999),'Months 1-6'!K38,\"\")","v":""},{"$f":"IF(AND('Months 1-6'!N38>0,'Months 1-6'!N38<999),'Months 1-6'!N38,\"\")","v":""},{"$f":"IF(AND('Months 1-6'!Q38>0,'Months 1-6'!Q38<999),'Months 1-6'!Q38,\"\")","v":""},{"$f":"IF(AND('Months 1-6'!T38>0,'Months 1-6'!T38<999),'Months 1-6'!T38,\"\")","v":""},{"$f":"IF(AND('Months 1-6'!W38>0,'Months 1-6'!W38<999),'Months 1-6'!W38,\"\")","v":""},{"$f":"IF(AND('Months 1-6'!Z38>0,'Months 1-6'!Z38<999),'Months 1-6'!Z38,\"\")","v":""},{"$f":"IF(AND('Months 1-6'!AC38>0,'Months 1-6'!AC38<999),'Months 1-6'!AC38,\"\")","v":""},{"$f":"IF(AND('Months 1-6'!AF38>0,'Months 1-6'!AF38<999),'Months 1-6'!AF38,\"\")","v":""},{"$f":"IF(AND('Months 1-6'!AI38>0,'Months 1-6'!AI38<999),'Months 1-6'!AI38,\"\")","v":""},{"$f":"IF(AND('Months 1-6'!AL38>0,'Months 1-6'!AL38<999),'Months 1-6'!AL38,\"\")","v":""},{"$f":"IF(AND('Months 1-6'!AO38>0,'Months 1-6'!AO38<999),'Months 1-6'!AO38,\"\")","v":""},{"$f":"IF(AND('Months 1-6'!AR38>0,'Months 1-6'!AR38<999),'Months 1-6'!AR38,\"\")","v":""},{"$f":"IF(AND('Months 1-6'!AU38>0,'Months 1-6'!AU38<999),'Months 1-6'!AU38,\"\")","v":""},{"$f":"IF(AND('Months 1-6'!AX38>0,'Months 1-6'!AX38<999),'Months 1-6'!AX38,\"\")","v":""},{"$f":"IF(AND('Months 1-6'!BA38>0,'Months 1-6'!BA38<999),'Months 1-6'!BA38,\"\")","v":""},{"$f":"IF(AND('Months 1-6'!BD38>0,'Months 1-6'!BD38<999),'Months 1-6'!BD38,\"\")","v":""},{"$f":"IF(AND('Months 1-6'!BG38>0,'Months 1-6'!BG38<999),'Months 1-6'!BG38,\"\")","v":""},{"$f":"IF(AND('Months 1-6'!BJ38>0,'Months 1-6'!BJ38<999),'Months 1-6'!BJ38,\"\")","v":""},{"$f":"IF(AND('Months 1-6'!BM38>0,'Months 1-6'!BM38<999),'Months 1-6'!BM38,\"\")","v":""},{"$f":"IF(AND('Months 1-6'!BP38>0,'Months 1-6'!BP38<999),'Months 1-6'!BP38,\"\")","v":""},{"$f":"IF(AND('Months 1-6'!BS38>0,'Months 1-6'!BS38<999),'Months 1-6'!BS38,\"\")","v":""},{"$f":"IF(AND('Months 1-6'!BV38>0,'Months 1-6'!BV38<999),'Months 1-6'!BV38,\"\")","v":""},{"$f":"IF(AND('Months 1-6'!BY38>0,'Months 1-6'!BY38<999),'Months 1-6'!BY38,\"\")","v":""},{"$f":"IF(AND('Months 1-6'!CB38>0,'Months 1-6'!CB38<999),'Months 1-6'!CB38,\"\")","v":""},{"$f":"IF(AND('Months 1-6'!CE38>0,'Months 1-6'!CE38<999),'Months 1-6'!CE38,\"\")","v":""},{"$f":"IF(AND('Months 1-6'!CH38>0,'Months 1-6'!CH38<999),'Months 1-6'!CH38,\"\")","v":""},{"$f":"IF(AND('Months 1-6'!CK38>0,'Months 1-6'!CK38<999),'Months 1-6'!CK38,\"\")","v":""},{"$f":"IF(AND('Months 1-6'!CN38>0,'Months 1-6'!CN38<999),'Months 1-6'!CN38,\"\")","v":""}]
["Week 2",{"$f":"IF(AND('Months 1-6'!E39>0,'Months 1-6'!E39<999),'Months 1-6'!E39,\"\")","v":""},{"$f":"IF(AND('Months 1-6'!H39>0,'Months 1-6'!H39<999),'Months 1-6'!H39,\"\")","v":""},{"$f":"IF(AND('Months 1-6'!K39>0,'Months 1-6'!K39<999),'Months 1-6'!K39,\"\")","v":""},{"$f":"IF(AND('Months 1-6'!N39>0,'Months 1-6'!N39<999),'Months 1-6'!N39,\"\")","v":""},{"$f":"IF(AND('Months 1-6'!Q39>0,'Months 1-6'!Q39<999),'Months 1-6'!Q39,\"\")","v":""},{"$f":"IF(AND('Months 1-6'!T39>0,'Months 1-6'!T39<999),'Months 1-6'!T39,\"\")","v":""},{"$f":"IF(AND('Months 1-6'!W39>0,'Months 1-6'!W39<999),'Months 1-6'!W39,\"\")","v":""},{"$f":"IF(AND('Months 1-6'!Z39>0,'Months 1-6'!Z39<999),'Months 1-6'!Z39,\"\")","v":""},{"$f":"IF(AND('Months 1-6'!AC39>0,'Months 1-6'!AC39<999),'Months 1-6'!AC39,\"\")","v":""},{"$f":"IF(AND('Months 1-6'!AF39>0,'Months 1-6'!AF39<999),'Months 1-6'!AF39,\"\")","v":""},{"$f":"IF(AND('Months 1-6'!AI39>0,'Months 1-6'!AI39<999),'Months 1-6'!AI39,\"\")","v":""},{"$f":"IF(AND('Months 1-6'!AL39>0,'Months 1-6'!AL39<999),'Months 1-6'!AL39,\"\")","v":""},{"$f":"IF(AND('Months 1-6'!AO39>0,'Months 1-6'!AO39<999),'Months 1-6'!AO39,\"\")","v":""},{"$f":"IF(AND('Months 1-6'!AR39>0,'Months 1-6'!AR39<999),'Months 1-6'!AR39,\"\")","v":""},{"$f":"IF(AND('Months 1-6'!AU39>0,'Months 1-6'!AU39<999),'Months 1-6'!AU39,\"\")","v":""},{"$f":"IF(AND('Months 1-6'!AX39>0,'Months 1-6'!AX39<999),'Months 1-6'!AX39,\"\")","v":""},{"$f":"IF(AND('Months 1-6'!BA39>0,'Months 1-6'!BA39<999),'Months 1-6'!BA39,\"\")","v":""},{"$f":"IF(AND('Months 1-6'!BD39>0,'Months 1-6'!BD39<999),'Months 1-6'!BD39,\"\")","v":""},{"$f":"IF(AND('Months 1-6'!BG39>0,'Months 1-6'!BG39<999),'Months 1-6'!BG39,\"\")","v":""},{"$f":"IF(AND('Months 1-6'!BJ39>0,'Months 1-6'!BJ39<999),'Months 1-6'!BJ39,\"\")","v":""},{"$f":"IF(AND('Months 1-6'!BM39>0,'Months 1-6'!BM39<999),'Months 1-6'!BM39,\"\")","v":""},{"$f":"IF(AND('Months 1-6'!BP39>0,'Months 1-6'!BP39<999),'Months 1-6'!BP39,\"\")","v":""},{"$f":"IF(AND('Months 1-6'!BS39>0,'Months 1-6'!BS39<999),'Months 1-6'!BS39,\"\")","v":""},{"$f":"IF(AND('Months 1-6'!BV39>0,'Months 1-6'!BV39<999),'Months 1-6'!BV39,\"\")","v":""},{"$f":"IF(AND('Months 1-6'!BY39>0,'Months 1-6'!BY39<999),'Months 1-6'!BY39,\"\")","v":""},{"$f":"IF(AND('Months 1-6'!CB39>0,'Months 1-6'!CB39<999),'Months 1-6'!CB39,\"\")","v":""},{"$f":"IF(AND('Months 1-6'!CE39>0,'Months 1-6'!CE39<999),'Months 1-6'!CE39,\"\")","v":""},{"$f":"IF(AND('Months 1-6'!CH39>0,'Months 1-6'!CH39<999),'Months 1-6'!CH39,\"\")","v":""},{"$f":"IF(AND('Months 1-6'!CK39>0,'Months 1-6'!CK39<999),'Months 1-6'!CK39,\"\")","v":""},{"$f":"IF(AND('Months 1-6'!CN39>0,'Months 1-6'!CN39<999),'Months 1-6'!CN39,\"\")","v":""}]
["Week 3",{"$f":"IF(AND('Months 1-6'!E40>0,'Months 1-6'!E40<999),'Months 1-6'!E40,\"\")","v":""},{"$f":"IF(AND('Months 1-6'!H40>0,'Months 1-6'!H40<999),'Months 1-6'!H40,\"\")","v":""},{"$f":"IF(AND('Months 1-6'!K40>0,'Months 1-6'!K40<999),'Months 1-6'!K40,\"\")","v":""},{"$f":"IF(AND('Months 1-6'!N40>0,'Months 1-6'!N40<999),'Months 1-6'!N40,\"\")","v":""},{"$f":"IF(AND('Months 1-6'!Q40>0,'Months 1-6'!Q40<999),'Months 1-6'!Q40,\"\")","v":""},{"$f":"IF(AND('Months 1-6'!T40>0,'Months 1-6'!T40<999),'Months 1-6'!T40,\"\")","v":""},{"$f":"IF(AND('Months 1-6'!W40>0,'Months 1-6'!W40<999),'Months 1-6'!W40,\"\")","v":""},{"$f":"IF(AND('Months 1-6'!Z40>0,'Months 1-6'!Z40<999),'Months 1-6'!Z40,\"\")","v":""},{"$f":"IF(AND('Months 1-6'!AC40>0,'Months 1-6'!AC40<999),'Months 1-6'!AC40,\"\")","v":""},{"$f":"IF(AND('Months 1-6'!AF40>0,'Months 1-6'!AF40<999),'Months 1-6'!AF40,\"\")","v":""},{"$f":"IF(AND('Months 1-6'!AI40>0,'Months 1-6'!AI40<999),'Months 1-6'!AI40,\"\")","v":""},{"$f":"IF(AND('Months 1-6'!AL40>0,'Months 1-6'!AL40<999),'Months 1-6'!AL40,\"\")","v":""},{"$f":"IF(AND('Months 1-6'!AO40>0,'Months 1-6'!AO40<999),'Months 1-6'!AO40,\"\")","v":""},{"$f":"IF(AND('Months 1-6'!AR40>0,'Months 1-6'!AR40<999),'Months 1-6'!AR40,\"\")","v":""},{"$f":"IF(AND('Months 1-6'!AU40>0,'Months 1-6'!AU40<999),'Months 1-6'!AU40,\"\")","v":""},{"$f":"IF(AND('Months 1-6'!AX40>0,'Months 1-6'!AX40<999),'Months 1-6'!AX40,\"\")","v":""},{"$f":"IF(AND('Months 1-6'!BA40>0,'Months 1-6'!BA40<999),'Months 1-6'!BA40,\"\")","v":""},{"$f":"IF(AND('Months 1-6'!BD40>0,'Months 1-6'!BD40<999),'Months 1-6'!BD40,\"\")","v":""},{"$f":"IF(AND('Months 1-6'!BG40>0,'Months 1-6'!BG40<999),'Months 1-6'!BG40,\"\")","v":""},{"$f":"IF(AND('Months 1-6'!BJ40>0,'Months 1-6'!BJ40<999),'Months 1-6'!BJ40,\"\")","v":""},{"$f":"IF(AND('Months 1-6'!BM40>0,'Months 1-6'!BM40<999),'Months 1-6'!BM40,\"\")","v":""},{"$f":"IF(AND('Months 1-6'!BP40>0,'Months 1-6'!BP40<999),'Months 1-6'!BP40,\"\")","v":""},{"$f":"IF(AND('Months 1-6'!BS40>0,'Months 1-6'!BS40<999),'Months 1-6'!BS40,\"\")","v":""},{"$f":"IF(AND('Months 1-6'!BV40>0,'Months 1-6'!BV40<999),'Months 1-6'!BV40,\"\")","v":""},{"$f":"IF(AND('Months 1-6'!BY40>0,'Months 1-6'!BY40<999),'Months 1-6'!BY40,\"\")","v":""},{"$f":"IF(AND('Months 1-6'!CB40>0,'Months 1-6'!CB40<999),'Months 1-6'!CB40,\"\")","v":""},{"$f":"IF(AND('Months 1-6'!CE40>0,'Months 1-6'!CE40<999),'Months 1-6'!CE40,\"\")","v":""},{"$f":"IF(AND('Months 1-6'!CH40>0,'Months 1-6'!CH40<999),'Months 1-6'!CH40,\"\")","v":""},{"$f":"IF(AND('Months 1-6'!CK40>0,'Months 1-6'!CK40<999),'Months 1-6'!CK40,\"\")","v":""},{"$f":"IF(AND('Months 1-6'!CN40>0,'Months 1-6'!CN40<999),'Months 1-6'!CN40,\"\")","v":""}]
["Week 4",{"$f":"IF(AND('Months 1-6'!E41>0,'Months 1-6'!E41<999),'Months 1-6'!E41,\"\")","v":""},{"$f":"IF(AND('Months 1-6'!H41>0,'Months 1-6'!H41<999),'Months 1-6'!H41,\"\")","v":""},{"$f":"IF(AND('Months 1-6'!K41>0,'Months 1-6'!K41<999),'Months 1-6'!K41,\"\")","v":""},{"$f":"IF(AND('Months 1-6'!N41>0,'Months 1-6'!N41<999),'Months 1-6'!N41,\"\")","v":""},{"$f":"IF(AND('Months 1-6'!Q41>0,'Months 1-6'!Q41<999),'Months 1-6'!Q41,\"\")","v":""},{"$f":"IF(AND('Months 1-6'!T41>0,'Months 1-6'!T41<999),'Months 1-6'!T41,\"\")","v":""},{"$f":"IF(AND('Months 1-6'!W41>0,'Months 1-6'!W41<999),'Months 1-6'!W41,\"\")","v":""},{"$f":"IF(AND('Months 1-6'!Z41>0,'Months 1-6'!Z41<999),'Months 1-6'!Z41,\"\")","v":""},{"$f":"IF(AND('Months 1-6'!AC41>0,'Months 1-6'!AC41<999),'Months 1-6'!AC41,\"\")","v":""},{"$f":"IF(AND('Months 1-6'!AF41>0,'Months 1-6'!AF41<999),'Months 1-6'!AF41,\"\")","v":""},{"$f":"IF(AND('Months 1-6'!AI41>0,'Months 1-6'!AI41<999),'Months 1-6'!AI41,\"\")","v":""},{"$f":"IF(AND('Months 1-6'!AL41>0,'Months 1-6'!AL41<999),'Months 1-6'!AL41,\"\")","v":""},{"$f":"IF(AND('Months 1-6'!AO41>0,'Months 1-6'!AO41<999),'Months 1-6'!AO41,\"\")","v":""},{"$f":"IF(AND('Months 1-6'!AR41>0,'Months 1-6'!AR41<999),'Months 1-6'!AR41,\"\")","v":""},{"$f":"IF(AND('Months 1-6'!AU41>0,'Months 1-6'!AU41<999),'Months 1-6'!AU41,\"\")","v":""},{"$f":"IF(AND('Months 1-6'!AX41>0,'Months 1-6'!AX41<999),'Months 1-6'!AX41,\"\")","v":""},{"$f":"IF(AND('Months 1-6'!BA41>0,'Months 1-6'!BA41<999),'Months 1-6'!BA41,\"\")","v":""},{"$f":"IF(AND('Months 1-6'!BD41>0,'Months 1-6'!BD41<999),'Months 1-6'!BD41,\"\")","v":""},{"$f":"IF(AND('Months 1-6'!BG41>0,'Months 1-6'!BG41<999),'Months 1-6'!BG41,\"\")","v":""},{"$f":"IF(AND('Months 1-6'!BJ41>0,'Months 1-6'!BJ41<999),'Months 1-6'!BJ41,\"\")","v":""},{"$f":"IF(AND('Months 1-6'!BM41>0,'Months 1-6'!BM41<999),'Months 1-6'!BM41,\"\")","v":""},{"$f":"IF(AND('Months 1-6'!BP41>0,'Months 1-6'!BP41<999),'Months 1-6'!BP41,\"\")","v":""},{"$f":"IF(AND('Months 1-6'!BS41>0,'Months 1-6'!BS41<999),'Months 1-6'!BS41,\"\")","v":""},{"$f":"IF(AND('Months 1-6'!BV41>0,'Months 1-6'!BV41<999),'Months 1-6'!BV41,\"\")","v":""},{"$f":"IF(AND('Months 1-6'!BY41>0,'Months 1-6'!BY41<999),'Months 1-6'!BY41,\"\")","v":""},{"$f":"IF(AND('Months 1-6'!CB41>0,'Months 1-6'!CB41<999),'Months 1-6'!CB41,\"\")","v":""},{"$f":"IF(AND('Months 1-6'!CE41>0,'Months 1-6'!CE41<999),'Months 1-6'!CE41,\"\")","v":""},{"$f":"IF(AND('Months 1-6'!CH41>0,'Months 1-6'!CH41<999),'Months 1-6'!CH41,\"\")","v":""},{"$f":"IF(AND('Months 1-6'!CK41>0,'Months 1-6'!CK41<999),'Months 1-6'!CK41,\"\")","v":""},{"$f":"IF(AND('Months 1-6'!CN41>0,'Months 1-6'!CN41<999),'Months 1-6'!CN41,\"\")","v":""}]
["Week 5",{"$f":"IF(AND('Months 1-6'!E42>0,'Months 1-6'!E42<999),'Months 1-6'!E42,\"\")","v":""},{"$f":"IF(AND('Months 1-6'!H42>0,'Months 1-6'!H42<999),'Months 1-6'!H42,\"\")","v":""},{"$f":"IF(AND('Months 1-6'!K42>0,'Months 1-6'!K42<999),'Months 1-6'!K42,\"\")","v":""},{"$f":"IF(AND('Months 1-6'!N42>0,'Months 1-6'!N42<999),'Months 1-6'!N42,\"\")","v":""},{"$f":"IF(AND('Months 1-6'!Q42>0,'Months 1-6'!Q42<999),'Months 1-6'!Q42,\"\")","v":""},{"$f":"IF(AND('Months 1-6'!T42>0,'Months 1-6'!T42<999),'Months 1-6'!T42,\"\")","v":""},{"$f":"IF(AND('Months 1-6'!W42>0,'Months 1-6'!W42<999),'Months 1-6'!W42,\"\")","v":""},{"$f":"IF(AND('Months 1-6'!Z42>0,'Months 1-6'!Z42<999),'Months 1-6'!Z42,\"\")","v":""},{"$f":"IF(AND('Months 1-6'!AC42>0,'Months 1-6'!AC42<999),'Months 1-6'!AC42,\"\")","v":""},{"$f":"IF(AND('Months 1-6'!AF42>0,'Months 1-6'!AF42<999),'Months 1-6'!AF42,\"\")","v":""},{"$f":"IF(AND('Months 1-6'!AI42>0,'Months 1-6'!AI42<999),'Months 1-6'!AI42,\"\")","v":""},{"$f":"IF(AND('Months 1-6'!AL42>0,'Months 1-6'!AL42<999),'Months 1-6'!AL42,\"\")","v":""},{"$f":"IF(AND('Months 1-6'!AO42>0,'Months 1-6'!AO42<999),'Months 1-6'!AO42,\"\")","v":""},{"$f":"IF(AND('Months 1-6'!AR42>0,'Months 1-6'!AR42<999),'Months 1-6'!AR42,\"\")","v":""},{"$f":"IF(AND('Months 1-6'!AU42>0,'Months 1-6'!AU42<999),'Months 1-6'!AU42,\"\")","v":""},{"$f":"IF(AND('Months 1-6'!AX42>0,'Months 1-6'!AX42<999),'Months 1-6'!AX42,\"\")","v":""},{"$f":"IF(AND('Months 1-6'!BA42>0,'Months 1-6'!BA42<999),'Months 1-6'!BA42,\"\")","v":""},{"$f":"IF(AND('Months 1-6'!BD42>0,'Months 1-6'!BD42<999),'Months 1-6'!BD42,\"\")","v":""},{"$f":"IF(AND('Months 1-6'!BG42>0,'Months 1-6'!BG42<999),'Months 1-6'!BG42,\"\")","v":""},{"$f":"IF(AND('Months 1-6'!BJ42>0,'Months 1-6'!BJ42<999),'Months 1-6'!BJ42,\"\")","v":""},{"$f":"IF(AND('Months 1-6'!BM42>0,'Months 1-6'!BM42<999),'Months 1-6'!BM42,\"\")","v":""},{"$f":"IF(AND('Months 1-6'!BP42>0,'Months 1-6'!BP42<999),'Months 1-6'!BP42,\"\")","v":""},{"$f":"IF(AND('Months 1-6'!BS42>0,'Months 1-6'!BS42<999),'Months 1-6'!BS42,\"\")","v":""},{"$f":"IF(AND('Months 1-6'!BV42>0,'Months 1-6'!BV42<999),'Months 1-6'!BV42,\"\")","v":""},{"$f":"IF(AND('Months 1-6'!BY42>0,'Months 1-6'!BY42<999),'Months 1-6'!BY42,\"\")","v":""},{"$f":"IF(AND('Months 1-6'!CB42>0,'Months 1-6'!CB42<999),'Months 1-6'!CB42,\"\")","v":""},{"$f":"IF(AND('Months 1-6'!CE42>0,'Months 1-6'!CE42<999),'Months 1-6'!CE42,\"\")","v":""},{"$f":"IF(AND('Months 1-6'!CH42>0,'Months 1-6'!CH42<999),'Months 1-6'!CH42,\"\")","v":""},{"$f":"IF(AND('Months 1-6'!CK42>0,'Months 1-6'!CK42<999),'Months 1-6'!CK42,\"\")","v":""},{"$f":"IF(AND('Months 1-6'!CN42>0,'Months 1-6'!CN42<999),'Months 1-6'!CN42,\"\")","v":""}]
["Month 7",{"$f":"IF(AND('Months 7-12'!E7>0,'Months 7-12'!E7<999),'Months 7-12'!E7,\"\")","v":""},{"$f":"IF(AND('Months 7-12'!H7>0,'Months 7-12'!H7<999),'Months 7-12'!H7,\"\")","v":""},{"$f":"IF(AND('Months 7-12'!K7>0,'Months 7-12'!K7<999),'Months 7-12'!K7,\"\")","v":""},{"$f":"IF(AND('Months 7-12'!N7>0,'Months 7-12'!N7<999),'Months 7-12'!N7,\"\")","v":""},{"$f":"IF(AND('Months 7-12'!Q7>0,'Months 7-12'!Q7<999),'Months 7-12'!Q7,\"\")","v":""},{"$f":"IF(AND('Months 7-12'!T7>0,'Months 7-12'!T7<999),'Months 7-12'!T7,\"\")","v":""},{"$f":"IF(AND('Months 7-12'!W7>0,'Months 7-12'!W7<999),'Months 7-12'!W7,\"\")","v":""},{"$f":"IF(AND('Months 7-12'!Z7>0,'Months 7-12'!Z7<999),'Months 7-12'!Z7,\"\")","v":""},{"$f":"IF(AND('Months 7-12'!AC7>0,'Months 7-12'!AC7<999),'Months 7-12'!AC7,\"\")","v":""},{"$f":"IF(AND('Months 7-12'!AF7>0,'Months 7-12'!AF7<999),'Months 7-12'!AF7,\"\")","v":""},{"$f":"IF(AND('Months 7-12'!AI7>0,'Months 7-12'!AI7<999),'Months 7-12'!AI7,\"\")","v":""},{"$f":"IF(AND('Months 7-12'!AL7>0,'Months 7-12'!AL7<999),'Months 7-12'!AL7,\"\")","v":""},{"$f":"IF(AND('Months 7-12'!AO7>0,'Months 7-12'!AO7<999),'Months 7-12'!AO7,\"\")","v":""},{"$f":"IF(AND('Months 7-12'!AR7>0,'Months 7-12'!AR7<999),'Months 7-12'!AR7,\"\")","v":""},{"$f":"IF(AND('Months 7-12'!AU7>0,'Months 7-12'!AU7<999),'Months 7-12'!AU7,\"\")","v":""},{"$f":"IF(AND('Months 7-12'!AX7>0,'Months 7-12'!AX7<999),'Months 7-12'!AX7,\"\")","v":""},{"$f":"IF(AND('Months 7-12'!BA7>0,'Months 7-12'!BA7<999),'Months 7-12'!BA7,\"\")","v":""},{"$f":"IF(AND('Months 7-12'!BD7>0,'Months 7-12'!BD7<999),'Months 7-12'!BD7,\"\")","v":""},{"$f":"IF(AND('Months 7-12'!BG7>0,'Months 7-12'!BG7<999),'Months 7-12'!BG7,\"\")","v":""},{"$f":"IF(AND('Months 7-12'!BJ7>0,'Months 7-12'!BJ7<999),'Months 7-12'!BJ7,\"\")","v":""},{"$f":"IF(AND('Months 7-12'!BM7>0,'Months 7-12'!BM7<999),'Months 7-12'!BM7,\"\")","v":""},{"$f":"IF(AND('Months 7-12'!BP7>0,'Months 7-12'!BP7<999),'Months 7-12'!BP7,\"\")","v":""},{"$f":"IF(AND('Months 7-12'!BS7>0,'Months 7-12'!BS7<999),'Months 7-12'!BS7,\"\")","v":""},{"$f":"IF(AND('Months 7-12'!BV7>0,'Months 7-12'!BV7<999),'Months 7-12'!BV7,\"\")","v":""},{"$f":"IF(AND('Months 7-12'!BY7>0,'Months 7-12'!BY7<999),'Months 7-12'!BY7,\"\")","v":""},{"$f":"IF(AND('Months 7-12'!CB7>0,'Months 7-12'!CB7<999),'Months 7-12'!CB7,\"\")","v":""},{"$f":"IF(AND('Months 7-12'!CE7>0,'Months 7-12'!CE7<999),'Months 7-12'!CE7,\"\")","v":""},{"$f":"IF(AND('Months 7-12'!CH7>0,'Months 7-12'!CH7<999),'Months 7-12'!CH7,\"\")","v":""},{"$f":"IF(AND('Months 7-12'!CK7>0,'Months 7-12'!CK7<999),'Months 7-12'!CK7,\"\")","v":""},{"$f":"IF(AND('Months 7-12'!CN7>0,'Months 7-12'!CN7<999),'Months 7-12'!CN7,\"\")","v":""}]
["Week 1",{"$f":"IF(AND('Months 7-12'!E8>0,'Months 7-12'!E8<999),'Months 7-12'!E8,\"\")","v":""},{"$f":"IF(AND('Months 7-12'!H8>0,'Months 7-12'!H8<999),'Months 7-12'!H8,\"\")","v":""},{"$f":"IF(AND('Months 7-12'!K8>0,'Months 7-12'!K8<999),'Months 7-12'!K8,\"\")","v":""},{"$f":"IF(AND('Months 7-12'!N8>0,'Months 7-12'!N8<999),'Months 7-12'!N8,\"\")","v":""},{"$f":"IF(AND('Months 7-12'!Q8>0,'Months 7-12'!Q8<999),'Months 7-12'!Q8,\"\")","v":""},{"$f":"IF(AND('Months 7-12'!T8>0,'Months 7-12'!T8<999),'Months 7-12'!T8,\"\")","v":""},{"$f":"IF(AND('Months 7-12'!W8>0,'Months 7-12'!W8<999),'Months 7-12'!W8,\"\")","v":""},{"$f":"IF(AND('Months 7-12'!Z8>0,'Months 7-12'!Z8<999),'Months 7-12'!Z8,\"\")","v":""},{"$f":"IF(AND('Months 7-12'!AC8>0,'Months 7-12'!AC8<999),'Months 7-12'!AC8,\"\")","v":""},{"$f":"IF(AND('Months 7-12'!AF8>0,'Months 7-12'!AF8<999),'Months 7-12'!AF8,\"\")","v":""},{"$f":"IF(AND('Months 7-12'!AI8>0,'Months 7-12'!AI8<999),'Months 7-12'!AI8,\"\")","v":""},{"$f":"IF(AND('Months 7-12'!AL8>0,'Months 7-12'!AL8<999),'Months 7-12'!AL8,\"\")","v":""},{"$f":"IF(AND('Months 7-12'!AO8>0,'Months 7-12'!AO8<999),'Months 7-12'!AO8,\"\")","v":""},{"$f":"IF(AND('Months 7-12'!AR8>0,'Months 7-12'!AR8<999),'Months 7-12'!AR8,\"\")","v":""},{"$f":"IF(AND('Months 7-12'!AU8>0,'Months 7-12'!AU8<999),'Months 7-12'!AU8,\"\")","v":""},{"$f":"IF(AND('Months 7-12'!AX8>0,'Months 7-12'!AX8<999),'Months 7-12'!AX8,\"\")","v":""},{"$f":"IF(AND('Months 7-12'!BA8>0,'Months 7-12'!BA8<999),'Months 7-12'!BA8,\"\")","v":""},{"$f":"IF(AND('Months 7-12'!BD8>0,'Months 7-12'!BD8<999),'Months 7-12'!BD8,\"\")","v":""},{"$f":"IF(AND('Months 7-12'!BG8>0,'Months 7-12'!BG8<999),'Months 7-12'!BG8,\"\")","v":""},{"$f":"IF(AND('Months 7-12'!BJ8>0,'Months 7-12'!BJ8<999),'Months 7-12'!BJ8,\"\")","v":""},{"$f":"IF(AND('Months 7-12'!BM8>0,'Months 7-12'!BM8<999),'Months 7-12'!BM8,\"\")","v":""},{"$f":"IF(AND('Months 7-12'!BP8>0,'Months 7-12'!BP8<999),'Months 7-12'!BP8,\"\")","v":""},{"$f":"IF(AND('Months 7-12'!BS8>0,'Months 7-12'!BS8<999),'Months 7-12'!BS8,\"\")","v":""},{"$f":"IF(AND('Months 7-12'!BV8>0,'Months 7-12'!BV8<999),'Months 7-12'!BV8,\"\")","v":""},{"$f":"IF(AND('Months 7-12'!BY8>0,'Months 7-12'!BY8<999),'Months 7-12'!BY8,\"\")","v":""},{"$f":"IF(AND('Months 7-12'!CB8>0,'Months 7-12'!CB8<999),'Months 7-12'!CB8,\"\")","v":""},{"$f":"IF(AND('Months 7-12'!CE8>0,'Months 7-12'!CE8<999),'Months 7-12'!CE8,\"\")","v":""},{"$f":"IF(AND('Months 7-12'!CH8>0,'Months 7-12'!CH8<999),'Months 7-12'!CH8,\"\")","v":""},{"$f":"IF(AND('Months 7-12'!CK8>0,'Months 7-12'!CK8<999),'Months 7-12'!CK8,\"\")","v":""},{"$f":"IF(AND('Months 7-12'!CN8>0,'Months 7-12'!CN8<999),'Months 7-12'!CN8,\"\")","v":""}]
["Week 2",{"$f":"IF(AND('Months 7-12'!E9>0,'Months 7-12'!E9<999),'Months 7-12'!E9,\"\")","v":""},{"$f":"IF(AND('Months 7-12'!H9>0,'Months 7-12'!H9<999),'Months 7-12'!H9,\"\")","v":""},{"$f":"IF(AND('Months 7-12'!K9>0,'Months 7-12'!K9<999),'Months 7-12'!K9,\"\")","v":""},{"$f":"IF(AND('Months 7-12'!N9>0,'Months 7-12'!N9<999),'Months 7-12'!N9,\"\")","v":""},{"$f":"IF(AND('Months 7-12'!Q9>0,'Months 7-12'!Q9<999),'Months 7-12'!Q9,\"\")","v":""},{"$f":"IF(AND('Months 7-12'!T9>0,'Months 7-12'!T9<999),'Months 7-12'!T9,\"\")","v":""},{"$f":"IF(AND('Months 7-12'!W9>0,'Months 7-12'!W9<999),'Months 7-12'!W9,\"\")","v":""},{"$f":"IF(AND('Months 7-12'!Z9>0,'Months 7-12'!Z9<999),'Months 7-12'!Z9,\"\")","v":""},{"$f":"IF(AND('Months 7-12'!AC9>0,'Months 7-12'!AC9<999),'Months 7-12'!AC9,\"\")","v":""},{"$f":"IF(AND('Months 7-12'!AF9>0,'Months 7-12'!AF9<999),'Months 7-12'!AF9,\"\")","v":""},{"$f":"IF(AND('Months 7-12'!AI9>0,'Months 7-12'!AI9<999),'Months 7-12'!AI9,\"\")","v":""},{"$f":"IF(AND('Months 7-12'!AL9>0,'Months 7-12'!AL9<999),'Months 7-12'!AL9,\"\")","v":""},{"$f":"IF(AND('Months 7-12'!AO9>0,'Months 7-12'!AO9<999),'Months 7-12'!AO9,\"\")","v":""},{"$f":"IF(AND('Months 7-12'!AR9>0,'Months 7-12'!AR9<999),'Months 7-12'!AR9,\"\")","v":""},{"$f":"IF(AND('Months 7-12'!AU9>0,'Months 7-12'!AU9<999),'Months 7-12'!AU9,\"\")","v":""},{"$f":"IF(AND('Months 7-12'!AX9>0,'Months 7-12'!AX9<999),'Months 7-12'!AX9,\"\")","v":""},{"$f":"IF(AND('Months 7-12'!BA9>0,'Months 7-12'!BA9<999),'Months 7-12'!BA9,\"\")","v":""},{"$f":"IF(AND('Months 7-12'!BD9>0,'Months 7-12'!BD9<999),'Months 7-12'!BD9,\"\")","v":""},{"$f":"IF(AND('Months 7-12'!BG9>0,'Months 7-12'!BG9<999),'Months 7-12'!BG9,\"\")","v":""},{"$f":"IF(AND('Months 7-12'!BJ9>0,'Months 7-12'!BJ9<999),'Months 7-12'!BJ9,\"\")","v":""},{"$f":"IF(AND('Months 7-12'!BM9>0,'Months 7-12'!BM9<999),'Months 7-12'!BM9,\"\")","v":""},{"$f":"IF(AND('Months 7-12'!BP9>0,'Months 7-12'!BP9<999),'Months 7-12'!BP9,\"\")","v":""},{"$f":"IF(AND('Months 7-12'!BS9>0,'Months 7-12'!BS9<999),'Months 7-12'!BS9,\"\")","v":""},{"$f":"IF(AND('Months 7-12'!BV9>0,'Months 7-12'!BV9<999),'Months 7-12'!BV9,\"\")","v":""},{"$f":"IF(AND('Months 7-12'!BY9>0,'Months 7-12'!BY9<999),'Months 7-12'!BY9,\"\")","v":""},{"$f":"IF(AND('Months 7-12'!CB9>0,'Months 7-12'!CB9<999),'Months 7-12'!CB9,\"\")","v":""},{"$f":"IF(AND('Months 7-12'!CE9>0,'Months 7-12'!CE9<999),'Months 7-12'!CE9,\"\")","v":""},{"$f":"IF(AND('Months 7-12'!CH9>0,'Months 7-12'!CH9<999),'Months 7-12'!CH9,\"\")","v":""},{"$f":"IF(AND('Months 7-12'!CK9>0,'Months 7-12'!CK9<999),'Months 7-12'!CK9,\"\")","v":""},{"$f":"IF(AND('Months 7-12'!CN9>0,'Months 7-12'!CN9<999),'Months 7-12'!CN9,\"\")","v":""}]
["Week 3",{"$f":"IF(AND('Months 7-12'!E10>0,'Months 7-12'!E10<999),'Months 7-12'!E10,\"\")","v":""},{"$f":"IF(AND('Months 7-12'!H10>0,'Months 7-12'!H10<999),'Months 7-12'!H10,\"\")","v":""},{"$f":"IF(AND('Months 7-12'!K10>0,'Months 7-12'!K10<999),'Months 7-12'!K10,\"\")","v":""},{"$f":"IF(AND('Months 7-12'!N10>0,'Months 7-12'!N10<999),'Months 7-12'!N10,\"\")","v":""},{"$f":"IF(AND('Months 7-12'!Q10>0,'Months 7-12'!Q10<999),'Months 7-12'!Q10,\"\")","v":""},{"$f":"IF(AND('Months 7-12'!T10>0,'Months 7-12'!T10<999),'Months 7-12'!T10,\"\")","v":""},{"$f":"IF(AND('Months 7-12'!W10>0,'Months 7-12'!W10<999),'Months 7-12'!W10,\"\")","v":""},{"$f":"IF(AND('Months 7-12'!Z10>0,'Months 7-12'!Z10<999),'Months 7-12'!Z10,\"\")","v":""},{"$f":"IF(AND('Months 7-12'!AC10>0,'Months 7-12'!AC10<999),'Months 7-12'!AC10,\"\")","v":""},{"$f":"IF(AND('Months 7-12'!AF10>0,'Months 7-12'!AF10<999),'Months 7-12'!AF10,\"\")","v":""},{"$f":"IF(AND('Months 7-12'!AI10>0,'Months 7-12'!AI10<999),'Months 7-12'!AI10,\"\")","v":""},{"$f":"IF(AND('Months 7-12'!AL10>0,'Months 7-12'!AL10<999),'Months 7-12'!AL10,\"\")","v":""},{"$f":"IF(AND('Months 7-12'!AO10>0,'Months 7-12'!AO10<999),'Months 7-12'!AO10,\"\")","v":""},{"$f":"IF(AND('Months 7-12'!AR10>0,'Months 7-12'!AR10<999),'Months 7-12'!AR10,\"\")","v":""},{"$f":"IF(AND('Months 7-12'!AU10>0,'Months 7-12'!AU10<999),'Months 7-12'!AU10,\"\")","v":""},{"$f":"IF(AND('Months 7-12'!AX10>0,'Months 7-12'!AX10<999),'Months 7-12'!AX10,\"\")","v":""},{"$f":"IF(AND('Months 7-12'!BA10>0,'Months 7-12'!BA10<999),'Months 7-12'!BA10,\"\")","v":""},{"$f":"IF(AND('Months 7-12'!BD10>0,'Months 7-12'!BD10<999),'Months 7-12'!BD10,\"\")","v":""},{"$f":"IF(AND('Months 7-12'!BG10>0,'Months 7-12'!BG10<999),'Months 7-12'!BG10,\"\")","v":""},{"$f":"IF(AND('Months 7-12'!BJ10>0,'Months 7-12'!BJ10<999),'Months 7-12'!BJ10,\"\")","v":""},{"$f":"IF(AND('Months 7-12'!BM10>0,'Months 7-12'!BM10<999),'Months 7-12'!BM10,\"\")","v":""},{"$f":"IF(AND('Months 7-12'!BP10>0,'Months 7-12'!BP10<999),'Months 7-12'!BP10,\"\")","v":""},{"$f":"IF(AND('Months 7-12'!BS10>0,'Months 7-12'!BS10<999),'Months 7-12'!BS10,\"\")","v":""},{"$f":"IF(AND('Months 7-12'!BV10>0,'Months 7-12'!BV10<999),'Months 7-12'!BV10,\"\")","v":""},{"$f":"IF(AND('Months 7-12'!BY10>0,'Months 7-12'!BY10<999),'Months 7-12'!BY10,\"\")","v":""},{"$f":"IF(AND('Months 7-12'!CB10>0,'Months 7-12'!CB10<999),'Months 7-12'!CB10,\"\")","v":""},{"$f":"IF(AND('Months 7-12'!CE10>0,'Months 7-12'!CE10<999),'Months 7-12'!CE10,\"\")","v":""},{"$f":"IF(AND('Months 7-12'!CH10>0,'Months 7-12'!CH10<999),'Months 7-12'!CH10,\"\")","v":""},{"$f":"IF(AND('Months 7-12'!CK10>0,'Months 7-12'!CK10<999),'Months 7-12'!CK10,\"\")","v":""},{"$f":"IF(AND('Months 7-12'!CN10>0,'Months 7-12'!CN10<999),'Months 7-12'!CN10,\"\")","v":""}]
["Week 4",{"$f":"IF(AND('Months 7-12'!E11>0,'Months 7-12'!E11<999),'Months 7-12'!E11,\"\")","v":""},{"$f":"IF(AND('Months 7-12'!H11>0,'Months 7-12'!H11<999),'Months 7-12'!H11,\"\")","v":""},{"$f":"IF(AND('Months 7-12'!K11>0,'Months 7-12'!K11<999),'Months 7-12'!K11,\"\")","v":""},{"$f":"IF(AND('Months 7-12'!N11>0,'Months 7-12'!N11<999),'Months 7-12'!N11,\"\")","v":""},{"$f":"IF(AND('Months 7-12'!Q11>0,'Months 7-12'!Q11<999),'Months 7-12'!Q11,\"\")","v":""},{"$f":"IF(AND('Months 7-12'!T11>0,'Months 7-12'!T11<999),'Months 7-12'!T11,\"\")","v":""},{"$f":"IF(AND('Months 7-12'!W11>0,'Months 7-12'!W11<999),'Months 7-12'!W11,\"\")","v":""},{"$f":"IF(AND('Months 7-12'!Z11>0,'Months 7-12'!Z11<999),'Months 7-12'!Z11,\"\")","v":""},{"$f":"IF(AND('Months 7-12'!AC11>0,'Months 7-12'!AC11<999),'Months 7-12'!AC11,\"\")","v":""},{"$f":"IF(AND('Months 7-12'!AF11>0,'Months 7-12'!AF11<999),'Months 7-12'!AF11,\"\")","v":""},{"$f":"IF(AND('Months 7-12'!AI11>0,'Months 7-12'!AI11<999),'Months 7-12'!AI11,\"\")","v":""},{"$f":"IF(AND('Months 7-12'!AL11>0,'Months 7-12'!AL11<999),'Months 7-12'!AL11,\"\")","v":""},{"$f":"IF(AND('Months 7-12'!AO11>0,'Months 7-12'!AO11<999),'Months 7-12'!AO11,\"\")","v":""},{"$f":"IF(AND('Months 7-12'!AR11>0,'Months 7-12'!AR11<999),'Months 7-12'!AR11,\"\")","v":""},{"$f":"IF(AND('Months 7-12'!AU11>0,'Months 7-12'!AU11<999),'Months 7-12'!AU11,\"\")","v":""},{"$f":"IF(AND('Months 7-12'!AX11>0,'Months 7-12'!AX11<999),'Months 7-12'!AX11,\"\")","v":""},{"$f":"IF(AND('Months 7-12'!BA11>0,'Months 7-12'!BA11<999),'Months 7-12'!BA11,\"\")","v":""},{"$f":"IF(AND('Months 7-12'!BD11>0,'Months 7-12'!BD11<999),'Months 7-12'!BD11,\"\")","v":""},{"$f":"IF(AND('Months 7-12'!BG11>0,'Months 7-12'!BG11<999),'Months 7-12'!BG11,\"\")","v":""},{"$f":"IF(AND('Months 7-12'!BJ11>0,'Months 7-12'!BJ11<999),'Months 7-12'!BJ11,\"\")","v":""},{"$f":"IF(AND('Months 7-12'!BM11>0,'Months 7-12'!BM11<999),'Months 7-12'!BM11,\"\")","v":""},{"$f":"IF(AND('Months 7-12'!BP11>0,'Months 7-12'!BP11<999),'Months 7-12'!BP11,\"\")","v":""},{"$f":"IF(AND('Months 7-12'!BS11>0,'Months 7-12'!BS11<999),'Months 7-12'!BS11,\"\")","v":""},{"$f":"IF(AND('Months 7-12'!BV11>0,'Months 7-12'!BV11<999),'Months 7-12'!BV11,\"\")","v":""},{"$f":"IF(AND('Months 7-12'!BY11>0,'Months 7-12'!BY11<999),'Months 7-12'!BY11,\"\")","v":""},{"$f":"IF(AND('Months 7-12'!CB11>0,'Months 7-12'!CB11<999),'Months 7-12'!CB11,\"\")","v":""},{"$f":"IF(AND('Months 7-12'!CE11>0,'Months 7-12'!CE11<999),'Months 7-12'!CE11,\"\")","v":""},{"$f":"IF(AND('Months 7-12'!CH11>0,'Months 7-12'!CH11<999),'Months 7-12'!CH11,\"\")","v":""},{"$f":"IF(AND('Months 7-12'!CK11>0,'Months 7-12'!CK11<999),'Months 7-12'!CK11,\"\")","v":""},{"$f":"IF(AND('Months 7-12'!CN11>0,'Months 7-12'!CN11<999),'Months 7-12'!CN11,\"\")","v":""}]
["Week 5",{"$f":"IF(AND('Months 7-12'!E12>0,'Months 7-12'!E12<999),'Months 7-12'!E12,\"\")","v":""},{"$f":"IF(AND('Months 7-12'!H12>0,'Months 7-12'!H12<999),'Months 7-12'!H12,\"\")","v":""},{"$f":"IF(AND('Months 7-12'!K12>0,'Months 7-12'!K12<999),'Months 7-12'!K12,\"\")","v":""},{"$f":"IF(AND('Months 7-12'!N12>0,'Months 7-12'!N12<999),'Months 7-12'!N12,\"\")","v":""},{"$f":"IF(AND('Months 7-12'!Q12>0,'Months 7-12'!Q12<999),'Months 7-12'!Q12,\"\")","v":""},{"$f":"IF(AND('Months 7-12'!T12>0,'Months 7-12'!T12<999),'Months 7-12'!T12,\"\")","v":""},{"$f":"IF(AND('Months 7-12'!W12>0,'Months 7-12'!W12<999),'Months 7-12'!W12,\"\")","v":""},{"$f":"IF(AND('Months 7-12'!Z12>0,'Months 7-12'!Z12<999),'Months 7-12'!Z12,\"\")","v":""},{"$f":"IF(AND('Months 7-12'!AC12>0,'Months 7-12'!AC12<999),'Months 7-12'!AC12,\"\")","v":""},{"$f":"IF(AND('Months 7-12'!AF12>0,'Months 7-12'!AF12<999),'Months 7-12'!AF12,\"\")","v":""},{"$f":"IF(AND('Months 7-12'!AI12>0,'Months 7-12'!AI12<999),'Months 7-12'!AI12,\"\")","v":""},{"$f":"IF(AND('Months 7-12'!AL12>0,'Months 7-12'!AL12<999),'Months 7-12'!AL12,\"\")","v":""},{"$f":"IF(AND('Months 7-12'!AO12>0,'Months 7-12'!AO12<999),'Months 7-12'!AO12,\"\")","v":""},{"$f":"IF(AND('Months 7-12'!AR12>0,'Months 7-12'!AR12<999),'Months 7-12'!AR12,\"\")","v":""},{"$f":"IF(AND('Months 7-12'!AU12>0,'Months 7-12'!AU12<999),'Months 7-12'!AU12,\"\")","v":""},{"$f":"IF(AND('Months 7-12'!AX12>0,'Months 7-12'!AX12<999),'Months 7-12'!AX12,\"\")","v":""},{"$f":"IF(AND('Months 7-12'!BA12>0,'Months 7-12'!BA12<999),'Months 7-12'!BA12,\"\")","v":""},{"$f":"IF(AND('Months 7-12'!BD12>0,'Months 7-12'!BD12<999),'Months 7-12'!BD12,\"\")","v":""},{"$f":"IF(AND('Months 7-12'!BG12>0,'Months 7-12'!BG12<999),'Months 7-12'!BG12,\"\")","v":""},{"$f":"IF(AND('Months 7-12'!BJ12>0,'Months 7-12'!BJ12<999),'Months 7-12'!BJ12,\"\")","v":""},{"$f":"IF(AND('Months 7-12'!BM12>0,'Months 7-12'!BM12<999),'Months 7-12'!BM12,\"\")","v":""},{"$f":"IF(AND('Months 7-12'!BP12>0,'Months 7-12'!BP12<999),'Months 7-12'!BP12,\"\")","v":""},{"$f":"IF(AND('Months 7-12'!BS12>0,'Months 7-12'!BS12<999),'Months 7-12'!BS12,\"\")","v":""},{"$f":"IF(AND('Months 7-12'!BV12>0,'Months 7-12'!BV12<999),'Months 7-12'!BV12,\"\")","v":""},{"$f":"IF(AND('Months 7-12'!BY12>0,'Months 7-12'!BY12<999),'Months 7-12'!BY12,\"\")","v":""},{"$f":"IF(AND('Months 7-12'!CB12>0,'Months 7-12'!CB12<999),'Months 7-12'!CB12,\"\")","v":""},{"$f":"IF(AND('Months 7-12'!CE12>0,'Months 7-12'!CE12<999),'Months 7-12'!CE12,\"\")","v":""},{"$f":"IF(AND('Months 7-12'!CH12>0,'Months 7-12'!CH12<999),'Months 7-12'!CH12,\"\")","v":""},{"$f":"IF(AND('Months 7-12'!CK12>0,'Months 7-12'!CK12<999),'Months 7-12'!CK12,\"\")","v":""},{"$f":"IF(AND('Months 7-12'!CN12>0,'Months 7-12'!CN12<999),'Months 7-12'!CN12,\"\")","v":""}]
["Month 8",{"$f":"IF(AND('Months 7-12'!E13>0,'Months 7-12'!E13<999),'Months 7-12'!E13,\"\")","v":""},{"$f":"IF(AND('Months 7-12'!H13>0,'Months 7-12'!H13<999),'Months 7-12'!H13,\"\")","v":""},{"$f":"IF(AND('Months 7-12'!K13>0,'Months 7-12'!K13<999),'Months 7-12'!K13,\"\")","v":""},{"$f":"IF(AND('Months 7-12'!N13>0,'Months 7-12'!N13<999),'Months 7-12'!N13,\"\")","v":""},{"$f":"IF(AND('Months 7-12'!Q13>0,'Months 7-12'!Q13<999),'Months 7-12'!Q13,\"\")","v":""},{"$f":"IF(AND('Months 7-12'!T13>0,'Months 7-12'!T13<999),'Months 7-12'!T13,\"\")","v":""},{"$f":"IF(AND('Months 7-12'!W13>0,'Months 7-12'!W13<999),'Months 7-12'!W13,\"\")","v":""},{"$f":"IF(AND('Months 7-12'!Z13>0,'Months 7-12'!Z13<999),'Months 7-12'!Z13,\"\")","v":""},{"$f":"IF(AND('Months 7-12'!AC13>0,'Months 7-12'!AC13<999),'Months 7-12'!AC13,\"\")","v":""},{"$f":"IF(AND('Months 7-12'!AF13>0,'Months 7-12'!AF13<999),'Months 7-12'!AF13,\"\")","v":""},{"$f":"IF(AND('Months 7-12'!AI13>0,'Months 7-12'!AI13<999),'Months 7-12'!AI13,\"\")","v":""},{"$f":"IF(AND('Months 7-12'!AL13>0,'Months 7-12'!AL13<999),'Months 7-12'!AL13,\"\")","v":""},{"$f":"IF(AND('Months 7-12'!AO13>0,'Months 7-12'!AO13<999),'Months 7-12'!AO13,\"\")","v":""},{"$f":"IF(AND('Months 7-12'!AR13>0,'Months 7-12'!AR13<999),'Months 7-12'!AR13,\"\")","v":""},{"$f":"IF(AND('Months 7-12'!AU13>0,'Months 7-12'!AU13<999),'Months 7-12'!AU13,\"\")","v":""},{"$f":"IF(AND('Months 7-12'!AX13>0,'Months 7-12'!AX13<999),'Months 7-12'!AX13,\"\")","v":""},{"$f":"IF(AND('Months 7-12'!BA13>0,'Months 7-12'!BA13<999),'Months 7-12'!BA13,\"\")","v":""},{"$f":"IF(AND('Months 7-12'!BD13>0,'Months 7-12'!BD13<999),'Months 7-12'!BD13,\"\")","v":""},{"$f":"IF(AND('Months 7-12'!BG13>0,'Months 7-12'!BG13<999),'Months 7-12'!BG13,\"\")","v":""},{"$f":"IF(AND('Months 7-12'!BJ13>0,'Months 7-12'!BJ13<999),'Months 7-12'!BJ13,\"\")","v":""},{"$f":"IF(AND('Months 7-12'!BM13>0,'Months 7-12'!BM13<999),'Months 7-12'!BM13,\"\")","v":""},{"$f":"IF(AND('Months 7-12'!BP13>0,'Months 7-12'!BP13<999),'Months 7-12'!BP13,\"\")","v":""},{"$f":"IF(AND('Months 7-12'!BS13>0,'Months 7-12'!BS13<999),'Months 7-12'!BS13,\"\")","v":""},{"$f":"IF(AND('Months 7-12'!BV13>0,'Months 7-12'!BV13<999),'Months 7-12'!BV13,\"\")","v":""},{"$f":"IF(AND('Months 7-12'!BY13>0,'Months 7-12'!BY13<999),'Months 7-12'!BY13,\"\")","v":""},{"$f":"IF(AND('Months 7-12'!CB13>0,'Months 7-12'!CB13<999),'Months 7-12'!CB13,\"\")","v":""},{"$f":"IF(AND('Months 7-12'!CE13>0,'Months 7-12'!CE13<999),'Months 7-12'!CE13,\"\")","v":""},{"$f":"IF(AND('Months 7-12'!CH13>0,'Months 7-12'!CH13<999),'Months 7-12'!CH13,\"\")","v":""},{"$f":"IF(AND('Months 7-12'!CK13>0,'Months 7-12'!CK13<999),'Months 7-12'!CK13,\"\")","v":""},{"$f":"IF(AND('Months 7-12'!CN13>0,'Months 7-12'!CN13<999),'Months 7-12'!CN13,\"\")","v":""}]
["Week 1",{"$f":"IF(AND('Months 7-12'!E14>0,'Months 7-12'!E14<999),'Months 7-12'!E14,\"\")","v":""},{"$f":"IF(AND('Months 7-12'!H14>0,'Months 7-12'!H14<999),'Months 7-12'!H14,\"\")","v":""},{"$f":"IF(AND('Months 7-12'!K14>0,'Months 7-12'!K14<999),'Months 7-12'!K14,\"\")","v":""},{"$f":"IF(AND('Months 7-12'!N14>0,'Months 7-12'!N14<999),'Months 7-12'!N14,\"\")","v":""},{"$f":"IF(AND('Months 7-12'!Q14>0,'Months 7-12'!Q14<999),'Months 7-12'!Q14,\"\")","v":""},{"$f":"IF(AND('Months 7-12'!T14>0,'Months 7-12'!T14<999),'Months 7-12'!T14,\"\")","v":""},{"$f":"IF(AND('Months 7-12'!W14>0,'Months 7-12'!W14<999),'Months 7-12'!W14,\"\")","v":""},{"$f":"IF(AND('Months 7-12'!Z14>0,'Months 7-12'!Z14<999),'Months 7-12'!Z14,\"\")","v":""},{"$f":"IF(AND('Months 7-12'!AC14>0,'Months 7-12'!AC14<999),'Months 7-12'!AC14,\"\")","v":""},{"$f":"IF(AND('Months 7-12'!AF14>0,'Months 7-12'!AF14<999),'Months 7-12'!AF14,\"\")","v":""},{"$f":"IF(AND('Months 7-12'!AI14>0,'Months 7-12'!AI14<999),'Months 7-12'!AI14,\"\")","v":""},{"$f":"IF(AND('Months 7-12'!AL14>0,'Months 7-12'!AL14<999),'Months 7-12'!AL14,\"\")","v":""},{"$f":"IF(AND('Months 7-12'!AO14>0,'Months 7-12'!AO14<999),'Months 7-12'!AO14,\"\")","v":""},{"$f":"IF(AND('Months 7-12'!AR14>0,'Months 7-12'!AR14<999),'Months 7-12'!AR14,\"\")","v":""},{"$f":"IF(AND('Months 7-12'!AU14>0,'Months 7-12'!AU14<999),'Months 7-12'!AU14,\"\")","v":""},{"$f":"IF(AND('Months 7-12'!AX14>0,'Months 7-12'!AX14<999),'Months 7-12'!AX14,\"\")","v":""},{"$f":"IF(AND('Months 7-12'!BA14>0,'Months 7-12'!BA14<999),'Months 7-12'!BA14,\"\")","v":""},{"$f":"IF(AND('Months 7-12'!BD14>0,'Months 7-12'!BD14<999),'Months 7-12'!BD14,\"\")","v":""},{"$f":"IF(AND('Months 7-12'!BG14>0,'Months 7-12'!BG14<999),'Months 7-12'!BG14,\"\")","v":""},{"$f":"IF(AND('Months 7-12'!BJ14>0,'Months 7-12'!BJ14<999),'Months 7-12'!BJ14,\"\")","v":""},{"$f":"IF(AND('Months 7-12'!BM14>0,'Months 7-12'!BM14<999),'Months 7-12'!BM14,\"\")","v":""},{"$f":"IF(AND('Months 7-12'!BP14>0,'Months 7-12'!BP14<999),'Months 7-12'!BP14,\"\")","v":""},{"$f":"IF(AND('Months 7-12'!BS14>0,'Months 7-12'!BS14<999),'Months 7-12'!BS14,\"\")","v":""},{"$f":"IF(AND('Months 7-12'!BV14>0,'Months 7-12'!BV14<999),'Months 7-12'!BV14,\"\")","v":""},{"$f":"IF(AND('Months 7-12'!BY14>0,'Months 7-12'!BY14<999),'Months 7-12'!BY14,\"\")","v":""},{"$f":"IF(AND('Months 7-12'!CB14>0,'Months 7-12'!CB14<999),'Months 7-12'!CB14,\"\")","v":""},{"$f":"IF(AND('Months 7-12'!CE14>0,'Months 7-12'!CE14<999),'Months 7-12'!CE14,\"\")","v":""},{"$f":"IF(AND('Months 7-12'!CH14>0,'Months 7-12'!CH14<999),'Months 7-12'!CH14,\"\")","v":""},{"$f":"IF(AND('Months 7-12'!CK14>0,'Months 7-12'!CK14<999),'Months 7-12'!CK14,\"\")","v":""},{"$f":"IF(AND('Months 7-12'!CN14>0,'Months 7-12'!CN14<999),'Months 7-12'!CN14,\"\")","v":""}]
["Week 2",{"$f":"IF(AND('Months 7-12'!E15>0,'Months 7-12'!E15<999),'Months 7-12'!E15,\"\")","v":""},{"$f":"IF(AND('Months 7-12'!H15>0,'Months 7-12'!H15<999),'Months 7-12'!H15,\"\")","v":""},{"$f":"IF(AND('Months 7-12'!K15>0,'Months 7-12'!K15<999),'Months 7-12'!K15,\"\")","v":""},{"$f":"IF(AND('Months 7-12'!N15>0,'Months 7-12'!N15<999),'Months 7-12'!N15,\"\")","v":""},{"$f":"IF(AND('Months 7-12'!Q15>0,'Months 7-12'!Q15<999),'Months 7-12'!Q15,\"\")","v":""},{"$f":"IF(AND('Months 7-12'!T15>0,'Months 7-12'!T15<999),'Months 7-12'!T15,\"\")","v":""},{"$f":"IF(AND('Months 7-12'!W15>0,'Months 7-12'!W15<999),'Months 7-12'!W15,\"\")","v":""},{"$f":"IF(AND('Months 7-12'!Z15>0,'Months 7-12'!Z15<999),'Months 7-12'!Z15,\"\")","v":""},{"$f":"IF(AND('Months 7-12'!AC15>0,'Months 7-12'!AC15<999),'Months 7-12'!AC15,\"\")","v":""},{"$f":"IF(AND('Months 7-12'!AF15>0,'Months 7-12'!AF15<999),'Months 7-12'!AF15,\"\")","v":""},{"$f":"IF(AND('Months 7-12'!AI15>0,'Months 7-12'!AI15<999),'Months 7-12'!AI15,\"\")","v":""},{"$f":"IF(AND('Months 7-12'!AL15>0,'Months 7-12'!AL15<999),'Months 7-12'!AL15,\"\")","v":""},{"$f":"IF(AND('Months 7-12'!AO15>0,'Months 7-12'!AO15<999),'Months 7-12'!AO15,\"\")","v":""},{"$f":"IF(AND('Months 7-12'!AR15>0,'Months 7-12'!AR15<999),'Months 7-12'!AR15,\"\")","v":""},{"$f":"IF(AND('Months 7-12'!AU15>0,'Months 7-12'!AU15<999),'Months 7-12'!AU15,\"\")","v":""},{"$f":"IF(AND('Months 7-12'!AX15>0,'Months 7-12'!AX15<999),'Months 7-12'!AX15,\"\")","v":""},{"$f":"IF(AND('Months 7-12'!BA15>0,'Months 7-12'!BA15<999),'Months 7-12'!BA15,\"\")","v":""},{"$f":"IF(AND('Months 7-12'!BD15>0,'Months 7-12'!BD15<999),'Months 7-12'!BD15,\"\")","v":""},{"$f":"IF(AND('Months 7-12'!BG15>0,'Months 7-12'!BG15<999),'Months 7-12'!BG15,\"\")","v":""},{"$f":"IF(AND('Months 7-12'!BJ15>0,'Months 7-12'!BJ15<999),'Months 7-12'!BJ15,\"\")","v":""},{"$f":"IF(AND('Months 7-12'!BM15>0,'Months 7-12'!BM15<999),'Months 7-12'!BM15,\"\")","v":""},{"$f":"IF(AND('Months 7-12'!BP15>0,'Months 7-12'!BP15<999),'Months 7-12'!BP15,\"\")","v":""},{"$f":"IF(AND('Months 7-12'!BS15>0,'Months 7-12'!BS15<999),'Months 7-12'!BS15,\"\")","v":""},{"$f":"IF(AND('Months 7-12'!BV15>0,'Months 7-12'!BV15<999),'Months 7-12'!BV15,\"\")","v":""},{"$f":"IF(AND('Months 7-12'!BY15>0,'Months 7-12'!BY15<999),'Months 7-12'!BY15,\"\")","v":""},{"$f":"IF(AND('Months 7-12'!CB15>0,'Months 7-12'!CB15<999),'Months 7-12'!CB15,\"\")","v":""},{"$f":"IF(AND('Months 7-12'!CE15>0,'Months 7-12'!CE15<999),'Months 7-12'!CE15,\"\")","v":""},{"$f":"IF(AND('Months 7-12'!CH15>0,'Months 7-12'!CH15<999),'Months 7-12'!CH15,\"\")","v":""},{"$f":"IF(AND('Months 7-12'!CK15>0,'Months 7-12'!CK15<999),'Months 7-12'!CK15,\"\")","v":""},{"$f":"IF(AND('Months 7-12'!CN15>0,'Months 7-12'!CN15<999),'Months 7-12'!CN15,\"\")","v":""}]
["Week 3",{"$f":"IF(AND('Months 7-12'!E16>0,'Months 7-12'!E16<999),'Months 7-12'!E16,\"\")","v":""},{"$f":"IF(AND('Months 7-12'!H16>0,'Months 7-12'!H16<999),'Months 7-12'!H16,\"\")","v":""},{"$f":"IF(AND('Months 7-12'!K16>0,'Months 7-12'!K16<999),'Months 7-12'!K16,\"\")","v":""},{"$f":"IF(AND('Months 7-12'!N16>0,'Months 7-12'!N16<999),'Months 7-12'!N16,\"\")","v":""},{"$f":"IF(AND('Months 7-12'!Q16>0,'Months 7-12'!Q16<999),'Months 7-12'!Q16,\"\")","v":""},{"$f":"IF(AND('Months 7-12'!T16>0,'Months 7-12'!T16<999),'Months 7-12'!T16,\"\")","v":""},{"$f":"IF(AND('Months 7-12'!W16>0,'Months 7-12'!W16<999),'Months 7-12'!W16,\"\")","v":""},{"$f":"IF(AND('Months 7-12'!Z16>0,'Months 7-12'!Z16<999),'Months 7-12'!Z16,\"\")","v":""},{"$f":"IF(AND('Months 7-12'!AC16>0,'Months 7-12'!AC16<999),'Months 7-12'!AC16,\"\")","v":""},{"$f":"IF(AND('Months 7-12'!AF16>0,'Months 7-12'!AF16<999),'Months 7-12'!AF16,\"\")","v":""},{"$f":"IF(AND('Months 7-12'!AI16>0,'Months 7-12'!AI16<999),'Months 7-12'!AI16,\"\")","v":""},{"$f":"IF(AND('Months 7-12'!AL16>0,'Months 7-12'!AL16<999),'Months 7-12'!AL16,\"\")","v":""},{"$f":"IF(AND('Months 7-12'!AO16>0,'Months 7-12'!AO16<999),'Months 7-12'!AO16,\"\")","v":""},{"$f":"IF(AND('Months 7-12'!AR16>0,'Months 7-12'!AR16<999),'Months 7-12'!AR16,\"\")","v":""},{"$f":"IF(AND('Months 7-12'!AU16>0,'Months 7-12'!AU16<999),'Months 7-12'!AU16,\"\")","v":""},{"$f":"IF(AND('Months 7-12'!AX16>0,'Months 7-12'!AX16<999),'Months 7-12'!AX16,\"\")","v":""},{"$f":"IF(AND('Months 7-12'!BA16>0,'Months 7-12'!BA16<999),'Months 7-12'!BA16,\"\")","v":""},{"$f":"IF(AND('Months 7-12'!BD16>0,'Months 7-12'!BD16<999),'Months 7-12'!BD16,\"\")","v":""},{"$f":"IF(AND('Months 7-12'!BG16>0,'Months 7-12'!BG16<999),'Months 7-12'!BG16,\"\")","v":""},{"$f":"IF(AND('Months 7-12'!BJ16>0,'Months 7-12'!BJ16<999),'Months 7-12'!BJ16,\"\")","v":""},{"$f":"IF(AND('Months 7-12'!BM16>0,'Months 7-12'!BM16<999),'Months 7-12'!BM16,\"\")","v":""},{"$f":"IF(AND('Months 7-12'!BP16>0,'Months 7-12'!BP16<999),'Months 7-12'!BP16,\"\")","v":""},{"$f":"IF(AND('Months 7-12'!BS16>0,'Months 7-12'!BS16<999),'Months 7-12'!BS16,\"\")","v":""},{"$f":"IF(AND('Months 7-12'!BV16>0,'Months 7-12'!BV16<999),'Months 7-12'!BV16,\"\")","v":""},{"$f":"IF(AND('Months 7-12'!BY16>0,'Months 7-12'!BY16<999),'Months 7-12'!BY16,\"\")","v":""},{"$f":"IF(AND('Months 7-12'!CB16>0,'Months 7-12'!CB16<999),'Months 7-12'!CB16,\"\")","v":""},{"$f":"IF(AND('Months 7-12'!CE16>0,'Months 7-12'!CE16<999),'Months 7-12'!CE16,\"\")","v":""},{"$f":"IF(AND('Months 7-12'!CH16>0,'Months 7-12'!CH16<999),'Months 7-12'!CH16,\"\")","v":""},{"$f":"IF(AND('Months 7-12'!CK16>0,'Months 7-12'!CK16<999),'Months 7-12'!CK16,\"\")","v":""},{"$f":"IF(AND('Months 7-12'!CN16>0,'Months 7-12'!CN16<999),'Months 7-12'!CN16,\"\")","v":""}]
["Week 4",{"$f":"IF(AND('Months 7-12'!E17>0,'Months 7-12'!E17<999),'Months 7-12'!E17,\"\")","v":""},{"$f":"IF(AND('Months 7-12'!H17>0,'Months 7-12'!H17<999),'Months 7-12'!H17,\"\")","v":""},{"$f":"IF(AND('Months 7-12'!K17>0,'Months 7-12'!K17<999),'Months 7-12'!K17,\"\")","v":""},{"$f":"IF(AND('Months 7-12'!N17>0,'Months 7-12'!N17<999),'Months 7-12'!N17,\"\")","v":""},{"$f":"IF(AND('Months 7-12'!Q17>0,'Months 7-12'!Q17<999),'Months 7-12'!Q17,\"\")","v":""},{"$f":"IF(AND('Months 7-12'!T17>0,'Months 7-12'!T17<999),'Months 7-12'!T17,\"\")","v":""},{"$f":"IF(AND('Months 7-12'!W17>0,'Months 7-12'!W17<999),'Months 7-12'!W17,\"\")","v":""},{"$f":"IF(AND('Months 7-12'!Z17>0,'Months 7-12'!Z17<999),'Months 7-12'!Z17,\"\")","v":""},{"$f":"IF(AND('Months 7-12'!AC17>0,'Months 7-12'!AC17<999),'Months 7-12'!AC17,\"\")","v":""},{"$f":"IF(AND('Months 7-12'!AF17>0,'Months 7-12'!AF17<999),'Months 7-12'!AF17,\"\")","v":""},{"$f":"IF(AND('Months 7-12'!AI17>0,'Months 7-12'!AI17<999),'Months 7-12'!AI17,\"\")","v":""},{"$f":"IF(AND('Months 7-12'!AL17>0,'Months 7-12'!AL17<999),'Months 7-12'!AL17,\"\")","v":""},{"$f":"IF(AND('Months 7-12'!AO17>0,'Months 7-12'!AO17<999),'Months 7-12'!AO17,\"\")","v":""},{"$f":"IF(AND('Months 7-12'!AR17>0,'Months 7-12'!AR17<999),'Months 7-12'!AR17,\"\")","v":""},{"$f":"IF(AND('Months 7-12'!AU17>0,'Months 7-12'!AU17<999),'Months 7-12'!AU17,\"\")","v":""},{"$f":"IF(AND('Months 7-12'!AX17>0,'Months 7-12'!AX17<999),'Months 7-12'!AX17,\"\")","v":""},{"$f":"IF(AND('Months 7-12'!BA17>0,'Months 7-12'!BA17<999),'Months 7-12'!BA17,\"\")","v":""},{"$f":"IF(AND('Months 7-12'!BD17>0,'Months 7-12'!BD17<999),'Months 7-12'!BD17,\"\")","v":""},{"$f":"IF(AND('Months 7-12'!BG17>0,'Months 7-12'!BG17<999),'Months 7-12'!BG17,\"\")","v":""},{"$f":"IF(AND('Months 7-12'!BJ17>0,'Months 7-12'!BJ17<999),'Months 7-12'!BJ17,\"\")","v":""},{"$f":"IF(AND('Months 7-12'!BM17>0,'Months 7-12'!BM17<999),'Months 7-12'!BM17,\"\")","v":""},{"$f":"IF(AND('Months 7-12'!BP17>0,'Months 7-12'!BP17<999),'Months 7-12'!BP17,\"\")","v":""},{"$f":"IF(AND('Months 7-12'!BS17>0,'Months 7-12'!BS17<999),'Months 7-12'!BS17,\"\")","v":""},{"$f":"IF(AND('Months 7-12'!BV17>0,'Months 7-12'!BV17<999),'Months 7-12'!BV17,\"\")","v":""},{"$f":"IF(AND('Months 7-12'!BY17>0,'Months 7-12'!BY17<999),'Months 7-12'!BY17,\"\")","v":""},{"$f":"IF(AND('Months 7-12'!CB17>0,'Months 7-12'!CB17<999),'Months 7-12'!CB17,\"\")","v":""},{"$f":"IF(AND('Months 7-12'!CE17>0,'Months 7-12'!CE17<999),'Months 7-12'!CE17,\"\")","v":""},{"$f":"IF(AND('Months 7-12'!CH17>0,'Months 7-12'!CH17<999),'Months 7-12'!CH17,\"\")","v":""},{"$f":"IF(AND('Months 7-12'!CK17>0,'Months 7-12'!CK17<999),'Months 7-12'!CK17,\"\")","v":""},{"$f":"IF(AND('Months 7-12'!CN17>0,'Months 7-12'!CN17<999),'Months 7-12'!CN17,\"\")","v":""}]
["Week 5",{"$f":"IF(AND('Months 7-12'!E18>0,'Months 7-12'!E18<999),'Months 7-12'!E18,\"\")","v":""},{"$f":"IF(AND('Months 7-12'!H18>0,'Months 7-12'!H18<999),'Months 7-12'!H18,\"\")","v":""},{"$f":"IF(AND('Months 7-12'!K18>0,'Months 7-12'!K18<999),'Months 7-12'!K18,\"\")","v":""},{"$f":"IF(AND('Months 7-12'!N18>0,'Months 7-12'!N18<999),'Months 7-12'!N18,\"\")","v":""},{"$f":"IF(AND('Months 7-12'!Q18>0,'Months 7-12'!Q18<999),'Months 7-12'!Q18,\"\")","v":""},{"$f":"IF(AND('Months 7-12'!T18>0,'Months 7-12'!T18<999),'Months 7-12'!T18,\"\")","v":""},{"$f":"IF(AND('Months 7-12'!W18>0,'Months 7-12'!W18<999),'Months 7-12'!W18,\"\")","v":""},{"$f":"IF(AND('Months 7-12'!Z18>0,'Months 7-12'!Z18<999),'Months 7-12'!Z18,\"\")","v":""},{"$f":"IF(AND('Months 7-12'!AC18>0,'Months 7-12'!AC18<999),'Months 7-12'!AC18,\"\")","v":""},{"$f":"IF(AND('Months 7-12'!AF18>0,'Months 7-12'!AF18<999),'Months 7-12'!AF18,\"\")","v":""},{"$f":"IF(AND('Months 7-12'!AI18>0,'Months 7-12'!AI18<999),'Months 7-12'!AI18,\"\")","v":""},{"$f":"IF(AND('Months 7-12'!AL18>0,'Months 7-12'!AL18<999),'Months 7-12'!AL18,\"\")","v":""},{"$f":"IF(AND('Months 7-12'!AO18>0,'Months 7-12'!AO18<999),'Months 7-12'!AO18,\"\")","v":""},{"$f":"IF(AND('Months 7-12'!AR18>0,'Months 7-12'!AR18<999),'Months 7-12'!AR18,\"\")","v":""},{"$f":"IF(AND('Months 7-12'!AU18>0,'Months 7-12'!AU18<999),'Months 7-12'!AU18,\"\")","v":""},{"$f":"IF(AND('Months 7-12'!AX18>0,'Months 7-12'!AX18<999),'Months 7-12'!AX18,\"\")","v":""},{"$f":"IF(AND('Months 7-12'!BA18>0,'Months 7-12'!BA18<999),'Months 7-12'!BA18,\"\")","v":""},{"$f":"IF(AND('Months 7-12'!BD18>0,'Months 7-12'!BD18<999),'Months 7-12'!BD18,\"\")","v":""},{"$f":"IF(AND('Months 7-12'!BG18>0,'Months 7-12'!BG18<999),'Months 7-12'!BG18,\"\")","v":""},{"$f":"IF(AND('Months 7-12'!BJ18>0,'Months 7-12'!BJ18<999),'Months 7-12'!BJ18,\"\")","v":""},{"$f":"IF(AND('Months 7-12'!BM18>0,'Months 7-12'!BM18<999),'Months 7-12'!BM18,\"\")","v":""},{"$f":"IF(AND('Months 7-12'!BP18>0,'Months 7-12'!BP18<999),'Months 7-12'!BP18,\"\")","v":""},{"$f":"IF(AND('Months 7-12'!BS18>0,'Months 7-12'!BS18<999),'Months 7-12'!BS18,\"\")","v":""},{"$f":"IF(AND('Months 7-12'!BV18>0,'Months 7-12'!BV18<999),'Months 7-12'!BV18,\"\")","v":""},{"$f":"IF(AND('Months 7-12'!BY18>0,'Months 7-12'!BY18<999),'Months 7-12'!BY18,\"\")","v":""},{"$f":"IF(AND('Months 7-12'!CB18>0,'Months 7-12'!CB18<999),'Months 7-12'!CB18,\"\")","v":""},{"$f":"IF(AND('Months 7-12'!CE18>0,'Months 7-12'!CE18<999),'Months 7-12'!CE18,\"\")","v":""},{"$f":"IF(AND('Months 7-12'!CH18>0,'Months 7-12'!CH18<999),'Months 7-12'!CH18,\"\")","v":""},{"$f":"IF(AND('Months 7-12'!CK18>0,'Months 7-12'!CK18<999),'Months 7-12'!CK18,\"\")","v":""},{"$f":"IF(AND('Months 7-12'!CN18>0,'Months 7-12'!CN18<999),'Months 7-12'!CN18,\"\")","v":""}]
["Month 9",{"$f":"IF(AND('Months 7-12'!E19>0,'Months 7-12'!E19<999),'Months 7-12'!E19,\"\")","v":""},{"$f":"IF(AND('Months 7-12'!H19>0,'Months 7-12'!H19<999),'Months 7-12'!H19,\"\")","v":""},{"$f":"IF(AND('Months 7-12'!K19>0,'Months 7-12'!K19<999),'Months 7-12'!K19,\"\")","v":""},{"$f":"IF(AND('Months 7-12'!N19>0,'Months 7-12'!N19<999),'Months 7-12'!N19,\"\")","v":""},{"$f":"IF(AND('Months 7-12'!Q19>0,'Months 7-12'!Q19<999),'Months 7-12'!Q19,\"\")","v":""},{"$f":"IF(AND('Months 7-12'!T19>0,'Months 7-12'!T19<999),'Months 7-12'!T19,\"\")","v":""},{"$f":"IF(AND('Months 7-12'!W19>0,'Months 7-12'!W19<999),'Months 7-12'!W19,\"\")","v":""},{"$f":"IF(AND('Months 7-12'!Z19>0,'Months 7-12'!Z19<999),'Months 7-12'!Z19,\"\")","v":""},{"$f":"IF(AND('Months 7-12'!AC19>0,'Months 7-12'!AC19<999),'Months 7-12'!AC19,\"\")","v":""},{"$f":"IF(AND('Months 7-12'!AF19>0,'Months 7-12'!AF19<999),'Months 7-12'!AF19,\"\")","v":""},{"$f":"IF(AND('Months 7-12'!AI19>0,'Months 7-12'!AI19<999),'Months 7-12'!AI19,\"\")","v":""},{"$f":"IF(AND('Months 7-12'!AL19>0,'Months 7-12'!AL19<999),'Months 7-12'!AL19,\"\")","v":""},{"$f":"IF(AND('Months 7-12'!AO19>0,'Months 7-12'!AO19<999),'Months 7-12'!AO19,\"\")","v":""},{"$f":"IF(AND('Months 7-12'!AR19>0,'Months 7-12'!AR19<999),'Months 7-12'!AR19,\"\")","v":""},{"$f":"IF(AND('Months 7-12'!AU19>0,'Months 7-12'!AU19<999),'Months 7-12'!AU19,\"\")","v":""},{"$f":"IF(AND('Months 7-12'!AX19>0,'Months 7-12'!AX19<999),'Months 7-12'!AX19,\"\")","v":""},{"$f":"IF(AND('Months 7-12'!BA19>0,'Months 7-12'!BA19<999),'Months 7-12'!BA19,\"\")","v":""},{"$f":"IF(AND('Months 7-12'!BD19>0,'Months 7-12'!BD19<999),'Months 7-12'!BD19,\"\")","v":""},{"$f":"IF(AND('Months 7-12'!BG19>0,'Months 7-12'!BG19<999),'Months 7-12'!BG19,\"\")","v":""},{"$f":"IF(AND('Months 7-12'!BJ19>0,'Months 7-12'!BJ19<999),'Months 7-12'!BJ19,\"\")","v":""},{"$f":"IF(AND('Months 7-12'!BM19>0,'Months 7-12'!BM19<999),'Months 7-12'!BM19,\"\")","v":""},{"$f":"IF(AND('Months 7-12'!BP19>0,'Months 7-12'!BP19<999),'Months 7-12'!BP19,\"\")","v":""},{"$f":"IF(AND('Months 7-12'!BS19>0,'Months 7-12'!BS19<999),'Months 7-12'!BS19,\"\")","v":""},{"$f":"IF(AND('Months 7-12'!BV19>0,'Months 7-12'!BV19<999),'Months 7-12'!BV19,\"\")","v":""},{"$f":"IF(AND('Months 7-12'!BY19>0,'Months 7-12'!BY19<999),'Months 7-12'!BY19,\"\")","v":""},{"$f":"IF(AND('Months 7-12'!CB19>0,'Months 7-12'!CB19<999),'Months 7-12'!CB19,\"\")","v":""},{"$f":"IF(AND('Months 7-12'!CE19>0,'Months 7-12'!CE19<999),'Months 7-12'!CE19,\"\")","v":""},{"$f":"IF(AND('Months 7-12'!CH19>0,'Months 7-12'!CH19<999),'Months 7-12'!CH19,\"\")","v":""},{"$f":"IF(AND('Months 7-12'!CK19>0,'Months 7-12'!CK19<999),'Months 7-12'!CK19,\"\")","v":""},{"$f":"IF(AND('Months 7-12'!CN19>0,'Months 7-12'!CN19<999),'Months 7-12'!CN19,\"\")","v":""}]
["Week 1",{"$f":"IF(AND('Months 7-12'!E20>0,'Months 7-12'!E20<999),'Months 7-12'!E20,\"\")","v":""},{"$f":"IF(AND('Months 7-12'!H20>0,'Months 7-12'!H20<999),'Months 7-12'!H20,\"\")","v":""},{"$f":"IF(AND('Months 7-12'!K20>0,'Months 7-12'!K20<999),'Months 7-12'!K20,\"\")","v":""},{"$f":"IF(AND('Months 7-12'!N20>0,'Months 7-12'!N20<999),'Months 7-12'!N20,\"\")","v":""},{"$f":"IF(AND('Months 7-12'!Q20>0,'Months 7-12'!Q20<999),'Months 7-12'!Q20,\"\")","v":""},{"$f":"IF(AND('Months 7-12'!T20>0,'Months 7-12'!T20<999),'Months 7-12'!T20,\"\")","v":""},{"$f":"IF(AND('Months 7-12'!W20>0,'Months 7-12'!W20<999),'Months 7-12'!W20,\"\")","v":""},{"$f":"IF(AND('Months 7-12'!Z20>0,'Months 7-12'!Z20<999),'Months 7-12'!Z20,\"\")","v":""},{"$f":"IF(AND('Months 7-12'!AC20>0,'Months 7-12'!AC20<999),'Months 7-12'!AC20,\"\")","v":""},{"$f":"IF(AND('Months 7-12'!AF20>0,'Months 7-12'!AF20<999),'Months 7-12'!AF20,\"\")","v":""},{"$f":"IF(AND('Months 7-12'!AI20>0,'Months 7-12'!AI20<999),'Months 7-12'!AI20,\"\")","v":""},{"$f":"IF(AND('Months 7-12'!AL20>0,'Months 7-12'!AL20<999),'Months 7-12'!AL20,\"\")","v":""},{"$f":"IF(AND('Months 7-12'!AO20>0,'Months 7-12'!AO20<999),'Months 7-12'!AO20,\"\")","v":""},{"$f":"IF(AND('Months 7-12'!AR20>0,'Months 7-12'!AR20<999),'Months 7-12'!AR20,\"\")","v":""},{"$f":"IF(AND('Months 7-12'!AU20>0,'Months 7-12'!AU20<999),'Months 7-12'!AU20,\"\")","v":""},{"$f":"IF(AND('Months 7-12'!AX20>0,'Months 7-12'!AX20<999),'Months 7-12'!AX20,\"\")","v":""},{"$f":"IF(AND('Months 7-12'!BA20>0,'Months 7-12'!BA20<999),'Months 7-12'!BA20,\"\")","v":""},{"$f":"IF(AND('Months 7-12'!BD20>0,'Months 7-12'!BD20<999),'Months 7-12'!BD20,\"\")","v":""},{"$f":"IF(AND('Months 7-12'!BG20>0,'Months 7-12'!BG20<999),'Months 7-12'!BG20,\"\")","v":""},{"$f":"IF(AND('Months 7-12'!BJ20>0,'Months 7-12'!BJ20<999),'Months 7-12'!BJ20,\"\")","v":""},{"$f":"IF(AND('Months 7-12'!BM20>0,'Months 7-12'!BM20<999),'Months 7-12'!BM20,\"\")","v":""},{"$f":"IF(AND('Months 7-12'!BP20>0,'Months 7-12'!BP20<999),'Months 7-12'!BP20,\"\")","v":""},{"$f":"IF(AND('Months 7-12'!BS20>0,'Months 7-12'!BS20<999),'Months 7-12'!BS20,\"\")","v":""},{"$f":"IF(AND('Months 7-12'!BV20>0,'Months 7-12'!BV20<999),'Months 7-12'!BV20,\"\")","v":""},{"$f":"IF(AND('Months 7-12'!BY20>0,'Months 7-12'!BY20<999),'Months 7-12'!BY20,\"\")","v":""},{"$f":"IF(AND('Months 7-12'!CB20>0,'Months 7-12'!CB20<999),'Months 7-12'!CB20,\"\")","v":""},{"$f":"IF(AND('Months 7-12'!CE20>0,'Months 7-12'!CE20<999),'Months 7-12'!CE20,\"\")","v":""},{"$f":"IF(AND('Months 7-12'!CH20>0,'Months 7-12'!CH20<999),'Months 7-12'!CH20,\"\")","v":""},{"$f":"IF(AND('Months 7-12'!CK20>0,'Months 7-12'!CK20<999),'Months 7-12'!CK20,\"\")","v":""},{"$f":"IF(AND('Months 7-12'!CN20>0,'Months 7-12'!CN20<999),'Months 7-12'!CN20,\"\")","v":""}]
["Week 2",{"$f":"IF(AND('Months 7-12'!E21>0,'Months 7-12'!E21<999),'Months 7-12'!E21,\"\")","v":""},{"$f":"IF(AND('Months 7-12'!H21>0,'Months 7-12'!H21<999),'Months 7-12'!H21,\"\")","v":""},{"$f":"IF(AND('Months 7-12'!K21>0,'Months 7-12'!K21<999),'Months 7-12'!K21,\"\")","v":""},{"$f":"IF(AND('Months 7-12'!N21>0,'Months 7-12'!N21<999),'Months 7-12'!N21,\"\")","v":""},{"$f":"IF(AND('Months 7-12'!Q21>0,'Months 7-12'!Q21<999),'Months 7-12'!Q21,\"\")","v":""},{"$f":"IF(AND('Months 7-12'!T21>0,'Months 7-12'!T21<999),'Months 7-12'!T21,\"\")","v":""},{"$f":"IF(AND('Months 7-12'!W21>0,'Months 7-12'!W21<999),'Months 7-12'!W21,\"\")","v":""},{"$f":"IF(AND('Months 7-12'!Z21>0,'Months 7-12'!Z21<999),'Months 7-12'!Z21,\"\")","v":""},{"$f":"IF(AND('Months 7-12'!AC21>0,'Months 7-12'!AC21<999),'Months 7-12'!AC21,\"\")","v":""},{"$f":"IF(AND('Months 7-12'!AF21>0,'Months 7-12'!AF21<999),'Months 7-12'!AF21,\"\")","v":""},{"$f":"IF(AND('Months 7-12'!AI21>0,'Months 7-12'!AI21<999),'Months 7-12'!AI21,\"\")","v":""},{"$f":"IF(AND('Months 7-12'!AL21>0,'Months 7-12'!AL21<999),'Months 7-12'!AL21,\"\")","v":""},{"$f":"IF(AND('Months 7-12'!AO21>0,'Months 7-12'!AO21<999),'Months 7-12'!AO21,\"\")","v":""},{"$f":"IF(AND('Months 7-12'!AR21>0,'Months 7-12'!AR21<999),'Months 7-12'!AR21,\"\")","v":""},{"$f":"IF(AND('Months 7-12'!AU21>0,'Months 7-12'!AU21<999),'Months 7-12'!AU21,\"\")","v":""},{"$f":"IF(AND('Months 7-12'!AX21>0,'Months 7-12'!AX21<999),'Months 7-12'!AX21,\"\")","v":""},{"$f":"IF(AND('Months 7-12'!BA21>0,'Months 7-12'!BA21<999),'Months 7-12'!BA21,\"\")","v":""},{"$f":"IF(AND('Months 7-12'!BD21>0,'Months 7-12'!BD21<999),'Months 7-12'!BD21,\"\")","v":""},{"$f":"IF(AND('Months 7-12'!BG21>0,'Months 7-12'!BG21<999),'Months 7-12'!BG21,\"\")","v":""},{"$f":"IF(AND('Months 7-12'!BJ21>0,'Months 7-12'!BJ21<999),'Months 7-12'!BJ21,\"\")","v":""},{"$f":"IF(AND('Months 7-12'!BM21>0,'Months 7-12'!BM21<999),'Months 7-12'!BM21,\"\")","v":""},{"$f":"IF(AND('Months 7-12'!BP21>0,'Months 7-12'!BP21<999),'Months 7-12'!BP21,\"\")","v":""},{"$f":"IF(AND('Months 7-12'!BS21>0,'Months 7-12'!BS21<999),'Months 7-12'!BS21,\"\")","v":""},{"$f":"IF(AND('Months 7-12'!BV21>0,'Months 7-12'!BV21<999),'Months 7-12'!BV21,\"\")","v":""},{"$f":"IF(AND('Months 7-12'!BY21>0,'Months 7-12'!BY21<999),'Months 7-12'!BY21,\"\")","v":""},{"$f":"IF(AND('Months 7-12'!CB21>0,'Months 7-12'!CB21<999),'Months 7-12'!CB21,\"\")","v":""},{"$f":"IF(AND('Months 7-12'!CE21>0,'Months 7-12'!CE21<999),'Months 7-12'!CE21,\"\")","v":""},{"$f":"IF(AND('Months 7-12'!CH21>0,'Months 7-12'!CH21<999),'Months 7-12'!CH21,\"\")","v":""},{"$f":"IF(AND('Months 7-12'!CK21>0,'Months 7-12'!CK21<999),'Months 7-12'!CK21,\"\")","v":""},{"$f":"IF(AND('Months 7-12'!CN21>0,'Months 7-12'!CN21<999),'Months 7-12'!CN21,\"\")","v":""}]
["Week 3",{"$f":"IF(AND('Months 7-12'!E22>0,'Months 7-12'!E22<999),'Months 7-12'!E22,\"\")","v":""},{"$f":"IF(AND('Months 7-12'!H22>0,'Months 7-12'!H22<999),'Months 7-12'!H22,\"\")","v":""},{"$f":"IF(AND('Months 7-12'!K22>0,'Months 7-12'!K22<999),'Months 7-12'!K22,\"\")","v":""},{"$f":"IF(AND('Months 7-12'!N22>0,'Months 7-12'!N22<999),'Months 7-12'!N22,\"\")","v":""},{"$f":"IF(AND('Months 7-12'!Q22>0,'Months 7-12'!Q22<999),'Months 7-12'!Q22,\"\")","v":""},{"$f":"IF(AND('Months 7-12'!T22>0,'Months 7-12'!T22<999),'Months 7-12'!T22,\"\")","v":""},{"$f":"IF(AND('Months 7-12'!W22>0,'Months 7-12'!W22<999),'Months 7-12'!W22,\"\")","v":""},{"$f":"IF(AND('Months 7-12'!Z22>0,'Months 7-12'!Z22<999),'Months 7-12'!Z22,\"\")","v":""},{"$f":"IF(AND('Months 7-12'!AC22>0,'Months 7-12'!AC22<999),'Months 7-12'!AC22,\"\")","v":""},{"$f":"IF(AND('Months 7-12'!AF22>0,'Months 7-12'!AF22<999),'Months 7-12'!AF22,\"\")","v":""},{"$f":"IF(AND('Months 7-12'!AI22>0,'Months 7-12'!AI22<999),'Months 7-12'!AI22,\"\")","v":""},{"$f":"IF(AND('Months 7-12'!AL22>0,'Months 7-12'!AL22<999),'Months 7-12'!AL22,\"\")","v":""},{"$f":"IF(AND('Months 7-12'!AO22>0,'Months 7-12'!AO22<999),'Months 7-12'!AO22,\"\")","v":""},{"$f":"IF(AND('Months 7-12'!AR22>0,'Months 7-12'!AR22<999),'Months 7-12'!AR22,\"\")","v":""},{"$f":"IF(AND('Months 7-12'!AU22>0,'Months 7-12'!AU22<999),'Months 7-12'!AU22,\"\")","v":""},{"$f":"IF(AND('Months 7-12'!AX22>0,'Months 7-12'!AX22<999),'Months 7-12'!AX22,\"\")","v":""},{"$f":"IF(AND('Months 7-12'!BA22>0,'Months 7-12'!BA22<999),'Months 7-12'!BA22,\"\")","v":""},{"$f":"IF(AND('Months 7-12'!BD22>0,'Months 7-12'!BD22<999),'Months 7-12'!BD22,\"\")","v":""},{"$f":"IF(AND('Months 7-12'!BG22>0,'Months 7-12'!BG22<999),'Months 7-12'!BG22,\"\")","v":""},{"$f":"IF(AND('Months 7-12'!BJ22>0,'Months 7-12'!BJ22<999),'Months 7-12'!BJ22,\"\")","v":""},{"$f":"IF(AND('Months 7-12'!BM22>0,'Months 7-12'!BM22<999),'Months 7-12'!BM22,\"\")","v":""},{"$f":"IF(AND('Months 7-12'!BP22>0,'Months 7-12'!BP22<999),'Months 7-12'!BP22,\"\")","v":""},{"$f":"IF(AND('Months 7-12'!BS22>0,'Months 7-12'!BS22<999),'Months 7-12'!BS22,\"\")","v":""},{"$f":"IF(AND('Months 7-12'!BV22>0,'Months 7-12'!BV22<999),'Months 7-12'!BV22,\"\")","v":""},{"$f":"IF(AND('Months 7-12'!BY22>0,'Months 7-12'!BY22<999),'Months 7-12'!BY22,\"\")","v":""},{"$f":"IF(AND('Months 7-12'!CB22>0,'Months 7-12'!CB22<999),'Months 7-12'!CB22,\"\")","v":""},{"$f":"IF(AND('Months 7-12'!CE22>0,'Months 7-12'!CE22<999),'Months 7-12'!CE22,\"\")","v":""},{"$f":"IF(AND('Months 7-12'!CH22>0,'Months 7-12'!CH22<999),'Months 7-12'!CH22,\"\")","v":""},{"$f":"IF(AND('Months 7-12'!CK22>0,'Months 7-12'!CK22<999),'Months 7-12'!CK22,\"\")","v":""},{"$f":"IF(AND('Months 7-12'!CN22>0,'Months 7-12'!CN22<999),'Months 7-12'!CN22,\"\")","v":""}]
["Week 4",{"$f":"IF(AND('Months 7-12'!E23>0,'Months 7-12'!E23<999),'Months 7-12'!E23,\"\")","v":""},{"$f":"IF(AND('Months 7-12'!H23>0,'Months 7-12'!H23<999),'Months 7-12'!H23,\"\")","v":""},{"$f":"IF(AND('Months 7-12'!K23>0,'Months 7-12'!K23<999),'Months 7-12'!K23,\"\")","v":""},{"$f":"IF(AND('Months 7-12'!N23>0,'Months 7-12'!N23<999),'Months 7-12'!N23,\"\")","v":""},{"$f":"IF(AND('Months 7-12'!Q23>0,'Months 7-12'!Q23<999),'Months 7-12'!Q23,\"\")","v":""},{"$f":"IF(AND('Months 7-12'!T23>0,'Months 7-12'!T23<999),'Months 7-12'!T23,\"\")","v":""},{"$f":"IF(AND('Months 7-12'!W23>0,'Months 7-12'!W23<999),'Months 7-12'!W23,\"\")","v":""},{"$f":"IF(AND('Months 7-12'!Z23>0,'Months 7-12'!Z23<999),'Months 7-12'!Z23,\"\")","v":""},{"$f":"IF(AND('Months 7-12'!AC23>0,'Months 7-12'!AC23<999),'Months 7-12'!AC23,\"\")","v":""},{"$f":"IF(AND('Months 7-12'!AF23>0,'Months 7-12'!AF23<999),'Months 7-12'!AF23,\"\")","v":""},{"$f":"IF(AND('Months 7-12'!AI23>0,'Months 7-12'!AI23<999),'Months 7-12'!AI23,\"\")","v":""},{"$f":"IF(AND('Months 7-12'!AL23>0,'Months 7-12'!AL23<999),'Months 7-12'!AL23,\"\")","v":""},{"$f":"IF(AND('Months 7-12'!AO23>0,'Months 7-12'!AO23<999),'Months 7-12'!AO23,\"\")","v":""},{"$f":"IF(AND('Months 7-12'!AR23>0,'Months 7-12'!AR23<999),'Months 7-12'!AR23,\"\")","v":""},{"$f":"IF(AND('Months 7-12'!AU23>0,'Months 7-12'!AU23<999),'Months 7-12'!AU23,\"\")","v":""},{"$f":"IF(AND('Months 7-12'!AX23>0,'Months 7-12'!AX23<999),'Months 7-12'!AX23,\"\")","v":""},{"$f":"IF(AND('Months 7-12'!BA23>0,'Months 7-12'!BA23<999),'Months 7-12'!BA23,\"\")","v":""},{"$f":"IF(AND('Months 7-12'!BD23>0,'Months 7-12'!BD23<999),'Months 7-12'!BD23,\"\")","v":""},{"$f":"IF(AND('Months 7-12'!BG23>0,'Months 7-12'!BG23<999),'Months 7-12'!BG23,\"\")","v":""},{"$f":"IF(AND('Months 7-12'!BJ23>0,'Months 7-12'!BJ23<999),'Months 7-12'!BJ23,\"\")","v":""},{"$f":"IF(AND('Months 7-12'!BM23>0,'Months 7-12'!BM23<999),'Months 7-12'!BM23,\"\")","v":""},{"$f":"IF(AND('Months 7-12'!BP23>0,'Months 7-12'!BP23<999),'Months 7-12'!BP23,\"\")","v":""},{"$f":"IF(AND('Months 7-12'!BS23>0,'Months 7-12'!BS23<999),'Months 7-12'!BS23,\"\")","v":""},{"$f":"IF(AND('Months 7-12'!BV23>0,'Months 7-12'!BV23<999),'Months 7-12'!BV23,\"\")","v":""},{"$f":"IF(AND('Months 7-12'!BY23>0,'Months 7-12'!BY23<999),'Months 7-12'!BY23,\"\")","v":""},{"$f":"IF(AND('Months 7-12'!CB23>0,'Months 7-12'!CB23<999),'Months 7-12'!CB23,\"\")","v":""},{"$f":"IF(AND('Months 7-12'!CE23>0,'Months 7-12'!CE23<999),'Months 7-12'!CE23,\"\")","v":""},{"$f":"IF(AND('Months 7-12'!CH23>0,'Months 7-12'!CH23<999),'Months 7-12'!CH23,\"\")","v":""},{"$f":"IF(AND('Months 7-12'!CK23>0,'Months 7-12'!CK23<999),'Months 7-12'!CK23,\"\")","v":""},{"$f":"IF(AND('Months 7-12'!CN23>0,'Months 7-12'!CN23<999),'Months 7-12'!CN23,\"\")","v":""}]
["Week 5",{"$f":"IF(AND('Months 7-12'!E24>0,'Months 7-12'!E24<999),'Months 7-12'!E24,\"\")","v":""},{"$f":"IF(AND('Months 7-12'!H24>0,'Months 7-12'!H24<999),'Months 7-12'!H24,\"\")","v":""},{"$f":"IF(AND('Months 7-12'!K24>0,'Months 7-12'!K24<999),'Months 7-12'!K24,\"\")","v":""},{"$f":"IF(AND('Months 7-12'!N24>0,'Months 7-12'!N24<999),'Months 7-12'!N24,\"\")","v":""},{"$f":"IF(AND('Months 7-12'!Q24>0,'Months 7-12'!Q24<999),'Months 7-12'!Q24,\"\")","v":""},{"$f":"IF(AND('Months 7-12'!T24>0,'Months 7-12'!T24<999),'Months 7-12'!T24,\"\")","v":""},{"$f":"IF(AND('Months 7-12'!W24>0,'Months 7-12'!W24<999),'Months 7-12'!W24,\"\")","v":""},{"$f":"IF(AND('Months 7-12'!Z24>0,'Months 7-12'!Z24<999),'Months 7-12'!Z24,\"\")","v":""},{"$f":"IF(AND('Months 7-12'!AC24>0,'Months 7-12'!AC24<999),'Months 7-12'!AC24,\"\")","v":""},{"$f":"IF(AND('Months 7-12'!AF24>0,'Months 7-12'!AF24<999),'Months 7-12'!AF24,\"\")","v":""},{"$f":"IF(AND('Months 7-12'!AI24>0,'Months 7-12'!AI24<999),'Months 7-12'!AI24,\"\")","v":""},{"$f":"IF(AND('Months 7-12'!AL24>0,'Months 7-12'!AL24<999),'Months 7-12'!AL24,\"\")","v":""},{"$f":"IF(AND('Months 7-12'!AO24>0,'Months 7-12'!AO24<999),'Months 7-12'!AO24,\"\")","v":""},{"$f":"IF(AND('Months 7-12'!AR24>0,'Months 7-12'!AR24<999),'Months 7-12'!AR24,\"\")","v":""},{"$f":"IF(AND('Months 7-12'!AU24>0,'Months 7-12'!AU24<999),'Months 7-12'!AU24,\"\")","v":""},{"$f":"IF(AND('Months 7-12'!AX24>0,'Months 7-12'!AX24<999),'Months 7-12'!AX24,\"\")","v":""},{"$f":"IF(AND('Months 7-12'!BA24>0,'Months 7-12'!BA24<999),'Months 7-12'!BA24,\"\")","v":""},{"$f":"IF(AND('Months 7-12'!BD24>0,'Months 7-12'!BD24<999),'Months 7-12'!BD24,\"\")","v":""},{"$f":"IF(AND('Months 7-12'!BG24>0,'Months 7-12'!BG24<999),'Months 7-12'!BG24,\"\")","v":""},{"$f":"IF(AND('Months 7-12'!BJ24>0,'Months 7-12'!BJ24<999),'Months 7-12'!BJ24,\"\")","v":""},{"$f":"IF(AND('Months 7-12'!BM24>0,'Months 7-12'!BM24<999),'Months 7-12'!BM24,\"\")","v":""},{"$f":"IF(AND('Months 7-12'!BP24>0,'Months 7-12'!BP24<999),'Months 7-12'!BP24,\"\")","v":""},{"$f":"IF(AND('Months 7-12'!BS24>0,'Months 7-12'!BS24<999),'Months 7-12'!BS24,\"\")","v":""},{"$f":"IF(AND('Months 7-12'!BV24>0,'Months 7-12'!BV24<999),'Months 7-12'!BV24,\"\")","v":""},{"$f":"IF(AND('Months 7-12'!BY24>0,'Months 7-12'!BY24<999),'Months 7-12'!BY24,\"\")","v":""},{"$f":"IF(AND('Months 7-12'!CB24>0,'Months 7-12'!CB24<999),'Months 7-12'!CB24,\"\")","v":""},{"$f":"IF(AND('Months 7-12'!CE24>0,'Months 7-12'!CE24<999),'Months 7-12'!CE24,\"\")","v":""},{"$f":"IF(AND('Months 7-12'!CH24>0,'Months 7-12'!CH24<999),'Months 7-12'!CH24,\"\")","v":""},{"$f":"IF(AND('Months 7-12'!CK24>0,'Months 7-12'!CK24<999),'Months 7-12'!CK24,\"\")","v":""},{"$f":"IF(AND('Months 7-12'!CN24>0,'Months 7-12'!CN24<999),'Months 7-12'!CN24,\"\")","v":""}]
["Month 10",{"$f":"IF(AND('Months 7-12'!E25>0,'Months 7-12'!E25<999),'Months 7-12'!E25,\"\")","v":""},{"$f":"IF(AND('Months 7-12'!H25>0,'Months 7-12'!H25<999),'Months 7-12'!H25,\"\")","v":""},{"$f":"IF(AND('Months 7-12'!K25>0,'Months 7-12'!K25<999),'Months 7-12'!K25,\"\")","v":""},{"$f":"IF(AND('Months 7-12'!N25>0,'Months 7-12'!N25<999),'Months 7-12'!N25,\"\")","v":""},{"$f":"IF(AND('Months 7-12'!Q25>0,'Months 7-12'!Q25<999),'Months 7-12'!Q25,\"\")","v":""},{"$f":"IF(AND('Months 7-12'!T25>0,'Months 7-12'!T25<999),'Months 7-12'!T25,\"\")","v":""},{"$f":"IF(AND('Months 7-12'!W25>0,'Months 7-12'!W25<999),'Months 7-12'!W25,\"\")","v":""},{"$f":"IF(AND('Months 7-12'!Z25>0,'Months 7-12'!Z25<999),'Months 7-12'!Z25,\"\")","v":""},{"$f":"IF(AND('Months 7-12'!AC25>0,'Months 7-12'!AC25<999),'Months 7-12'!AC25,\"\")","v":""},{"$f":"IF(AND('Months 7-12'!AF25>0,'Months 7-12'!AF25<999),'Months 7-12'!AF25,\"\")","v":""},{"$f":"IF(AND('Months 7-12'!AI25>0,'Months 7-12'!AI25<999),'Months 7-12'!AI25,\"\")","v":""},{"$f":"IF(AND('Months 7-12'!AL25>0,'Months 7-12'!AL25<999),'Months 7-12'!AL25,\"\")","v":""},{"$f":"IF(AND('Months 7-12'!AO25>0,'Months 7-12'!AO25<999),'Months 7-12'!AO25,\"\")","v":""},{"$f":"IF(AND('Months 7-12'!AR25>0,'Months 7-12'!AR25<999),'Months 7-12'!AR25,\"\")","v":""},{"$f":"IF(AND('Months 7-12'!AU25>0,'Months 7-12'!AU25<999),'Months 7-12'!AU25,\"\")","v":""},{"$f":"IF(AND('Months 7-12'!AX25>0,'Months 7-12'!AX25<999),'Months 7-12'!AX25,\"\")","v":""},{"$f":"IF(AND('Months 7-12'!BA25>0,'Months 7-12'!BA25<999),'Months 7-12'!BA25,\"\")","v":""},{"$f":"IF(AND('Months 7-12'!BD25>0,'Months 7-12'!BD25<999),'Months 7-12'!BD25,\"\")","v":""},{"$f":"IF(AND('Months 7-12'!BG25>0,'Months 7-12'!BG25<999),'Months 7-12'!BG25,\"\")","v":""},{"$f":"IF(AND('Months 7-12'!BJ25>0,'Months 7-12'!BJ25<999),'Months 7-12'!BJ25,\"\")","v":""},{"$f":"IF(AND('Months 7-12'!BM25>0,'Months 7-12'!BM25<999),'Months 7-12'!BM25,\"\")","v":""},{"$f":"IF(AND('Months 7-12'!BP25>0,'Months 7-12'!BP25<999),'Months 7-12'!BP25,\"\")","v":""},{"$f":"IF(AND('Months 7-12'!BS25>0,'Months 7-12'!BS25<999),'Months 7-12'!BS25,\"\")","v":""},{"$f":"IF(AND('Months 7-12'!BV25>0,'Months 7-12'!BV25<999),'Months 7-12'!BV25,\"\")","v":""},{"$f":"IF(AND('Months 7-12'!BY25>0,'Months 7-12'!BY25<999),'Months 7-12'!BY25,\"\")","v":""},{"$f":"IF(AND('Months 7-12'!CB25>0,'Months 7-12'!CB25<999),'Months 7-12'!CB25,\"\")","v":""},{"$f":"IF(AND('Months 7-12'!CE25>0,'Months 7-12'!CE25<999),'Months 7-12'!CE25,\"\")","v":""},{"$f":"IF(AND('Months 7-12'!CH25>0,'Months 7-12'!CH25<999),'Months 7-12'!CH25,\"\")","v":""},{"$f":"IF(AND('Months 7-12'!CK25>0,'Months 7-12'!CK25<999),'Months 7-12'!CK25,\"\")","v":""},{"$f":"IF(AND('Months 7-12'!CN25>0,'Months 7-12'!CN25<999),'Months 7-12'!CN25,\"\")","v":""}]
["Week 1",{"$f":"IF(AND('Months 7-12'!E26>0,'Months 7-12'!E26<999),'Months 7-12'!E26,\"\")","v":""},{"$f":"IF(AND('Months 7-12'!H26>0,'Months 7-12'!H26<999),'Months 7-12'!H26,\"\")","v":""},{"$f":"IF(AND('Months 7-12'!K26>0,'Months 7-12'!K26<999),'Months 7-12'!K26,\"\")","v":""},{"$f":"IF(AND('Months 7-12'!N26>0,'Months 7-12'!N26<999),'Months 7-12'!N26,\"\")","v":""},{"$f":"IF(AND('Months 7-12'!Q26>0,'Months 7-12'!Q26<999),'Months 7-12'!Q26,\"\")","v":""},{"$f":"IF(AND('Months 7-12'!T26>0,'Months 7-12'!T26<999),'Months 7-12'!T26,\"\")","v":""},{"$f":"IF(AND('Months 7-12'!W26>0,'Months 7-12'!W26<999),'Months 7-12'!W26,\"\")","v":""},{"$f":"IF(AND('Months 7-12'!Z26>0,'Months 7-12'!Z26<999),'Months 7-12'!Z26,\"\")","v":""},{"$f":"IF(AND('Months 7-12'!AC26>0,'Months 7-12'!AC26<999),'Months 7-12'!AC26,\"\")","v":""},{"$f":"IF(AND('Months 7-12'!AF26>0,'Months 7-12'!AF26<999),'Months 7-12'!AF26,\"\")","v":""},{"$f":"IF(AND('Months 7-12'!AI26>0,'Months 7-12'!AI26<999),'Months 7-12'!AI26,\"\")","v":""},{"$f":"IF(AND('Months 7-12'!AL26>0,'Months 7-12'!AL26<999),'Months 7-12'!AL26,\"\")","v":""},{"$f":"IF(AND('Months 7-12'!AO26>0,'Months 7-12'!AO26<999),'Months 7-12'!AO26,\"\")","v":""},{"$f":"IF(AND('Months 7-12'!AR26>0,'Months 7-12'!AR26<999),'Months 7-12'!AR26,\"\")","v":""},{"$f":"IF(AND('Months 7-12'!AU26>0,'Months 7-12'!AU26<999),'Months 7-12'!AU26,\"\")","v":""},{"$f":"IF(AND('Months 7-12'!AX26>0,'Months 7-12'!AX26<999),'Months 7-12'!AX26,\"\")","v":""},{"$f":"IF(AND('Months 7-12'!BA26>0,'Months 7-12'!BA26<999),'Months 7-12'!BA26,\"\")","v":""},{"$f":"IF(AND('Months 7-12'!BD26>0,'Months 7-12'!BD26<999),'Months 7-12'!BD26,\"\")","v":""},{"$f":"IF(AND('Months 7-12'!BG26>0,'Months 7-12'!BG26<999),'Months 7-12'!BG26,\"\")","v":""},{"$f":"IF(AND('Months 7-12'!BJ26>0,'Months 7-12'!BJ26<999),'Months 7-12'!BJ26,\"\")","v":""},{"$f":"IF(AND('Months 7-12'!BM26>0,'Months 7-12'!BM26<999),'Months 7-12'!BM26,\"\")","v":""},{"$f":"IF(AND('Months 7-12'!BP26>0,'Months 7-12'!BP26<999),'Months 7-12'!BP26,\"\")","v":""},{"$f":"IF(AND('Months 7-12'!BS26>0,'Months 7-12'!BS26<999),'Months 7-12'!BS26,\"\")","v":""},{"$f":"IF(AND('Months 7-12'!BV26>0,'Months 7-12'!BV26<999),'Months 7-12'!BV26,\"\")","v":""},{"$f":"IF(AND('Months 7-12'!BY26>0,'Months 7-12'!BY26<999),'Months 7-12'!BY26,\"\")","v":""},{"$f":"IF(AND('Months 7-12'!CB26>0,'Months 7-12'!CB26<999),'Months 7-12'!CB26,\"\")","v":""},{"$f":"IF(AND('Months 7-12'!CE26>0,'Months 7-12'!CE26<999),'Months 7-12'!CE26,\"\")","v":""},{"$f":"IF(AND('Months 7-12'!CH26>0,'Months 7-12'!CH26<999),'Months 7-12'!CH26,\"\")","v":""},{"$f":"IF(AND('Months 7-12'!CK26>0,'Months 7-12'!CK26<999),'Months 7-12'!CK26,\"\")","v":""},{"$f":"IF(AND('Months 7-12'!CN26>0,'Months 7-12'!CN26<999),'Months 7-12'!CN26,\"\")","v":""}]
["Week 2",{"$f":"IF(AND('Months 7-12'!E27>0,'Months 7-12'!E27<999),'Months 7-12'!E27,\"\")","v":""},{"$f":"IF(AND('Months 7-12'!H27>0,'Months 7-12'!H27<999),'Months 7-12'!H27,\"\")","v":""},{"$f":"IF(AND('Months 7-12'!K27>0,'Months 7-12'!K27<999),'Months 7-12'!K27,\"\")","v":""},{"$f":"IF(AND('Months 7-12'!N27>0,'Months 7-12'!N27<999),'Months 7-12'!N27,\"\")","v":""},{"$f":"IF(AND('Months 7-12'!Q27>0,'Months 7-12'!Q27<999),'Months 7-12'!Q27,\"\")","v":""},{"$f":"IF(AND('Months 7-12'!T27>0,'Months 7-12'!T27<999),'Months 7-12'!T27,\"\")","v":""},{"$f":"IF(AND('Months 7-12'!W27>0,'Months 7-12'!W27<999),'Months 7-12'!W27,\"\")","v":""},{"$f":"IF(AND('Months 7-12'!Z27>0,'Months 7-12'!Z27<999),'Months 7-12'!Z27,\"\")","v":""},{"$f":"IF(AND('Months 7-12'!AC27>0,'Months 7-12'!AC27<999),'Months 7-12'!AC27,\"\")","v":""},{"$f":"IF(AND('Months 7-12'!AF27>0,'Months 7-12'!AF27<999),'Months 7-12'!AF27,\"\")","v":""},{"$f":"IF(AND('Months 7-12'!AI27>0,'Months 7-12'!AI27<999),'Months 7-12'!AI27,\"\")","v":""},{"$f":"IF(AND('Months 7-12'!AL27>0,'Months 7-12'!AL27<999),'Months 7-12'!AL27,\"\")","v":""},{"$f":"IF(AND('Months 7-12'!AO27>0,'Months 7-12'!AO27<999),'Months 7-12'!AO27,\"\")","v":""},{"$f":"IF(AND('Months 7-12'!AR27>0,'Months 7-12'!AR27<999),'Months 7-12'!AR27,\"\")","v":""},{"$f":"IF(AND('Months 7-12'!AU27>0,'Months 7-12'!AU27<999),'Months 7-12'!AU27,\"\")","v":""},{"$f":"IF(AND('Months 7-12'!AX27>0,'Months 7-12'!AX27<999),'Months 7-12'!AX27,\"\")","v":""},{"$f":"IF(AND('Months 7-12'!BA27>0,'Months 7-12'!BA27<999),'Months 7-12'!BA27,\"\")","v":""},{"$f":"IF(AND('Months 7-12'!BD27>0,'Months 7-12'!BD27<999),'Months 7-12'!BD27,\"\")","v":""},{"$f":"IF(AND('Months 7-12'!BG27>0,'Months 7-12'!BG27<999),'Months 7-12'!BG27,\"\")","v":""},{"$f":"IF(AND('Months 7-12'!BJ27>0,'Months 7-12'!BJ27<999),'Months 7-12'!BJ27,\"\")","v":""},{"$f":"IF(AND('Months 7-12'!BM27>0,'Months 7-12'!BM27<999),'Months 7-12'!BM27,\"\")","v":""},{"$f":"IF(AND('Months 7-12'!BP27>0,'Months 7-12'!BP27<999),'Months 7-12'!BP27,\"\")","v":""},{"$f":"IF(AND('Months 7-12'!BS27>0,'Months 7-12'!BS27<999),'Months 7-12'!BS27,\"\")","v":""},{"$f":"IF(AND('Months 7-12'!BV27>0,'Months 7-12'!BV27<999),'Months 7-12'!BV27,\"\")","v":""},{"$f":"IF(AND('Months 7-12'!BY27>0,'Months 7-12'!BY27<999),'Months 7-12'!BY27,\"\")","v":""},{"$f":"IF(AND('Months 7-12'!CB27>0,'Months 7-12'!CB27<999),'Months 7-12'!CB27,\"\")","v":""},{"$f":"IF(AND('Months 7-12'!CE27>0,'Months 7-12'!CE27<999),'Months 7-12'!CE27,\"\")","v":""},{"$f":"IF(AND('Months 7-12'!CH27>0,'Months 7-12'!CH27<999),'Months 7-12'!CH27,\"\")","v":""},{"$f":"IF(AND('Months 7-12'!CK27>0,'Months 7-12'!CK27<999),'Months 7-12'!CK27,\"\")","v":""},{"$f":"IF(AND('Months 7-12'!CN27>0,'Months 7-12'!CN27<999),'Months 7-12'!CN27,\"\")","v":""}]
["Week 3",{"$f":"IF(AND('Months 7-12'!E28>0,'Months 7-12'!E28<999),'Months 7-12'!E28,\"\")","v":""},{"$f":"IF(AND('Months 7-12'!H28>0,'Months 7-12'!H28<999),'Months 7-12'!H28,\"\")","v":""},{"$f":"IF(AND('Months 7-12'!K28>0,'Months 7-12'!K28<999),'Months 7-12'!K28,\"\")","v":""},{"$f":"IF(AND('Months 7-12'!N28>0,'Months 7-12'!N28<999),'Months 7-12'!N28,\"\")","v":""},{"$f":"IF(AND('Months 7-12'!Q28>0,'Months 7-12'!Q28<999),'Months 7-12'!Q28,\"\")","v":""},{"$f":"IF(AND('Months 7-12'!T28>0,'Months 7-12'!T28<999),'Months 7-12'!T28,\"\")","v":""},{"$f":"IF(AND('Months 7-12'!W28>0,'Months 7-12'!W28<999),'Months 7-12'!W28,\"\")","v":""},{"$f":"IF(AND('Months 7-12'!Z28>0,'Months 7-12'!Z28<999),'Months 7-12'!Z28,\"\")","v":""},{"$f":"IF(AND('Months 7-12'!AC28>0,'Months 7-12'!AC28<999),'Months 7-12'!AC28,\"\")","v":""},{"$f":"IF(AND('Months 7-12'!AF28>0,'Months 7-12'!AF28<999),'Months 7-12'!AF28,\"\")","v":""},{"$f":"IF(AND('Months 7-12'!AI28>0,'Months 7-12'!AI28<999),'Months 7-12'!AI28,\"\")","v":""},{"$f":"IF(AND('Months 7-12'!AL28>0,'Months 7-12'!AL28<999),'Months 7-12'!AL28,\"\")","v":""},{"$f":"IF(AND('Months 7-12'!AO28>0,'Months 7-12'!AO28<999),'Months 7-12'!AO28,\"\")","v":""},{"$f":"IF(AND('Months 7-12'!AR28>0,'Months 7-12'!AR28<999),'Months 7-12'!AR28,\"\")","v":""},{"$f":"IF(AND('Months 7-12'!AU28>0,'Months 7-12'!AU28<999),'Months 7-12'!AU28,\"\")","v":""},{"$f":"IF(AND('Months 7-12'!AX28>0,'Months 7-12'!AX28<999),'Months 7-12'!AX28,\"\")","v":""},{"$f":"IF(AND('Months 7-12'!BA28>0,'Months 7-12'!BA28<999),'Months 7-12'!BA28,\"\")","v":""},{"$f":"IF(AND('Months 7-12'!BD28>0,'Months 7-12'!BD28<999),'Months 7-12'!BD28,\"\")","v":""},{"$f":"IF(AND('Months 7-12'!BG28>0,'Months 7-12'!BG28<999),'Months 7-12'!BG28,\"\")","v":""},{"$f":"IF(AND('Months 7-12'!BJ28>0,'Months 7-12'!BJ28<999),'Months 7-12'!BJ28,\"\")","v":""},{"$f":"IF(AND('Months 7-12'!BM28>0,'Months 7-12'!BM28<999),'Months 7-12'!BM28,\"\")","v":""},{"$f":"IF(AND('Months 7-12'!BP28>0,'Months 7-12'!BP28<999),'Months 7-12'!BP28,\"\")","v":""},{"$f":"IF(AND('Months 7-12'!BS28>0,'Months 7-12'!BS28<999),'Months 7-12'!BS28,\"\")","v":""},{"$f":"IF(AND('Months 7-12'!BV28>0,'Months 7-12'!BV28<999),'Months 7-12'!BV28,\"\")","v":""},{"$f":"IF(AND('Months 7-12'!BY28>0,'Months 7-12'!BY28<999),'Months 7-12'!BY28,\"\")","v":""},{"$f":"IF(AND('Months 7-12'!CB28>0,'Months 7-12'!CB28<999),'Months 7-12'!CB28,\"\")","v":""},{"$f":"IF(AND('Months 7-12'!CE28>0,'Months 7-12'!CE28<999),'Months 7-12'!CE28,\"\")","v":""},{"$f":"IF(AND('Months 7-12'!CH28>0,'Months 7-12'!CH28<999),'Months 7-12'!CH28,\"\")","v":""},{"$f":"IF(AND('Months 7-12'!CK28>0,'Months 7-12'!CK28<999),'Months 7-12'!CK28,\"\")","v":""},{"$f":"IF(AND('Months 7-12'!CN28>0,'Months 7-12'!CN28<999),'Months 7-12'!CN28,\"\")","v":""}]
["Week 4",{"$f":"IF(AND('Months 7-12'!E29>0,'Months 7-12'!E29<999),'Months 7-12'!E29,\"\")","v":""},{"$f":"IF(AND('Months 7-12'!H29>0,'Months 7-12'!H29<999),'Months 7-12'!H29,\"\")","v":""},{"$f":"IF(AND('Months 7-12'!K29>0,'Months 7-12'!K29<999),'Months 7-12'!K29,\"\")","v":""},{"$f":"IF(AND('Months 7-12'!N29>0,'Months 7-12'!N29<999),'Months 7-12'!N29,\"\")","v":""},{"$f":"IF(AND('Months 7-12'!Q29>0,'Months 7-12'!Q29<999),'Months 7-12'!Q29,\"\")","v":""},{"$f":"IF(AND('Months 7-12'!T29>0,'Months 7-12'!T29<999),'Months 7-12'!T29,\"\")","v":""},{"$f":"IF(AND('Months 7-12'!W29>0,'Months 7-12'!W29<999),'Months 7-12'!W29,\"\")","v":""},{"$f":"IF(AND('Months 7-12'!Z29>0,'Months 7-12'!Z29<999),'Months 7-12'!Z29,\"\")","v":""},{"$f":"IF(AND('Months 7-12'!AC29>0,'Months 7-12'!AC29<999),'Months 7-12'!AC29,\"\")","v":""},{"$f":"IF(AND('Months 7-12'!AF29>0,'Months 7-12'!AF29<999),'Months 7-12'!AF29,\"\")","v":""},{"$f":"IF(AND('Months 7-12'!AI29>0,'Months 7-12'!AI29<999),'Months 7-12'!AI29,\"\")","v":""},{"$f":"IF(AND('Months 7-12'!AL29>0,'Months 7-12'!AL29<999),'Months 7-12'!AL29,\"\")","v":""},{"$f":"IF(AND('Months 7-12'!AO29>0,'Months 7-12'!AO29<999),'Months 7-12'!AO29,\"\")","v":""},{"$f":"IF(AND('Months 7-12'!AR29>0,'Months 7-12'!AR29<999),'Months 7-12'!AR29,\"\")","v":""},{"$f":"IF(AND('Months 7-12'!AU29>0,'Months 7-12'!AU29<999),'Months 7-12'!AU29,\"\")","v":""},{"$f":"IF(AND('Months 7-12'!AX29>0,'Months 7-12'!AX29<999),'Months 7-12'!AX29,\"\")","v":""},{"$f":"IF(AND('Months 7-12'!BA29>0,'Months 7-12'!BA29<999),'Months 7-12'!BA29,\"\")","v":""},{"$f":"IF(AND('Months 7-12'!BD29>0,'Months 7-12'!BD29<999),'Months 7-12'!BD29,\"\")","v":""},{"$f":"IF(AND('Months 7-12'!BG29>0,'Months 7-12'!BG29<999),'Months 7-12'!BG29,\"\")","v":""},{"$f":"IF(AND('Months 7-12'!BJ29>0,'Months 7-12'!BJ29<999),'Months 7-12'!BJ29,\"\")","v":""},{"$f":"IF(AND('Months 7-12'!BM29>0,'Months 7-12'!BM29<999),'Months 7-12'!BM29,\"\")","v":""},{"$f":"IF(AND('Months 7-12'!BP29>0,'Months 7-12'!BP29<999),'Months 7-12'!BP29,\"\")","v":""},{"$f":"IF(AND('Months 7-12'!BS29>0,'Months 7-12'!BS29<999),'Months 7-12'!BS29,\"\")","v":""},{"$f":"IF(AND('Months 7-12'!BV29>0,'Months 7-12'!BV29<999),'Months 7-12'!BV29,\"\")","v":""},{"$f":"IF(AND('Months 7-12'!BY29>0,'Months 7-12'!BY29<999),'Months 7-12'!BY29,\"\")","v":""},{"$f":"IF(AND('Months 7-12'!CB29>0,'Months 7-12'!CB29<999),'Months 7-12'!CB29,\"\")","v":""},{"$f":"IF(AND('Months 7-12'!CE29>0,'Months 7-12'!CE29<999),'Months 7-12'!CE29,\"\")","v":""},{"$f":"IF(AND('Months 7-12'!CH29>0,'Months 7-12'!CH29<999),'Months 7-12'!CH29,\"\")","v":""},{"$f":"IF(AND('Months 7-12'!CK29>0,'Months 7-12'!CK29<999),'Months 7-12'!CK29,\"\")","v":""},{"$f":"IF(AND('Months 7-12'!CN29>0,'Months 7-12'!CN29<999),'Months 7-12'!CN29,\"\")","v":""}]
["Week 5",{"$f":"IF(AND('Months 7-12'!E30>0,'Months 7-12'!E30<999),'Months 7-12'!E30,\"\")","v":""},{"$f":"IF(AND('Months 7-12'!H30>0,'Months 7-12'!H30<999),'Months 7-12'!H30,\"\")","v":""},{"$f":"IF(AND('Months 7-12'!K30>0,'Months 7-12'!K30<999),'Months 7-12'!K30,\"\")","v":""},{"$f":"IF(AND('Months 7-12'!N30>0,'Months 7-12'!N30<999),'Months 7-12'!N30,\"\")","v":""},{"$f":"IF(AND('Months 7-12'!Q30>0,'Months 7-12'!Q30<999),'Months 7-12'!Q30,\"\")","v":""},{"$f":"IF(AND('Months 7-12'!T30>0,'Months 7-12'!T30<999),'Months 7-12'!T30,\"\")","v":""},{"$f":"IF(AND('Months 7-12'!W30>0,'Months 7-12'!W30<999),'Months 7-12'!W30,\"\")","v":""},{"$f":"IF(AND('Months 7-12'!Z30>0,'Months 7-12'!Z30<999),'Months 7-12'!Z30,\"\")","v":""},{"$f":"IF(AND('Months 7-12'!AC30>0,'Months 7-12'!AC30<999),'Months 7-12'!AC30,\"\")","v":""},{"$f":"IF(AND('Months 7-12'!AF30>0,'Months 7-12'!AF30<999),'Months 7-12'!AF30,\"\")","v":""},{"$f":"IF(AND('Months 7-12'!AI30>0,'Months 7-12'!AI30<999),'Months 7-12'!AI30,\"\")","v":""},{"$f":"IF(AND('Months 7-12'!AL30>0,'Months 7-12'!AL30<999),'Months 7-12'!AL30,\"\")","v":""},{"$f":"IF(AND('Months 7-12'!AO30>0,'Months 7-12'!AO30<999),'Months 7-12'!AO30,\"\")","v":""},{"$f":"IF(AND('Months 7-12'!AR30>0,'Months 7-12'!AR30<999),'Months 7-12'!AR30,\"\")","v":""},{"$f":"IF(AND('Months 7-12'!AU30>0,'Months 7-12'!AU30<999),'Months 7-12'!AU30,\"\")","v":""},{"$f":"IF(AND('Months 7-12'!AX30>0,'Months 7-12'!AX30<999),'Months 7-12'!AX30,\"\")","v":""},{"$f":"IF(AND('Months 7-12'!BA30>0,'Months 7-12'!BA30<999),'Months 7-12'!BA30,\"\")","v":""},{"$f":"IF(AND('Months 7-12'!BD30>0,'Months 7-12'!BD30<999),'Months 7-12'!BD30,\"\")","v":""},{"$f":"IF(AND('Months 7-12'!BG30>0,'Months 7-12'!BG30<999),'Months 7-12'!BG30,\"\")","v":""},{"$f":"IF(AND('Months 7-12'!BJ30>0,'Months 7-12'!BJ30<999),'Months 7-12'!BJ30,\"\")","v":""},{"$f":"IF(AND('Months 7-12'!BM30>0,'Months 7-12'!BM30<999),'Months 7-12'!BM30,\"\")","v":""},{"$f":"IF(AND('Months 7-12'!BP30>0,'Months 7-12'!BP30<999),'Months 7-12'!BP30,\"\")","v":""},{"$f":"IF(AND('Months 7-12'!BS30>0,'Months 7-12'!BS30<999),'Months 7-12'!BS30,\"\")","v":""},{"$f":"IF(AND('Months 7-12'!BV30>0,'Months 7-12'!BV30<999),'Months 7-12'!BV30,\"\")","v":""},{"$f":"IF(AND('Months 7-12'!BY30>0,'Months 7-12'!BY30<999),'Months 7-12'!BY30,\"\")","v":""},{"$f":"IF(AND('Months 7-12'!CB30>0,'Months 7-12'!CB30<999),'Months 7-12'!CB30,\"\")","v":""},{"$f":"IF(AND('Months 7-12'!CE30>0,'Months 7-12'!CE30<999),'Months 7-12'!CE30,\"\")","v":""},{"$f":"IF(AND('Months 7-12'!CH30>0,'Months 7-12'!CH30<999),'Months 7-12'!CH30,\"\")","v":""},{"$f":"IF(AND('Months 7-12'!CK30>0,'Months 7-12'!CK30<999),'Months 7-12'!CK30,\"\")","v":""},{"$f":"IF(AND('Months 7-12'!CN30>0,'Months 7-12'!CN30<999),'Months 7-12'!CN30,\"\")","v":""}]
["Month 11",{"$f":"IF(AND('Months 7-12'!E31>0,'Months 7-12'!E31<999),'Months 7-12'!E31,\"\")","v":""},{"$f":"IF(AND('Months 7-12'!H31>0,'Months 7-12'!H31<999),'Months 7-12'!H31,\"\")","v":""},{"$f":"IF(AND('Months 7-12'!K31>0,'Months 7-12'!K31<999),'Months 7-12'!K31,\"\")","v":""},{"$f":"IF(AND('Months 7-12'!N31>0,'Months 7-12'!N31<999),'Months 7-12'!N31,\"\")","v":""},{"$f":"IF(AND('Months 7-12'!Q31>0,'Months 7-12'!Q31<999),'Months 7-12'!Q31,\"\")","v":""},{"$f":"IF(AND('Months 7-12'!T31>0,'Months 7-12'!T31<999),'Months 7-12'!T31,\"\")","v":""},{"$f":"IF(AND('Months 7-12'!W31>0,'Months 7-12'!W31<999),'Months 7-12'!W31,\"\")","v":""},{"$f":"IF(AND('Months 7-12'!Z31>0,'Months 7-12'!Z31<999),'Months 7-12'!Z31,\"\")","v":""},{"$f":"IF(AND('Months 7-12'!AC31>0,'Months 7-12'!AC31<999),'Months 7-12'!AC31,\"\")","v":""},{"$f":"IF(AND('Months 7-12'!AF31>0,'Months 7-12'!AF31<999),'Months 7-12'!AF31,\"\")","v":""},{"$f":"IF(AND('Months 7-12'!AI31>0,'Months 7-12'!AI31<999),'Months 7-12'!AI31,\"\")","v":""},{"$f":"IF(AND('Months 7-12'!AL31>0,'Months 7-12'!AL31<999),'Months 7-12'!AL31,\"\")","v":""},{"$f":"IF(AND('Months 7-12'!AO31>0,'Months 7-12'!AO31<999),'Months 7-12'!AO31,\"\")","v":""},{"$f":"IF(AND('Months 7-12'!AR31>0,'Months 7-12'!AR31<999),'Months 7-12'!AR31,\"\")","v":""},{"$f":"IF(AND('Months 7-12'!AU31>0,'Months 7-12'!AU31<999),'Months 7-12'!AU31,\"\")","v":""},{"$f":"IF(AND('Months 7-12'!AX31>0,'Months 7-12'!AX31<999),'Months 7-12'!AX31,\"\")","v":""},{"$f":"IF(AND('Months 7-12'!BA31>0,'Months 7-12'!BA31<999),'Months 7-12'!BA31,\"\")","v":""},{"$f":"IF(AND('Months 7-12'!BD31>0,'Months 7-12'!BD31<999),'Months 7-12'!BD31,\"\")","v":""},{"$f":"IF(AND('Months 7-12'!BG31>0,'Months 7-12'!BG31<999),'Months 7-12'!BG31,\"\")","v":""},{"$f":"IF(AND('Months 7-12'!BJ31>0,'Months 7-12'!BJ31<999),'Months 7-12'!BJ31,\"\")","v":""},{"$f":"IF(AND('Months 7-12'!BM31>0,'Months 7-12'!BM31<999),'Months 7-12'!BM31,\"\")","v":""},{"$f":"IF(AND('Months 7-12'!BP31>0,'Months 7-12'!BP31<999),'Months 7-12'!BP31,\"\")","v":""},{"$f":"IF(AND('Months 7-12'!BS31>0,'Months 7-12'!BS31<999),'Months 7-12'!BS31,\"\")","v":""},{"$f":"IF(AND('Months 7-12'!BV31>0,'Months 7-12'!BV31<999),'Months 7-12'!BV31,\"\")","v":""},{"$f":"IF(AND('Months 7-12'!BY31>0,'Months 7-12'!BY31<999),'Months 7-12'!BY31,\"\")","v":""},{"$f":"IF(AND('Months 7-12'!CB31>0,'Months 7-12'!CB31<999),'Months 7-12'!CB31,\"\")","v":""},{"$f":"IF(AND('Months 7-12'!CE31>0,'Months 7-12'!CE31<999),'Months 7-12'!CE31,\"\")","v":""},{"$f":"IF(AND('Months 7-12'!CH31>0,'Months 7-12'!CH31<999),'Months 7-12'!CH31,\"\")","v":""},{"$f":"IF(AND('Months 7-12'!CK31>0,'Months 7-12'!CK31<999),'Months 7-12'!CK31,\"\")","v":""},{"$f":"IF(AND('Months 7-12'!CN31>0,'Months 7-12'!CN31<999),'Months 7-12'!CN31,\"\")","v":""}]
["Week 1",{"$f":"IF(AND('Months 7-12'!E32>0,'Months 7-12'!E32<999),'Months 7-12'!E32,\"\")","v":""},{"$f":"IF(AND('Months 7-12'!H32>0,'Months 7-12'!H32<999),'Months 7-12'!H32,\"\")","v":""},{"$f":"IF(AND('Months 7-12'!K32>0,'Months 7-12'!K32<999),'Months 7-12'!K32,\"\")","v":""},{"$f":"IF(AND('Months 7-12'!N32>0,'Months 7-12'!N32<999),'Months 7-12'!N32,\"\")","v":""},{"$f":"IF(AND('Months 7-12'!Q32>0,'Months 7-12'!Q32<999),'Months 7-12'!Q32,\"\")","v":""},{"$f":"IF(AND('Months 7-12'!T32>0,'Months 7-12'!T32<999),'Months 7-12'!T32,\"\")","v":""},{"$f":"IF(AND('Months 7-12'!W32>0,'Months 7-12'!W32<999),'Months 7-12'!W32,\"\")","v":""},{"$f":"IF(AND('Months 7-12'!Z32>0,'Months 7-12'!Z32<999),'Months 7-12'!Z32,\"\")","v":""},{"$f":"IF(AND('Months 7-12'!AC32>0,'Months 7-12'!AC32<999),'Months 7-12'!AC32,\"\")","v":""},{"$f":"IF(AND('Months 7-12'!AF32>0,'Months 7-12'!AF32<999),'Months 7-12'!AF32,\"\")","v":""},{"$f":"IF(AND('Months 7-12'!AI32>0,'Months 7-12'!AI32<999),'Months 7-12'!AI32,\"\")","v":""},{"$f":"IF(AND('Months 7-12'!AL32>0,'Months 7-12'!AL32<999),'Months 7-12'!AL32,\"\")","v":""},{"$f":"IF(AND('Months 7-12'!AO32>0,'Months 7-12'!AO32<999),'Months 7-12'!AO32,\"\")","v":""},{"$f":"IF(AND('Months 7-12'!AR32>0,'Months 7-12'!AR32<999),'Months 7-12'!AR32,\"\")","v":""},{"$f":"IF(AND('Months 7-12'!AU32>0,'Months 7-12'!AU32<999),'Months 7-12'!AU32,\"\")","v":""},{"$f":"IF(AND('Months 7-12'!AX32>0,'Months 7-12'!AX32<999),'Months 7-12'!AX32,\"\")","v":""},{"$f":"IF(AND('Months 7-12'!BA32>0,'Months 7-12'!BA32<999),'Months 7-12'!BA32,\"\")","v":""},{"$f":"IF(AND('Months 7-12'!BD32>0,'Months 7-12'!BD32<999),'Months 7-12'!BD32,\"\")","v":""},{"$f":"IF(AND('Months 7-12'!BG32>0,'Months 7-12'!BG32<999),'Months 7-12'!BG32,\"\")","v":""},{"$f":"IF(AND('Months 7-12'!BJ32>0,'Months 7-12'!BJ32<999),'Months 7-12'!BJ32,\"\")","v":""},{"$f":"IF(AND('Months 7-12'!BM32>0,'Months 7-12'!BM32<999),'Months 7-12'!BM32,\"\")","v":""},{"$f":"IF(AND('Months 7-12'!BP32>0,'Months 7-12'!BP32<999),'Months 7-12'!BP32,\"\")","v":""},{"$f":"IF(AND('Months 7-12'!BS32>0,'Months 7-12'!BS32<999),'Months 7-12'!BS32,\"\")","v":""},{"$f":"IF(AND('Months 7-12'!BV32>0,'Months 7-12'!BV32<999),'Months 7-12'!BV32,\"\")","v":""},{"$f":"IF(AND('Months 7-12'!BY32>0,'Months 7-12'!BY32<999),'Months 7-12'!BY32,\"\")","v":""},{"$f":"IF(AND('Months 7-12'!CB32>0,'Months 7-12'!CB32<999),'Months 7-12'!CB32,\"\")","v":""},{"$f":"IF(AND('Months 7-12'!CE32>0,'Months 7-12'!CE32<999),'Months 7-12'!CE32,\"\")","v":""},{"$f":"IF(AND('Months 7-12'!CH32>0,'Months 7-12'!CH32<999),'Months 7-12'!CH32,\"\")","v":""},{"$f":"IF(AND('Months 7-12'!CK32>0,'Months 7-12'!CK32<999),'Months 7-12'!CK32,\"\")","v":""},{"$f":"IF(AND('Months 7-12'!CN32>0,'Months 7-12'!CN32<999),'Months 7-12'!CN32,\"\")","v":""}]
["Week 2",{"$f":"IF(AND('Months 7-12'!E33>0,'Months 7-12'!E33<999),'Months 7-12'!E33,\"\")","v":""},{"$f":"IF(AND('Months 7-12'!H33>0,'Months 7-12'!H33<999),'Months 7-12'!H33,\"\")","v":""},{"$f":"IF(AND('Months 7-12'!K33>0,'Months 7-12'!K33<999),'Months 7-12'!K33,\"\")","v":""},{"$f":"IF(AND('Months 7-12'!N33>0,'Months 7-12'!N33<999),'Months 7-12'!N33,\"\")","v":""},{"$f":"IF(AND('Months 7-12'!Q33>0,'Months 7-12'!Q33<999),'Months 7-12'!Q33,\"\")","v":""},{"$f":"IF(AND('Months 7-12'!T33>0,'Months 7-12'!T33<999),'Months 7-12'!T33,\"\")","v":""},{"$f":"IF(AND('Months 7-12'!W33>0,'Months 7-12'!W33<999),'Months 7-12'!W33,\"\")","v":""},{"$f":"IF(AND('Months 7-12'!Z33>0,'Months 7-12'!Z33<999),'Months 7-12'!Z33,\"\")","v":""},{"$f":"IF(AND('Months 7-12'!AC33>0,'Months 7-12'!AC33<999),'Months 7-12'!AC33,\"\")","v":""},{"$f":"IF(AND('Months 7-12'!AF33>0,'Months 7-12'!AF33<999),'Months 7-12'!AF33,\"\")","v":""},{"$f":"IF(AND('Months 7-12'!AI33>0,'Months 7-12'!AI33<999),'Months 7-12'!AI33,\"\")","v":""},{"$f":"IF(AND('Months 7-12'!AL33>0,'Months 7-12'!AL33<999),'Months 7-12'!AL33,\"\")","v":""},{"$f":"IF(AND('Months 7-12'!AO33>0,'Months 7-12'!AO33<999),'Months 7-12'!AO33,\"\")","v":""},{"$f":"IF(AND('Months 7-12'!AR33>0,'Months 7-12'!AR33<999),'Months 7-12'!AR33,\"\")","v":""},{"$f":"IF(AND('Months 7-12'!AU33>0,'Months 7-12'!AU33<999),'Months 7-12'!AU33,\"\")","v":""},{"$f":"IF(AND('Months 7-12'!AX33>0,'Months 7-12'!AX33<999),'Months 7-12'!AX33,\"\")","v":""},{"$f":"IF(AND('Months 7-12'!BA33>0,'Months 7-12'!BA33<999),'Months 7-12'!BA33,\"\")","v":""},{"$f":"IF(AND('Months 7-12'!BD33>0,'Months 7-12'!BD33<999),'Months 7-12'!BD33,\"\")","v":""},{"$f":"IF(AND('Months 7-12'!BG33>0,'Months 7-12'!BG33<999),'Months 7-12'!BG33,\"\")","v":""},{"$f":"IF(AND('Months 7-12'!BJ33>0,'Months 7-12'!BJ33<999),'Months 7-12'!BJ33,\"\")","v":""},{"$f":"IF(AND('Months 7-12'!BM33>0,'Months 7-12'!BM33<999),'Months 7-12'!BM33,\"\")","v":""},{"$f":"IF(AND('Months 7-12'!BP33>0,'Months 7-12'!BP33<999),'Months 7-12'!BP33,\"\")","v":""},{"$f":"IF(AND('Months 7-12'!BS33>0,'Months 7-12'!BS33<999),'Months 7-12'!BS33,\"\")","v":""},{"$f":"IF(AND('Months 7-12'!BV33>0,'Months 7-12'!BV33<999),'Months 7-12'!BV33,\"\")","v":""},{"$f":"IF(AND('Months 7-12'!BY33>0,'Months 7-12'!BY33<999),'Months 7-12'!BY33,\"\")","v":""},{"$f":"IF(AND('Months 7-12'!CB33>0,'Months 7-12'!CB33<999),'Months 7-12'!CB33,\"\")","v":""},{"$f":"IF(AND('Months 7-12'!CE33>0,'Months 7-12'!CE33<999),'Months 7-12'!CE33,\"\")","v":""},{"$f":"IF(AND('Months 7-12'!CH33>0,'Months 7-12'!CH33<999),'Months 7-12'!CH33,\"\")","v":""},{"$f":"IF(AND('Months 7-12'!CK33>0,'Months 7-12'!CK33<999),'Months 7-12'!CK33,\"\")","v":""},{"$f":"IF(AND('Months 7-12'!CN33>0,'Months 7-12'!CN33<999),'Months 7-12'!CN33,\"\")","v":""}]
["Week 3",{"$f":"IF(AND('Months 7-12'!E34>0,'Months 7-12'!E34<999),'Months 7-12'!E34,\"\")","v":""},{"$f":"IF(AND('Months 7-12'!H34>0,'Months 7-12'!H34<999),'Months 7-12'!H34,\"\")","v":""},{"$f":"IF(AND('Months 7-12'!K34>0,'Months 7-12'!K34<999),'Months 7-12'!K34,\"\")","v":""},{"$f":"IF(AND('Months 7-12'!N34>0,'Months 7-12'!N34<999),'Months 7-12'!N34,\"\")","v":""},{"$f":"IF(AND('Months 7-12'!Q34>0,'Months 7-12'!Q34<999),'Months 7-12'!Q34,\"\")","v":""},{"$f":"IF(AND('Months 7-12'!T34>0,'Months 7-12'!T34<999),'Months 7-12'!T34,\"\")","v":""},{"$f":"IF(AND('Months 7-12'!W34>0,'Months 7-12'!W34<999),'Months 7-12'!W34,\"\")","v":""},{"$f":"IF(AND('Months 7-12'!Z34>0,'Months 7-12'!Z34<999),'Months 7-12'!Z34,\"\")","v":""},{"$f":"IF(AND('Months 7-12'!AC34>0,'Months 7-12'!AC34<999),'Months 7-12'!AC34,\"\")","v":""},{"$f":"IF(AND('Months 7-12'!AF34>0,'Months 7-12'!AF34<999),'Months 7-12'!AF34,\"\")","v":""},{"$f":"IF(AND('Months 7-12'!AI34>0,'Months 7-12'!AI34<999),'Months 7-12'!AI34,\"\")","v":""},{"$f":"IF(AND('Months 7-12'!AL34>0,'Months 7-12'!AL34<999),'Months 7-12'!AL34,\"\")","v":""},{"$f":"IF(AND('Months 7-12'!AO34>0,'Months 7-12'!AO34<999),'Months 7-12'!AO34,\"\")","v":""},{"$f":"IF(AND('Months 7-12'!AR34>0,'Months 7-12'!AR34<999),'Months 7-12'!AR34,\"\")","v":""},{"$f":"IF(AND('Months 7-12'!AU34>0,'Months 7-12'!AU34<999),'Months 7-12'!AU34,\"\")","v":""},{"$f":"IF(AND('Months 7-12'!AX34>0,'Months 7-12'!AX34<999),'Months 7-12'!AX34,\"\")","v":""},{"$f":"IF(AND('Months 7-12'!BA34>0,'Months 7-12'!BA34<999),'Months 7-12'!BA34,\"\")","v":""},{"$f":"IF(AND('Months 7-12'!BD34>0,'Months 7-12'!BD34<999),'Months 7-12'!BD34,\"\")","v":""},{"$f":"IF(AND('Months 7-12'!BG34>0,'Months 7-12'!BG34<999),'Months 7-12'!BG34,\"\")","v":""},{"$f":"IF(AND('Months 7-12'!BJ34>0,'Months 7-12'!BJ34<999),'Months 7-12'!BJ34,\"\")","v":""},{"$f":"IF(AND('Months 7-12'!BM34>0,'Months 7-12'!BM34<999),'Months 7-12'!BM34,\"\")","v":""},{"$f":"IF(AND('Months 7-12'!BP34>0,'Months 7-12'!BP34<999),'Months 7-12'!BP34,\"\")","v":""},{"$f":"IF(AND('Months 7-12'!BS34>0,'Months 7-12'!BS34<999),'Months 7-12'!BS34,\"\")","v":""},{"$f":"IF(AND('Months 7-12'!BV34>0,'Months 7-12'!BV34<999),'Months 7-12'!BV34,\"\")","v":""},{"$f":"IF(AND('Months 7-12'!BY34>0,'Months 7-12'!BY34<999),'Months 7-12'!BY34,\"\")","v":""},{"$f":"IF(AND('Months 7-12'!CB34>0,'Months 7-12'!CB34<999),'Months 7-12'!CB34,\"\")","v":""},{"$f":"IF(AND('Months 7-12'!CE34>0,'Months 7-12'!CE34<999),'Months 7-12'!CE34,\"\")","v":""},{"$f":"IF(AND('Months 7-12'!CH34>0,'Months 7-12'!CH34<999),'Months 7-12'!CH34,\"\")","v":""},{"$f":"IF(AND('Months 7-12'!CK34>0,'Months 7-12'!CK34<999),'Months 7-12'!CK34,\"\")","v":""},{"$f":"IF(AND('Months 7-12'!CN34>0,'Months 7-12'!CN34<999),'Months 7-12'!CN34,\"\")","v":""}]
["Week 4",{"$f":"IF(AND('Months 7-12'!E35>0,'Months 7-12'!E35<999),'Months 7-12'!E35,\"\")","v":""},{"$f":"IF(AND('Months 7-12'!H35>0,'Months 7-12'!H35<999),'Months 7-12'!H35,\"\")","v":""},{"$f":"IF(AND('Months 7-12'!K35>0,'Months 7-12'!K35<999),'Months 7-12'!K35,\"\")","v":""},{"$f":"IF(AND('Months 7-12'!N35>0,'Months 7-12'!N35<999),'Months 7-12'!N35,\"\")","v":""},{"$f":"IF(AND('Months 7-12'!Q35>0,'Months 7-12'!Q35<999),'Months 7-12'!Q35,\"\")","v":""},{"$f":"IF(AND('Months 7-12'!T35>0,'Months 7-12'!T35<999),'Months 7-12'!T35,\"\")","v":""},{"$f":"IF(AND('Months 7-12'!W35>0,'Months 7-12'!W35<999),'Months 7-12'!W35,\"\")","v":""},{"$f":"IF(AND('Months 7-12'!Z35>0,'Months 7-12'!Z35<999),'Months 7-12'!Z35,\"\")","v":""},{"$f":"IF(AND('Months 7-12'!AC35>0,'Months 7-12'!AC35<999),'Months 7-12'!AC35,\"\")","v":""},{"$f":"IF(AND('Months 7-12'!AF35>0,'Months 7-12'!AF35<999),'Months 7-12'!AF35,\"\")","v":""},{"$f":"IF(AND('Months 7-12'!AI35>0,'Months 7-12'!AI35<999),'Months 7-12'!AI35,\"\")","v":""},{"$f":"IF(AND('Months 7-12'!AL35>0,'Months 7-12'!AL35<999),'Months 7-12'!AL35,\"\")","v":""},{"$f":"IF(AND('Months 7-12'!AO35>0,'Months 7-12'!AO35<999),'Months 7-12'!AO35,\"\")","v":""},{"$f":"IF(AND('Months 7-12'!AR35>0,'Months 7-12'!AR35<999),'Months 7-12'!AR35,\"\")","v":""},{"$f":"IF(AND('Months 7-12'!AU35>0,'Months 7-12'!AU35<999),'Months 7-12'!AU35,\"\")","v":""},{"$f":"IF(AND('Months 7-12'!AX35>0,'Months 7-12'!AX35<999),'Months 7-12'!AX35,\"\")","v":""},{"$f":"IF(AND('Months 7-12'!BA35>0,'Months 7-12'!BA35<999),'Months 7-12'!BA35,\"\")","v":""},{"$f":"IF(AND('Months 7-12'!BD35>0,'Months 7-12'!BD35<999),'Months 7-12'!BD35,\"\")","v":""},{"$f":"IF(AND('Months 7-12'!BG35>0,'Months 7-12'!BG35<999),'Months 7-12'!BG35,\"\")","v":""},{"$f":"IF(AND('Months 7-12'!BJ35>0,'Months 7-12'!BJ35<999),'Months 7-12'!BJ35,\"\")","v":""},{"$f":"IF(AND('Months 7-12'!BM35>0,'Months 7-12'!BM35<999),'Months 7-12'!BM35,\"\")","v":""},{"$f":"IF(AND('Months 7-12'!BP35>0,'Months 7-12'!BP35<999),'Months 7-12'!BP35,\"\")","v":""},{"$f":"IF(AND('Months 7-12'!BS35>0,'Months 7-12'!BS35<999),'Months 7-12'!BS35,\"\")","v":""},{"$f":"IF(AND('Months 7-12'!BV35>0,'Months 7-12'!BV35<999),'Months 7-12'!BV35,\"\")","v":""},{"$f":"IF(AND('Months 7-12'!BY35>0,'Months 7-12'!BY35<999),'Months 7-12'!BY35,\"\")","v":""},{"$f":"IF(AND('Months 7-12'!CB35>0,'Months 7-12'!CB35<999),'Months 7-12'!CB35,\"\")","v":""},{"$f":"IF(AND('Months 7-12'!CE35>0,'Months 7-12'!CE35<999),'Months 7-12'!CE35,\"\")","v":""},{"$f":"IF(AND('Months 7-12'!CH35>0,'Months 7-12'!CH35<999),'Months 7-12'!CH35,\"\")","v":""},{"$f":"IF(AND('Months 7-12'!CK35>0,'Months 7-12'!CK35<999),'Months 7-12'!CK35,\"\")","v":""},{"$f":"IF(AND('Months 7-12'!CN35>0,'Months 7-12'!CN35<999),'Months 7-12'!CN35,\"\")","v":""}]
["Week 5",{"$f":"IF(AND('Months 7-12'!E36>0,'Months 7-12'!E36<999),'Months 7-12'!E36,\"\")","v":""},{"$f":"IF(AND('Months 7-12'!H36>0,'Months 7-12'!H36<999),'Months 7-12'!H36,\"\")","v":""},{"$f":"IF(AND('Months 7-12'!K36>0,'Months 7-12'!K36<999),'Months 7-12'!K36,\"\")","v":""},{"$f":"IF(AND('Months 7-12'!N36>0,'Months 7-12'!N36<999),'Months 7-12'!N36,\"\")","v":""},{"$f":"IF(AND('Months 7-12'!Q36>0,'Months 7-12'!Q36<999),'Months 7-12'!Q36,\"\")","v":""},{"$f":"IF(AND('Months 7-12'!T36>0,'Months 7-12'!T36<999),'Months 7-12'!T36,\"\")","v":""},{"$f":"IF(AND('Months 7-12'!W36>0,'Months 7-12'!W36<999),'Months 7-12'!W36,\"\")","v":""},{"$f":"IF(AND('Months 7-12'!Z36>0,'Months 7-12'!Z36<999),'Months 7-12'!Z36,\"\")","v":""},{"$f":"IF(AND('Months 7-12'!AC36>0,'Months 7-12'!AC36<999),'Months 7-12'!AC36,\"\")","v":""},{"$f":"IF(AND('Months 7-12'!AF36>0,'Months 7-12'!AF36<999),'Months 7-12'!AF36,\"\")","v":""},{"$f":"IF(AND('Months 7-12'!AI36>0,'Months 7-12'!AI36<999),'Months 7-12'!AI36,\"\")","v":""},{"$f":"IF(AND('Months 7-12'!AL36>0,'Months 7-12'!AL36<999),'Months 7-12'!AL36,\"\")","v":""},{"$f":"IF(AND('Months 7-12'!AO36>0,'Months 7-12'!AO36<999),'Months 7-12'!AO36,\"\")","v":""},{"$f":"IF(AND('Months 7-12'!AR36>0,'Months 7-12'!AR36<999),'Months 7-12'!AR36,\"\")","v":""},{"$f":"IF(AND('Months 7-12'!AU36>0,'Months 7-12'!AU36<999),'Months 7-12'!AU36,\"\")","v":""},{"$f":"IF(AND('Months 7-12'!AX36>0,'Months 7-12'!AX36<999),'Months 7-12'!AX36,\"\")","v":""},{"$f":"IF(AND('Months 7-12'!BA36>0,'Months 7-12'!BA36<999),'Months 7-12'!BA36,\"\")","v":""},{"$f":"IF(AND('Months 7-12'!BD36>0,'Months 7-12'!BD36<999),'Months 7-12'!BD36,\"\")","v":""},{"$f":"IF(AND('Months 7-12'!BG36>0,'Months 7-12'!BG36<999),'Months 7-12'!BG36,\"\")","v":""},{"$f":"IF(AND('Months 7-12'!BJ36>0,'Months 7-12'!BJ36<999),'Months 7-12'!BJ36,\"\")","v":""},{"$f":"IF(AND('Months 7-12'!BM36>0,'Months 7-12'!BM36<999),'Months 7-12'!BM36,\"\")","v":""},{"$f":"IF(AND('Months 7-12'!BP36>0,'Months 7-12'!BP36<999),'Months 7-12'!BP36,\"\")","v":""},{"$f":"IF(AND('Months 7-12'!BS36>0,'Months 7-12'!BS36<999),'Months 7-12'!BS36,\"\")","v":""},{"$f":"IF(AND('Months 7-12'!BV36>0,'Months 7-12'!BV36<999),'Months 7-12'!BV36,\"\")","v":""},{"$f":"IF(AND('Months 7-12'!BY36>0,'Months 7-12'!BY36<999),'Months 7-12'!BY36,\"\")","v":""},{"$f":"IF(AND('Months 7-12'!CB36>0,'Months 7-12'!CB36<999),'Months 7-12'!CB36,\"\")","v":""},{"$f":"IF(AND('Months 7-12'!CE36>0,'Months 7-12'!CE36<999),'Months 7-12'!CE36,\"\")","v":""},{"$f":"IF(AND('Months 7-12'!CH36>0,'Months 7-12'!CH36<999),'Months 7-12'!CH36,\"\")","v":""},{"$f":"IF(AND('Months 7-12'!CK36>0,'Months 7-12'!CK36<999),'Months 7-12'!CK36,\"\")","v":""},{"$f":"IF(AND('Months 7-12'!CN36>0,'Months 7-12'!CN36<999),'Months 7-12'!CN36,\"\")","v":""}]
["Month 12",{"$f":"IF(AND('Months 7-12'!E37>0,'Months 7-12'!E37<999),'Months 7-12'!E37,\"\")","v":""},{"$f":"IF(AND('Months 7-12'!H37>0,'Months 7-12'!H37<999),'Months 7-12'!H37,\"\")","v":""},{"$f":"IF(AND('Months 7-12'!K37>0,'Months 7-12'!K37<999),'Months 7-12'!K37,\"\")","v":""},{"$f":"IF(AND('Months 7-12'!N37>0,'Months 7-12'!N37<999),'Months 7-12'!N37,\"\")","v":""},{"$f":"IF(AND('Months 7-12'!Q37>0,'Months 7-12'!Q37<999),'Months 7-12'!Q37,\"\")","v":""},{"$f":"IF(AND('Months 7-12'!T37>0,'Months 7-12'!T37<999),'Months 7-12'!T37,\"\")","v":""},{"$f":"IF(AND('Months 7-12'!W37>0,'Months 7-12'!W37<999),'Months 7-12'!W37,\"\")","v":""},{"$f":"IF(AND('Months 7-12'!Z37>0,'Months 7-12'!Z37<999),'Months 7-12'!Z37,\"\")","v":""},{"$f":"IF(AND('Months 7-12'!AC37>0,'Months 7-12'!AC37<999),'Months 7-12'!AC37,\"\")","v":""},{"$f":"IF(AND('Months 7-12'!AF37>0,'Months 7-12'!AF37<999),'Months 7-12'!AF37,\"\")","v":""},{"$f":"IF(AND('Months 7-12'!AI37>0,'Months 7-12'!AI37<999),'Months 7-12'!AI37,\"\")","v":""},{"$f":"IF(AND('Months 7-12'!AL37>0,'Months 7-12'!AL37<999),'Months 7-12'!AL37,\"\")","v":""},{"$f":"IF(AND('Months 7-12'!AO37>0,'Months 7-12'!AO37<999),'Months 7-12'!AO37,\"\")","v":""},{"$f":"IF(AND('Months 7-12'!AR37>0,'Months 7-12'!AR37<999),'Months 7-12'!AR37,\"\")","v":""},{"$f":"IF(AND('Months 7-12'!AU37>0,'Months 7-12'!AU37<999),'Months 7-12'!AU37,\"\")","v":""},{"$f":"IF(AND('Months 7-12'!AX37>0,'Months 7-12'!AX37<999),'Months 7-12'!AX37,\"\")","v":""},{"$f":"IF(AND('Months 7-12'!BA37>0,'Months 7-12'!BA37<999),'Months 7-12'!BA37,\"\")","v":""},{"$f":"IF(AND('Months 7-12'!BD37>0,'Months 7-12'!BD37<999),'Months 7-12'!BD37,\"\")","v":""},{"$f":"IF(AND('Months 7-12'!BG37>0,'Months 7-12'!BG37<999),'Months 7-12'!BG37,\"\")","v":""},{"$f":"IF(AND('Months 7-12'!BJ37>0,'Months 7-12'!BJ37<999),'Months 7-12'!BJ37,\"\")","v":""},{"$f":"IF(AND('Months 7-12'!BM37>0,'Months 7-12'!BM37<999),'Months 7-12'!BM37,\"\")","v":""},{"$f":"IF(AND('Months 7-12'!BP37>0,'Months 7-12'!BP37<999),'Months 7-12'!BP37,\"\")","v":""},{"$f":"IF(AND('Months 7-12'!BS37>0,'Months 7-12'!BS37<999),'Months 7-12'!BS37,\"\")","v":""},{"$f":"IF(AND('Months 7-12'!BV37>0,'Months 7-12'!BV37<999),'Months 7-12'!BV37,\"\")","v":""},{"$f":"IF(AND('Months 7-12'!BY37>0,'Months 7-12'!BY37<999),'Months 7-12'!BY37,\"\")","v":""},{"$f":"IF(AND('Months 7-12'!CB37>0,'Months 7-12'!CB37<999),'Months 7-12'!CB37,\"\")","v":""},{"$f":"IF(AND('Months 7-12'!CE37>0,'Months 7-12'!CE37<999),'Months 7-12'!CE37,\"\")","v":""},{"$f":"IF(AND('Months 7-12'!CH37>0,'Months 7-12'!CH37<999),'Months 7-12'!CH37,\"\")","v":""},{"$f":"IF(AND('Months 7-12'!CK37>0,'Months 7-12'!CK37<999),'Months 7-12'!CK37,\"\")","v":""},{"$f":"IF(AND('Months 7-12'!CN37>0,'Months 7-12'!CN37<999),'Months 7-12'!CN37,\"\")","v":""}]
["Week 1",{"$f":"IF(AND('Months 7-12'!E38>0,'Months 7-12'!E38<999),'Months 7-12'!E38,\"\")","v":""},{"$f":"IF(AND('Months 7-12'!H38>0,'Months 7-12'!H38<999),'Months 7-12'!H38,\"\")","v":""},{"$f":"IF(AND('Months 7-12'!K38>0,'Months 7-12'!K38<999),'Months 7-12'!K38,\"\")","v":""},{"$f":"IF(AND('Months 7-12'!N38>0,'Months 7-12'!N38<999),'Months 7-12'!N38,\"\")","v":""},{"$f":"IF(AND('Months 7-12'!Q38>0,'Months 7-12'!Q38<999),'Months 7-12'!Q38,\"\")","v":""},{"$f":"IF(AND('Months 7-12'!T38>0,'Months 7-12'!T38<999),'Months 7-12'!T38,\"\")","v":""},{"$f":"IF(AND('Months 7-12'!W38>0,'Months 7-12'!W38<999),'Months 7-12'!W38,\"\")","v":""},{"$f":"IF(AND('Months 7-12'!Z38>0,'Months 7-12'!Z38<999),'Months 7-12'!Z38,\"\")","v":""},{"$f":"IF(AND('Months 7-12'!AC38>0,'Months 7-12'!AC38<999),'Months 7-12'!AC38,\"\")","v":""},{"$f":"IF(AND('Months 7-12'!AF38>0,'Months 7-12'!AF38<999),'Months 7-12'!AF38,\"\")","v":""},{"$f":"IF(AND('Months 7-12'!AI38>0,'Months 7-12'!AI38<999),'Months 7-12'!AI38,\"\")","v":""},{"$f":"IF(AND('Months 7-12'!AL38>0,'Months 7-12'!AL38<999),'Months 7-12'!AL38,\"\")","v":""},{"$f":"IF(AND('Months 7-12'!AO38>0,'Months 7-12'!AO38<999),'Months 7-12'!AO38,\"\")","v":""},{"$f":"IF(AND('Months 7-12'!AR38>0,'Months 7-12'!AR38<999),'Months 7-12'!AR38,\"\")","v":""},{"$f":"IF(AND('Months 7-12'!AU38>0,'Months 7-12'!AU38<999),'Months 7-12'!AU38,\"\")","v":""},{"$f":"IF(AND('Months 7-12'!AX38>0,'Months 7-12'!AX38<999),'Months 7-12'!AX38,\"\")","v":""},{"$f":"IF(AND('Months 7-12'!BA38>0,'Months 7-12'!BA38<999),'Months 7-12'!BA38,\"\")","v":""},{"$f":"IF(AND('Months 7-12'!BD38>0,'Months 7-12'!BD38<999),'Months 7-12'!BD38,\"\")","v":""},{"$f":"IF(AND('Months 7-12'!BG38>0,'Months 7-12'!BG38<999),'Months 7-12'!BG38,\"\")","v":""},{"$f":"IF(AND('Months 7-12'!BJ38>0,'Months 7-12'!BJ38<999),'Months 7-12'!BJ38,\"\")","v":""},{"$f":"IF(AND('Months 7-12'!BM38>0,'Months 7-12'!BM38<999),'Months 7-12'!BM38,\"\")","v":""},{"$f":"IF(AND('Months 7-12'!BP38>0,'Months 7-12'!BP38<999),'Months 7-12'!BP38,\"\")","v":""},{"$f":"IF(AND('Months 7-12'!BS38>0,'Months 7-12'!BS38<999),'Months 7-12'!BS38,\"\")","v":""},{"$f":"IF(AND('Months 7-12'!BV38>0,'Months 7-12'!BV38<999),'Months 7-12'!BV38,\"\")","v":""},{"$f":"IF(AND('Months 7-12'!BY38>0,'Months 7-12'!BY38<999),'Months 7-12'!BY38,\"\")","v":""},{"$f":"IF(AND('Months 7-12'!CB38>0,'Months 7-12'!CB38<999),'Months 7-12'!CB38,\"\")","v":""},{"$f":"IF(AND('Months 7-12'!CE38>0,'Months 7-12'!CE38<999),'Months 7-12'!CE38,\"\")","v":""},{"$f":"IF(AND('Months 7-12'!CH38>0,'Months 7-12'!CH38<999),'Months 7-12'!CH38,\"\")","v":""},{"$f":"IF(AND('Months 7-12'!CK38>0,'Months 7-12'!CK38<999),'Months 7-12'!CK38,\"\")","v":""},{"$f":"IF(AND('Months 7-12'!CN38>0,'Months 7-12'!CN38<999),'Months 7-12'!CN38,\"\")","v":""}]
["Week 2",{"$f":"IF(AND('Months 7-12'!E39>0,'Months 7-12'!E39<999),'Months 7-12'!E39,\"\")","v":""},{"$f":"IF(AND('Months 7-12'!H39>0,'Months 7-12'!H39<999),'Months 7-12'!H39,\"\")","v":""},{"$f":"IF(AND('Months 7-12'!K39>0,'Months 7-12'!K39<999),'Months 7-12'!K39,\"\")","v":""},{"$f":"IF(AND('Months 7-12'!N39>0,'Months 7-12'!N39<999),'Months 7-12'!N39,\"\")","v":""},{"$f":"IF(AND('Months 7-12'!Q39>0,'Months 7-12'!Q39<999),'Months 7-12'!Q39,\"\")","v":""},{"$f":"IF(AND('Months 7-12'!T39>0,'Months 7-12'!T39<999),'Months 7-12'!T39,\"\")","v":""},{"$f":"IF(AND('Months 7-12'!W39>0,'Months 7-12'!W39<999),'Months 7-12'!W39,\"\")","v":""},{"$f":"IF(AND('Months 7-12'!Z39>0,'Months 7-12'!Z39<999),'Months 7-12'!Z39,\"\")","v":""},{"$f":"IF(AND('Months 7-12'!AC39>0,'Months 7-12'!AC39<999),'Months 7-12'!AC39,\"\")","v":""},{"$f":"IF(AND('Months 7-12'!AF39>0,'Months 7-12'!AF39<999),'Months 7-12'!AF39,\"\")","v":""},{"$f":"IF(AND('Months 7-12'!AI39>0,'Months 7-12'!AI39<999),'Months 7-12'!AI39,\"\")","v":""},{"$f":"IF(AND('Months 7-12'!AL39>0,'Months 7-12'!AL39<999),'Months 7-12'!AL39,\"\")","v":""},{"$f":"IF(AND('Months 7-12'!AO39>0,'Months 7-12'!AO39<999),'Months 7-12'!AO39,\"\")","v":""},{"$f":"IF(AND('Months 7-12'!AR39>0,'Months 7-12'!AR39<999),'Months 7-12'!AR39,\"\")","v":""},{"$f":"IF(AND('Months 7-12'!AU39>0,'Months 7-12'!AU39<999),'Months 7-12'!AU39,\"\")","v":""},{"$f":"IF(AND('Months 7-12'!AX39>0,'Months 7-12'!AX39<999),'Months 7-12'!AX39,\"\")","v":""},{"$f":"IF(AND('Months 7-12'!BA39>0,'Months 7-12'!BA39<999),'Months 7-12'!BA39,\"\")","v":""},{"$f":"IF(AND('Months 7-12'!BD39>0,'Months 7-12'!BD39<999),'Months 7-12'!BD39,\"\")","v":""},{"$f":"IF(AND('Months 7-12'!BG39>0,'Months 7-12'!BG39<999),'Months 7-12'!BG39,\"\")","v":""},{"$f":"IF(AND('Months 7-12'!BJ39>0,'Months 7-12'!BJ39<999),'Months 7-12'!BJ39,\"\")","v":""},{"$f":"IF(AND('Months 7-12'!BM39>0,'Months 7-12'!BM39<999),'Months 7-12'!BM39,\"\")","v":""},{"$f":"IF(AND('Months 7-12'!BP39>0,'Months 7-12'!BP39<999),'Months 7-12'!BP39,\"\")","v":""},{"$f":"IF(AND('Months 7-12'!BS39>0,'Months 7-12'!BS39<999),'Months 7-12'!BS39,\"\")","v":""},{"$f":"IF(AND('Months 7-12'!BV39>0,'Months 7-12'!BV39<999),'Months 7-12'!BV39,\"\")","v":""},{"$f":"IF(AND('Months 7-12'!BY39>0,'Months 7-12'!BY39<999),'Months 7-12'!BY39,\"\")","v":""},{"$f":"IF(AND('Months 7-12'!CB39>0,'Months 7-12'!CB39<999),'Months 7-12'!CB39,\"\")","v":""},{"$f":"IF(AND('Months 7-12'!CE39>0,'Months 7-12'!CE39<999),'Months 7-12'!CE39,\"\")","v":""},{"$f":"IF(AND('Months 7-12'!CH39>0,'Months 7-12'!CH39<999),'Months 7-12'!CH39,\"\")","v":""},{"$f":"IF(AND('Months 7-12'!CK39>0,'Months 7-12'!CK39<999),'Months 7-12'!CK39,\"\")","v":""},{"$f":"IF(AND('Months 7-12'!CN39>0,'Months 7-12'!CN39<999),'Months 7-12'!CN39,\"\")","v":""}]
["Week 3",{"$f":"IF(AND('Months 7-12'!E40>0,'Months 7-12'!E40<999),'Months 7-12'!E40,\"\")","v":""},{"$f":"IF(AND('Months 7-12'!H40>0,'Months 7-12'!H40<999),'Months 7-12'!H40,\"\")","v":""},{"$f":"IF(AND('Months 7-12'!K40>0,'Months 7-12'!K40<999),'Months 7-12'!K40,\"\")","v":""},{"$f":"IF(AND('Months 7-12'!N40>0,'Months 7-12'!N40<999),'Months 7-12'!N40,\"\")","v":""},{"$f":"IF(AND('Months 7-12'!Q40>0,'Months 7-12'!Q40<999),'Months 7-12'!Q40,\"\")","v":""},{"$f":"IF(AND('Months 7-12'!T40>0,'Months 7-12'!T40<999),'Months 7-12'!T40,\"\")","v":""},{"$f":"IF(AND('Months 7-12'!W40>0,'Months 7-12'!W40<999),'Months 7-12'!W40,\"\")","v":""},{"$f":"IF(AND('Months 7-12'!Z40>0,'Months 7-12'!Z40<999),'Months 7-12'!Z40,\"\")","v":""},{"$f":"IF(AND('Months 7-12'!AC40>0,'Months 7-12'!AC40<999),'Months 7-12'!AC40,\"\")","v":""},{"$f":"IF(AND('Months 7-12'!AF40>0,'Months 7-12'!AF40<999),'Months 7-12'!AF40,\"\")","v":""},{"$f":"IF(AND('Months 7-12'!AI40>0,'Months 7-12'!AI40<999),'Months 7-12'!AI40,\"\")","v":""},{"$f":"IF(AND('Months 7-12'!AL40>0,'Months 7-12'!AL40<999),'Months 7-12'!AL40,\"\")","v":""},{"$f":"IF(AND('Months 7-12'!AO40>0,'Months 7-12'!AO40<999),'Months 7-12'!AO40,\"\")","v":""},{"$f":"IF(AND('Months 7-12'!AR40>0,'Months 7-12'!AR40<999),'Months 7-12'!AR40,\"\")","v":""},{"$f":"IF(AND('Months 7-12'!AU40>0,'Months 7-12'!AU40<999),'Months 7-12'!AU40,\"\")","v":""},{"$f":"IF(AND('Months 7-12'!AX40>0,'Months 7-12'!AX40<999),'Months 7-12'!AX40,\"\")","v":""},{"$f":"IF(AND('Months 7-12'!BA40>0,'Months 7-12'!BA40<999),'Months 7-12'!BA40,\"\")","v":""},{"$f":"IF(AND('Months 7-12'!BD40>0,'Months 7-12'!BD40<999),'Months 7-12'!BD40,\"\")","v":""},{"$f":"IF(AND('Months 7-12'!BG40>0,'Months 7-12'!BG40<999),'Months 7-12'!BG40,\"\")","v":""},{"$f":"IF(AND('Months 7-12'!BJ40>0,'Months 7-12'!BJ40<999),'Months 7-12'!BJ40,\"\")","v":""},{"$f":"IF(AND('Months 7-12'!BM40>0,'Months 7-12'!BM40<999),'Months 7-12'!BM40,\"\")","v":""},{"$f":"IF(AND('Months 7-12'!BP40>0,'Months 7-12'!BP40<999),'Months 7-12'!BP40,\"\")","v":""},{"$f":"IF(AND('Months 7-12'!BS40>0,'Months 7-12'!BS40<999),'Months 7-12'!BS40,\"\")","v":""},{"$f":"IF(AND('Months 7-12'!BV40>0,'Months 7-12'!BV40<999),'Months 7-12'!BV40,\"\")","v":""},{"$f":"IF(AND('Months 7-12'!BY40>0,'Months 7-12'!BY40<999),'Months 7-12'!BY40,\"\")","v":""},{"$f":"IF(AND('Months 7-12'!CB40>0,'Months 7-12'!CB40<999),'Months 7-12'!CB40,\"\")","v":""},{"$f":"IF(AND('Months 7-12'!CE40>0,'Months 7-12'!CE40<999),'Months 7-12'!CE40,\"\")","v":""},{"$f":"IF(AND('Months 7-12'!CH40>0,'Months 7-12'!CH40<999),'Months 7-12'!CH40,\"\")","v":""},{"$f":"IF(AND('Months 7-12'!CK40>0,'Months 7-12'!CK40<999),'Months 7-12'!CK40,\"\")","v":""},{"$f":"IF(AND('Months 7-12'!CN40>0,'Months 7-12'!CN40<999),'Months 7-12'!CN40,\"\")","v":""}]
["Week 4",{"$f":"IF(AND('Months 7-12'!E41>0,'Months 7-12'!E41<999),'Months 7-12'!E41,\"\")","v":""},{"$f":"IF(AND('Months 7-12'!H41>0,'Months 7-12'!H41<999),'Months 7-12'!H41,\"\")","v":""},{"$f":"IF(AND('Months 7-12'!K41>0,'Months 7-12'!K41<999),'Months 7-12'!K41,\"\")","v":""},{"$f":"IF(AND('Months 7-12'!N41>0,'Months 7-12'!N41<999),'Months 7-12'!N41,\"\")","v":""},{"$f":"IF(AND('Months 7-12'!Q41>0,'Months 7-12'!Q41<999),'Months 7-12'!Q41,\"\")","v":""},{"$f":"IF(AND('Months 7-12'!T41>0,'Months 7-12'!T41<999),'Months 7-12'!T41,\"\")","v":""},{"$f":"IF(AND('Months 7-12'!W41>0,'Months 7-12'!W41<999),'Months 7-12'!W41,\"\")","v":""},{"$f":"IF(AND('Months 7-12'!Z41>0,'Months 7-12'!Z41<999),'Months 7-12'!Z41,\"\")","v":""},{"$f":"IF(AND('Months 7-12'!AC41>0,'Months 7-12'!AC41<999),'Months 7-12'!AC41,\"\")","v":""},{"$f":"IF(AND('Months 7-12'!AF41>0,'Months 7-12'!AF41<999),'Months 7-12'!AF41,\"\")","v":""},{"$f":"IF(AND('Months 7-12'!AI41>0,'Months 7-12'!AI41<999),'Months 7-12'!AI41,\"\")","v":""},{"$f":"IF(AND('Months 7-12'!AL41>0,'Months 7-12'!AL41<999),'Months 7-12'!AL41,\"\")","v":""},{"$f":"IF(AND('Months 7-12'!AO41>0,'Months 7-12'!AO41<999),'Months 7-12'!AO41,\"\")","v":""},{"$f":"IF(AND('Months 7-12'!AR41>0,'Months 7-12'!AR41<999),'Months 7-12'!AR41,\"\")","v":""},{"$f":"IF(AND('Months 7-12'!AU41>0,'Months 7-12'!AU41<999),'Months 7-12'!AU41,\"\")","v":""},{"$f":"IF(AND('Months 7-12'!AX41>0,'Months 7-12'!AX41<999),'Months 7-12'!AX41,\"\")","v":""},{"$f":"IF(AND('Months 7-12'!BA41>0,'Months 7-12'!BA41<999),'Months 7-12'!BA41,\"\")","v":""},{"$f":"IF(AND('Months 7-12'!BD41>0,'Months 7-12'!BD41<999),'Months 7-12'!BD41,\"\")","v":""},{"$f":"IF(AND('Months 7-12'!BG41>0,'Months 7-12'!BG41<999),'Months 7-12'!BG41,\"\")","v":""},{"$f":"IF(AND('Months 7-12'!BJ41>0,'Months 7-12'!BJ41<999),'Months 7-12'!BJ41,\"\")","v":""},{"$f":"IF(AND('Months 7-12'!BM41>0,'Months 7-12'!BM41<999),'Months 7-12'!BM41,\"\")","v":""},{"$f":"IF(AND('Months 7-12'!BP41>0,'Months 7-12'!BP41<999),'Months 7-12'!BP41,\"\")","v":""},{"$f":"IF(AND('Months 7-12'!BS41>0,'Months 7-12'!BS41<999),'Months 7-12'!BS41,\"\")","v":""},{"$f":"IF(AND('Months 7-12'!BV41>0,'Months 7-12'!BV41<999),'Months 7-12'!BV41,\"\")","v":""},{"$f":"IF(AND('Months 7-12'!BY41>0,'Months 7-12'!BY41<999),'Months 7-12'!BY41,\"\")","v":""},{"$f":"IF(AND('Months 7-12'!CB41>0,'Months 7-12'!CB41<999),'Months 7-12'!CB41,\"\")","v":""},{"$f":"IF(AND('Months 7-12'!CE41>0,'Months 7-12'!CE41<999),'Months 7-12'!CE41,\"\")","v":""},{"$f":"IF(AND('Months 7-12'!CH41>0,'Months 7-12'!CH41<999),'Months 7-12'!CH41,\"\")","v":""},{"$f":"IF(AND('Months 7-12'!CK41>0,'Months 7-12'!CK41<999),'Months 7-12'!CK41,\"\")","v":""},{"$f":"IF(AND('Months 7-12'!CN41>0,'Months 7-12'!CN41<999),'Months 7-12'!CN41,\"\")","v":""}]
["Week 5",{"$f":"IF(AND('Months 7-12'!E42>0,'Months 7-12'!E42<999),'Months 7-12'!E42,\"\")","v":""},{"$f":"IF(AND('Months 7-12'!H42>0,'Months 7-12'!H42<999),'Months 7-12'!H42,\"\")","v":""},{"$f":"IF(AND('Months 7-12'!K42>0,'Months 7-12'!K42<999),'Months 7-12'!K42,\"\")","v":""},{"$f":"IF(AND('Months 7-12'!N42>0,'Months 7-12'!N42<999),'Months 7-12'!N42,\"\")","v":""},{"$f":"IF(AND('Months 7-12'!Q42>0,'Months 7-12'!Q42<999),'Months 7-12'!Q42,\"\")","v":""},{"$f":"IF(AND('Months 7-12'!T42>0,'Months 7-12'!T42<999),'Months 7-12'!T42,\"\")","v":""},{"$f":"IF(AND('Months 7-12'!W42>0,'Months 7-12'!W42<999),'Months 7-12'!W42,\"\")","v":""},{"$f":"IF(AND('Months 7-12'!Z42>0,'Months 7-12'!Z42<999),'Months 7-12'!Z42,\"\")","v":""},{"$f":"IF(AND('Months 7-12'!AC42>0,'Months 7-12'!AC42<999),'Months 7-12'!AC42,\"\")","v":""},{"$f":"IF(AND('Months 7-12'!AF42>0,'Months 7-12'!AF42<999),'Months 7-12'!AF42,\"\")","v":""},{"$f":"IF(AND('Months 7-12'!AI42>0,'Months 7-12'!AI42<999),'Months 7-12'!AI42,\"\")","v":""},{"$f":"IF(AND('Months 7-12'!AL42>0,'Months 7-12'!AL42<999),'Months 7-12'!AL42,\"\")","v":""},{"$f":"IF(AND('Months 7-12'!AO42>0,'Months 7-12'!AO42<999),'Months 7-12'!AO42,\"\")","v":""},{"$f":"IF(AND('Months 7-12'!AR42>0,'Months 7-12'!AR42<999),'Months 7-12'!AR42,\"\")","v":""},{"$f":"IF(AND('Months 7-12'!AU42>0,'Months 7-12'!AU42<999),'Months 7-12'!AU42,\"\")","v":""},{"$f":"IF(AND('Months 7-12'!AX42>0,'Months 7-12'!AX42<999),'Months 7-12'!AX42,\"\")","v":""},{"$f":"IF(AND('Months 7-12'!BA42>0,'Months 7-12'!BA42<999),'Months 7-12'!BA42,\"\")","v":""},{"$f":"IF(AND('Months 7-12'!BD42>0,'Months 7-12'!BD42<999),'Months 7-12'!BD42,\"\")","v":""},{"$f":"IF(AND('Months 7-12'!BG42>0,'Months 7-12'!BG42<999),'Months 7-12'!BG42,\"\")","v":""},{"$f":"IF(AND('Months 7-12'!BJ42>0,'Months 7-12'!BJ42<999),'Months 7-12'!BJ42,\"\")","v":""},{"$f":"IF(AND('Months 7-12'!BM42>0,'Months 7-12'!BM42<999),'Months 7-12'!BM42,\"\")","v":""},{"$f":"IF(AND('Months 7-12'!BP42>0,'Months 7-12'!BP42<999),'Months 7-12'!BP42,\"\")","v":""},{"$f":"IF(AND('Months 7-12'!BS42>0,'Months 7-12'!BS42<999),'Months 7-12'!BS42,\"\")","v":""},{"$f":"IF(AND('Months 7-12'!BV42>0,'Months 7-12'!BV42<999),'Months 7-12'!BV42,\"\")","v":""},{"$f":"IF(AND('Months 7-12'!BY42>0,'Months 7-12'!BY42<999),'Months 7-12'!BY42,\"\")","v":""},{"$f":"IF(AND('Months 7-12'!CB42>0,'Months 7-12'!CB42<999),'Months 7-12'!CB42,\"\")","v":""},{"$f":"IF(AND('Months 7-12'!CE42>0,'Months 7-12'!CE42<999),'Months 7-12'!CE42,\"\")","v":""},{"$f":"IF(AND('Months 7-12'!CH42>0,'Months 7-12'!CH42<999),'Months 7-12'!CH42,\"\")","v":""},{"$f":"IF(AND('Months 7-12'!CK42>0,'Months 7-12'!CK42<999),'Months 7-12'!CK42,\"\")","v":""},{"$f":"IF(AND('Months 7-12'!CN42>0,'Months 7-12'!CN42<999),'Months 7-12'!CN42,\"\")","v":""}]

{"sheet":"CDC Calculations","index":6,"n_rows":58,"n_cols":21,"rows_kept":58,"cut":false,"hidden":false,"merged":[[53,0,53,2],[54,0,54,2],[56,0,56,2],[57,0,57,2],[41,0,41,2],[55,0,55,2],[36,0,36,2],[51,0,51,2],[52,0,52,2],[49,0,49,2],[50,0,50,2],[43,0,43,2],[44,0,44,2],[45,0,45,2],[46,0,46,2],[47,0,47,2],[48,0,48,2],[42,0,42,2],[37,0,37,2],[38,0,38,2],[39,0,39,2],[40,0,40,2]]}
["Participant","# of sessions attended Months 1-6","# of sessions attended Months 7-12","Total # of sessions attended","# of sessions weight documented Months 1-6","# of sessions weight documented Months 7-12","Total # of sessions weight documented","# of sessions PA documented months 1-6","# of sessions PA documented months 7-12","Total # of sessions PA documented","1st recorded weight","Last recorded weight Months 1-6","Total Weight Loss Months 1-6","% weight loss at end of Months 1-6","Weight recorded at end of Months 7-12","Weight loss at end of Months 7-12","% weight loss at end of Month 12","GLUCTEST","GDM","RISKTEST","NOTELIGIBLE"]
[1,{"$f":"'Months 1-6'!D43","v":0},{"$f":"'Months 7-12'!D43","v":0},{"$f":"SUM(B2:C2)","v":0},{"$f":"'Months 1-6'!E46","v":0},{"$f":"'Months 7-12'!E44","v":0},{"$f":"E2+F2","v":0},{"$f":"'Months 1-6'!F47","v":0},{"$f":"'Months 7-12'!F45","v":0},{"$f":"H2+I2","v":0},{"$f":"INDEX('Overall Weight'!$B$3:$B$74,MATCH(TRUE,INDEX('Overall Weight'!$B$3:$B$74<>\"\",0,0),0))","v":{"$error":"#N/A"}},{"$f":"LOOKUP(2,1/('Overall Weight'!$B$3:$B$38<>\"\"),'Overall Weight'!$B$3:$B$38)","v":{"$error":"#N/A"}},{"$f":"-(L2-K2)","v":{"$error":"#N/A"}},{"$f":"1-(L2/K2)","v":{"$error":"#N/A"}},{"$f":"LOOKUP(2,1/('Overall Weight'!$B$3:$B$74<>\"\"),'Overall Weight'!$B$3:$B$74)","v":{"$error":"#N/A"}},{"$f":"-(O2-K2)","v":{"$error":"#N/A"}},{"$f":"1-(O2/K2)","v":{"$error":"#N/A"}},{"$f":"IF('CDC Calculations'!D2>=4,'Coded Data'!C3,\"\")","v":""},{"$f":"IF('CDC Calculations'!D2>=4,'Coded Data'!D3,\"\")","v":""},{"$f":"IF('CDC Calculations'!D2>=4,'Coded Data'!E3,\"\")","v":""},{"$f":"IF('CDC Calculations'!D2>=4,'Coded Data'!Q3,\"\")","v":""}]
[2,{"$f":"'Months 1-6'!G43","v":0},{"$f":"'Months 7-12'!G43","v":0},{"$f":"SUM(B3:C3)","v":0},{"$f":"'Months 1-6'!H46","v":0},{"$f":"'Months 7-12'!H44","v":0},{"$f":"E3+F3","v":0},{"$f":"'Months 1-6'!I47","v":0},{"$f":"'Months 7-12'!I45","v":0},{"$f":"H3+I3","v":0},{"$f":"INDEX('Overall Weight'!$C$3:$C$74,MATCH(TRUE,INDEX('Overall Weight'!$C$3:$C$74<>\"\",0,0),0))","v":{"$error":"#N/A"}},{"$f":"LOOKUP(2,1/('Overall Weight'!$C$3:$C$38<>\"\"),'Overall Weight'!$C$3:$C$38)","v":{"$error":"#N/A"}},{"$f":"-(L3-K3)","v":{"$error":"#N/A"}},{"$f":"1-(L3/K3)","v":{"$error":"#N/A"}},{"$f":"LOOKUP(2,1/('Overall Weight'!$C$3:$C$74<>\"\"),'Overall Weight'!$C$3:$C$74)","v":{"$error":"#N/A"}},{"$f":"-(O3-K3)","v":{"$error":"#N/A"}},{"$f":"1-(O3/K3)","v":{"$error":"#N/A"}},{"$f":"IF('CDC Calculations'!D3>=4,'Coded Data'!C4,\"\")","v":""},{"$f":"IF('CDC Calculations'!D3>=4,'Coded Data'!D4,\"\")","v":""},{"$f":"IF('CDC Calculations'!D3>=4,'Coded Data'!E4,\"\")","v":""},{"$f":"IF('CDC Calculations'!D3>=4,'Coded Data'!Q4,\"\")","v":""}]
[3,{"$f":"'Months 1-6'!J43","v":0},{"$f":"'Months 7-12'!J43","v":0},0,{"$f":"'Months 1-6'!K46","v":0},{"$f":"'Months 7-12'!K44","v":0},0,{"$f":"'Months 1-6'!L47","v":0},{"$f":"'Months 7-12'!L45","v":0},0,{"$f":"INDEX('Overall Weight'!$D$3:$D$74,MATCH(TRUE,INDEX('Overall Weight'!$D$3:$D$74<>\"\",0,0),0))","v":{"$error":"#N/A"}},{"$f":"LOOKUP(2,1/('Overall Weight'!$D$3:$D$38<>\"\"),'Overall Weight'!$D$3:$D$38)","v":{"$error":"#N/A"}},{"$error":"#N/A"},{"$error":"#N/A"},{"$f":"LOOKUP(2,1/('Overall Weight'!$D$3:$D$74<>\"\"),'Overall Weight'!$D$3:$D$74)","v":{"$error":"#N/A"}},{"$error":"#N/A"},{"$error":"#N/A"},{"$f":"IF('CDC Calculations'!D4>=4,'Coded Data'!C5,\"\")","v":""},{"$f":"IF('CDC Calculations'!D4>=4,'Coded Data'!D5,\"\")","v":""},{"$f":"IF('CDC Calculations'!D4>=4,'Coded Data'!E5,\"\")","v":""},{"$f":"IF('CDC Calculations'!D4>=4,'Coded Data'!Q5,\"\")","v":""}]
[4,{"$f":"'Months 1-6'!M43","v":0},{"$f":"'Months 7-12'!M43","v":0},0,{"$f":"'Months 1-6'!N46","v":0},{"$f":"'Months 7-12'!N44","v":0},0,{"$f":"'Months 1-6'!O47","v":0},{"$f":"'Months 7-12'!O45","v":0},0,{"$f":"INDEX('Overall Weight'!$E$3:$E$74,MATCH(TRUE,INDEX('Overall Weight'!$E$3:$E$74<>\"\",0,0),0))","v":{"$error":"#N/A"}},{"$f":"LOOKUP(2,1/('Overall Weight'!$E$3:$E$38<>\"\"),'Overall Weight'!$E$3:$E$38)","v":{"$error":"#N/A"}},{"$error":"#N/A"},{"$error":"#N/A"},{"$f":"LOOKUP(2,1/('Overall Weight'!$E$3:$E$74<>\"\"),'Overall Weight'!$E$3:$E$74)","v":{"$error":"#N/A"}},{"$error":"#N/A"},{"$error":"#N/A"},{"$f":"IF('CDC Calculations'!D5>=4,'Coded Data'!C6,\"\")","v":""},{"$f":"IF('CDC Calculations'!D5>=4,'Coded Data'!D6,\"\")","v":""},{"$f":"IF('CDC Calculations'!D5>=4,'Coded Data'!E6,\"\")","v":""},{"$f":"IF('CDC Calculations'!D5>=4,'Coded Data'!Q6,\"\")","v":""}]
[5,{"$f":"'Months 1-6'!P43","v":0},{"$f":"'Months 7-12'!P43","v":0},0,{"$f":"'Months 1-6'!Q46","v":0},{"$f":"'Months 7-12'!Q44","v":0},0,{"$f":"'Months 1-6'!R47","v":0},{"$f":"'Months 7-12'!R45","v":0},0,{"$f":"INDEX('Overall Weight'!$F$3:$F$74,MATCH(TRUE,INDEX('Overall Weight'!$F$3:$F$74<>\"\",0,0),0))","v":{"$error":"#N/A"}},{"$f":"LOOKUP(2,1/('Overall Weight'!$F$3:$F$38<>\"\"),'Overall Weight'!$F$3:$F$38)","v":{"$error":"#N/A"}},{"$error":"#N/A"},{"$error":"#N/A"},{"$f":"LOOKUP(2,1/('Overall Weight'!$F$3:$F$74<>\"\"),'Overall Weight'!$F$3:$F$74)","v":{"$error":"#N/A"}},{"$error":"#N/A"},{"$error":"#N/A"},{"$f":"IF('CDC Calculations'!D6>=4,'Coded Data'!C7,\"\")","v":""},{"$f":"IF('CDC Calculations'!D6>=4,'Coded Data'!D7,\"\")","v":""},{"$f":"IF('CDC Calculations'!D6>=4,'Coded Data'!E7,\"\")","v":""},{"$f":"IF('CDC Calculations'!D6>=4,'Coded Data'!Q7,\"\")","v":""}]
[6,{"$f":"'Months 1-6'!S43","v":0},{"$f":"'Months 7-12'!S43","v":0},0,{"$f":"'Months 1-6'!T46","v":0},{"$f":"'Months 7-12'!T44","v":0},0,{"$f":"'Months 1-6'!U47","v":0},{"$f":"'Months 7-12'!U45","v":0},0,{"$f":"INDEX('Overall Weight'!$G$3:$G$74,MATCH(TRUE,INDEX('Overall Weight'!$G$3:$G$74<>\"\",0,0),0))","v":{"$error":"#N/A"}},{"$f":"LOOKUP(2,1/('Overall Weight'!$G$3:$G$38<>\"\"),'Overall Weight'!$G$3:$G$38)","v":{"$error":"#N/A"}},{"$error":"#N/A"},{"$error":"#N/A"},{"$f":"LOOKUP(2,1/('Overall Weight'!$G$3:$G$74<>\"\"),'Overall Weight'!$G$3:$G$74)","v":{"$error":"#N/A"}},{"$error":"#N/A"},{"$error":"#N/A"},{"$f":"IF('CDC Calculations'!D7>=4,'Coded Data'!C8,\"\")","v":""},{"$f":"IF('CDC Calculations'!D7>=4,'Coded Data'!D8,\"\")","v":""},{"$f":"IF('CDC Calculations'!D7>=4,'Coded Data'!E8,\"\")","v":""},{"$f":"IF('CDC Calculations'!D7>=4,'Coded Data'!Q8,\"\")","v":""}]
[7,{"$f":"'Months 1-6'!V43","v":0},{"$f":"'Months 7-12'!V43","v":0},0,{"$f":"'Months 1-6'!W46","v":0},{"$f":"'Months 7-12'!W44","v":0},0,{"$f":"'Months 1-6'!X47","v":0},{"$f":"'Months 7-12'!X45","v":0},0,{"$f":"INDEX('Overall Weight'!$H$3:$H$74,MATCH(TRUE,INDEX('Overall Weight'!$H$3:$H$74<>\"\",0,0),0))","v":{"$error":"#N/A"}},{"$f":"LOOKUP(2,1/('Overall Weight'!$H$3:$H$38<>\"\"),'Overall Weight'!$H$3:$H$38)","v":{"$error":"#N/A"}},{"$error":"#N/A"},{"$error":"#N/A"},{"$f":"LOOKUP(2,1/('Overall Weight'!$H$3:$H$74<>\"\"),'Overall Weight'!$H$3:$H$74)","v":{"$error":"#N/A"}},{"$error":"#N/A"},{"$error":"#N/A"},{"$f":"IF('CDC Calculations'!D8>=4,'Coded Data'!C9,\"\")","v":""},{"$f":"IF('CDC Calculations'!D8>=4,'Coded Data'!D9,\"\")","v":""},{"$f":"IF('CDC Calculations'!D8>=4,'Coded Data'!E9,\"\")","v":""},{"$f":"IF('CDC Calculations'!D8>=4,'Coded Data'!Q9,\"\")","v":""}]
[8,{"$f":"'Months 1-6'!Y43","v":0},{"$f":"'Months 7-12'!Y43","v":0},0,{"$f":"'Months 1-6'!Z46","v":0},{"$f":"'Months 7-12'!Z44","v":0},0,{"$f":"'Months 1-6'!AA47","v":0},{"$f":"'Months 7-12'!AA45","v":0},0,{"$f":"INDEX('Overall Weight'!$I$3:$I$74,MATCH(TRUE,INDEX('Overall Weight'!$I$3:$I$74<>\"\",0,0),0))","v":{"$error":"#N/A"}},{"$f":"LOOKUP(2,1/('Overall Weight'!$I$3:$I$38<>\"\"),'Overall Weight'!$I$3:$I$38)","v":{"$error":"#N/A"}},{"$error":"#N/A"},{"$error":"#N/A"},{"$f":"LOOKUP(2,1/('Overall Weight'!$I$3:$I$74<>\"\"),'Overall Weight'!$I$3:$I$74)","v":{"$error":"#N/A"}},{"$error":"#N/A"},{"$error":"#N/A"},{"$f":"IF('CDC Calculations'!D9>=4,'Coded Data'!C10,\"\")","v":""},{"$f":"IF('CDC Calculations'!D9>=4,'Coded Data'!D10,\"\")","v":""},{"$f":"IF('CDC Calculations'!D9>=4,'Coded Data'!E10,\"\")","v":""},{"$f":"IF('CDC Calculations'!D9>=4,'Coded Data'!Q10,\"\")","v":""}]
[9,{"$f":"'Months 1-6'!AB43","v":0},{"$f":"'Months 7-12'!AB43","v":0},0,{"$f":"'Months 1-6'!AC46","v":0},{"$f":"'Months 7-12'!AC44","v":0},0,{"$f":"'Months 1-6'!AD47","v":0},{"$f":"'Months 7-12'!AD45","v":0},0,{"$f":"INDEX('Overall Weight'!$J$3:$J$74,MATCH(TRUE,INDEX('Overall Weight'!$J$3:$J$74<>\"\",0,0),0))","v":{"$error":"#N/A"}},{"$f":"LOOKUP(2,1/('Overall Weight'!$J$3:$J$38<>\"\"),'Overall Weight'!$J$3:$J$38)","v":{"$error":"#N/A"}},{"$error":"#N/A"},{"$error":"#N/A"},{"$f":"LOOKUP(2,1/('Overall Weight'!$J$3:$J$74<>\"\"),'Overall Weight'!$J$3:$J$74)","v":{"$error":"#N/A"}},{"$error":"#N/A"},{"$error":"#N/A"},{"$f":"IF('CDC Calculations'!D10>=4,'Coded Data'!C11,\"\")","v":""},{"$f":"IF('CDC Calculations'!D10>=4,'Coded Data'!D11,\"\")","v":""},{"$f":"IF('CDC Calculations'!D10>=4,'Coded Data'!E11,\"\")","v":""},{"$f":"IF('CDC Calculations'!D10>=4,'Coded Data'!Q11,\"\")","v":""}]
[10,{"$f":"'Months 1-6'!AE43","v":0},{"$f":"'Months 7-12'!AE43","v":0},0,{"$f":"'Months 1-6'!AF46","v":0},{"$f":"'Months 7-12'!AF44","v":0},0,{"$f":"'Months 1-6'!AG47","v":0},{"$f":"'Months 7-12'!AG45","v":0},0,{"$f":"INDEX('Overall Weight'!$K$3:$K$74,MATCH(TRUE,INDEX('Overall Weight'!$K$3:$K$74<>\"\",0,0),0))","v":{"$error":"#N/A"}},{"$f":"LOOKUP(2,1/('Overall Weight'!$K$3:$K$38<>\"\"),'Overall Weight'!$K$3:$K$38)","v":{"$error":"#N/A"}},{"$error":"#N/A"},{"$error":"#N/A"},{"$f":"LOOKUP(2,1/('Overall Weight'!$K$3:$K$74<>\"\"),'Overall Weight'!$K$3:$K$74)","v":{"$error":"#N/A"}},{"$error":"#N/A"},{"$error":"#N/A"},{"$f":"IF('CDC Calculations'!D11>=4,'Coded Data'!C12,\"\")","v":""},{"$f":"IF('CDC Calculations'!D11>=4,'Coded Data'!D12,\"\")","v":""},{"$f":"IF('CDC Calculations'!D11>=4,'Coded Data'!E12,\"\")","v":""},{"$f":"IF('CDC Calculations'!D11>=4,'Coded Data'!Q12,\"\")","v":""}]
[11,{"$f":"'Months 1-6'!AH43","v":0},{"$f":"'Months 7-12'!AH43","v":0},0,{"$f":"'Months 1-6'!AI46","v":0},{"$f":"'Months 7-12'!AI44","v":0},0,{"$f":"'Months 1-6'!AJ47","v":0},{"$f":"'Months 7-12'!AJ45","v":0},0,{"$f":"INDEX('Overall Weight'!$L$3:$L$74,MATCH(TRUE,INDEX('Overall Weight'!$L$3:$L$74<>\"\",0,0),0))","v":{"$error":"#N/A"}},{"$f":"LOOKUP(2,1/('Overall Weight'!$L$3:$L$38<>\"\"),'Overall Weight'!$L$3:$L$38)","v":{"$error":"#N/A"}},{"$error":"#N/A"},{"$error":"#N/A"},{"$f":"LOOKUP(2,1/('Overall Weight'!$L$3:$L$74<>\"\"),'Overall Weight'!$L$3:$L$74)","v":{"$error":"#N/A"}},{"$error":"#N/A"},{"$error":"#N/A"},{"$f":"IF('CDC Calculations'!D12>=4,'Coded Data'!C13,\"\")","v":""},{"$f":"IF('CDC Calculations'!D12>=4,'Coded Data'!D13,\"\")","v":""},{"$f":"IF('CDC Calculations'!D12>=4,'Coded Data'!E13,\"\")","v":""},{"$f":"IF('CDC Calculations'!D12>=4,'Coded Data'!Q13,\"\")","v":""}]
[12,{"$f":"'Months 1-6'!AK43","v":0},{"$f":"'Months 7-12'!AK43","v":0},0,{"$f":"'Months 1-6'!AL46","v":0},{"$f":"'Months 7-12'!AL44","v":0},0,{"$f":"'Months 1-6'!AM47","v":0},{"$f":"'Months 7-12'!AM45","v":0},0,{"$f":"INDEX('Overall Weight'!$M$3:$M$74,MATCH(TRUE,INDEX('Overall Weight'!$M$3:$M$74<>\"\",0,0),0))","v":{"$error":"#N/A"}},{"$f":"LOOKUP(2,1/('Overall Weight'!$M$3:$M$38<>\"\"),'Overall Weight'!$M$3:$M$38)","v":{"$error":"#N/A"}},{"$error":"#N/A"},{"$error":"#N/A"},{"$f":"LOOKUP(2,1/('Overall Weight'!$M$3:$M$74<>\"\"),'Overall Weight'!$M$3:$M$74)","v":{"$error":"#N/A"}},{"$error":"#N/A"},{"$error":"#N/A"},{"$f":"IF('CDC Calculations'!D13>=4,'Coded Data'!C14,\"\")","v":""},{"$f":"IF('CDC Calculations'!D13>=4,'Coded Data'!D14,\"\")","v":""},{"$f":"IF('CDC Calculations'!D13>=4,'Coded Data'!E14,\"\")","v":""},{"$f":"IF('CDC Calculations'!D13>=4,'Coded Data'!Q14,\"\")","v":""}]
[13,{"$f":"'Months 1-6'!AN43","v":0},{"$f":"'Months 7-12'!AN43","v":0},0,{"$f":"'Months 1-6'!AO46","v":0},{"$f":"'Months 7-12'!AO44","v":0},0,{"$f":"'Months 1-6'!AP47","v":0},{"$f":"'Months 7-12'!AP45","v":0},0,{"$f":"INDEX('Overall Weight'!$N$3:$N$74,MATCH(TRUE,INDEX('Overall Weight'!$N$3:$N$74<>\"\",0,0),0))","v":{"$error":"#N/A"}},{"$f":"LOOKUP(2,1/('Overall Weight'!$N$3:$N$38<>\"\"),'Overall Weight'!$N$3:$N$38)","v":{"$error":"#N/A"}},{"$error":"#N/A"},{"$error":"#N/A"},{"$f":"LOOKUP(2,1/('Overall Weight'!$N$3:$N$74<>\"\"),'Overall Weight'!$N$3:$N$74)","v":{"$error":"#N/A"}},{"$error":"#N/A"},{"$error":"#N/A"},{"$f":"IF('CDC Calculations'!D14>=4,'Coded Data'!C15,\"\")","v":""},{"$f":"IF('CDC Calculations'!D14>=4,'Coded Data'!D15,\"\")","v":""},{"$f":"IF('CDC Calculations'!D14>=4,'Coded Data'!E15,\"\")","v":""},{"$f":"IF('CDC Calculations'!D14>=4,'Coded Data'!Q15,\"\")","v":""}]
[14,{"$f":"'Months 1-6'!AQ43","v":0},{"$f":"'Months 7-12'!AQ43","v":0},0,{"$f":"'Months 1-6'!AR46","v":0},{"$f":"'Months 7-12'!AR44","v":0},0,{"$f":"'Months 1-6'!AS47","v":0},{"$f":"'Months 7-12'!AS45","v":0},0,{"$f":"INDEX('Overall Weight'!$O$3:$O$38,MATCH(TRUE,INDEX('Overall Weight'!$O$3:$O$38<>\"\",0,0),0))","v":{"$error":"#N/A"}},{"$f":"LOOKUP(2,1/('Overall Weight'!$O$3:$O$38<>\"\"),'Overall Weight'!$O$3:$O$38)","v":{"$error":"#N/A"}},{"$error":"#N/A"},{"$error":"#N/A"},{"$f":"LOOKUP(2,1/('Overall Weight'!$O$3:$O$74<>\"\"),'Overall Weight'!$O$3:$O$74)","v":{"$error":"#N/A"}},{"$error":"#N/A"},{"$error":"#N/A"},{"$f":"IF('CDC Calculations'!D15>=4,'Coded Data'!C16,\"\")","v":""},{"$f":"IF('CDC Calculations'!D15>=4,'Coded Data'!D16,\"\")","v":""},{"$f":"IF('CDC Calculations'!D15>=4,'Coded Data'!E16,\"\")","v":""},{"$f":"IF('CDC Calculations'!D15>=4,'Coded Data'!Q16,\"\")","v":""}]
[15,{"$f":"'Months 1-6'!AT43","v":0},{"$f":"'Months 7-12'!AT43","v":0},0,{"$f":"'Months 1-6'!AU46","v":0},{"$f":"'Months 7-12'!AU44","v":0},0,{"$f":"'Months 1-6'!AV47","v":0},{"$f":"'Months 7-12'!AV45","v":0},0,{"$f":"INDEX('Overall Weight'!$P$3:$P$38,MATCH(TRUE,INDEX('Overall Weight'!$P$3:$P$38<>\"\",0,0),0))","v":{"$error":"#N/A"}},{"$f":"LOOKUP(2,1/('Overall Weight'!$P$3:$P$38<>\"\"),'Overall Weight'!$P$3:$P$38)","v":{"$error":"#N/A"}},{"$error":"#N/A"},{"$error":"#N/A"},{"$f":"LOOKUP(2,1/('Overall Weight'!$P$3:$P$74<>\"\"),'Overall Weight'!$P$3:$P$74)","v":{"$error":"#N/A"}},{"$error":"#N/A"},{"$error":"#N/A"},{"$f":"IF('CDC Calculations'!D16>=4,'Coded Data'!C17,\"\")","v":""},{"$f":"IF('CDC Calculations'!D16>=4,'Coded Data'!D17,\"\")","v":""},{"$f":"IF('CDC Calculations'!D16>=4,'Coded Data'!E17,\"\")","v":""},{"$f":"IF('CDC Calculations'!D16>=4,'Coded Data'!Q17,\"\")","v":""}]
[16,{"$f":"'Months 1-6'!AW43","v":0},{"$f":"'Months 7-12'!AW43","v":0},0,{"$f":"'Months 1-6'!AX46","v":0},{"$f":"'Months 7-12'!AX44","v":0},0,{"$f":"'Months 1-6'!AY47","v":0},{"$f":"'Months 7-12'!AY45","v":0},0,{"$f":"INDEX('Overall Weight'!$Q$3:$Q$38,MATCH(TRUE,INDEX('Overall Weight'!$Q$3:$Q$38<>\"\",0,0),0))","v":{"$error":"#N/A"}},{"$f":"LOOKUP(2,1/('Overall Weight'!$Q$3:$Q$38<>\"\"),'Overall Weight'!$Q$3:$Q$38)","v":{"$error":"#N/A"}},{"$error":"#N/A"},{"$error":"#N/A"},{"$f":"LOOKUP(2,1/('Overall Weight'!$Q$3:$Q$74<>\"\"),'Overall Weight'!$Q$3:$Q$74)","v":{"$error":"#N/A"}},{"$error":"#N/A"},{"$error":"#N/A"},{"$f":"IF('CDC Calculations'!D17>=4,'Coded Data'!C18,\"\")","v":""},{"$f":"IF('CDC Calculations'!D17>=4,'Coded Data'!D18,\"\")","v":""},{"$f":"IF('CDC Calculations'!D17>=4,'Coded Data'!E18,\"\")","v":""},{"$f":"IF('CDC Calculations'!D17>=4,'Coded Data'!Q18,\"\")","v":""}]
[17,{"$f":"'Months 1-6'!AZ43","v":0},{"$f":"'Months 7-12'!AZ43","v":0},0,{"$f":"'Months 1-6'!BA46","v":0},{"$f":"'Months 7-12'!BA44","v":0},0,{"$f":"'Months 1-6'!BB47","v":0},{"$f":"'Months 7-12'!BB45","v":0},0,{"$f":"INDEX('Overall Weight'!$R$3:$R$38,MATCH(TRUE,INDEX('Overall Weight'!$R$3:$R$38<>\"\",0,0),0))","v":{"$error":"#N/A"}},{"$f":"LOOKUP(2,1/('Overall Weight'!$R$3:$R$38<>\"\"),'Overall Weight'!$R$3:$R$38)","v":{"$error":"#N/A"}},{"$error":"#N/A"},{"$error":"#N/A"},{"$f":"LOOKUP(2,1/('Overall Weight'!$R$3:$R$74<>\"\"),'Overall Weight'!$R$3:$R$74)","v":{"$error":"#N/A"}},{"$error":"#N/A"},{"$error":"#N/A"},{"$f":"IF('CDC Calculations'!D18>=4,'Coded Data'!C19,\"\")","v":""},{"$f":"IF('CDC Calculations'!D18>=4,'Coded Data'!D19,\"\")","v":""},{"$f":"IF('CDC Calculations'!D18>=4,'Coded Data'!E19,\"\")","v":""},{"$f":"IF('CDC Calculations'!D18>=4,'Coded Data'!Q19,\"\")","v":""}]
[18,{"$f":"'Months 1-6'!BC43","v":0},{"$f":"'Months 7-12'!BC43","v":0},0,{"$f":"'Months 1-6'!BD46","v":0},{"$f":"'Months 7-12'!BD44","v":0},0,{"$f":"'Months 1-6'!BE47","v":0},{"$f":"'Months 7-12'!BE45","v":0},0,{"$f":"INDEX('Overall Weight'!$S$3:$S$38,MATCH(TRUE,INDEX('Overall Weight'!$S$3:$S$38<>\"\",0,0),0))","v":{"$error":"#N/A"}},{"$f":"LOOKUP(2,1/('Overall Weight'!$S$3:$S$38<>\"\"),'Overall Weight'!$S$3:$S$38)","v":{"$error":"#N/A"}},{"$error":"#N/A"},{"$error":"#N/A"},{"$f":"LOOKUP(2,1/('Overall Weight'!$S$3:$S$74<>\"\"),'Overall Weight'!$S$3:$S$74)","v":{"$error":"#N/A"}},{"$error":"#N/A"},{"$error":"#N/A"},{"$f":"IF('CDC Calculations'!D19>=4,'Coded Data'!C20,\"\")","v":""},{"$f":"IF('CDC Calculations'!D19>=4,'Coded Data'!D20,\"\")","v":""},{"$f":"IF('CDC Calculations'!D19>=4,'Coded Data'!E20,\"\")","v":""},{"$f":"IF('CDC Calculations'!D19>=4,'Coded Data'!Q20,\"\")","v":""}]
[19,{"$f":"'Months 1-6'!BF43","v":0},{"$f":"'Months 7-12'!BF43","v":0},0,{"$f":"'Months 1-6'!BG46","v":0},{"$f":"'Months 7-12'!BG44","v":0},0,{"$f":"'Months 1-6'!BH47","v":0},{"$f":"'Months 7-12'!BH45","v":0},0,{"$f":"INDEX('Overall Weight'!$T$3:$T$38,MATCH(TRUE,INDEX('Overall Weight'!$T$3:$T$38<>\"\",0,0),0))","v":{"$error":"#N/A"}},{"$f":"LOOKUP(2,1/('Overall Weight'!$T$3:$T$38<>\"\"),'Overall Weight'!$T$3:$T$38)","v":{"$error":"#N/A"}},{"$error":"#N/A"},{"$error":"#N/A"},{"$f":"LOOKUP(2,1/('Overall Weight'!$T$3:$T$74<>\"\"),'Overall Weight'!$T$3:$T$74)","v":{"$error":"#N/A"}},{"$error":"#N/A"},{"$error":"#N/A"},{"$f":"IF('CDC Calculations'!D20>=4,'Coded Data'!C21,\"\")","v":""},{"$f":"IF('CDC Calculations'!D20>=4,'Coded Data'!D21,\"\")","v":""},{"$f":"IF('CDC Calculations'!D20>=4,'Coded Data'!E21,\"\")","v":""},{"$f":"IF('CDC Calculations'!D20>=4,'Coded Data'!Q21,\"\")","v":""}]
[20,{"$f":"'Months 1-6'!BI43","v":0},{"$f":"'Months 7-12'!BI43","v":0},0,{"$f":"'Months 1-6'!BJ46","v":0},{"$f":"'Months 7-12'!BJ44","v":0},0,{"$f":"'Months 1-6'!BK47","v":0},{"$f":"'Months 7-12'!BK45","v":0},0,{"$f":"INDEX('Overall Weight'!$U$3:$U$38,MATCH(TRUE,INDEX('Overall Weight'!$U$3:$U$38<>\"\",0,0),0))","v":{"$error":"#N/A"}},{"$f":"LOOKUP(2,1/('Overall Weight'!$U$3:$U$38<>\"\"),'Overall Weight'!$U$3:$U$38)","v":{"$error":"#N/A"}},{"$error":"#N/A"},{"$error":"#N/A"},{"$f":"LOOKUP(2,1/('Overall Weight'!$U$3:$U$74<>\"\"),'Overall Weight'!$U$3:$U$74)","v":{"$error":"#N/A"}},{"$error":"#N/A"},{"$error":"#N/A"},{"$f":"IF('CDC Calculations'!D21>=4,'Coded Data'!C22,\"\")","v":""},{"$f":"IF('CDC Calculations'!D21>=4,'Coded Data'!D22,\"\")","v":""},{"$f":"IF('CDC Calculations'!D21>=4,'Coded Data'!E22,\"\")","v":""},{"$f":"IF('CDC Calculations'!D21>=4,'Coded Data'!Q22,\"\")","v":""}]
[21,{"$f":"'Months 1-6'!BL43","v":0},{"$f":"'Months 7-12'!BL43","v":0},0,{"$f":"'Months 1-6'!BM46","v":0},{"$f":"'Months 7-12'!BM44","v":0},0,{"$f":"'Months 1-6'!BN47","v":0},{"$f":"'Months 7-12'!BN45","v":0},0,{"$f":"INDEX('Overall Weight'!$V$3:$V$38,MATCH(TRUE,INDEX('Overall Weight'!$V$3:$V$38<>\"\",0,0),0))","v":{"$error":"#N/A"}},{"$f":"LOOKUP(2,1/('Overall Weight'!$V$3:$V$38<>\"\"),'Overall Weight'!$V$3:$V$38)","v":{"$error":"#N/A"}},{"$error":"#N/A"},{"$error":"#N/A"},{"$f":"LOOKUP(2,1/('Overall Weight'!$V$3:$V$74<>\"\"),'Overall Weight'!$V$3:$V$74)","v":{"$error":"#N/A"}},{"$error":"#N/A"},{"$error":"#N/A"},{"$f":"IF('CDC Calculations'!D22>=4,'Coded Data'!C23,\"\")","v":""},{"$f":"IF('CDC Calculations'!D22>=4,'Coded Data'!D23,\"\")","v":""},{"$f":"IF('CDC Calculations'!D22>=4,'Coded Data'!E23,\"\")","v":""},{"$f":"IF('CDC Calculations'!D22>=4,'Coded Data'!Q23,\"\")","v":""}]
[22,{"$f":"'Months 1-6'!BO43","v":0},{"$f":"'Months 7-12'!BO43","v":0},0,{"$f":"'Months 1-6'!BP46","v":0},{"$f":"'Months 7-12'!BP44","v":0},0,{"$f":"'Months 1-6'!BQ47","v":0},{"$f":"'Months 7-12'!BQ45","v":0},0,{"$f":"INDEX('Overall Weight'!$W$3:$W$38,MATCH(TRUE,INDEX('Overall Weight'!$W$3:$W$38<>\"\",0,0),0))","v":{"$error":"#N/A"}},{"$f":"LOOKUP(2,1/('Overall Weight'!$W$3:$W$38<>\"\"),'Overall Weight'!$W$3:$W$38)","v":{"$error":"#N/A"}},{"$error":"#N/A"},{"$error":"#N/A"},{"$f":"LOOKUP(2,1/('Overall Weight'!$W$3:$W$74<>\"\"),'Overall Weight'!$W$3:$W$74)","v":{"$error":"#N/A"}},{"$error":"#N/A"},{"$error":"#N/A"},{"$f":"IF('CDC Calculations'!D23>=4,'Coded Data'!C24,\"\")","v":""},{"$f":"IF('CDC Calculations'!D23>=4,'Coded Data'!D24,\"\")","v":""},{"$f":"IF('CDC Calculations'!D23>=4,'Coded Data'!E24,\"\")","v":""},{"$f":"IF('CDC Calculations'!D23>=4,'Coded Data'!Q24,\"\")","v":""}]
[23,{"$f":"'Months 1-6'!BR43","v":0},{"$f":"'Months 7-12'!BR43","v":0},0,{"$f":"'Months 1-6'!BS46","v":0},{"$f":"'Months 7-12'!BS44","v":0},0,{"$f":"'Months 1-6'!BT47","v":0},{"$f":"'Months 7-12'!BT45","v":0},0,{"$f":"INDEX('Overall Weight'!$X$3:$X$38,MATCH(TRUE,INDEX('Overall Weight'!$X$3:$X$38<>\"\",0,0),0))","v":{"$error":"#N/A"}},{"$f":"LOOKUP(2,1/('Overall Weight'!$X$3:$X$38<>\"\"),'Overall Weight'!$X$3:$X$38)","v":{"$error":"#N/A"}},{"$error":"#N/A"},{"$error":"#N/A"},{"$f":"LOOKUP(2,1/('Overall Weight'!$X$3:$X$74<>\"\"),'Overall Weight'!$X$3:$X$74)","v":{"$error":"#N/A"}},{"$error":"#N/A"},{"$error":"#N/A"},{"$f":"IF('CDC Calculations'!D24>=4,'Coded Data'!C25,\"\")","v":""},{"$f":"IF('CDC Calculations'!D24>=4,'Coded Data'!D25,\"\")","v":""},{"$f":"IF('CDC Calculations'!D24>=4,'Coded Data'!E25,\"\")","v":""},{"$f":"IF('CDC Calculations'!D24>=4,'Coded Data'!Q25,\"\")","v":""}]
[24,{"$f":"'Months 1-6'!BU43","v":0},{"$f":"'Months 7-12'!BU43","v":0},0,{"$f":"'Months 1-6'!BV46","v":0},{"$f":"'Months 7-12'!BV44","v":0},0,{"$f":"'Months 1-6'!BW47","v":0},{"$f":"'Months 7-12'!BW45","v":0},0,{"$f":"INDEX('Overall Weight'!$Y$3:$Y$38,MATCH(TRUE,INDEX('Overall Weight'!$Y$3:$Y$38<>\"\",0,0),0))","v":{"$error":"#N/A"}},{"$f":"LOOKUP(2,1/('Overall Weight'!$Y$3:$Y$38<>\"\"),'Overall Weight'!$Y$3:$Y$38)","v":{"$error":"#N/A"}},{"$error":"#N/A"},{"$error":"#N/A"},{"$f":"LOOKUP(2,1/('Overall Weight'!$Y$3:$Y$74<>\"\"),'Overall Weight'!$Y$3:$Y$74)","v":{"$error":"#N/A"}},{"$error":"#N/A"},{"$error":"#N/A"},{"$f":"IF('CDC Calculations'!D25>=4,'Coded Data'!C26,\"\")","v":""},{"$f":"IF('CDC Calculations'!D25>=4,'Coded Data'!D26,\"\")","v":""},{"$f":"IF('CDC Calculations'!D25>=4,'Coded Data'!E26,\"\")","v":""},{"$f":"IF('CDC Calculations'!D25>=4,'Coded Data'!Q26,\"\")","v":""}]
[25,{"$f":"'Months 1-6'!BX43","v":0},{"$f":"'Months 7-12'!BX43","v":0},0,{"$f":"'Months 1-6'!BY46","v":0},{"$f":"'Months 7-12'!BY44","v":0},0,{"$f":"'Months 1-6'!BZ47","v":0},{"$f":"'Months 7-12'!BZ45","v":0},0,{"$f":"INDEX('Overall Weight'!$Z$3:$Z$38,MATCH(TRUE,INDEX('Overall Weight'!$Z$3:$Z$38<>\"\",0,0),0))","v":{"$error":"#N/A"}},{"$f":"LOOKUP(2,1/('Overall Weight'!$Z$3:$Z$38<>\"\"),'Overall Weight'!$Z$3:$Z$38)","v":{"$error":"#N/A"}},{"$error":"#N/A"},{"$error":"#N/A"},{"$f":"LOOKUP(2,1/('Overall Weight'!$Z$3:$Z$74<>\"\"),'Overall Weight'!$Z$3:$Z$74)","v":{"$error":"#N/A"}},{"$error":"#N/A"},{"$error":"#N/A"},{"$f":"IF('CDC Calculations'!D26>=4,'Coded Data'!C27,\"\")","v":""},{"$f":"IF('CDC Calculations'!D26>=4,'Coded Data'!D27,\"\")","v":""},{"$f":"IF('CDC Calculations'!D26>=4,'Coded Data'!E27,\"\")","v":""},{"$f":"IF('CDC Calculations'!D26>=4,'Coded Data'!Q27,\"\")","v":""}]
[26,{"$f":"'Months 1-6'!CA43","v":0},{"$f":"'Months 7-12'!CA43","v":0},0,{"$f":"'Months 1-6'!CB46","v":0},{"$f":"'Months 7-12'!CB44","v":0},0,{"$f":"'Months 1-6'!CC47","v":0},{"$f":"'Months 7-12'!CC45","v":0},0,{"$f":"INDEX('Overall Weight'!$AA$3:$AA$38,MATCH(TRUE,INDEX('Overall Weight'!$AA$3:$AA$38<>\"\",0,0),0))","v":{"$error":"#N/A"}},{"$f":"LOOKUP(2,1/('Overall Weight'!$AA$3:$AA$38<>\"\"),'Overall Weight'!$AA$3:$AA$38)","v":{"$error":"#N/A"}},{"$error":"#N/A"},{"$error":"#N/A"},{"$f":"LOOKUP(2,1/('Overall Weight'!$AA$3:$AA$74<>\"\"),'Overall Weight'!$AA$3:$AA$74)","v":{"$error":"#N/A"}},{"$error":"#N/A"},{"$error":"#N/A"},{"$f":"IF('CDC Calculations'!D27>=4,'Coded Data'!C28,\"\")","v":""},{"$f":"IF('CDC Calculations'!D27>=4,'Coded Data'!D28,\"\")","v":""},{"$f":"IF('CDC Calculations'!D27>=4,'Coded Data'!E28,\"\")","v":""},{"$f":"IF('CDC Calculations'!D27>=4,'Coded Data'!Q28,\"\")","v":""}]
[27,{"$f":"'Months 1-6'!CD43","v":0},{"$f":"'Months 7-12'!CD43","v":0},0,{"$f":"'Months 1-6'!CE46","v":0},{"$f":"'Months 7-12'!CE44","v":0},0,{"$f":"'Months 1-6'!CF47","v":0},{"$f":"'Months 7-12'!CF45","v":0},0,{"$f":"INDEX('Overall Weight'!$AB$3:$AB$38,MATCH(TRUE,INDEX('Overall Weight'!$AB$3:$AB$38<>\"\",0,0),0))","v":{"$error":"#N/A"}},{"$f":"LOOKUP(2,1/('Overall Weight'!$AB$3:$AB$38<>\"\"),'Overall Weight'!$AB$3:$AB$38)","v":{"$error":"#N/A"}},{"$error":"#N/A"},{"$error":"#N/A"},{"$f":"LOOKUP(2,1/('Overall Weight'!$AB$3:$AB$74<>\"\"),'Overall Weight'!$AB$3:$AB$74)","v":{"$error":"#N/A"}},{"$error":"#N/A"},{"$error":"#N/A"},{"$f":"IF('CDC Calculations'!D28>=4,'Coded Data'!C29,\"\")","v":""},{"$f":"IF('CDC Calculations'!D28>=4,'Coded Data'!D29,\"\")","v":""},{"$f":"IF('CDC Calculations'!D28>=4,'Coded Data'!E29,\"\")","v":""},{"$f":"IF('CDC Calculations'!D28>=4,'Coded Data'!Q29,\"\")","v":""}]
[28,{"$f":"'Months 1-6'!CG43","v":0},{"$f":"'Months 7-12'!CG43","v":0},0,{"$f":"'Months 1-6'!CH46","v":0},{"$f":"'Months 7-12'!CH44","v":0},0,{"$f":"'Months 1-6'!CI47","v":0},{"$f":"'Months 7-12'!CI45","v":0},0,{"$f":"INDEX('Overall Weight'!$AC$3:$AC$38,MATCH(TRUE,INDEX('Overall Weight'!$AC$3:$AC$38<>\"\",0,0),0))","v":{"$error":"#N/A"}},{"$f":"LOOKUP(2,1/('Overall Weight'!$AC$3:$AC$38<>\"\"),'Overall Weight'!$AC$3:$AC$38)","v":{"$error":"#N/A"}},{"$error":"#N/A"},{"$error":"#N/A"},{"$f":"LOOKUP(2,1/('Overall Weight'!$AC$3:$AC$74<>\"\"),'Overall Weight'!$AC$3:$AC$74)","v":{"$error":"#N/A"}},{"$error":"#N/A"},{"$error":"#N/A"},{"$f":"IF('CDC Calculations'!D29>=4,'Coded Data'!C30,\"\")","v":""},{"$f":"IF('CDC Calculations'!D29>=4,'Coded Data'!D30,\"\")","v":""},{"$f":"IF('CDC Calculations'!D29>=4,'Coded Data'!E30,\"\")","v":""},{"$f":"IF('CDC Calculations'!D29>=4,'Coded Data'!Q30,\"\")","v":""}]
[29,{"$f":"'Months 1-6'!CJ43","v":0},{"$f":"'Months 7-12'!CJ43","v":0},0,{"$f":"'Months 1-6'!CK46","v":0},{"$f":"'Months 7-12'!CK44","v":0},0,{"$f":"'Months 1-6'!CL47","v":0},{"$f":"'Months 7-12'!CL45","v":0},0,{"$f":"INDEX('Overall Weight'!$AD$3:$AD$38,MATCH(TRUE,INDEX('Overall Weight'!$AD$3:$AD$38<>\"\",0,0),0))","v":{"$error":"#N/A"}},{"$f":"LOOKUP(2,1/('Overall Weight'!$AD$3:$AD$38<>\"\"),'Overall Weight'!$AD$3:$AD$38)","v":{"$error":"#N/A"}},{"$error":"#N/A"},{"$error":"#N/A"},{"$f":"LOOKUP(2,1/('Overall Weight'!$AD$3:$AD$74<>\"\"),'Overall Weight'!$AD$3:$AD$74)","v":{"$error":"#N/A"}},{"$error":"#N/A"},{"$error":"#N/A"},{"$f":"IF('CDC Calculations'!D30>=4,'Coded Data'!C31,\"\")","v":""},{"$f":"IF('CDC Calculations'!D30>=4,'Coded Data'!D31,\"\")","v":""},{"$f":"IF('CDC Calculations'!D30>=4,'Coded Data'!E31,\"\")","v":""},{"$f":"IF('CDC Calculations'!D30>=4,'Coded Data'!Q31,\"\")","v":""}]
[30,{"$f":"'Months 1-6'!CM43","v":0},{"$f":"'Months 7-12'!CM43","v":0},0,{"$f":"'Months 1-6'!CN46","v":0},{"$f":"'Months 7-12'!CN44","v":0},{"$f":"E31+F31","v":0},{"$f":"'Months 1-6'!CO47","v":0},{"$f":"'Months 7-12'!CO45","v":0},{"$f":"H31+I31","v":0},{"$f":"INDEX('Overall Weight'!$AE$3:$AE$38,MATCH(TRUE,INDEX('Overall Weight'!$AE$3:$AE$38<>\"\",0,0),0))","v":{"$error":"#N/A"}},{"$f":"LOOKUP(2,1/('Overall Weight'!$AE$3:$AE$38<>\"\"),'Overall Weight'!$AE$3:$AE$38)","v":{"$error":"#N/A"}},{"$error":"#N/A"},{"$error":"#N/A"},{"$f":"LOOKUP(2,1/('Overall Weight'!$AE$3:$AE$74<>\"\"),'Overall Weight'!$AE$3:$AE$74)","v":{"$error":"#N/A"}},{"$error":"#N/A"},{"$error":"#N/A"},{"$f":"IF('CDC Calculations'!D31>=4,'Coded Data'!C32,\"\")","v":""},{"$f":"IF('CDC Calculations'!D31>=4,'Coded Data'!D32,\"\")","v":""},{"$f":"IF('CDC Calculations'!D31>=4,'Coded Data'!E32,\"\")","v":""},{"$f":"IF('CDC Calculations'!D31>=4,'Coded Data'!Q32,\"\")","v":""}]
["Total",{"$f":"SUM(B2:B31)","v":0},0,0,0,0,0,0,0,0,null,null,{"$f":"SUMIF(M2:M31,\"<>#N/A\")","v":0},null,null,{"$f":"SUMIF(P2:P31,\"<>#N/A\")","v":0},null,{"$f":"COUNTIF(R2:R31,\"1\")","v":0},{"$f":"COUNTIF(S2:S31,\"1\")","v":0},{"$f":"COUNTIF(T2:T31,\"1\")","v":0},{"$f":"COUNTIF(U2:U31,\"1\")","v":0}]
[]
[]
[]
["CDC Evaluation Calculations"]
[null,null,null,"Results","CDC Standard","Pass/Fail"]
["# of participants who attended ≥ 4 classes",null,null,{"$f":"COUNTIF(D2:D31,\">=4\")","v":0}]
["Total # of sessions attended during Months 1-6",null,null,{"$f":"SUMIF(D2:D31,\">=4\",B2:B31)","v":0}]
["Average # of sessions attended during Months 1-6",null,null,{"$f":"D39/D38","v":{"$error":"#DIV/0!"}},9,{"$f":"IF(D40>=E40, \"Pass\", \"Fail\")","v":{"$error":"#DIV/0!"}}]
["Total # of sessions attended",null,null,{"$f":"SUMIF(D2:D31,\">=4\")","v":0}]
["Total # of sessions weight documented",null,null,{"$f":"SUMIF(D2:D31,\">=4\",G2:G31)","v":0}]
["% of sessions weight was documented",null,null,{"$f":"D42/D41","v":{"$error":"#DIV/0!"}},0.8,{"$f":"IF(D43>=E43, \"Pass\", \"Fail\")","v":{"$error":"#DIV/0!"}}]
["Total # of sessions PA was documented",null,null,{"$f":"SUMIF(D2:D31,\">=4\",J2:J31)","v":0}]
["% of sessions PA was documented",null,null,{"$f":"D44/D41","v":{"$error":"#DIV/0!"}},0.6,{"$f":"IF(D45>=E45, \"Pass\", \"Fail\")","v":{"$error":"#DIV/0!"}}]
["Total % of participant weight loss end of Core",null,null,{"$f":"SUMIF(D2:D31,\">=4\",N2:N31)","v":0}]
["Average per-participant weight loss at end of Months 1-6",null,null,{"$f":"D46/D38","v":{"$error":"#DIV/0!"}},0.05,{"$f":"IF(D47>=E47, \"Pass\", \"Fail\")","v":{"$error":"#DIV/0!"}}]
["Total # of sessions attended during Post Core",null,null,{"$f":"SUMIF(D2:D31,\">=4\",C2:C31)","v":0}]
["Average # of sessions attended during Months 7-12",null,null,{"$f":"D48/D38","v":{"$error":"#DIV/0!"}},3,{"$f":"IF(D49>=E49, \"Pass\", \"Fail\")","v":{"$error":"#DIV/0!"}}]
["Total % of participant weight loss at 12 months",null,null,{"$f":"SUMIF(D2:D31,\">=4\",Q2:Q31)","v":0}]
["Average per-participant weight loss at end of Months 7-12",null,null,{"$f":"D50/D38","v":{"$error":"#DIV/0!"}},0.05,{"$f":"IF(D51>=E51, \"Pass\", \"Fail\")","v":{"$error":"#DIV/0!"}}]
["Total Weight loss after Months 1-6",null,null,{"$f":"SUMIF(D2:D31,\">=4\",M2:M31)","v":0}]
["Total Weight loss after Month 12",null,null,{"$f":"SUMIF(D2:D31,\">=4\",P2:P31)","v":0}]
["# Eligible - Glucose Test and GDM",null,null,{"$f":"R32+S32","v":0}]
["# Eligible - Risk Test and Not Eligible ",null,null,{"$f":"T32+U32","v":0}]
["# Eligible - Risk Test",null,null,{"$f":"T32","v":0}]
["% Eligible - Glucose Test or GDM",null,null,{"$f":"D54/(D54+D56)","v":{"$error":"#DIV/0!"}},0.5,{"$f":"IF(D57>=E57, \"Pass\", \"Fail\")","v":{"$error":"#DIV/0!"}}]
["% Eligible - Risk Test ",null,null,{"$f":"D56/(D54+D56)","v":{"$error":"#DIV/0!"}}]

{"sheet":"Coded Data","index":7,"n_rows":32,"n_cols":17,"rows_kept":32,"cut":false,"hidden":true,"merged":[[0,16,0,18]]}
["CDC Data"]
["Participant #","Participant ID","GLUCTEST","GDM","RISKTEST","AGE","ETHNIC","AIAN","ASIAN","BLACK","NHOPI","WHITE","SEX","HEIGHT","How did you hear about NDPP","Healthcare Coverage","Not Eligible"]
[1,null,{"$f":"IF((OR(Demographics!J10=\"HemoglobinA1C\", Demographics!J10=\"FastingPlasmaGlucose\", Demographics!J10=\"OralGlucoseToleranceTest\")),\"1\",\"2\")","v":"2"},{"$f":"IF((Demographics!J10=\"GestationalDiabetes\"),\"1\",\"2\")","v":"2"},{"$f":"IF((Demographics!J10=\"RiskAssessmentTest\"),\"1\",\"2\")","v":"2"},{"$f":"(Demographics!$B$7-Demographics!C10)/365","v":0},{"$f":"IF((Demographics!K10=\"Hispanic\"),\"1\",\"2\")","v":"2"},{"$f":"IF((Demographics!L10=\"AmericanIndian/AlaskaNative\"),\"1\",\"2\")","v":"2"},{"$f":"IF((Demographics!L10=\"Asian\"),\"1\",\"2\")","v":"2"},{"$f":"IF((Demographics!L10=\"Black/AfricanAmerican\"),\"1\",\"2\")","v":"2"},{"$f":"IF((Demographics!L10=\"NativeHawaiian/PacificIslander\"),\"1\",\"2\")","v":"2"},{"$f":"IF((Demographics!L10=\"white\"),\"1\",\"2\")","v":"2"},{"$f":"IF((Demographics!I10=\"M\"),\"1\",\"2\")","v":"2"},{"$f":"Demographics!H10","v":0},{"$f":"Demographics!N10","v":0},{"$f":"Demographics!Q10","v":0},{"$f":"IF((Demographics!J10=\"NotEligible\"),\"1\",\"2\")","v":"2"}]
[2,null,{"$f":"IF((OR(Demographics!J11=\"HemoglobinA1C\", Demographics!J11=\"FastingPlasmaGlucose\", Demographics!J11=\"OralGlucoseToleranceTest\")),\"1\",\"2\")","v":"2"},{"$f":"IF((Demographics!J11=\"GestationalDiabetes\"),\"1\",\"2\")","v":"2"},{"$f":"IF((Demographics!J11=\"RiskAssessmentTest\"),\"1\",\"2\")","v":"2"},{"$f":"(Demographics!$B$7-Demographics!C11)/365","v":0},{"$f":"IF((Demographics!K11=\"Hispanic\"),\"1\",\"2\")","v":"2"},{"$f":"IF((Demographics!L11=\"AmericanIndian/AlaskaNative\"),\"1\",\"2\")","v":"2"},{"$f":"IF((Demographics!L11=\"Asian\"),\"1\",\"2\")","v":"2"},{"$f":"IF((Demographics!L11=\"Black/AfricanAmerican\"),\"1\",\"2\")","v":"2"},{"$f":"IF((Demographics!L11=\"NativeHawaiian/PacificIslander\"),\"1\",\"2\")","v":"2"},{"$f":"IF((Demographics!L11=\"white\"),\"1\",\"2\")","v":"2"},{"$f":"IF((Demographics!I11=\"M\"),\"1\",\"2\")","v":"2"},{"$f":"Demographics!H11","v":0},{"$f":"Demographics!N11","v":0},{"$f":"Demographics!Q11","v":0},{"$f":"IF((Demographics!J11=\"NotEligible\"),\"1\",\"2\")","v":"2"}]
[3,null,{"$f":"IF((OR(Demographics!J12=\"HemoglobinA1C\", Demographics!J12=\"FastingPlasmaGlucose\", Demographics!J12=\"OralGlucoseToleranceTest\")),\"1\",\"2\")","v":"2"},{"$f":"IF((Demographics!J12=\"GestationalDiabetes\"),\"1\",\"2\")","v":"2"},{"$f":"IF((Demographics!J12=\"RiskAssessmentTest\"),\"1\",\"2\")","v":"2"},{"$f":"(Demographics!$B$7-Demographics!C12)/365","v":0},{"$f":"IF((Demographics!K12=\"Hispanic\"),\"1\",\"2\")","v":"2"},{"$f":"IF((Demographics!L12=\"AmericanIndian/AlaskaNative\"),\"1\",\"2\")","v":"2"},{"$f":"IF((Demographics!L12=\"Asian\"),\"1\",\"2\")","v":"2"},{"$f":"IF((Demographics!L12=\"Black/AfricanAmerican\"),\"1\",\"2\")","v":"2"},{"$f":"IF((Demographics!L12=\"NativeHawaiian/PacificIslander\"),\"1\",\"2\")","v":"2"},{"$f":"IF((Demographics!L12=\"white\"),\"1\",\"2\")","v":"2"},{"$f":"IF((Demographics!I12=\"M\"),\"1\",\"2\")","v":"2"},{"$f":"Demographics!H12","v":0},{"$f":"Demographics!N12","v":0},{"$f":"Demographics!Q12","v":0},{"$f":"IF((Demographics!J12=\"NotEligible\"),\"1\",\"2\")","v":"2"}]
[4,null,{"$f":"IF((OR(Demographics!J13=\"HemoglobinA1C\", Demographics!J13=\"FastingPlasmaGlucose\", Demographics!J13=\"OralGlucoseToleranceTest\")),\"1\",\"2\")","v":"2"},{"$f":"IF((Demographics!J13=\"GestationalDiabetes\"),\"1\",\"2\")","v":"2"},{"$f":"IF((Demographics!J13=\"RiskAssessmentTest\"),\"1\",\"2\")","v":"2"},{"$f":"(Demographics!$B$7-Demographics!C13)/365","v":0},{"$f":"IF((Demographics!K13=\"Hispanic\"),\"1\",\"2\")","v":"2"},{"$f":"IF((Demographics!L13=\"AmericanIndian/AlaskaNative\"),\"1\",\"2\")","v":"2"},{"$f":"IF((Demographics!L13=\"Asian\"),\"1\",\"2\")","v":"2"},{"$f":"IF((Demographics!L13=\"Black/AfricanAmerican\"),\"1\",\"2\")","v":"2"},{"$f":"IF((Demographics!L13=\"NativeHawaiian/PacificIslander\"),\"1\",\"2\")","v":"2"},{"$f":"IF((Demographics!L13=\"white\"),\"1\",\"2\")","v":"2"},{"$f":"IF((Demographics!I13=\"M\"),\"1\",\"2\")","v":"2"},{"$f":"Demographics!H13","v":0},{"$f":"Demographics!N13","v":0},{"$f":"Demographics!Q13","v":0},{"$f":"IF((Demographics!J13=\"NotEligible\"),\"1\",\"2\")","v":"2"}]
[5,null,{"$f":"IF((OR(Demographics!J14=\"HemoglobinA1C\", Demographics!J14=\"FastingPlasmaGlucose\", Demographics!J14=\"OralGlucoseToleranceTest\")),\"1\",\"2\")","v":"2"},{"$f":"IF((Demographics!J14=\"GestationalDiabetes\"),\"1\",\"2\")","v":"2"},{"$f":"IF((Demographics!J14=\"RiskAssessmentTest\"),\"1\",\"2\")","v":"2"},{"$f":"(Demographics!$B$7-Demographics!C14)/365","v":0},{"$f":"IF((Demographics!K14=\"Hispanic\"),\"1\",\"2\")","v":"2"},{"$f":"IF((Demographics!L14=\"AmericanIndian/AlaskaNative\"),\"1\",\"2\")","v":"2"},{"$f":"IF((Demographics!L14=\"Asian\"),\"1\",\"2\")","v":"2"},{"$f":"IF((Demographics!L14=\"Black/AfricanAmerican\"),\"1\",\"2\")","v":"2"},{"$f":"IF((Demographics!L14=\"NativeHawaiian/PacificIslander\"),\"1\",\"2\")","v":"2"},{"$f":"IF((Demographics!L14=\"white\"),\"1\",\"2\")","v":"2"},{"$f":"IF((Demographics!I14=\"M\"),\"1\",\"2\")","v":"2"},{"$f":"Demographics!H14","v":0},{"$f":"Demographics!N14","v":0},{"$f":"Demographics!Q14","v":0},{"$f":"IF((Demographics!J14=\"NotEligible\"),\"1\",\"2\")","v":"2"}]
[6,null,{"$f":"IF((OR(Demographics!J15=\"HemoglobinA1C\", Demographics!J15=\"FastingPlasmaGlucose\", Demographics!J15=\"OralGlucoseToleranceTest\")),\"1\",\"2\")","v":"2"},{"$f":"IF((Demographics!J15=\"GestationalDiabetes\"),\"1\",\"2\")","v":"2"},{"$f":"IF((Demographics!J15=\"RiskAssessmentTest\"),\"1\",\"2\")","v":"2"},{"$f":"(Demographics!$B$7-Demographics!C15)/365","v":0},{"$f":"IF((Demographics!K15=\"Hispanic\"),\"1\",\"2\")","v":"2"},{"$f":"IF((Demographics!L15=\"AmericanIndian/AlaskaNative\"),\"1\",\"2\")","v":"2"},{"$f":"IF((Demographics!L15=\"Asian\"),\"1\",\"2\")","v":"2"},{"$f":"IF((Demographics!L15=\"Black/AfricanAmerican\"),\"1\",\"2\")","v":"2"},{"$f":"IF((Demographics!L15=\"NativeHawaiian/PacificIslander\"),\"1\",\"2\")","v":"2"},{"$f":"IF((Demographics!L15=\"white\"),\"1\",\"2\")","v":"2"},{"$f":"IF((Demographics!I15=\"M\"),\"1\",\"2\")","v":"2"},{"$f":"Demographics!H15","v":0},{"$f":"Demographics!N15","v":0},{"$f":"Demographics!Q15","v":0},{"$f":"IF((Demographics!J15=\"NotEligible\"),\"1\",\"2\")","v":"2"}]
[7,null,{"$f":"IF((OR(Demographics!J16=\"HemoglobinA1C\", Demographics!J16=\"FastingPlasmaGlucose\", Demographics!J16=\"OralGlucoseToleranceTest\")),\"1\",\"2\")","v":"2"},{"$f":"IF((Demographics!J16=\"GestationalDiabetes\"),\"1\",\"2\")","v":"2"},{"$f":"IF((Demographics!J16=\"RiskAssessmentTest\"),\"1\",\"2\")","v":"2"},{"$f":"(Demographics!$B$7-Demographics!C16)/365","v":0},{"$f":"IF((Demographics!K16=\"Hispanic\"),\"1\",\"2\")","v":"2"},{"$f":"IF((Demographics!L16=\"AmericanIndian/AlaskaNative\"),\"1\",\"2\")","v":"2"},{"$f":"IF((Demographics!L16=\"Asian\"),\"1\",\"2\")","v":"2"},{"$f":"IF((Demographics!L16=\"Black/AfricanAmerican\"),\"1\",\"2\")","v":"2"},{"$f":"IF((Demographics!L16=\"NativeHawaiian/PacificIslander\"),\"1\",\"2\")","v":"2"},{"$f":"IF((Demographics!L16=\"white\"),\"1\",\"2\")","v":"2"},{"$f":"IF((Demographics!I16=\"M\"),\"1\",\"2\")","v":"2"},{"$f":"Demographics!H16","v":0},{"$f":"Demographics!N16","v":0},{"$f":"Demographics!Q16","v":0},{"$f":"IF((Demographics!J16=\"NotEligible\"),\"1\",\"2\")","v":"2"}]
[8,null,{"$f":"IF((OR(Demographics!J17=\"HemoglobinA1C\", Demographics!J17=\"FastingPlasmaGlucose\", Demographics!J17=\"OralGlucoseToleranceTest\")),\"1\",\"2\")","v":"2"},{"$f":"IF((Demographics!J17=\"GestationalDiabetes\"),\"1\",\"2\")","v":"2"},{"$f":"IF((Demographics!J17=\"RiskAssessmentTest\"),\"1\",\"2\")","v":"2"},{"$f":"(Demographics!$B$7-Demographics!C17)/365","v":0},{"$f":"IF((Demographics!K17=\"Hispanic\"),\"1\",\"2\")","v":"2"},{"$f":"IF((Demographics!L17=\"AmericanIndian/AlaskaNative\"),\"1\",\"2\")","v":"2"},{"$f":"IF((Demographics!L17=\"Asian\"),\"1\",\"2\")","v":"2"},{"$f":"IF((Demographics!L17=\"Black/AfricanAmerican\"),\"1\",\"2\")","v":"2"},{"$f":"IF((Demographics!L17=\"NativeHawaiian/PacificIslander\"),\"1\",\"2\")","v":"2"},{"$f":"IF((Demographics!L17=\"white\"),\"1\",\"2\")","v":"2"},{"$f":"IF((Demographics!I17=\"M\"),\"1\",\"2\")","v":"2"},{"$f":"Demographics!H17","v":0},{"$f":"Demographics!N17","v":0},{"$f":"Demographics!Q17","v":0},{"$f":"IF((Demographics!J17=\"NotEligible\"),\"1\",\"2\")","v":"2"}]
[9,null,{"$f":"IF((OR(Demographics!J18=\"HemoglobinA1C\", Demographics!J18=\"FastingPlasmaGlucose\", Demographics!J18=\"OralGlucoseToleranceTest\")),\"1\",\"2\")","v":"2"},{"$f":"IF((Demographics!J18=\"GestationalDiabetes\"),\"1\",\"2\")","v":"2"},{"$f":"IF((Demographics!J18=\"RiskAssessmentTest\"),\"1\",\"2\")","v":"2"},{"$f":"(Demographics!$B$7-Demographics!C18)/365","v":0},{"$f":"IF((Demographics!K18=\"Hispanic\"),\"1\",\"2\")","v":"2"},{"$f":"IF((Demographics!L18=\"AmericanIndian/AlaskaNative\"),\"1\",\"2\")","v":"2"},{"$f":"IF((Demographics!L18=\"Asian\"),\"1\",\"2\")","v":"2"},{"$f":"IF((Demographics!L18=\"Black/AfricanAmerican\"),\"1\",\"2\")","v":"2"},{"$f":"IF((Demographics!L18=\"NativeHawaiian/PacificIslander\"),\"1\",\"2\")","v":"2"},{"$f":"IF((Demographics!L18=\"white\"),\"1\",\"2\")","v":"2"},{"$f":"IF((Demographics!I18=\"M\"),\"1\",\"2\")","v":"2"},{"$f":"Demographics!H18","v":0},{"$f":"Demographics!N18","v":0},{"$f":"Demographics!Q18","v":0},{"$f":"IF((Demographics!J18=\"NotEligible\"),\"1\",\"2\")","v":"2"}]
[10,null,{"$f":"IF((OR(Demographics!J19=\"HemoglobinA1C\", Demographics!J19=\"FastingPlasmaGlucose\", Demographics!J19=\"OralGlucoseToleranceTest\")),\"1\",\"2\")","v":"2"},{"$f":"IF((Demographics!J19=\"GestationalDiabetes\"),\"1\",\"2\")","v":"2"},{"$f":"IF((Demographics!J19=\"RiskAssessmentTest\"),\"1\",\"2\")","v":"2"},{"$f":"(Demographics!$B$7-Demographics!C19)/365","v":0},{"$f":"IF((Demographics!K19=\"Hispanic\"),\"1\",\"2\")","v":"2"},{"$f":"IF((Demographics!L19=\"AmericanIndian/AlaskaNative\"),\"1\",\"2\")","v":"2"},{"$f":"IF((Demographics!L19=\"Asian\"),\"1\",\"2\")","v":"2"},{"$f":"IF((Demographics!L19=\"Black/AfricanAmerican\"),\"1\",\"2\")","v":"2"},{"$f":"IF((Demographics!L19=\"NativeHawaiian/PacificIslander\"),\"1\",\"2\")","v":"2"},{"$f":"IF((Demographics!L19=\"white\"),\"1\",\"2\")","v":"2"},{"$f":"IF((Demographics!I19=\"M\"),\"1\",\"2\")","v":"2"},{"$f":"Demographics!H19","v":0},{"$f":"Demographics!N19","v":0},{"$f":"Demographics!Q19","v":0},{"$f":"IF((Demographics!J19=\"NotEligible\"),\"1\",\"2\")","v":"2"}]
[11,null,{"$f":"IF((OR(Demographics!J20=\"HemoglobinA1C\", Demographics!J20=\"FastingPlasmaGlucose\", Demographics!J20=\"OralGlucoseToleranceTest\")),\"1\",\"2\")","v":"2"},{"$f":"IF((Demographics!J20=\"GestationalDiabetes\"),\"1\",\"2\")","v":"2"},{"$f":"IF((Demographics!J20=\"RiskAssessmentTest\"),\"1\",\"2\")","v":"2"},{"$f":"(Demographics!$B$7-Demographics!C20)/365","v":0},{"$f":"IF((Demographics!K20=\"Hispanic\"),\"1\",\"2\")","v":"2"},{"$f":"IF((Demographics!L20=\"AmericanIndian/AlaskaNative\"),\"1\",\"2\")","v":"2"},{"$f":"IF((Demographics!L20=\"Asian\"),\"1\",\"2\")","v":"2"},{"$f":"IF((Demographics!L20=\"Black/AfricanAmerican\"),\"1\",\"2\")","v":"2"},{"$f":"IF((Demographics!L20=\"NativeHawaiian/PacificIslander\"),\"1\",\"2\")","v":"2"},{"$f":"IF((Demographics!L20=\"white\"),\"1\",\"2\")","v":"2"},{"$f":"IF((Demographics!I20=\"M\"),\"1\",\"2\")","v":"2"},{"$f":"Demographics!H20","v":0},{"$f":"Demographics!N20","v":0},{"$f":"Demographics!Q20","v":0},{"$f":"IF((Demographics!J20=\"NotEligible\"),\"1\",\"2\")","v":"2"}]
[12,null,{"$f":"IF((OR(Demographics!J21=\"HemoglobinA1C\", Demographics!J21=\"FastingPlasmaGlucose\", Demographics!J21=\"OralGlucoseToleranceTest\")),\"1\",\"2\")","v":"2"},{"$f":"IF((Demographics!J21=\"GestationalDiabetes\"),\"1\",\"2\")","v":"2"},{"$f":"IF((Demographics!J21=\"RiskAssessmentTest\"),\"1\",\"2\")","v":"2"},{"$f":"(Demographics!$B$7-Demographics!C21)/365","v":0},{"$f":"IF((Demographics!K21=\"Hispanic\"),\"1\",\"2\")","v":"2"},{"$f":"IF((Demographics!L21=\"AmericanIndian/AlaskaNative\"),\"1\",\"2\")","v":"2"},{"$f":"IF((Demographics!L21=\"Asian\"),\"1\",\"2\")","v":"2"},{"$f":"IF((Demographics!L21=\"Black/AfricanAmerican\"),\"1\",\"2\")","v":"2"},{"$f":"IF((Demographics!L21=\"NativeHawaiian/PacificIslander\"),\"1\",\"2\")","v":"2"},{"$f":"IF((Demographics!L21=\"white\"),\"1\",\"2\")","v":"2"},{"$f":"IF((Demographics!I21=\"M\"),\"1\",\"2\")","v":"2"},{"$f":"Demographics!H21","v":0},{"$f":"Demographics!N21","v":0},{"$f":"Demographics!Q21","v":0},{"$f":"IF((Demographics!J21=\"NotEligible\"),\"1\",\"2\")","v":"2"}]
[13,null,{"$f":"IF((OR(Demographics!J22=\"HemoglobinA1C\", Demographics!J22=\"FastingPlasmaGlucose\", Demographics!J22=\"OralGlucoseToleranceTest\")),\"1\",\"2\")","v":"2"},{"$f":"IF((Demographics!J22=\"GestationalDiabetes\"),\"1\",\"2\")","v":"2"},{"$f":"IF((Demographics!J22=\"RiskAssessmentTest\"),\"1\",\"2\")","v":"2"},{"$f":"(Demographics!$B$7-Demographics!C22)/365","v":0},{"$f":"IF((Demographics!K22=\"Hispanic\"),\"1\",\"2\")","v":"2"},{"$f":"IF((Demographics!L22=\"AmericanIndian/AlaskaNative\"),\"1\",\"2\")","v":"2"},{"$f":"IF((Demographics!L22=\"Asian\"),\"1\",\"2\")","v":"2"},{"$f":"IF((Demographics!L22=\"Black/AfricanAmerican\"),\"1\",\"2\")","v":"2"},{"$f":"IF((Demographics!L22=\"NativeHawaiian/PacificIslander\"),\"1\",\"2\")","v":"2"},{"$f":"IF((Demographics!L22=\"white\"),\"1\",\"2\")","v":"2"},{"$f":"IF((Demographics!I22=\"M\"),\"1\",\"2\")","v":"2"},{"$f":"Demographics!H22","v":0},{"$f":"Demographics!N22","v":0},{"$f":"Demographics!Q22","v":0},{"$f":"IF((Demographics!J22=\"NotEligible\"),\"1\",\"2\")","v":"2"}]
[14,null,{"$f":"IF((OR(Demographics!J23=\"HemoglobinA1C\", Demographics!J23=\"FastingPlasmaGlucose\", Demographics!J23=\"OralGlucoseToleranceTest\")),\"1\",\"2\")","v":"2"},{"$f":"IF((Demographics!J23=\"GestationalDiabetes\"),\"1\",\"2\")","v":"2"},{"$f":"IF((Demographics!J23=\"RiskAssessmentTest\"),\"1\",\"2\")","v":"2"},{"$f":"(Demographics!$B$7-Demographics!C23)/365","v":0},{"$f":"IF((Demographics!K23=\"Hispanic\"),\"1\",\"2\")","v":"2"},{"$f":"IF((Demographics!L23=\"AmericanIndian/AlaskaNative\"),\"1\",\"2\")","v":"2"},{"$f":"IF((Demographics!L23=\"Asian\"),\"1\",\"2\")","v":"2"},{"$f":"IF((Demographics!L23=\"Black/AfricanAmerican\"),\"1\",\"2\")","v":"2"},{"$f":"IF((Demographics!L23=\"NativeHawaiian/PacificIslander\"),\"1\",\"2\")","v":"2"},{"$f":"IF((Demographics!L23=\"white\"),\"1\",\"2\")","v":"2"},{"$f":"IF((Demographics!I23=\"M\"),\"1\",\"2\")","v":"2"},{"$f":"Demographics!H23","v":0},{"$f":"Demographics!N23","v":0},{"$f":"Demographics!Q23","v":0},{"$f":"IF((Demographics!J23=\"NotEligible\"),\"1\",\"2\")","v":"2"}]
[15,null,{"$f":"IF((OR(Demographics!J24=\"HemoglobinA1C\", Demographics!J24=\"FastingPlasmaGlucose\", Demographics!J24=\"OralGlucoseToleranceTest\")),\"1\",\"2\")","v":"2"},{"$f":"IF((Demographics!J24=\"GestationalDiabetes\"),\"1\",\"2\")","v":"2"},{"$f":"IF((Demographics!J24=\"RiskAssessmentTest\"),\"1\",\"2\")","v":"2"},{"$f":"(Demographics!$B$7-Demographics!C24)/365","v":0},{"$f":"IF((Demographics!K24=\"Hispanic\"),\"1\",\"2\")","v":"2"},{"$f":"IF((Demographics!L24=\"AmericanIndian/AlaskaNative\"),\"1\",\"2\")","v":"2"},{"$f":"IF((Demographics!L24=\"Asian\"),\"1\",\"2\")","v":"2"},{"$f":"IF((Demographics!L24=\"Black/AfricanAmerican\"),\"1\",\"2\")","v":"2"},{"$f":"IF((Demographics!L24=\"NativeHawaiian/PacificIslander\"),\"1\",\"2\")","v":"2"},{"$f":"IF((Demographics!L24=\"white\"),\"1\",\"2\")","v":"2"},{"$f":"IF((Demographics!I24=\"M\"),\"1\",\"2\")","v":"2"},{"$f":"Demographics!H24","v":0},{"$f":"Demographics!N24","v":0},{"$f":"Demographics!Q24","v":0},{"$f":"IF((Demographics!J24=\"NotEligible\"),\"1\",\"2\")","v":"2"}]
[16,null,{"$f":"IF((OR(Demographics!J25=\"HemoglobinA1C\", Demographics!J25=\"FastingPlasmaGlucose\", Demographics!J25=\"OralGlucoseToleranceTest\")),\"1\",\"2\")","v":"2"},{"$f":"IF((Demographics!J25=\"GestationalDiabetes\"),\"1\",\"2\")","v":"2"},{"$f":"IF((Demographics!J25=\"RiskAssessmentTest\"),\"1\",\"2\")","v":"2"},{"$f":"(Demographics!$B$7-Demographics!C25)/365","v":0},{"$f":"IF((Demographics!K25=\"Hispanic\"),\"1\",\"2\")","v":"2"},{"$f":"IF((Demographics!L25=\"AmericanIndian/AlaskaNative\"),\"1\",\"2\")","v":"2"},{"$f":"IF((Demographics!L25=\"Asian\"),\"1\",\"2\")","v":"2"},{"$f":"IF((Demographics!L25=\"Black/AfricanAmerican\"),\"1\",\"2\")","v":"2"},{"$f":"IF((Demographics!L25=\"NativeHawaiian/PacificIslander\"),\"1\",\"2\")","v":"2"},{"$f":"IF((Demographics!L25=\"white\"),\"1\",\"2\")","v":"2"},{"$f":"IF((Demographics!I25=\"M\"),\"1\",\"2\")","v":"2"},{"$f":"Demographics!H25","v":0},{"$f":"Demographics!N25","v":0},{"$f":"Demographics!Q25","v":0},{"$f":"IF((Demographics!J25=\"NotEligible\"),\"1\",\"2\")","v":"2"}]
[17,null,{"$f":"IF((OR(Demographics!J26=\"HemoglobinA1C\", Demographics!J26=\"FastingPlasmaGlucose\", Demographics!J26=\"OralGlucoseToleranceTest\")),\"1\",\"2\")","v":"2"},{"$f":"IF((Demographics!J26=\"GestationalDiabetes\"),\"1\",\"2\")","v":"2"},{"$f":"IF((Demographics!J26=\"RiskAssessmentTest\"),\"1\",\"2\")","v":"2"},{"$f":"(Demographics!$B$7-Demographics!C26)/365","v":0},{"$f":"IF((Demographics!K26=\"Hispanic\"),\"1\",\"2\")","v":"2"},{"$f":"IF((Demographics!L26=\"AmericanIndian/AlaskaNative\"),\"1\",\"2\")","v":"2"},{"$f":"IF((Demographics!L26=\"Asian\"),\"1\",\"2\")","v":"2"},{"$f":"IF((Demographics!L26=\"Black/AfricanAmerican\"),\"1\",\"2\")","v":"2"},{"$f":"IF((Demographics!L26=\"NativeHawaiian/PacificIslander\"),\"1\",\"2\")","v":"2"},{"$f":"IF((Demographics!L26=\"white\"),\"1\",\"2\")","v":"2"},{"$f":"IF((Demographics!I26=\"M\"),\"1\",\"2\")","v":"2"},{"$f":"Demographics!H26","v":0},{"$f":"Demographics!N26","v":0},{"$f":"Demographics!Q26","v":0},{"$f":"IF((Demographics!J26=\"NotEligible\"),\"1\",\"2\")","v":"2"}]
[18,null,{"$f":"IF((OR(Demographics!J27=\"HemoglobinA1C\", Demographics!J27=\"FastingPlasmaGlucose\", Demographics!J27=\"OralGlucoseToleranceTest\")),\"1\",\"2\")","v":"2"},{"$f":"IF((Demographics!J27=\"GestationalDiabetes\"),\"1\",\"2\")","v":"2"},{"$f":"IF((Demographics!J27=\"RiskAssessmentTest\"),\"1\",\"2\")","v":"2"},{"$f":"(Demographics!$B$7-Demographics!C27)/365","v":0},{"$f":"IF((Demographics!K27=\"Hispanic\"),\"1\",\"2\")","v":"2"},{"$f":"IF((Demographics!L27=\"AmericanIndian/AlaskaNative\"),\"1\",\"2\")","v":"2"},{"$f":"IF((Demographics!L27=\"Asian\"),\"1\",\"2\")","v":"2"},{"$f":"IF((Demographics!L27=\"Black/AfricanAmerican\"),\"1\",\"2\")","v":"2"},{"$f":"IF((Demographics!L27=\"NativeHawaiian/PacificIslander\"),\"1\",\"2\")","v":"2"},{"$f":"IF((Demographics!L27=\"white\"),\"1\",\"2\")","v":"2"},{"$f":"IF((Demographics!I27=\"M\"),\"1\",\"2\")","v":"2"},{"$f":"Demographics!H27","v":0},{"$f":"Demographics!N27","v":0},{"$f":"Demographics!Q27","v":0},{"$f":"IF((Demographics!J27=\"NotEligible\"),\"1\",\"2\")","v":"2"}]
[19,null,{"$f":"IF((OR(Demographics!J28=\"HemoglobinA1C\", Demographics!J28=\"FastingPlasmaGlucose\", Demographics!J28=\"OralGlucoseToleranceTest\")),\"1\",\"2\")","v":"2"},{"$f":"IF((Demographics!J28=\"GestationalDiabetes\"),\"1\",\"2\")","v":"2"},{"$f":"IF((Demographics!J28=\"RiskAssessmentTest\"),\"1\",\"2\")","v":"2"},{"$f":"(Demographics!$B$7-Demographics!C28)/365","v":0},{"$f":"IF((Demographics!K28=\"Hispanic\"),\"1\",\"2\")","v":"2"},{"$f":"IF((Demographics!L28=\"AmericanIndian/AlaskaNative\"),\"1\",\"2\")","v":"2"},{"$f":"IF((Demographics!L28=\"Asian\"),\"1\",\"2\")","v":"2"},{"$f":"IF((Demographics!L28=\"Black/AfricanAmerican\"),\"1\",\"2\")","v":"2"},{"$f":"IF((Demographics!L28=\"NativeHawaiian/PacificIslander\"),\"1\",\"2\")","v":"2"},{"$f":"IF((Demographics!L28=\"white\"),\"1\",\"2\")","v":"2"},{"$f":"IF((Demographics!I28=\"M\"),\"1\",\"2\")","v":"2"},{"$f":"Demographics!H28","v":0},{"$f":"Demographics!N28","v":0},{"$f":"Demographics!Q28","v":0},{"$f":"IF((Demographics!J28=\"NotEligible\"),\"1\",\"2\")","v":"2"}]
[20,null,{"$f":"IF((OR(Demographics!J29=\"HemoglobinA1C\", Demographics!J29=\"FastingPlasmaGlucose\", Demographics!J29=\"OralGlucoseToleranceTest\")),\"1\",\"2\")","v":"2"},{"$f":"IF((Demographics!J29=\"GestationalDiabetes\"),\"1\",\"2\")","v":"2"},{"$f":"IF((Demographics!J29=\"RiskAssessmentTest\"),\"1\",\"2\")","v":"2"},{"$f":"(Demographics!$B$7-Demographics!C29)/365","v":0},{"$f":"IF((Demographics!K29=\"Hispanic\"),\"1\",\"2\")","v":"2"},{"$f":"IF((Demographics!L29=\"AmericanIndian/AlaskaNative\"),\"1\",\"2\")","v":"2"},{"$f":"IF((Demographics!L29=\"Asian\"),\"1\",\"2\")","v":"2"},{"$f":"IF((Demographics!L29=\"Black/AfricanAmerican\"),\"1\",\"2\")","v":"2"},{"$f":"IF((Demographics!L29=\"NativeHawaiian/PacificIslander\"),\"1\",\"2\")","v":"2"},{"$f":"IF((Demographics!L29=\"white\"),\"1\",\"2\")","v":"2"},{"$f":"IF((Demographics!I29=\"M\"),\"1\",\"2\")","v":"2"},{"$f":"Demographics!H29","v":0},{"$f":"Demographics!N29","v":0},{"$f":"Demographics!Q29","v":0},{"$f":"IF((Demographics!J29=\"NotEligible\"),\"1\",\"2\")","v":"2"}]
[21,null,{"$f":"IF((OR(Demographics!J30=\"HemoglobinA1C\", Demographics!J30=\"FastingPlasmaGlucose\", Demographics!J30=\"OralGlucoseToleranceTest\")),\"1\",\"2\")","v":"2"},{"$f":"IF((Demographics!J30=\"GestationalDiabetes\"),\"1\",\"2\")","v":"2"},{"$f":"IF((Demographics!J30=\"RiskAssessmentTest\"),\"1\",\"2\")","v":"2"},{"$f":"(Demographics!$B$7-Demographics!C30)/365","v":0},{"$f":"IF((Demographics!K30=\"Hispanic\"),\"1\",\"2\")","v":"2"},{"$f":"IF((Demographics!L30=\"AmericanIndian/AlaskaNative\"),\"1\",\"2\")","v":"2"},{"$f":"IF((Demographics!L30=\"Asian\"),\"1\",\"2\")","v":"2"},{"$f":"IF((Demographics!L30=\"Black/AfricanAmerican\"),\"1\",\"2\")","v":"2"},{"$f":"IF((Demographics!L30=\"NativeHawaiian/PacificIslander\"),\"1\",\"2\")","v":"2"},{"$f":"IF((Demographics!L30=\"white\"),\"1\",\"2\")","v":"2"},{"$f":"IF((Demographics!I30=\"M\"),\"1\",\"2\")","v":"2"},{"$f":"Demographics!H30","v":0},{"$f":"Demographics!N30","v":0},{"$f":"Demographics!Q30","v":0},{"$f":"IF((Demographics!J30=\"NotEligible\"),\"1\",\"2\")","v":"2"}]
[22,null,{"$f":"IF((OR(Demographics!J31=\"HemoglobinA1C\", Demographics!J31=\"FastingPlasmaGlucose\", Demographics!J31=\"OralGlucoseToleranceTest\")),\"1\",\"2\")","v":"2"},{"$f":"IF((Demographics!J31=\"GestationalDiabetes\"),\"1\",\"2\")","v":"2"},{"$f":"IF((Demographics!J31=\"RiskAssessmentTest\"),\"1\",\"2\")","v":"2"},{"$f":"(Demographics!$B$7-Demographics!C31)/365","v":0},{"$f":"IF((Demographics!K31=\"Hispanic\"),\"1\",\"2\")","v":"2"},{"$f":"IF((Demographics!L31=\"AmericanIndian/AlaskaNative\"),\"1\",\"2\")","v":"2"},{"$f":"IF((Demographics!L31=\"Asian\"),\"1\",\"2\")","v":"2"},{"$f":"IF((Demographics!L31=\"Black/AfricanAmerican\"),\"1\",\"2\")","v":"2"},{"$f":"IF((Demographics!L31=\"NativeHawaiian/PacificIslander\"),\"1\",\"2\")","v":"2"},{"$f":"IF((Demographics!L31=\"white\"),\"1\",\"2\")","v":"2"},{"$f":"IF((Demographics!I31=\"M\"),\"1\",\"2\")","v":"2"},{"$f":"Demographics!H31","v":0},{"$f":"Demographics!N31","v":0},{"$f":"Demographics!Q31","v":0},{"$f":"IF((Demographics!J31=\"NotEligible\"),\"1\",\"2\")","v":"2"}]
[23,null,{"$f":"IF((OR(Demographics!J32=\"HemoglobinA1C\", Demographics!J32=\"FastingPlasmaGlucose\", Demographics!J32=\"OralGlucoseToleranceTest\")),\"1\",\"2\")","v":"2"},{"$f":"IF((Demographics!J32=\"GestationalDiabetes\"),\"1\",\"2\")","v":"2"},{"$f":"IF((Demographics!J32=\"RiskAssessmentTest\"),\"1\",\"2\")","v":"2"},{"$f":"(Demographics!$B$7-Demographics!C32)/365","v":0},{"$f":"IF((Demographics!K32=\"Hispanic\"),\"1\",\"2\")","v":"2"},{"$f":"IF((Demographics!L32=\"AmericanIndian/AlaskaNative\"),\"1\",\"2\")","v":"2"},{"$f":"IF((Demographics!L32=\"Asian\"),\"1\",\"2\")","v":"2"},{"$f":"IF((Demographics!L32=\"Black/AfricanAmerican\"),\"1\",\"2\")","v":"2"},{"$f":"IF((Demographics!L32=\"NativeHawaiian/PacificIslander\"),\"1\",\"2\")","v":"2"},{"$f":"IF((Demographics!L32=\"white\"),\"1\",\"2\")","v":"2"},{"$f":"IF((Demographics!I32=\"M\"),\"1\",\"2\")","v":"2"},{"$f":"Demographics!H32","v":0},{"$f":"Demographics!N32","v":0},{"$f":"Demographics!Q32","v":0},{"$f":"IF((Demographics!J32=\"NotEligible\"),\"1\",\"2\")","v":"2"}]
[24,null,{"$f":"IF((OR(Demographics!J33=\"HemoglobinA1C\", Demographics!J33=\"FastingPlasmaGlucose\", Demographics!J33=\"OralGlucoseToleranceTest\")),\"1\",\"2\")","v":"2"},{"$f":"IF((Demographics!J33=\"GestationalDiabetes\"),\"1\",\"2\")","v":"2"},{"$f":"IF((Demographics!J33=\"RiskAssessmentTest\"),\"1\",\"2\")","v":"2"},{"$f":"(Demographics!$B$7-Demographics!C33)/365","v":0},{"$f":"IF((Demographics!K33=\"Hispanic\"),\"1\",\"2\")","v":"2"},{"$f":"IF((Demographics!L33=\"AmericanIndian/AlaskaNative\"),\"1\",\"2\")","v":"2"},{"$f":"IF((Demographics!L33=\"Asian\"),\"1\",\"2\")","v":"2"},{"$f":"IF((Demographics!L33=\"Black/AfricanAmerican\"),\"1\",\"2\")","v":"2"},{"$f":"IF((Demographics!L33=\"NativeHawaiian/PacificIslander\"),\"1\",\"2\")","v":"2"},{"$f":"IF((Demographics!L33=\"white\"),\"1\",\"2\")","v":"2"},{"$f":"IF((Demographics!I33=\"M\"),\"1\",\"2\")","v":"2"},{"$f":"Demographics!H33","v":0},{"$f":"Demographics!N33","v":0},{"$f":"Demographics!Q33","v":0},{"$f":"IF((Demographics!J33=\"NotEligible\"),\"1\",\"2\")","v":"2"}]
[25,null,{"$f":"IF((OR(Demographics!J34=\"HemoglobinA1C\", Demographics!J34=\"FastingPlasmaGlucose\", Demographics!J34=\"OralGlucoseToleranceTest\")),\"1\",\"2\")","v":"2"},{"$f":"IF((Demographics!J34=\"GestationalDiabetes\"),\"1\",\"2\")","v":"2"},{"$f":"IF((Demographics!J34=\"RiskAssessmentTest\"),\"1\",\"2\")","v":"2"},{"$f":"(Demographics!$B$7-Demographics!C34)/365","v":0},{"$f":"IF((Demographics!K34=\"Hispanic\"),\"1\",\"2\")","v":"2"},{"$f":"IF((Demographics!L34=\"AmericanIndian/AlaskaNative\"),\"1\",\"2\")","v":"2"},{"$f":"IF((Demographics!L34=\"Asian\"),\"1\",\"2\")","v":"2"},{"$f":"IF((Demographics!L34=\"Black/AfricanAmerican\"),\"1\",\"2\")","v":"2"},{"$f":"IF((Demographics!L34=\"NativeHawaiian/PacificIslander\"),\"1\",\"2\")","v":"2"},{"$f":"IF((Demographics!L34=\"white\"),\"1\",\"2\")","v":"2"},{"$f":"IF((Demographics!I34=\"M\"),\"1\",\"2\")","v":"2"},{"$f":"Demographics!H34","v":0},{"$f":"Demographics!N34","v":0},{"$f":"Demographics!Q34","v":0},{"$f":"IF((Demographics!J34=\"NotEligible\"),\"1\",\"2\")","v":"2"}]
[26,null,{"$f":"IF((OR(Demographics!J35=\"HemoglobinA1C\", Demographics!J35=\"FastingPlasmaGlucose\", Demographics!J35=\"OralGlucoseToleranceTest\")),\"1\",\"2\")","v":"2"},{"$f":"IF((Demographics!J35=\"GestationalDiabetes\"),\"1\",\"2\")","v":"2"},{"$f":"IF((Demographics!J35=\"RiskAssessmentTest\"),\"1\",\"2\")","v":"2"},{"$f":"(Demographics!$B$7-Demographics!C35)/365","v":0},{"$f":"IF((Demographics!K35=\"Hispanic\"),\"1\",\"2\")","v":"2"},{"$f":"IF((Demographics!L35=\"AmericanIndian/AlaskaNative\"),\"1\",\"2\")","v":"2"},{"$f":"IF((Demographics!L35=\"Asian\"),\"1\",\"2\")","v":"2"},{"$f":"IF((Demographics!L35=\"Black/AfricanAmerican\"),\"1\",\"2\")","v":"2"},{"$f":"IF((Demographics!L35=\"NativeHawaiian/PacificIslander\"),\"1\",\"2\")","v":"2"},{"$f":"IF((Demographics!L35=\"white\"),\"1\",\"2\")","v":"2"},{"$f":"IF((Demographics!I35=\"M\"),\"1\",\"2\")","v":"2"},{"$f":"Demographics!H35","v":0},{"$f":"Demographics!N35","v":0},{"$f":"Demographics!Q35","v":0},{"$f":"IF((Demographics!J35=\"NotEligible\"),\"1\",\"2\")","v":"2"}]
[27,null,{"$f":"IF((OR(Demographics!J36=\"HemoglobinA1C\", Demographics!J36=\"FastingPlasmaGlucose\", Demographics!J36=\"OralGlucoseToleranceTest\")),\"1\",\"2\")","v":"2"},{"$f":"IF((Demographics!J36=\"GestationalDiabetes\"),\"1\",\"2\")","v":"2"},{"$f":"IF((Demographics!J36=\"RiskAssessmentTest\"),\"1\",\"2\")","v":"2"},{"$f":"(Demographics!$B$7-Demographics!C36)/365","v":0},{"$f":"IF((Demographics!K36=\"Hispanic\"),\"1\",\"2\")","v":"2"},{"$f":"IF((Demographics!L36=\"AmericanIndian/AlaskaNative\"),\"1\",\"2\")","v":"2"},{"$f":"IF((Demographics!L36=\"Asian\"),\"1\",\"2\")","v":"2"},{"$f":"IF((Demographics!L36=\"Black/AfricanAmerican\"),\"1\",\"2\")","v":"2"},{"$f":"IF((Demographics!L36=\"NativeHawaiian/PacificIslander\"),\"1\",\"2\")","v":"2"},{"$f":"IF((Demographics!L36=\"white\"),\"1\",\"2\")","v":"2"},{"$f":"IF((Demographics!I36=\"M\"),\"1\",\"2\")","v":"2"},{"$f":"Demographics!H36","v":0},{"$f":"Demographics!N36","v":0},{"$f":"Demographics!Q36","v":0},{"$f":"IF((Demographics!J36=\"NotEligible\"),\"1\",\"2\")","v":"2"}]
[28,null,{"$f":"IF((OR(Demographics!J37=\"HemoglobinA1C\", Demographics!J37=\"FastingPlasmaGlucose\", Demographics!J37=\"OralGlucoseToleranceTest\")),\"1\",\"2\")","v":"2"},{"$f":"IF((Demographics!J37=\"GestationalDiabetes\"),\"1\",\"2\")","v":"2"},{"$f":"IF((Demographics!J37=\"RiskAssessmentTest\"),\"1\",\"2\")","v":"2"},{"$f":"(Demographics!$B$7-Demographics!C37)/365","v":0},{"$f":"IF((Demographics!K37=\"Hispanic\"),\"1\",\"2\")","v":"2"},{"$f":"IF((Demographics!L37=\"AmericanIndian/AlaskaNative\"),\"1\",\"2\")","v":"2"},{"$f":"IF((Demographics!L37=\"Asian\"),\"1\",\"2\")","v":"2"},{"$f":"IF((Demographics!L37=\"Black/AfricanAmerican\"),\"1\",\"2\")","v":"2"},{"$f":"IF((Demographics!L37=\"NativeHawaiian/PacificIslander\"),\"1\",\"2\")","v":"2"},{"$f":"IF((Demographics!L37=\"white\"),\"1\",\"2\")","v":"2"},{"$f":"IF((Demographics!I37=\"M\"),\"1\",\"2\")","v":"2"},{"$f":"Demographics!H37","v":0},{"$f":"Demographics!N37","v":0},{"$f":"Demographics!Q37","v":0},{"$f":"IF((Demographics!J37=\"NotEligible\"),\"1\",\"2\")","v":"2"}]
[29,null,{"$f":"IF((OR(Demographics!J38=\"HemoglobinA1C\", Demographics!J38=\"FastingPlasmaGlucose\", Demographics!J38=\"OralGlucoseToleranceTest\")),\"1\",\"2\")","v":"2"},{"$f":"IF((Demographics!J38=\"GestationalDiabetes\"),\"1\",\"2\")","v":"2"},{"$f":"IF((Demographics!J38=\"RiskAssessmentTest\"),\"1\",\"2\")","v":"2"},{"$f":"(Demographics!$B$7-Demographics!C38)/365","v":0},{"$f":"IF((Demographics!K38=\"Hispanic\"),\"1\",\"2\")","v":"2"},{"$f":"IF((Demographics!L38=\"AmericanIndian/AlaskaNative\"),\"1\",\"2\")","v":"2"},{"$f":"IF((Demographics!L38=\"Asian\"),\"1\",\"2\")","v":"2"},{"$f":"IF((Demographics!L38=\"Black/AfricanAmerican\"),\"1\",\"2\")","v":"2"},{"$f":"IF((Demographics!L38=\"NativeHawaiian/PacificIslander\"),\"1\",\"2\")","v":"2"},{"$f":"IF((Demographics!L38=\"white\"),\"1\",\"2\")","v":"2"},{"$f":"IF((Demographics!I38=\"M\"),\"1\",\"2\")","v":"2"},{"$f":"Demographics!H38","v":0},{"$f":"Demographics!N38","v":0},{"$f":"Demographics!Q38","v":0},{"$f":"IF((Demographics!J38=\"NotEligible\"),\"1\",\"2\")","v":"2"}]
[30,null,{"$f":"IF((OR(Demographics!J39=\"HemoglobinA1C\", Demographics!J39=\"FastingPlasmaGlucose\", Demographics!J39=\"OralGlucoseToleranceTest\")),\"1\",\"2\")","v":"2"},{"$f":"IF((Demographics!J39=\"GestationalDiabetes\"),\"1\",\"2\")","v":"2"},{"$f":"IF((Demographics!J39=\"RiskAssessmentTest\"),\"1\",\"2\")","v":"2"},{"$f":"(Demographics!$B$7-Demographics!C39)/365","v":0},{"$f":"IF((Demographics!K39=\"Hispanic\"),\"1\",\"2\")","v":"2"},{"$f":"IF((Demographics!L39=\"AmericanIndian/AlaskaNative\"),\"1\",\"2\")","v":"2"},{"$f":"IF((Demographics!L39=\"Asian\"),\"1\",\"2\")","v":"2"},{"$f":"IF((Demographics!L39=\"Black/AfricanAmerican\"),\"1\",\"2\")","v":"2"},{"$f":"IF((Demographics!L39=\"NativeHawaiian/PacificIslander\"),\"1\",\"2\")","v":"2"},{"$f":"IF((Demographics!L39=\"white\"),\"1\",\"2\")","v":"2"},{"$f":"IF((Demographics!I39=\"M\"),\"1\",\"2\")","v":"2"},{"$f":"Demographics!H39","v":0},{"$f":"Demographics!N39","v":0},{"$f":"Demographics!Q39","v":0},{"$f":"IF((Demographics!J39=\"NotEligible\"),\"1\",\"2\")","v":"2"}]

{"sheet":"Encounter Information 1","index":8,"n_rows":43,"n_cols":7,"rows_kept":43,"cut":false,"hidden":true,"merged":[[39,0,39,2],[40,0,40,2],[42,0,42,2],[41,0,41,2],[39,3,39,6],[40,3,40,6],[41,3,41,6],[42,3,42,6],[2,5,2,6],[3,5,3,6],[4,5,4,6],[6,0,7,6],[0,3,0,6],[4,0,4,2],[1,3,1,4],[2,3,2,4],[3,3,3,4],[4,3,4,4],[1,0,1,2],[0,0,0,2],[2,0,2,2],[3,0,3,2]]}
["Community Health Hub:",null,null,"Enter Community Health Hub Here"]
["NDPP Lifestyle Coach:",null,null,{"$f":"Demographics!B4","v":0},null,"NDPP Organization:",{"$f":"Demographics!B3","v":0}]
["Location of class:",null,null,{"$f":"Demographics!B5","v":0}]
["Start date of class:",null,null,{"$f":"Demographics!B7","v":"00:00:00"}]
["Anticipated completion date of class:",null,null,{"$f":"EDATE(D4,11)","v":"1900-11-30"}]
["Population Based Screening Required Pre-Assessments"]
["The following pre and post assessments are required for NDPP participants, in addition to the brief encounter assessment questions. Hubs are required to enter all data into the encounter Registery prior to the first DPP class"]
[]
["Sex","Date of Birth","Waist Circumference","Height","Weight","Blood Pressure 1 \n(1st reading)","Blood pressure 1 \n(2nd reading)"]
[{"$f":"Demographics!I10","v":0},{"$f":"Demographics!C10","v":"00:00:00"},{"$f":"Demographics!R10","v":0},{"$f":"Demographics!H10","v":0},{"$f":"Demographics!U10","v":0},{"$f":"Demographics!S10","v":0},{"$f":"Demographics!T10","v":0}]
[{"$f":"Demographics!I11","v":0},{"$f":"Demographics!C11","v":"00:00:00"},{"$f":"Demographics!R11","v":0},{"$f":"Demographics!H11","v":0},{"$f":"Demographics!U11","v":0},{"$f":"Demographics!S11","v":0},{"$f":"Demographics!T11","v":0}]
[{"$f":"Demographics!I12","v":0},{"$f":"Demographics!C12","v":"00:00:00"},{"$f":"Demographics!R12","v":0},{"$f":"Demographics!H12","v":0},{"$f":"Demographics!U12","v":0},{"$f":"Demographics!S12","v":0},{"$f":"Demographics!T12","v":0}]
[{"$f":"Demographics!I13","v":0},{"$f":"Demographics!C13","v":"00:00:00"},{"$f":"Demographics!R13","v":0},{"$f":"Demographics!H13","v":0},{"$f":"Demographics!U13","v":0},{"$f":"Demographics!S13","v":0},{"$f":"Demographics!T13","v":0}]
[{"$f":"Demographics!I14","v":0},{"$f":"Demographics!C14","v":"00:00:00"},{"$f":"Demographics!R14","v":0},{"$f":"Demographics!H14","v":0},{"$f":"Demographics!U14","v":0},{"$f":"Demographics!S14","v":0},{"$f":"Demographics!T14","v":0}]
[{"$f":"Demographics!I15","v":0},{"$f":"Demographics!C15","v":"00:00:00"},{"$f":"Demographics!R15","v":0},{"$f":"Demographics!H15","v":0},{"$f":"Demographics!U15","v":0},{"$f":"Demographics!S15","v":0},{"$f":"Demographics!T15","v":0}]
[{"$f":"Demographics!I16","v":0},{"$f":"Demographics!C16","v":"00:00:00"},{"$f":"Demographics!R16","v":0},{"$f":"Demographics!H16","v":0},{"$f":"Demographics!U16","v":0},{"$f":"Demographics!S16","v":0},{"$f":"Demographics!T16","v":0}]
[{"$f":"Demographics!I17","v":0},{"$f":"Demographics!C17","v":"00:00:00"},{"$f":"Demographics!R17","v":0},{"$f":"Demographics!H17","v":0},{"$f":"Demographics!U17","v":0},{"$f":"Demographics!S17","v":0},{"$f":"Demographics!T17","v":0}]
[{"$f":"Demographics!I18","v":0},{"$f":"Demographics!C18","v":"00:00:00"},{"$f":"Demographics!R18","v":0},{"$f":"Demographics!H18","v":0},{"$f":"Demographics!U18","v":0},{"$f":"Demographics!S18","v":0},{"$f":"Demographics!T18","v":0}]
[{"$f":"Demographics!I19","v":0},{"$f":"Demographics!C19","v":"00:00:00"},{"$f":"Demographics!R19","v":0},{"$f":"Demographics!H19","v":0},{"$f":"Demographics!U19","v":0},{"$f":"Demographics!S19","v":0},{"$f":"Demographics!T19","v":0}]
[{"$f":"Demographics!I20","v":0},{"$f":"Demographics!C20","v":"00:00:00"},{"$f":"Demographics!R20","v":0},{"$f":"Demographics!H20","v":0},{"$f":"Demographics!U20","v":0},{"$f":"Demographics!S20","v":0},{"$f":"Demographics!T20","v":0}]
[{"$f":"Demographics!I21","v":0},{"$f":"Demographics!C21","v":"00:00:00"},{"$f":"Demographics!R21","v":0},{"$f":"Demographics!H21","v":0},{"$f":"Demographics!U21","v":0},{"$f":"Demographics!S21","v":0},{"$f":"Demographics!T21","v":0}]
[{"$f":"Demographics!I22","v":0},{"$f":"Demographics!C22","v":"00:00:00"},{"$f":"Demographics!R22","v":0},{"$f":"Demographics!H22","v":0},{"$f":"Demographics!U22","v":0},{"$f":"Demographics!S22","v":0},{"$f":"Demographics!T22","v":0}]
[{"$f":"Demographics!I23","v":0},{"$f":"Demographics!C23","v":"00:00:00"},{"$f":"Demographics!R23","v":0},{"$f":"Demographics!H23","v":0},{"$f":"Demographics!U23","v":0},{"$f":"Demographics!S23","v":0},{"$f":"Demographics!T23","v":0}]
[{"$f":"Demographics!I24","v":0},{"$f":"Demographics!C24","v":"00:00:00"},{"$f":"Demographics!R24","v":0},{"$f":"Demographics!H24","v":0},{"$f":"Demographics!U24","v":0},{"$f":"Demographics!S24","v":0},{"$f":"Demographics!T24","v":0}]
[{"$f":"Demographics!I25","v":0},{"$f":"Demographics!C25","v":"00:00:00"},{"$f":"Demographics!R25","v":0},{"$f":"Demographics!H25","v":0},{"$f":"Demographics!U25","v":0},{"$f":"Demographics!S25","v":0},{"$f":"Demographics!T25","v":0}]
[{"$f":"Demographics!I26","v":0},{"$f":"Demographics!C26","v":"00:00:00"},{"$f":"Demographics!R26","v":0},{"$f":"Demographics!H26","v":0},{"$f":"Demographics!U26","v":0},{"$f":"Demographics!S26","v":0},{"$f":"Demographics!T26","v":0}]
[{"$f":"Demographics!I27","v":0},{"$f":"Demographics!C27","v":"00:00:00"},{"$f":"Demographics!R27","v":0},{"$f":"Demographics!H27","v":0},{"$f":"Demographics!U27","v":0},{"$f":"Demographics!S27","v":0},{"$f":"Demographics!T27","v":0}]
[{"$f":"Demographics!I28","v":0},{"$f":"Demographics!C28","v":"00:00:00"},{"$f":"Demographics!R28","v":0},{"$f":"Demographics!H28","v":0},{"$f":"Demographics!U28","v":0},{"$f":"Demographics!S28","v":0},{"$f":"Demographics!T28","v":0}]
[{"$f":"Demographics!I29","v":0},{"$f":"Demographics!C29","v":"00:00:00"},{"$f":"Demographics!R29","v":0},{"$f":"Demographics!H29","v":0},{"$f":"Demographics!U29","v":0},{"$f":"Demographics!S29","v":0},{"$f":"Demographics!T29","v":0}]
[{"$f":"Demographics!I30","v":0},{"$f":"Demographics!C30","v":"00:00:00"},{"$f":"Demographics!R30","v":0},{"$f":"Demographics!H30","v":0},{"$f":"Demographics!U30","v":0},{"$f":"Demographics!S30","v":0},{"$f":"Demographics!T30","v":0}]
[{"$f":"Demographics!I31","v":0},{"$f":"Demographics!C31","v":"00:00:00"},{"$f":"Demographics!R31","v":0},{"$f":"Demographics!H31","v":0},{"$f":"Demographics!U31","v":0},{"$f":"Demographics!S31","v":0},{"$f":"Demographics!T31","v":0}]
[{"$f":"Demographics!I32","v":0},{"$f":"Demographics!C32","v":"00:00:00"},{"$f":"Demographics!R32","v":0},{"$f":"Demographics!H32","v":0},{"$f":"Demographics!U32","v":0},{"$f":"Demographics!S32","v":0},{"$f":"Demographics!T32","v":0}]
[{"$f":"Demographics!I33","v":0},{"$f":"Demographics!C33","v":"00:00:00"},{"$f":"Demographics!R33","v":0},{"$f":"Demographics!H33","v":0},{"$f":"Demographics!U33","v":0},{"$f":"Demographics!S33","v":0},{"$f":"Demographics!T33","v":0}]
[{"$f":"Demographics!I34","v":0},{"$f":"Demographics!C34","v":"00:00:00"},{"$f":"Demographics!R34","v":0},{"$f":"Demographics!H34","v":0},{"$f":"Demographics!U34","v":0},{"$f":"Demographics!S34","v":0},{"$f":"Demographics!T34","v":0}]
[{"$f":"Demographics!I35","v":0},{"$f":"Demographics!C35","v":"00:00:00"},{"$f":"Demographics!R35","v":0},{"$f":"Demographics!H35","v":0},{"$f":"Demographics!U35","v":0},{"$f":"Demographics!S35","v":0},{"$f":"Demographics!T35","v":0}]
[{"$f":"Demographics!I36","v":0},{"$f":"Demographics!C36","v":"00:00:00"},{"$f":"Demographics!R36","v":0},{"$f":"Demographics!H36","v":0},{"$f":"Demographics!U36","v":0},{"$f":"Demographics!S36","v":0},{"$f":"Demographics!T36","v":0}]
[{"$f":"Demographics!I37","v":0},{"$f":"Demographics!C37","v":"00:00:00"},{"$f":"Demographics!R37","v":0},{"$f":"Demographics!H37","v":0},{"$f":"Demographics!U37","v":0},{"$f":"Demographics!S37","v":0},{"$f":"Demographics!T37","v":0}]
[{"$f":"Demographics!I38","v":0},{"$f":"Demographics!C38","v":"00:00:00"},{"$f":"Demographics!R38","v":0},{"$f":"Demographics!H38","v":0},{"$f":"Demographics!U38","v":0},{"$f":"Demographics!S38","v":0},{"$f":"Demographics!T38","v":0}]
[{"$f":"Demographics!I39","v":0},{"$f":"Demographics!C39","v":"00:00:00"},{"$f":"Demographics!R39","v":0},{"$f":"Demographics!H39","v":0},{"$f":"Demographics!U39","v":0},{"$f":"Demographics!S39","v":0},{"$f":"Demographics!T39","v":0}]
["Total # Enrolled",null,null,{"$f":"SUM(D41:G42)","v":0}]
["# Men",null,null,{"$f":"Demographics!I41","v":0}]
["# Women",null,null,{"$f":"Demographics!I40","v":0}]
["# of WISEWOMAN Clients",null,null,{"$f":"Demographics!M40","v":0}]

{"sheet":"Encounter Information 2","index":9,"n_rows":43,"n_cols":7,"rows_kept":43,"cut":false,"hidden":true,"merged":[[0,0,0,2],[0,3,0,6],[1,0,1,2],[1,3,1,4],[2,0,2,2],[2,3,2,4],[2,5,2,6],[3,0,3,2],[3,3,3,4],[3,5,3,6],[4,0,4,2],[4,3,4,4],[4,5,4,6],[41,0,41,2],[41,3,41,6],[42,0,42,2],[42,3,42,6],[6,0,7,6],[39,0,39,2],[39,3,39,6],[40,0,40,2],[40,3,40,6]]}
["Community Health Hub:",null,null,"Enter Community Health Hub Here"]
["NDPP Lifestyle Coach:",null,null,{"$f":"Demographics!B4","v":0},null,"NDPP Organization:",{"$f":"Demographics!B3","v":0}]
["Location of class:",null,null,{"$f":"Demographics!B5","v":0}]
["Start date of class:",null,null,{"$f":"Demographics!B7","v":"00:00:00"}]
["Anticipated completion date of class:",null,null,{"$f":"EDATE(D4,11)","v":"1900-11-30"}]
["Population Based Screening Required Pre-Assessments"]
["The following pre and post assessments are required for NDPP participants, in addition to the brief encounter assessment questions. Hubs are required to enter all data into the encounter Registery prior to the first DPP class"]
[]
["Sex","Date of Birth","Waist Circumference","Height","Weight","Blood pressure 2 \n(1st reading)","Blood pressure 2 \n(2nd reading)"]
[{"$f":"Demographics!I10","v":0},{"$f":"Demographics!C10","v":"00:00:00"},{"$f":"Demographics!V10","v":0},{"$f":"Demographics!H10","v":0},{"$f":"Demographics!Y10","v":0},{"$f":"Demographics!W10","v":0},{"$f":"Demographics!X10","v":0}]
[{"$f":"Demographics!I11","v":0},{"$f":"Demographics!C11","v":"00:00:00"},{"$f":"Demographics!V11","v":0},{"$f":"Demographics!H11","v":0},{"$f":"Demographics!Y11","v":0},{"$f":"Demographics!W11","v":0},{"$f":"Demographics!X11","v":0}]
[{"$f":"Demographics!I12","v":0},{"$f":"Demographics!C12","v":"00:00:00"},{"$f":"Demographics!V12","v":0},{"$f":"Demographics!H12","v":0},{"$f":"Demographics!Y12","v":0},{"$f":"Demographics!W12","v":0},{"$f":"Demographics!X12","v":0}]
[{"$f":"Demographics!I13","v":0},{"$f":"Demographics!C13","v":"00:00:00"},{"$f":"Demographics!V13","v":0},{"$f":"Demographics!H13","v":0},{"$f":"Demographics!Y13","v":0},{"$f":"Demographics!W13","v":0},{"$f":"Demographics!X13","v":0}]
[{"$f":"Demographics!I14","v":0},{"$f":"Demographics!C14","v":"00:00:00"},{"$f":"Demographics!V14","v":0},{"$f":"Demographics!H14","v":0},{"$f":"Demographics!Y14","v":0},{"$f":"Demographics!W14","v":0},{"$f":"Demographics!X14","v":0}]
[{"$f":"Demographics!I15","v":0},{"$f":"Demographics!C15","v":"00:00:00"},{"$f":"Demographics!V15","v":0},{"$f":"Demographics!H15","v":0},{"$f":"Demographics!Y15","v":0},{"$f":"Demographics!W15","v":0},{"$f":"Demographics!X15","v":0}]
[{"$f":"Demographics!I16","v":0},{"$f":"Demographics!C16","v":"00:00:00"},{"$f":"Demographics!V16","v":0},{"$f":"Demographics!H16","v":0},{"$f":"Demographics!Y16","v":0},{"$f":"Demographics!W16","v":0},{"$f":"Demographics!X16","v":0}]
[{"$f":"Demographics!I17","v":0},{"$f":"Demographics!C17","v":"00:00:00"},{"$f":"Demographics!V17","v":0},{"$f":"Demographics!H17","v":0},{"$f":"Demographics!Y17","v":0},{"$f":"Demographics!W17","v":0},{"$f":"Demographics!X17","v":0}]
[{"$f":"Demographics!I18","v":0},{"$f":"Demographics!C18","v":"00:00:00"},{"$f":"Demographics!V18","v":0},{"$f":"Demographics!H18","v":0},{"$f":"Demographics!Y18","v":0},{"$f":"Demographics!W18","v":0},{"$f":"Demographics!X18","v":0}]
[{"$f":"Demographics!I19","v":0},{"$f":"Demographics!C19","v":"00:00:00"},{"$f":"Demographics!V19","v":0},{"$f":"Demographics!H19","v":0},{"$f":"Demographics!Y19","v":0},{"$f":"Demographics!W19","v":0},{"$f":"Demographics!X19","v":0}]
[{"$f":"Demographics!I20","v":0},{"$f":"Demographics!C20","v":"00:00:00"},{"$f":"Demographics!V20","v":0},{"$f":"Demographics!H20","v":0},{"$f":"Demographics!Y20","v":0},{"$f":"Demographics!W20","v":0},{"$f":"Demographics!X20","v":0}]
[{"$f":"Demographics!I21","v":0},{"$f":"Demographics!C21","v":"00:00:00"},{"$f":"Demographics!V21","v":0},{"$f":"Demographics!H21","v":0},{"$f":"Demographics!Y21","v":0},{"$f":"Demographics!W21","v":0},{"$f":"Demographics!X21","v":0}]
[{"$f":"Demographics!I22","v":0},{"$f":"Demographics!C22","v":"00:00:00"},{"$f":"Demographics!V22","v":0},{"$f":"Demographics!H22","v":0},{"$f":"Demographics!Y22","v":0},{"$f":"Demographics!W22","v":0},{"$f":"Demographics!X22","v":0}]
[{"$f":"Demographics!I23","v":0},{"$f":"Demographics!C23","v":"00:00:00"},{"$f":"Demographics!V23","v":0},{"$f":"Demographics!H23","v":0},{"$f":"Demographics!Y23","v":0},{"$f":"Demographics!W23","v":0},{"$f":"Demographics!X23","v":0}]
[{"$f":"Demographics!I24","v":0},{"$f":"Demographics!C24","v":"00:00:00"},{"$f":"Demographics!V24","v":0},{"$f":"Demographics!H24","v":0},{"$f":"Demographics!Y24","v":0},{"$f":"Demographics!W24","v":0},{"$f":"Demographics!X24","v":0}]
[{"$f":"Demographics!I25","v":0},{"$f":"Demographics!C25","v":"00:00:00"},{"$f":"Demographics!V25","v":0},{"$f":"Demographics!H25","v":0},{"$f":"Demographics!Y25","v":0},{"$f":"Demographics!W25","v":0},{"$f":"Demographics!X25","v":0}]
[{"$f":"Demographics!I26","v":0},{"$f":"Demographics!C26","v":"00:00:00"},{"$f":"Demographics!V26","v":0},{"$f":"Demographics!H26","v":0},{"$f":"Demographics!Y26","v":0},{"$f":"Demographics!W26","v":0},{"$f":"Demographics!X26","v":0}]
[{"$f":"Demographics!I27","v":0},{"$f":"Demographics!C27","v":"00:00:00"},{"$f":"Demographics!V27","v":0},{"$f":"Demographics!H27","v":0},{"$f":"Demographics!Y27","v":0},{"$f":"Demographics!W27","v":0},{"$f":"Demographics!X27","v":0}]
[{"$f":"Demographics!I28","v":0},{"$f":"Demographics!C28","v":"00:00:00"},{"$f":"Demographics!V28","v":0},{"$f":"Demographics!H28","v":0},{"$f":"Demographics!Y28","v":0},{"$f":"Demographics!W28","v":0},{"$f":"Demographics!X28","v":0}]
[{"$f":"Demographics!I29","v":0},{"$f":"Demographics!C29","v":"00:00:00"},{"$f":"Demographics!V29","v":0},{"$f":"Demographics!H29","v":0},{"$f":"Demographics!Y29","v":0},{"$f":"Demographics!W29","v":0},{"$f":"Demographics!X29","v":0}]
[{"$f":"Demographics!I30","v":0},{"$f":"Demographics!C30","v":"00:00:00"},{"$f":"Demographics!V30","v":0},{"$f":"Demographics!H30","v":0},{"$f":"Demographics!Y30","v":0},{"$f":"Demographics!W30","v":0},{"$f":"Demographics!X30","v":0}]
[{"$f":"Demographics!I31","v":0},{"$f":"Demographics!C31","v":"00:00:00"},{"$f":"Demographics!V31","v":0},{"$f":"Demographics!H31","v":0},{"$f":"Demographics!Y31","v":0},{"$f":"Demographics!W31","v":0},{"$f":"Demographics!X31","v":0}]
[{"$f":"Demographics!I32","v":0},{"$f":"Demographics!C32","v":"00:00:00"},{"$f":"Demographics!V32","v":0},{"$f":"Demographics!H32","v":0},{"$f":"Demographics!Y32","v":0},{"$f":"Demographics!W32","v":0},{"$f":"Demographics!X32","v":0}]
[{"$f":"Demographics!I33","v":0},{"$f":"Demographics!C33","v":"00:00:00"},{"$f":"Demographics!V33","v":0},{"$f":"Demographics!H33","v":0},{"$f":"Demographics!Y33","v":0},{"$f":"Demographics!W33","v":0},{"$f":"Demographics!X33","v":0}]
[{"$f":"Demographics!I34","v":0},{"$f":"Demographics!C34","v":"00:00:00"},{"$f":"Demographics!V34","v":0},{"$f":"Demographics!H34","v":0},{"$f":"Demographics!Y34","v":0},{"$f":"Demographics!W34","v":0},{"$f":"Demographics!X34","v":0}]
[{"$f":"Demographics!I35","v":0},{"$f":"Demographics!C35","v":"00:00:00"},{"$f":"Demographics!V35","v":0},{"$f":"Demographics!H35","v":0},{"$f":"Demographics!Y35","v":0},{"$f":"Demographics!W35","v":0},{"$f":"Demographics!X35","v":0}]
[{"$f":"Demographics!I36","v":0},{"$f":"Demographics!C36","v":"00:00:00"},{"$f":"Demographics!V36","v":0},{"$f":"Demographics!H36","v":0},{"$f":"Demographics!Y36","v":0},{"$f":"Demographics!W36","v":0},{"$f":"Demographics!X36","v":0}]
[{"$f":"Demographics!I37","v":0},{"$f":"Demographics!C37","v":"00:00:00"},{"$f":"Demographics!V37","v":0},{"$f":"Demographics!H37","v":0},{"$f":"Demographics!Y37","v":0},{"$f":"Demographics!W37","v":0},{"$f":"Demographics!X37","v":0}]
[{"$f":"Demographics!I38","v":0},{"$f":"Demographics!C38","v":"00:00:00"},{"$f":"Demographics!V38","v":0},{"$f":"Demographics!H38","v":0},{"$f":"Demographics!Y38","v":0},{"$f":"Demographics!W38","v":0},{"$f":"Demographics!X38","v":0}]
[{"$f":"Demographics!I39","v":0},{"$f":"Demographics!C39","v":"00:00:00"},{"$f":"Demographics!V39","v":0},{"$f":"Demographics!H39","v":0},{"$f":"Demographics!Y39","v":0},{"$f":"Demographics!W39","v":0},{"$f":"Demographics!X39","v":0}]
["Total # Enrolled",null,null,{"$f":"SUM(D41:G42)","v":0}]
["# Men",null,null,{"$f":"Demographics!I41","v":0}]
["# Women",null,null,{"$f":"Demographics!I40","v":0}]
["# of WISEWOMAN Clients",null,null,{"$f":"Demographics!M40","v":0}]

{"sheet":"Encounter Information 3","index":10,"n_rows":43,"n_cols":7,"rows_kept":43,"cut":false,"hidden":true,"merged":[[0,0,0,2],[0,3,0,6],[1,0,1,2],[1,3,1,4],[2,0,2,2],[2,3,2,4],[2,5,2,6],[3,0,3,2],[3,3,3,4],[3,5,3,6],[4,0,4,2],[4,3,4,4],[4,5,4,6],[42,0,42,2],[42,3,42,6],[6,0,7,6],[39,0,39,2],[39,3,39,6],[40,0,40,2],[40,3,40,6],[41,0,41,2],[41,3,41,6]]}
["Community Health Hub:",null,null,"Enter Community Health Hub Here"]
["NDPP Lifestyle Coach:",null,null,{"$f":"Demographics!B4","v":0},null,"NDPP Organization:",{"$f":"Demographics!B3","v":0}]
["Location of class:",null,null,{"$f":"Demographics!B5","v":0}]
["Start date of class:",null,null,{"$f":"Demographics!B7","v":"00:00:00"}]
["Anticipated completion date of class:",null,null,{"$f":"EDATE(D4,11)","v":"1900-11-30"}]
["Population Based Screening Required Pre-Assessments"]
["The following pre and post assessments are required for NDPP participants, in addition to the brief encounter assessment questions. Hubs are required to enter all data into the encounter Registery prior to the first DPP class"]
[]
["Sex","Date of Birth","Waist Circumference","Height","Weight","Blood pressure 2 \n(1st reading)","Blood pressure 2 \n(2nd reading)"]
[{"$f":"Demographics!I10","v":0},{"$f":"Demographics!C10","v":"00:00:00"},{"$f":"Demographics!V10","v":0},{"$f":"Demographics!H10","v":0},{"$f":"Demographics!AC10","v":0},{"$f":"Demographics!AA10","v":0},{"$f":"Demographics!AB10","v":0}]
[{"$f":"Demographics!I11","v":0},{"$f":"Demographics!C11","v":"00:00:00"},{"$f":"Demographics!V11","v":0},{"$f":"Demographics!H11","v":0},{"$f":"Demographics!AC11","v":0},{"$f":"Demographics!AA11","v":0},{"$f":"Demographics!AB11","v":0}]
[{"$f":"Demographics!I12","v":0},{"$f":"Demographics!C12","v":"00:00:00"},{"$f":"Demographics!V12","v":0},{"$f":"Demographics!H12","v":0},{"$f":"Demographics!AC12","v":0},{"$f":"Demographics!AA12","v":0},{"$f":"Demographics!AB12","v":0}]
[{"$f":"Demographics!I13","v":0},{"$f":"Demographics!C13","v":"00:00:00"},{"$f":"Demographics!V13","v":0},{"$f":"Demographics!H13","v":0},{"$f":"Demographics!AC13","v":0},{"$f":"Demographics!AA13","v":0},{"$f":"Demographics!AB13","v":0}]
[{"$f":"Demographics!I14","v":0},{"$f":"Demographics!C14","v":"00:00:00"},{"$f":"Demographics!V14","v":0},{"$f":"Demographics!H14","v":0},{"$f":"Demographics!AC14","v":0},{"$f":"Demographics!AA14","v":0},{"$f":"Demographics!AB14","v":0}]
[{"$f":"Demographics!I15","v":0},{"$f":"Demographics!C15","v":"00:00:00"},{"$f":"Demographics!V15","v":0},{"$f":"Demographics!H15","v":0},{"$f":"Demographics!AC15","v":0},{"$f":"Demographics!AA15","v":0},{"$f":"Demographics!AB15","v":0}]
[{"$f":"Demographics!I16","v":0},{"$f":"Demographics!C16","v":"00:00:00"},{"$f":"Demographics!V16","v":0},{"$f":"Demographics!H16","v":0},{"$f":"Demographics!AC16","v":0},{"$f":"Demographics!AA16","v":0},{"$f":"Demographics!AB16","v":0}]
[{"$f":"Demographics!I17","v":0},{"$f":"Demographics!C17","v":"00:00:00"},{"$f":"Demographics!V17","v":0},{"$f":"Demographics!H17","v":0},{"$f":"Demographics!AC17","v":0},{"$f":"Demographics!AA17","v":0},{"$f":"Demographics!AB17","v":0}]
[{"$f":"Demographics!I18","v":0},{"$f":"Demographics!C18","v":"00:00:00"},{"$f":"Demographics!V18","v":0},{"$f":"Demographics!H18","v":0},{"$f":"Demographics!AC18","v":0},{"$f":"Demographics!AA18","v":0},{"$f":"Demographics!AB18","v":0}]
[{"$f":"Demographics!I19","v":0},{"$f":"Demographics!C19","v":"00:00:00"},{"$f":"Demographics!V19","v":0},{"$f":"Demographics!H19","v":0},{"$f":"Demographics!AC19","v":0},{"$f":"Demographics!AA19","v":0},{"$f":"Demographics!AB19","v":0}]
[{"$f":"Demographics!I20","v":0},{"$f":"Demographics!C20","v":"00:00:00"},{"$f":"Demographics!V20","v":0},{"$f":"Demographics!H20","v":0},{"$f":"Demographics!AC20","v":0},{"$f":"Demographics!AA20","v":0},{"$f":"Demographics!AB20","v":0}]
[{"$f":"Demographics!I21","v":0},{"$f":"Demographics!C21","v":"00:00:00"},{"$f":"Demographics!V21","v":0},{"$f":"Demographics!H21","v":0},{"$f":"Demographics!AC21","v":0},{"$f":"Demographics!AA21","v":0},{"$f":"Demographics!AB21","v":0}]
[{"$f":"Demographics!I22","v":0},{"$f":"Demographics!C22","v":"00:00:00"},{"$f":"Demographics!V22","v":0},{"$f":"Demographics!H22","v":0},{"$f":"Demographics!AC22","v":0},{"$f":"Demographics!AA22","v":0},{"$f":"Demographics!AB22","v":0}]
[{"$f":"Demographics!I23","v":0},{"$f":"Demographics!C23","v":"00:00:00"},{"$f":"Demographics!V23","v":0},{"$f":"Demographics!H23","v":0},{"$f":"Demographics!AC23","v":0},{"$f":"Demographics!AA23","v":0},{"$f":"Demographics!AB23","v":0}]
[{"$f":"Demographics!I24","v":0},{"$f":"Demographics!C24","v":"00:00:00"},{"$f":"Demographics!V24","v":0},{"$f":"Demographics!H24","v":0},{"$f":"Demographics!AC24","v":0},{"$f":"Demographics!AA24","v":0},{"$f":"Demographics!AB24","v":0}]
[{"$f":"Demographics!I25","v":0},{"$f":"Demographics!C25","v":"00:00:00"},{"$f":"Demographics!V25","v":0},{"$f":"Demographics!H25","v":0},{"$f":"Demographics!AC25","v":0},{"$f":"Demographics!AA25","v":0},{"$f":"Demographics!AB25","v":0}]
[{"$f":"Demographics!I26","v":0},{"$f":"Demographics!C26","v":"00:00:00"},{"$f":"Demographics!V26","v":0},{"$f":"Demographics!H26","v":0},{"$f":"Demographics!AC26","v":0},{"$f":"Demographics!AA26","v":0},{"$f":"Demographics!AB26","v":0}]
[{"$f":"Demographics!I27","v":0},{"$f":"Demographics!C27","v":"00:00:00"},{"$f":"Demographics!V27","v":0},{"$f":"Demographics!H27","v":0},{"$f":"Demographics!AC27","v":0},{"$f":"Demographics!AA27","v":0},{"$f":"Demographics!AB27","v":0}]
[{"$f":"Demographics!I28","v":0},{"$f":"Demographics!C28","v":"00:00:00"},{"$f":"Demographics!V28","v":0},{"$f":"Demographics!H28","v":0},{"$f":"Demographics!AC28","v":0},{"$f":"Demographics!AA28","v":0},{"$f":"Demographics!AB28","v":0}]
[{"$f":"Demographics!I29","v":0},{"$f":"Demographics!C29","v":"00:00:00"},{"$f":"Demographics!V29","v":0},{"$f":"Demographics!H29","v":0},{"$f":"Demographics!AC29","v":0},{"$f":"Demographics!AA29","v":0},{"$f":"Demographics!AB29","v":0}]
[{"$f":"Demographics!I30","v":0},{"$f":"Demographics!C30","v":"00:00:00"},{"$f":"Demographics!V30","v":0},{"$f":"Demographics!H30","v":0},{"$f":"Demographics!AC30","v":0},{"$f":"Demographics!AA30","v":0},{"$f":"Demographics!AB30","v":0}]
[{"$f":"Demographics!I31","v":0},{"$f":"Demographics!C31","v":"00:00:00"},{"$f":"Demographics!V31","v":0},{"$f":"Demographics!H31","v":0},{"$f":"Demographics!AC31","v":0},{"$f":"Demographics!AA31","v":0},{"$f":"Demographics!AB31","v":0}]
[{"$f":"Demographics!I32","v":0},{"$f":"Demographics!C32","v":"00:00:00"},{"$f":"Demographics!V32","v":0},{"$f":"Demographics!H32","v":0},{"$f":"Demographics!AC32","v":0},{"$f":"Demographics!AA32","v":0},{"$f":"Demographics!AB32","v":0}]
[{"$f":"Demographics!I33","v":0},{"$f":"Demographics!C33","v":"00:00:00"},{"$f":"Demographics!V33","v":0},{"$f":"Demographics!H33","v":0},{"$f":"Demographics!AC33","v":0},{"$f":"Demographics!AA33","v":0},{"$f":"Demographics!AB33","v":0}]
[{"$f":"Demographics!I34","v":0},{"$f":"Demographics!C34","v":"00:00:00"},{"$f":"Demographics!V34","v":0},{"$f":"Demographics!H34","v":0},{"$f":"Demographics!AC34","v":0},{"$f":"Demographics!AA34","v":0},{"$f":"Demographics!AB34","v":0}]
[{"$f":"Demographics!I35","v":0},{"$f":"Demographics!C35","v":"00:00:00"},{"$f":"Demographics!V35","v":0},{"$f":"Demographics!H35","v":0},{"$f":"Demographics!AC35","v":0},{"$f":"Demographics!AA35","v":0},{"$f":"Demographics!AB35","v":0}]
[{"$f":"Demographics!I36","v":0},{"$f":"Demographics!C36","v":"00:00:00"},{"$f":"Demographics!V36","v":0},{"$f":"Demographics!H36","v":0},{"$f":"Demographics!AC36","v":0},{"$f":"Demographics!AA36","v":0},{"$f":"Demographics!AB36","v":0}]
[{"$f":"Demographics!I37","v":0},{"$f":"Demographics!C37","v":"00:00:00"},{"$f":"Demographics!V37","v":0},{"$f":"Demographics!H37","v":0},{"$f":"Demographics!AC37","v":0},{"$f":"Demographics!AA37","v":0},{"$f":"Demographics!AB37","v":0}]
[{"$f":"Demographics!I38","v":0},{"$f":"Demographics!C38","v":"00:00:00"},{"$f":"Demographics!V38","v":0},{"$f":"Demographics!H38","v":0},{"$f":"Demographics!AC38","v":0},{"$f":"Demographics!AA38","v":0},{"$f":"Demographics!AB38","v":0}]
[{"$f":"Demographics!I39","v":0},{"$f":"Demographics!C39","v":"00:00:00"},{"$f":"Demographics!V39","v":0},{"$f":"Demographics!H39","v":0},{"$f":"Demographics!AC39","v":0},{"$f":"Demographics!AA39","v":0},{"$f":"Demographics!AB39","v":0}]
["Total # Enrolled",null,null,{"$f":"SUM(D41:G42)","v":0}]
["# Men",null,null,{"$f":"Demographics!I41","v":0}]
["# Women",null,null,{"$f":"Demographics!I40","v":0}]
["# of WISEWOMAN Clients",null,null,{"$f":"Demographics!M40","v":0}]

{"sheet":"Sheet2","index":11,"n_rows":0,"n_cols":0,"rows_kept":0,"cut":false,"hidden":true,"merged":[]}

{"sheet":"PPHD Calculations","index":12,"n_rows":58,"n_cols":21,"rows_kept":58,"cut":false,"hidden":true,"merged":[[54,0,54,2],[55,0,55,2],[56,0,56,2],[57,0,57,2],[48,0,48,2],[49,0,49,2],[50,0,50,2],[51,0,51,2],[52,0,52,2],[53,0,53,2],[47,0,47,2],[36,0,36,2],[37,0,37,2],[38,0,38,2],[39,0,39,2],[40,0,40,2],[41,0,41,2],[42,0,42,2],[43,0,43,2],[44,0,44,2],[45,0,45,2],[46,0,46,2]]}
["Participant","# of sessions attended Months 1-6","# of sessions attended Months 7-12","Total # of sessions attended","# of sessions weight documented Months 1-6","# of sessions weight documented Months 7-12","Total # of sessions weight documented","# of sessions PA documented months 1-6","# of sessions PA documented months 7-12","Total # of sessions PA documented","1st recorded weight","Last recorded weight Months 1-6","Total Weight Loss Months 1-6","% weight loss at end of Months 1-6","Weight recorded at end of Months 7-12","Weight loss at end of Months 7-12","% weight loss at end of Month 12","GLUCTEST","GDM","RISKTEST","NOTELIGIBLE"]
[1,{"$f":"'Months 1-6'!D43","v":0},{"$f":"'Months 7-12'!D43","v":0},{"$f":"SUM(B2:C2)","v":0},{"$f":"'Months 1-6'!E46","v":0},{"$f":"'Months 7-12'!E44","v":0},{"$f":"E2+F2","v":0},{"$f":"'Months 1-6'!F47","v":0},{"$f":"'Months 7-12'!F45","v":0},{"$f":"H2+I2","v":0},{"$f":"INDEX('Overall Weight'!$B$3:$B$74,MATCH(TRUE,INDEX('Overall Weight'!$B$3:$B$74<>\"\",0,0),0))","v":{"$error":"#N/A"}},{"$f":"LOOKUP(2,1/('Overall Weight'!$B$3:$B$38<>\"\"),'Overall Weight'!$B$3:$B$38)","v":{"$error":"#N/A"}},{"$f":"-(L2-K2)","v":{"$error":"#N/A"}},{"$f":"1-(L2/K2)","v":{"$error":"#N/A"}},{"$f":"LOOKUP(2,1/('Overall Weight'!$B$3:$B$74<>\"\"),'Overall Weight'!$B$3:$B$74)","v":{"$error":"#N/A"}},{"$f":"-(O2-K2)","v":{"$error":"#N/A"}},{"$f":"1-(O2/K2)","v":{"$error":"#N/A"}},{"$f":"IF('CDC Calculations'!D2>=4,'Coded Data'!C3,\"\")","v":""},{"$f":"IF('CDC Calculations'!D2>=4,'Coded Data'!D3,\"\")","v":""},{"$f":"IF('CDC Calculations'!D2>=4,'Coded Data'!E3,\"\")","v":""},{"$f":"IF('CDC Calculations'!D2>=4,'Coded Data'!Q3,\"\")","v":""}]
[2,{"$f":"'Months 1-6'!G43","v":0},{"$f":"'Months 7-12'!G43","v":0},{"$f":"SUM(B3:C3)","v":0},{"$f":"'Months 1-6'!H46","v":0},{"$f":"'Months 7-12'!H44","v":0},{"$f":"E3+F3","v":0},{"$f":"'Months 1-6'!I47","v":0},{"$f":"'Months 7-12'!I45","v":0},{"$f":"H3+I3","v":0},{"$f":"INDEX('Overall Weight'!$C$3:$C$74,MATCH(TRUE,INDEX('Overall Weight'!$C$3:$C$74<>\"\",0,0),0))","v":{"$error":"#N/A"}},{"$f":"LOOKUP(2,1/('Overall Weight'!$C$3:$C$38<>\"\"),'Overall Weight'!$C$3:$C$38)","v":{"$error":"#N/A"}},{"$f":"-(L3-K3)","v":{"$error":"#N/A"}},{"$f":"1-(L3/K3)","v":{"$error":"#N/A"}},{"$f":"LOOKUP(2,1/('Overall Weight'!$C$3:$C$74<>\"\"),'Overall Weight'!$C$3:$C$74)","v":{"$error":"#N/A"}},{"$f":"-(O3-K3)","v":{"$error":"#N/A"}},{"$f":"1-(O3/K3)","v":{"$error":"#N/A"}},{"$f":"IF('CDC Calculations'!D3>=4,'Coded Data'!C4,\"\")","v":""},{"$f":"IF('CDC Calculations'!D3>=4,'Coded Data'!D4,\"\")","v":""},{"$f":"IF('CDC Calculations'!D3>=4,'Coded Data'!E4,\"\")","v":""},{"$f":"IF('CDC Calculations'!D3>=4,'Coded Data'!Q4,\"\")","v":""}]
[3,{"$f":"'Months 1-6'!J43","v":0},{"$f":"'Months 7-12'!J43","v":0},0,{"$f":"'Months 1-6'!K46","v":0},{"$f":"'Months 7-12'!K44","v":0},0,{"$f":"'Months 1-6'!L47","v":0},{"$f":"'Months 7-12'!L45","v":0},0,{"$f":"INDEX('Overall Weight'!$D$3:$D$74,MATCH(TRUE,INDEX('Overall Weight'!$D$3:$D$74<>\"\",0,0),0))","v":{"$error":"#N/A"}},{"$f":"LOOKUP(2,1/('Overall Weight'!$D$3:$D$38<>\"\"),'Overall Weight'!$D$3:$D$38)","v":{"$error":"#N/A"}},{"$error":"#N/A"},{"$error":"#N/A"},{"$f":"LOOKUP(2,1/('Overall Weight'!$D$3:$D$74<>\"\"),'Overall Weight'!$D$3:$D$74)","v":{"$error":"#N/A"}},{"$error":"#N/A"},{"$error":"#N/A"},{"$f":"IF('CDC Calculations'!D4>=4,'Coded Data'!C5,\"\")","v":""},{"$f":"IF('CDC Calculations'!D4>=4,'Coded Data'!D5,\"\")","v":""},{"$f":"IF('CDC Calculations'!D4>=4,'Coded Data'!E5,\"\")","v":""},{"$f":"IF('CDC Calculations'!D4>=4,'Coded Data'!Q5,\"\")","v":""}]
[4,{"$f":"'Months 1-6'!M43","v":0},{"$f":"'Months 7-12'!M43","v":0},0,{"$f":"'Months 1-6'!N46","v":0},{"$f":"'Months 7-12'!N44","v":0},0,{"$f":"'Months 1-6'!O47","v":0},{"$f":"'Months 7-12'!O45","v":0},0,{"$f":"INDEX('Overall Weight'!$E$3:$E$74,MATCH(TRUE,INDEX('Overall Weight'!$E$3:$E$74<>\"\",0,0),0))","v":{"$error":"#N/A"}},{"$f":"LOOKUP(2,1/('Overall Weight'!$E$3:$E$38<>\"\"),'Overall Weight'!$E$3:$E$38)","v":{"$error":"#N/A"}},{"$error":"#N/A"},{"$error":"#N/A"},{"$f":"LOOKUP(2,1/('Overall Weight'!$E$3:$E$74<>\"\"),'Overall Weight'!$E$3:$E$74)","v":{"$error":"#N/A"}},{"$error":"#N/A"},{"$error":"#N/A"},{"$f":"IF('CDC Calculations'!D5>=4,'Coded Data'!C6,\"\")","v":""},{"$f":"IF('CDC Calculations'!D5>=4,'Coded Data'!D6,\"\")","v":""},{"$f":"IF('CDC Calculations'!D5>=4,'Coded Data'!E6,\"\")","v":""},{"$f":"IF('CDC Calculations'!D5>=4,'Coded Data'!Q6,\"\")","v":""}]
[5,{"$f":"'Months 1-6'!P43","v":0},{"$f":"'Months 7-12'!P43","v":0},0,{"$f":"'Months 1-6'!Q46","v":0},{"$f":"'Months 7-12'!Q44","v":0},0,{"$f":"'Months 1-6'!R47","v":0},{"$f":"'Months 7-12'!R45","v":0},0,{"$f":"INDEX('Overall Weight'!$F$3:$F$74,MATCH(TRUE,INDEX('Overall Weight'!$F$3:$F$74<>\"\",0,0),0))","v":{"$error":"#N/A"}},{"$f":"LOOKUP(2,1/('Overall Weight'!$F$3:$F$38<>\"\"),'Overall Weight'!$F$3:$F$38)","v":{"$error":"#N/A"}},{"$error":"#N/A"},{"$error":"#N/A"},{"$f":"LOOKUP(2,1/('Overall Weight'!$F$3:$F$74<>\"\"),'Overall Weight'!$F$3:$F$74)","v":{"$error":"#N/A"}},{"$error":"#N/A"},{"$error":"#N/A"},{"$f":"IF('CDC Calculations'!D6>=4,'Coded Data'!C7,\"\")","v":""},{"$f":"IF('CDC Calculations'!D6>=4,'Coded Data'!D7,\"\")","v":""},{"$f":"IF('CDC Calculations'!D6>=4,'Coded Data'!E7,\"\")","v":""},{"$f":"IF('CDC Calculations'!D6>=4,'Coded Data'!Q7,\"\")","v":""}]
[6,{"$f":"'Months 1-6'!S43","v":0},{"$f":"'Months 7-12'!S43","v":0},0,{"$f":"'Months 1-6'!T46","v":0},{"$f":"'Months 7-12'!T44","v":0},0,{"$f":"'Months 1-6'!U47","v":0},{"$f":"'Months 7-12'!U45","v":0},0,{"$f":"INDEX('Overall Weight'!$G$3:$G$74,MATCH(TRUE,INDEX('Overall Weight'!$G$3:$G$74<>\"\",0,0),0))","v":{"$error":"#N/A"}},{"$f":"LOOKUP(2,1/('Overall Weight'!$G$3:$G$38<>\"\"),'Overall Weight'!$G$3:$G$38)","v":{"$error":"#N/A"}},{"$error":"#N/A"},{"$error":"#N/A"},{"$f":"LOOKUP(2,1/('Overall Weight'!$G$3:$G$74<>\"\"),'Overall Weight'!$G$3:$G$74)","v":{"$error":"#N/A"}},{"$error":"#N/A"},{"$error":"#N/A"},{"$f":"IF('CDC Calculations'!D7>=4,'Coded Data'!C8,\"\")","v":""},{"$f":"IF('CDC Calculations'!D7>=4,'Coded Data'!D8,\"\")","v":""},{"$f":"IF('CDC Calculations'!D7>=4,'Coded Data'!E8,\"\")","v":""},{"$f":"IF('CDC Calculations'!D7>=4,'Coded Data'!Q8,\"\")","v":""}]
[7,{"$f":"'Months 1-6'!V43","v":0},{"$f":"'Months 7-12'!V43","v":0},0,{"$f":"'Months 1-6'!W46","v":0},{"$f":"'Months 7-12'!W44","v":0},0,{"$f":"'Months 1-6'!X47","v":0},{"$f":"'Months 7-12'!X45","v":0},0,{"$f":"INDEX('Overall Weight'!$H$3:$H$74,MATCH(TRUE,INDEX('Overall Weight'!$H$3:$H$74<>\"\",0,0),0))","v":{"$error":"#N/A"}},{"$f":"LOOKUP(2,1/('Overall Weight'!$H$3:$H$38<>\"\"),'Overall Weight'!$H$3:$H$38)","v":{"$error":"#N/A"}},{"$error":"#N/A"},{"$error":"#N/A"},{"$f":"LOOKUP(2,1/('Overall Weight'!$H$3:$H$74<>\"\"),'Overall Weight'!$H$3:$H$74)","v":{"$error":"#N/A"}},{"$error":"#N/A"},{"$error":"#N/A"},{"$f":"IF('CDC Calculations'!D8>=4,'Coded Data'!C9,\"\")","v":""},{"$f":"IF('CDC Calculations'!D8>=4,'Coded Data'!D9,\"\")","v":""},{"$f":"IF('CDC Calculations'!D8>=4,'Coded Data'!E9,\"\")","v":""},{"$f":"IF('CDC Calculations'!D8>=4,'Coded Data'!Q9,\"\")","v":""}]
[8,{"$f":"'Months 1-6'!Y43","v":0},{"$f":"'Months 7-12'!Y43","v":0},0,{"$f":"'Months 1-6'!Z46","v":0},{"$f":"'Months 7-12'!Z44","v":0},0,{"$f":"'Months 1-6'!AA47","v":0},{"$f":"'Months 7-12'!AA45","v":0},0,{"$f":"INDEX('Overall Weight'!$I$3:$I$74,MATCH(TRUE,INDEX('Overall Weight'!$I$3:$I$74<>\"\",0,0),0))","v":{"$error":"#N/A"}},{"$f":"LOOKUP(2,1/('Overall Weight'!$I$3:$I$38<>\"\"),'Overall Weight'!$I$3:$I$38)","v":{"$error":"#N/A"}},{"$error":"#N/A"},{"$error":"#N/A"},{"$f":"LOOKUP(2,1/('Overall Weight'!$I$3:$I$74<>\"\"),'Overall Weight'!$I$3:$I$74)","v":{"$error":"#N/A"}},{"$error":"#N/A"},{"$error":"#N/A"},{"$f":"IF('CDC Calculations'!D9>=4,'Coded Data'!C10,\"\")","v":""},{"$f":"IF('CDC Calculations'!D9>=4,'Coded Data'!D10,\"\")","v":""},{"$f":"IF('CDC Calculations'!D9>=4,'Coded Data'!E10,\"\")","v":""},{"$f":"IF('CDC Calculations'!D9>=4,'Coded Data'!Q10,\"\")","v":""}]
[9,{"$f":"'Months 1-6'!AB43","v":0},{"$f":"'Months 7-12'!AB43","v":0},0,{"$f":"'Months 1-6'!AC46","v":0},{"$f":"'Months 7-12'!AC44","v":0},0,{"$f":"'Months 1-6'!AD47","v":0},{"$f":"'Months 7-12'!AD45","v":0},0,{"$f":"INDEX('Overall Weight'!$J$3:$J$74,MATCH(TRUE,INDEX('Overall Weight'!$J$3:$J$74<>\"\",0,0),0))","v":{"$error":"#N/A"}},{"$f":"LOOKUP(2,1/('Overall Weight'!$J$3:$J$38<>\"\"),'Overall Weight'!$J$3:$J$38)","v":{"$error":"#N/A"}},{"$error":"#N/A"},{"$error":"#N/A"},{"$f":"LOOKUP(2,1/('Overall Weight'!$J$3:$J$74<>\"\"),'Overall Weight'!$J$3:$J$74)","v":{"$error":"#N/A"}},{"$error":"#N/A"},{"$error":"#N/A"},{"$f":"IF('CDC Calculations'!D10>=4,'Coded Data'!C11,\"\")","v":""},{"$f":"IF('CDC Calculations'!D10>=4,'Coded Data'!D11,\"\")","v":""},{"$f":"IF('CDC Calculations'!D10>=4,'Coded Data'!E11,\"\")","v":""},{"$f":"IF('CDC Calculations'!D10>=4,'Coded Data'!Q11,\"\")","v":""}]
[10,{"$f":"'Months 1-6'!AE43","v":0},{"$f":"'Months 7-12'!AE43","v":0},0,{"$f":"'Months 1-6'!AF46","v":0},{"$f":"'Months 7-12'!AF44","v":0},0,{"$f":"'Months 1-6'!AG47","v":0},{"$f":"'Months 7-12'!AG45","v":0},0,{"$f":"INDEX('Overall Weight'!$K$3:$K$74,MATCH(TRUE,INDEX('Overall Weight'!$K$3:$K$74<>\"\",0,0),0))","v":{"$error":"#N/A"}},{"$f":"LOOKUP(2,1/('Overall Weight'!$K$3:$K$38<>\"\"),'Overall Weight'!$K$3:$K$38)","v":{"$error":"#N/A"}},{"$error":"#N/A"},{"$error":"#N/A"},{"$f":"LOOKUP(2,1/('Overall Weight'!$K$3:$K$74<>\"\"),'Overall Weight'!$K$3:$K$74)","v":{"$error":"#N/A"}},{"$error":"#N/A"},{"$error":"#N/A"},{"$f":"IF('CDC Calculations'!D11>=4,'Coded Data'!C12,\"\")","v":""},{"$f":"IF('CDC Calculations'!D11>=4,'Coded Data'!D12,\"\")","v":""},{"$f":"IF('CDC Calculations'!D11>=4,'Coded Data'!E12,\"\")","v":""},{"$f":"IF('CDC Calculations'!D11>=4,'Coded Data'!Q12,\"\")","v":""}]
[11,{"$f":"'Months 1-6'!AH43","v":0},{"$f":"'Months 7-12'!AH43","v":0},0,{"$f":"'Months 1-6'!AI46","v":0},{"$f":"'Months 7-12'!AI44","v":0},0,{"$f":"'Months 1-6'!AJ47","v":0},{"$f":"'Months 7-12'!AJ45","v":0},0,{"$f":"INDEX('Overall Weight'!$L$3:$L$74,MATCH(TRUE,INDEX('Overall Weight'!$L$3:$L$74<>\"\",0,0),0))","v":{"$error":"#N/A"}},{"$f":"LOOKUP(2,1/('Overall Weight'!$L$3:$L$38<>\"\"),'Overall Weight'!$L$3:$L$38)","v":{"$error":"#N/A"}},{"$error":"#N/A"},{"$error":"#N/A"},{"$f":"LOOKUP(2,1/('Overall Weight'!$L$3:$L$74<>\"\"),'Overall Weight'!$L$3:$L$74)","v":{"$error":"#N/A"}},{"$error":"#N/A"},{"$error":"#N/A"},{"$f":"IF('CDC Calculations'!D12>=4,'Coded Data'!C13,\"\")","v":""},{"$f":"IF('CDC Calculations'!D12>=4,'Coded Data'!D13,\"\")","v":""},{"$f":"IF('CDC Calculations'!D12>=4,'Coded Data'!E13,\"\")","v":""},{"$f":"IF('CDC Calculations'!D12>=4,'Coded Data'!Q13,\"\")","v":""}]
[12,{"$f":"'Months 1-6'!AK43","v":0},{"$f":"'Months 7-12'!AK43","v":0},0,{"$f":"'Months 1-6'!AL46","v":0},{"$f":"'Months 7-12'!AL44","v":0},0,{"$f":"'Months 1-6'!AM47","v":0},{"$f":"'Months 7-12'!AM45","v":0},0,{"$f":"INDEX('Overall Weight'!$M$3:$M$74,MATCH(TRUE,INDEX('Overall Weight'!$M$3:$M$74<>\"\",0,0),0))","v":{"$error":"#N/A"}},{"$f":"LOOKUP(2,1/('Overall Weight'!$M$3:$M$38<>\"\"),'Overall Weight'!$M$3:$M$38)","v":{"$error":"#N/A"}},{"$error":"#N/A"},{"$error":"#N/A"},{"$f":"LOOKUP(2,1/('Overall Weight'!$M$3:$M$74<>\"\"),'Overall Weight'!$M$3:$M$74)","v":{"$error":"#N/A"}},{"$error":"#N/A"},{"$error":"#N/A"},{"$f":"IF('CDC Calculations'!D13>=4,'Coded Data'!C14,\"\")","v":""},{"$f":"IF('CDC Calculations'!D13>=4,'Coded Data'!D14,\"\")","v":""},{"$f":"IF('CDC Calculations'!D13>=4,'Coded Data'!E14,\"\")","v":""},{"$f":"IF('CDC Calculations'!D13>=4,'Coded Data'!Q14,\"\")","v":""}]
[13,{"$f":"'Months 1-6'!AN43","v":0},{"$f":"'Months 7-12'!AN43","v":0},0,{"$f":"'Months 1-6'!AO46","v":0},{"$f":"'Months 7-12'!AO44","v":0},0,{"$f":"'Months 1-6'!AP47","v":0},{"$f":"'Months 7-12'!AP45","v":0},0,{"$f":"INDEX('Overall Weight'!$N$3:$N$74,MATCH(TRUE,INDEX('Overall Weight'!$N$3:$N$74<>\"\",0,0),0))","v":{"$error":"#N/A"}},{"$f":"LOOKUP(2,1/('Overall Weight'!$N$3:$N$38<>\"\"),'Overall Weight'!$N$3:$N$38)","v":{"$error":"#N/A"}},{"$error":"#N/A"},{"$error":"#N/A"},{"$f":"LOOKUP(2,1/('Overall Weight'!$N$3:$N$74<>\"\"),'Overall Weight'!$N$3:$N$74)","v":{"$error":"#N/A"}},{"$error":"#N/A"},{"$error":"#N/A"},{"$f":"IF('CDC Calculations'!D14>=4,'Coded Data'!C15,\"\")","v":""},{"$f":"IF('CDC Calculations'!D14>=4,'Coded Data'!D15,\"\")","v":""},{"$f":"IF('CDC Calculations'!D14>=4,'Coded Data'!E15,\"\")","v":""},{"$f":"IF('CDC Calculations'!D14>=4,'Coded Data'!Q15,\"\")","v":""}]
[14,{"$f":"'Months 1-6'!AQ43","v":0},{"$f":"'Months 7-12'!AQ43","v":0},0,{"$f":"'Months 1-6'!AR46","v":0},{"$f":"'Months 7-12'!AR44","v":0},0,{"$f":"'Months 1-6'!AS47","v":0},{"$f":"'Months 7-12'!AS45","v":0},0,{"$f":"INDEX('Overall Weight'!$O$3:$O$38,MATCH(TRUE,INDEX('Overall Weight'!$O$3:$O$38<>\"\",0,0),0))","v":{"$error":"#N/A"}},{"$f":"LOOKUP(2,1/('Overall Weight'!$O$3:$O$38<>\"\"),'Overall Weight'!$O$3:$O$38)","v":{"$error":"#N/A"}},{"$error":"#N/A"},{"$error":"#N/A"},{"$f":"LOOKUP(2,1/('Overall Weight'!$O$3:$O$74<>\"\"),'Overall Weight'!$O$3:$O$74)","v":{"$error":"#N/A"}},{"$error":"#N/A"},{"$error":"#N/A"},{"$f":"IF('CDC Calculations'!D15>=4,'Coded Data'!C16,\"\")","v":""},{"$f":"IF('CDC Calculations'!D15>=4,'Coded Data'!D16,\"\")","v":""},{"$f":"IF('CDC Calculations'!D15>=4,'Coded Data'!E16,\"\")","v":""},{"$f":"IF('CDC Calculations'!D15>=4,'Coded Data'!Q16,\"\")","v":""}]
[15,{"$f":"'Months 1-6'!AT43","v":0},{"$f":"'Months 7-12'!AT43","v":0},0,{"$f":"'Months 1-6'!AU46","v":0},{"$f":"'Months 7-12'!AU44","v":0},0,{"$f":"'Months 1-6'!AV47","v":0},{"$f":"'Months 7-12'!AV45","v":0},0,{"$f":"INDEX('Overall Weight'!$P$3:$P$38,MATCH(TRUE,INDEX('Overall Weight'!$P$3:$P$38<>\"\",0,0),0))","v":{"$error":"#N/A"}},{"$f":"LOOKUP(2,1/('Overall Weight'!$P$3:$P$38<>\"\"),'Overall Weight'!$P$3:$P$38)","v":{"$error":"#N/A"}},{"$error":"#N/A"},{"$error":"#N/A"},{"$f":"LOOKUP(2,1/('Overall Weight'!$P$3:$P$74<>\"\"),'Overall Weight'!$P$3:$P$74)","v":{"$error":"#N/A"}},{"$error":"#N/A"},{"$error":"#N/A"},{"$f":"IF('CDC Calculations'!D16>=4,'Coded Data'!C17,\"\")","v":""},{"$f":"IF('CDC Calculations'!D16>=4,'Coded Data'!D17,\"\")","v":""},{"$f":"IF('CDC Calculations'!D16>=4,'Coded Data'!E17,\"\")","v":""},{"$f":"IF('CDC Calculations'!D16>=4,'Coded Data'!Q17,\"\")","v":""}]
[16,{"$f":"'Months 1-6'!AW43","v":0},{"$f":"'Months 7-12'!AW43","v":0},0,{"$f":"'Months 1-6'!AX46","v":0},{"$f":"'Months 7-12'!AX44","v":0},0,{"$f":"'Months 1-6'!AY47","v":0},{"$f":"'Months 7-12'!AY45","v":0},0,{"$f":"INDEX('Overall Weight'!$Q$3:$Q$38,MATCH(TRUE,INDEX('Overall Weight'!$Q$3:$Q$38<>\"\",0,0),0))","v":{"$error":"#N/A"}},{"$f":"LOOKUP(2,1/('Overall Weight'!$Q$3:$Q$38<>\"\"),'Overall Weight'!$Q$3:$Q$38)","v":{"$error":"#N/A"}},{"$error":"#N/A"},{"$error":"#N/A"},{"$f":"LOOKUP(2,1/('Overall Weight'!$Q$3:$Q$74<>\"\"),'Overall Weight'!$Q$3:$Q$74)","v":{"$error":"#N/A"}},{"$error":"#N/A"},{"$error":"#N/A"},{"$f":"IF('CDC Calculations'!D17>=4,'Coded Data'!C18,\"\")","v":""},{"$f":"IF('CDC Calculations'!D17>=4,'Coded Data'!D18,\"\")","v":""},{"$f":"IF('CDC Calculations'!D17>=4,'Coded Data'!E18,\"\")","v":""},{"$f":"IF('CDC Calculations'!D17>=4,'Coded Data'!Q18,\"\")","v":""}]
[17,{"$f":"'Months 1-6'!AZ43","v":0},{"$f":"'Months 7-12'!AZ43","v":0},0,{"$f":"'Months 1-6'!BA46","v":0},{"$f":"'Months 7-12'!BA44","v":0},0,{"$f":"'Months 1-6'!BB47","v":0},{"$f":"'Months 7-12'!BB45","v":0},0,{"$f":"INDEX('Overall Weight'!$R$3:$R$38,MATCH(TRUE,INDEX('Overall Weight'!$R$3:$R$38<>\"\",0,0),0))","v":{"$error":"#N/A"}},{"$f":"LOOKUP(2,1/('Overall Weight'!$R$3:$R$38<>\"\"),'Overall Weight'!$R$3:$R$38)","v":{"$error":"#N/A"}},{"$error":"#N/A"},{"$error":"#N/A"},{"$f":"LOOKUP(2,1/('Overall Weight'!$R$3:$R$74<>\"\"),'Overall Weight'!$R$3:$R$74)","v":{"$error":"#N/A"}},{"$error":"#N/A"},{"$error":"#N/A"},{"$f":"IF('CDC Calculations'!D18>=4,'Coded Data'!C19,\"\")","v":""},{"$f":"IF('CDC Calculations'!D18>=4,'Coded Data'!D19,\"\")","v":""},{"$f":"IF('CDC Calculations'!D18>=4,'Coded Data'!E19,\"\")","v":""},{"$f":"IF('CDC Calculations'!D18>=4,'Coded Data'!Q19,\"\")","v":""}]
[18,{"$f":"'Months 1-6'!BC43","v":0},{"$f":"'Months 7-12'!BC43","v":0},0,{"$f":"'Months 1-6'!BD46","v":0},{"$f":"'Months 7-12'!BD44","v":0},0,{"$f":"'Months 1-6'!BE47","v":0},{"$f":"'Months 7-12'!BE45","v":0},0,{"$f":"INDEX('Overall Weight'!$S$3:$S$38,MATCH(TRUE,INDEX('Overall Weight'!$S$3:$S$38<>\"\",0,0),0))","v":{"$error":"#N/A"}},{"$f":"LOOKUP(2,1/('Overall Weight'!$S$3:$S$38<>\"\"),'Overall Weight'!$S$3:$S$38)","v":{"$error":"#N/A"}},{"$error":"#N/A"},{"$error":"#N/A"},{"$f":"LOOKUP(2,1/('Overall Weight'!$S$3:$S$74<>\"\"),'Overall Weight'!$S$3:$S$74)","v":{"$error":"#N/A"}},{"$error":"#N/A"},{"$error":"#N/A"},{"$f":"IF('CDC Calculations'!D19>=4,'Coded Data'!C20,\"\")","v":""},{"$f":"IF('CDC Calculations'!D19>=4,'Coded Data'!D20,\"\")","v":""},{"$f":"IF('CDC Calculations'!D19>=4,'Coded Data'!E20,\"\")","v":""},{"$f":"IF('CDC Calculations'!D19>=4,'Coded Data'!Q20,\"\")","v":""}]
[19,{"$f":"'Months 1-6'!BF43","v":0},{"$f":"'Months 7-12'!BF43","v":0},0,{"$f":"'Months 1-6'!BG46","v":0},{"$f":"'Months 7-12'!BG44","v":0},0,{"$f":"'Months 1-6'!BH47","v":0},{"$f":"'Months 7-12'!BH45","v":0},0,{"$f":"INDEX('Overall Weight'!$T$3:$T$38,MATCH(TRUE,INDEX('Overall Weight'!$T$3:$T$38<>\"\",0,0),0))","v":{"$error":"#N/A"}},{"$f":"LOOKUP(2,1/('Overall Weight'!$T$3:$T$38<>\"\"),'Overall Weight'!$T$3:$T$38)","v":{"$error":"#N/A"}},{"$error":"#N/A"},{"$error":"#N/A"},{"$f":"LOOKUP(2,1/('Overall Weight'!$T$3:$T$74<>\"\"),'Overall Weight'!$T$3:$T$74)","v":{"$error":"#N/A"}},{"$error":"#N/A"},{"$error":"#N/A"},{"$f":"IF('CDC Calculations'!D20>=4,'Coded Data'!C21,\"\")","v":""},{"$f":"IF('CDC Calculations'!D20>=4,'Coded Data'!D21,\"\")","v":""},{"$f":"IF('CDC Calculations'!D20>=4,'Coded Data'!E21,\"\")","v":""},{"$f":"IF('CDC Calculations'!D20>=4,'Coded Data'!Q21,\"\")","v":""}]
[20,{"$f":"'Months 1-6'!BI43","v":0},{"$f":"'Months 7-12'!BI43","v":0},0,{"$f":"'Months 1-6'!BJ46","v":0},{"$f":"'Months 7-12'!BJ44","v":0},0,{"$f":"'Months 1-6'!BK47","v":0},{"$f":"'Months 7-12'!BK45","v":0},0,{"$f":"INDEX('Overall Weight'!$U$3:$U$38,MATCH(TRUE,INDEX('Overall Weight'!$U$3:$U$38<>\"\",0,0),0))","v":{"$error":"#N/A"}},{"$f":"LOOKUP(2,1/('Overall Weight'!$U$3:$U$38<>\"\"),'Overall Weight'!$U$3:$U$38)","v":{"$error":"#N/A"}},{"$error":"#N/A"},{"$error":"#N/A"},{"$f":"LOOKUP(2,1/('Overall Weight'!$U$3:$U$74<>\"\"),'Overall Weight'!$U$3:$U$74)","v":{"$error":"#N/A"}},{"$error":"#N/A"},{"$error":"#N/A"},{"$f":"IF('CDC Calculations'!D21>=4,'Coded Data'!C22,\"\")","v":""},{"$f":"IF('CDC Calculations'!D21>=4,'Coded Data'!D22,\"\")","v":""},{"$f":"IF('CDC Calculations'!D21>=4,'Coded Data'!E22,\"\")","v":""},{"$f":"IF('CDC Calculations'!D21>=4,'Coded Data'!Q22,\"\")","v":""}]
[21,{"$f":"'Months 1-6'!BL43","v":0},{"$f":"'Months 7-12'!BL43","v":0},0,{"$f":"'Months 1-6'!BM46","v":0},{"$f":"'Months 7-12'!BM44","v":0},0,{"$f":"'Months 1-6'!BN47","v":0},{"$f":"'Months 7-12'!BN45","v":0},0,{"$f":"INDEX('Overall Weight'!$V$3:$V$38,MATCH(TRUE,INDEX('Overall Weight'!$V$3:$V$38<>\"\",0,0),0))","v":{"$error":"#N/A"}},{"$f":"LOOKUP(2,1/('Overall Weight'!$V$3:$V$38<>\"\"),'Overall Weight'!$V$3:$V$38)","v":{"$error":"#N/A"}},{"$error":"#N/A"},{"$error":"#N/A"},{"$f":"LOOKUP(2,1/('Overall Weight'!$V$3:$V$74<>\"\"),'Overall Weight'!$V$3:$V$74)","v":{"$error":"#N/A"}},{"$error":"#N/A"},{"$error":"#N/A"},{"$f":"IF('CDC Calculations'!D22>=4,'Coded Data'!C23,\"\")","v":""},{"$f":"IF('CDC Calculations'!D22>=4,'Coded Data'!D23,\"\")","v":""},{"$f":"IF('CDC Calculations'!D22>=4,'Coded Data'!E23,\"\")","v":""},{"$f":"IF('CDC Calculations'!D22>=4,'Coded Data'!Q23,\"\")","v":""}]
[22,{"$f":"'Months 1-6'!BO43","v":0},{"$f":"'Months 7-12'!BO43","v":0},0,{"$f":"'Months 1-6'!BP46","v":0},{"$f":"'Months 7-12'!BP44","v":0},0,{"$f":"'Months 1-6'!BQ47","v":0},{"$f":"'Months 7-12'!BQ45","v":0},0,{"$f":"INDEX('Overall Weight'!$W$3:$W$38,MATCH(TRUE,INDEX('Overall Weight'!$W$3:$W$38<>\"\",0,0),0))","v":{"$error":"#N/A"}},{"$f":"LOOKUP(2,1/('Overall Weight'!$W$3:$W$38<>\"\"),'Overall Weight'!$W$3:$W$38)","v":{"$error":"#N/A"}},{"$error":"#N/A"},{"$error":"#N/A"},{"$f":"LOOKUP(2,1/('Overall Weight'!$W$3:$W$74<>\"\"),'Overall Weight'!$W$3:$W$74)","v":{"$error":"#N/A"}},{"$error":"#N/A"},{"$error":"#N/A"},{"$f":"IF('CDC Calculations'!D23>=4,'Coded Data'!C24,\"\")","v":""},{"$f":"IF('CDC Calculations'!D23>=4,'Coded Data'!D24,\"\")","v":""},{"$f":"IF('CDC Calculations'!D23>=4,'Coded Data'!E24,\"\")","v":""},{"$f":"IF('CDC Calculations'!D23>=4,'Coded Data'!Q24,\"\")","v":""}]
[23,{"$f":"'Months 1-6'!BR43","v":0},{"$f":"'Months 7-12'!BR43","v":0},0,{"$f":"'Months 1-6'!BS46","v":0},{"$f":"'Months 7-12'!BS44","v":0},0,{"$f":"'Months 1-6'!BT47","v":0},{"$f":"'Months 7-12'!BT45","v":0},0,{"$f":"INDEX('Overall Weight'!$X$3:$X$38,MATCH(TRUE,INDEX('Overall Weight'!$X$3:$X$38<>\"\",0,0),0))","v":{"$error":"#N/A"}},{"$f":"LOOKUP(2,1/('Overall Weight'!$X$3:$X$38<>\"\"),'Overall Weight'!$X$3:$X$38)","v":{"$error":"#N/A"}},{"$error":"#N/A"},{"$error":"#N/A"},{"$f":"LOOKUP(2,1/('Overall Weight'!$X$3:$X$74<>\"\"),'Overall Weight'!$X$3:$X$74)","v":{"$error":"#N/A"}},{"$error":"#N/A"},{"$error":"#N/A"},{"$f":"IF('CDC Calculations'!D24>=4,'Coded Data'!C25,\"\")","v":""},{"$f":"IF('CDC Calculations'!D24>=4,'Coded Data'!D25,\"\")","v":""},{"$f":"IF('CDC Calculations'!D24>=4,'Coded Data'!E25,\"\")","v":""},{"$f":"IF('CDC Calculations'!D24>=4,'Coded Data'!Q25,\"\")","v":""}]
[24,{"$f":"'Months 1-6'!BU43","v":0},{"$f":"'Months 7-12'!BU43","v":0},0,{"$f":"'Months 1-6'!BV46","v":0},{"$f":"'Months 7-12'!BV44","v":0},0,{"$f":"'Months 1-6'!BW47","v":0},{"$f":"'Months 7-12'!BW45","v":0},0,{"$f":"INDEX('Overall Weight'!$Y$3:$Y$38,MATCH(TRUE,INDEX('Overall Weight'!$Y$3:$Y$38<>\"\",0,0),0))","v":{"$error":"#N/A"}},{"$f":"LOOKUP(2,1/('Overall Weight'!$Y$3:$Y$38<>\"\"),'Overall Weight'!$Y$3:$Y$38)","v":{"$error":"#N/A"}},{"$error":"#N/A"},{"$error":"#N/A"},{"$f":"LOOKUP(2,1/('Overall Weight'!$Y$3:$Y$74<>\"\"),'Overall Weight'!$Y$3:$Y$74)","v":{"$error":"#N/A"}},{"$error":"#N/A"},{"$error":"#N/A"},{"$f":"IF('CDC Calculations'!D25>=4,'Coded Data'!C26,\"\")","v":""},{"$f":"IF('CDC Calculations'!D25>=4,'Coded Data'!D26,\"\")","v":""},{"$f":"IF('CDC Calculations'!D25>=4,'Coded Data'!E26,\"\")","v":""},{"$f":"IF('CDC Calculations'!D25>=4,'Coded Data'!Q26,\"\")","v":""}]
[25,{"$f":"'Months 1-6'!BX43","v":0},{"$f":"'Months 7-12'!BX43","v":0},0,{"$f":"'Months 1-6'!BY46","v":0},{"$f":"'Months 7-12'!BY44","v":0},0,{"$f":"'Months 1-6'!BZ47","v":0},{"$f":"'Months 7-12'!BZ45","v":0},0,{"$f":"INDEX('Overall Weight'!$Z$3:$Z$38,MATCH(TRUE,INDEX('Overall Weight'!$Z$3:$Z$38<>\"\",0,0),0))","v":{"$error":"#N/A"}},{"$f":"LOOKUP(2,1/('Overall Weight'!$Z$3:$Z$38<>\"\"),'Overall Weight'!$Z$3:$Z$38)","v":{"$error":"#N/A"}},{"$error":"#N/A"},{"$error":"#N/A"},{"$f":"LOOKUP(2,1/('Overall Weight'!$Z$3:$Z$74<>\"\"),'Overall Weight'!$Z$3:$Z$74)","v":{"$error":"#N/A"}},{"$error":"#N/A"},{"$error":"#N/A"},{"$f":"IF('CDC Calculations'!D26>=4,'Coded Data'!C27,\"\")","v":""},{"$f":"IF('CDC Calculations'!D26>=4,'Coded Data'!D27,\"\")","v":""},{"$f":"IF('CDC Calculations'!D26>=4,'Coded Data'!E27,\"\")","v":""},{"$f":"IF('CDC Calculations'!D26>=4,'Coded Data'!Q27,\"\")","v":""}]
[26,{"$f":"'Months 1-6'!CA43","v":0},{"$f":"'Months 7-12'!CA43","v":0},0,{"$f":"'Months 1-6'!CB46","v":0},{"$f":"'Months 7-12'!CB44","v":0},0,{"$f":"'Months 1-6'!CC47","v":0},{"$f":"'Months 7-12'!CC45","v":0},0,{"$f":"INDEX('Overall Weight'!$AA$3:$AA$38,MATCH(TRUE,INDEX('Overall Weight'!$AA$3:$AA$38<>\"\",0,0),0))","v":{"$error":"#N/A"}},{"$f":"LOOKUP(2,1/('Overall Weight'!$AA$3:$AA$38<>\"\"),'Overall Weight'!$AA$3:$AA$38)","v":{"$error":"#N/A"}},{"$error":"#N/A"},{"$error":"#N/A"},{"$f":"LOOKUP(2,1/('Overall Weight'!$AA$3:$AA$74<>\"\"),'Overall Weight'!$AA$3:$AA$74)","v":{"$error":"#N/A"}},{"$error":"#N/A"},{"$error":"#N/A"},{"$f":"IF('CDC Calculations'!D27>=4,'Coded Data'!C28,\"\")","v":""},{"$f":"IF('CDC Calculations'!D27>=4,'Coded Data'!D28,\"\")","v":""},{"$f":"IF('CDC Calculations'!D27>=4,'Coded Data'!E28,\"\")","v":""},{"$f":"IF('CDC Calculations'!D27>=4,'Coded Data'!Q28,\"\")","v":""}]
[27,{"$f":"'Months 1-6'!CD43","v":0},{"$f":"'Months 7-12'!CD43","v":0},0,{"$f":"'Months 1-6'!CE46","v":0},{"$f":"'Months 7-12'!CE44","v":0},0,{"$f":"'Months 1-6'!CF47","v":0},{"$f":"'Months 7-12'!CF45","v":0},0,{"$f":"INDEX('Overall Weight'!$AB$3:$AB$38,MATCH(TRUE,INDEX('Overall Weight'!$AB$3:$AB$38<>\"\",0,0),0))","v":{"$error":"#N/A"}},{"$f":"LOOKUP(2,1/('Overall Weight'!$AB$3:$AB$38<>\"\"),'Overall Weight'!$AB$3:$AB$38)","v":{"$error":"#N/A"}},{"$error":"#N/A"},{"$error":"#N/A"},{"$f":"LOOKUP(2,1/('Overall Weight'!$AB$3:$AB$74<>\"\"),'Overall Weight'!$AB$3:$AB$74)","v":{"$error":"#N/A"}},{"$error":"#N/A"},{"$error":"#N/A"},{"$f":"IF('CDC Calculations'!D28>=4,'Coded Data'!C29,\"\")","v":""},{"$f":"IF('CDC Calculations'!D28>=4,'Coded Data'!D29,\"\")","v":""},{"$f":"IF('CDC Calculations'!D28>=4,'Coded Data'!E29,\"\")","v":""},{"$f":"IF('CDC Calculations'!D28>=4,'Coded Data'!Q29,\"\")","v":""}]
[28,{"$f":"'Months 1-6'!CG43","v":0},{"$f":"'Months 7-12'!CG43","v":0},0,{"$f":"'Months 1-6'!CH46","v":0},{"$f":"'Months 7-12'!CH44","v":0},0,{"$f":"'Months 1-6'!CI47","v":0},{"$f":"'Months 7-12'!CI45","v":0},0,{"$f":"INDEX('Overall Weight'!$AC$3:$AC$38,MATCH(TRUE,INDEX('Overall Weight'!$AC$3:$AC$38<>\"\",0,0),0))","v":{"$error":"#N/A"}},{"$f":"LOOKUP(2,1/('Overall Weight'!$AC$3:$AC$38<>\"\"),'Overall Weight'!$AC$3:$AC$38)","v":{"$error":"#N/A"}},{"$error":"#N/A"},{"$error":"#N/A"},{"$f":"LOOKUP(2,1/('Overall Weight'!$AC$3:$AC$74<>\"\"),'Overall Weight'!$AC$3:$AC$74)","v":{"$error":"#N/A"}},{"$error":"#N/A"},{"$error":"#N/A"},{"$f":"IF('CDC Calculations'!D29>=4,'Coded Data'!C30,\"\")","v":""},{"$f":"IF('CDC Calculations'!D29>=4,'Coded Data'!D30,\"\")","v":""},{"$f":"IF('CDC Calculations'!D29>=4,'Coded Data'!E30,\"\")","v":""},{"$f":"IF('CDC Calculations'!D29>=4,'Coded Data'!Q30,\"\")","v":""}]
[29,{"$f":"'Months 1-6'!CJ43","v":0},{"$f":"'Months 7-12'!CJ43","v":0},0,{"$f":"'Months 1-6'!CK46","v":0},{"$f":"'Months 7-12'!CK44","v":0},0,{"$f":"'Months 1-6'!CL47","v":0},{"$f":"'Months 7-12'!CL45","v":0},0,{"$f":"INDEX('Overall Weight'!$AD$3:$AD$38,MATCH(TRUE,INDEX('Overall Weight'!$AD$3:$AD$38<>\"\",0,0),0))","v":{"$error":"#N/A"}},{"$f":"LOOKUP(2,1/('Overall Weight'!$AD$3:$AD$38<>\"\"),'Overall Weight'!$AD$3:$AD$38)","v":{"$error":"#N/A"}},{"$error":"#N/A"},{"$error":"#N/A"},{"$f":"LOOKUP(2,1/('Overall Weight'!$AD$3:$AD$74<>\"\"),'Overall Weight'!$AD$3:$AD$74)","v":{"$error":"#N/A"}},{"$error":"#N/A"},{"$error":"#N/A"},{"$f":"IF('CDC Calculations'!D30>=4,'Coded Data'!C31,\"\")","v":""},{"$f":"IF('CDC Calculations'!D30>=4,'Coded Data'!D31,\"\")","v":""},{"$f":"IF('CDC Calculations'!D30>=4,'Coded Data'!E31,\"\")","v":""},{"$f":"IF('CDC Calculations'!D30>=4,'Coded Data'!Q31,\"\")","v":""}]
[30,{"$f":"'Months 1-6'!CM43","v":0},{"$f":"'Months 7-12'!CM43","v":0},0,{"$f":"'Months 1-6'!CN46","v":0},{"$f":"'Months 7-12'!CN44","v":0},{"$f":"E31+F31","v":0},{"$f":"'Months 1-6'!CO47","v":0},{"$f":"'Months 7-12'!CO45","v":0},{"$f":"H31+I31","v":0},{"$f":"INDEX('Overall Weight'!$AE$3:$AE$38,MATCH(TRUE,INDEX('Overall Weight'!$AE$3:$AE$38<>\"\",0,0),0))","v":{"$error":"#N/A"}},{"$f":"LOOKUP(2,1/('Overall Weight'!$AE$3:$AE$38<>\"\"),'Overall Weight'!$AE$3:$AE$38)","v":{"$error":"#N/A"}},{"$error":"#N/A"},{"$error":"#N/A"},{"$f":"LOOKUP(2,1/('Overall Weight'!$AE$3:$AE$74<>\"\"),'Overall Weight'!$AE$3:$AE$74)","v":{"$error":"#N/A"}},{"$error":"#N/A"},{"$error":"#N/A"},{"$f":"IF('CDC Calculations'!D31>=4,'Coded Data'!C32,\"\")","v":""},{"$f":"IF('CDC Calculations'!D31>=4,'Coded Data'!D32,\"\")","v":""},{"$f":"IF('CDC Calculations'!D31>=4,'Coded Data'!E32,\"\")","v":""},{"$f":"IF('CDC Calculations'!D31>=4,'Coded Data'!Q32,\"\")","v":""}]
["Total",{"$f":"SUM(B2:B31)","v":0},0,0,0,0,0,0,0,0,null,null,{"$f":"SUMIF(M2:M31,\"<>#N/A\")","v":0},null,null,{"$f":"SUMIF(P2:P31,\"<>#N/A\")","v":0},null,{"$f":"COUNTIF(R2:R31,\"1\")","v":0},{"$f":"COUNTIF(S2:S31,\"1\")","v":0},{"$f":"COUNTIF(T2:T31,\"1\")","v":0},{"$f":"COUNTIF(U2:U31,\"1\")","v":0}]
[]
[]
[]
["CDC Evaluation Calculations"]
[null,null,null,"Results","CDC Standard","Pass/Fail"]
["# of participants who attended ≥ 4 classes",null,null,{"$f":"COUNTIF(D2:D31,\">=4\")","v":0}]
["Total # of sessions attended during Months 1-6",null,null,{"$f":"SUMIF(D2:D31,\">=4\",B2:B31)","v":0}]
["Average # of sessions attended during Months 1-6",null,null,{"$f":"D39/D38","v":{"$error":"#DIV/0!"}},9,{"$f":"IF(D40>=E40, \"Pass\", \"Fail\")","v":{"$error":"#DIV/0!"}}]
["Total # of sessions attended",null,null,{"$f":"SUMIF(D2:D31,\">=4\")","v":0}]
["Total # of sessions weight documented",null,null,{"$f":"SUMIF(D2:D31,\">=4\",G2:G31)","v":0}]
["% of sessions weight was documented",null,null,{"$f":"D42/D41","v":{"$error":"#DIV/0!"}},0.8,{"$f":"IF(D43>=E43, \"Pass\", \"Fail\")","v":{"$error":"#DIV/0!"}}]
["Total # of sessions PA was documented",null,null,{"$f":"SUMIF(D2:D31,\">=4\",J2:J31)","v":0}]
["% of sessions PA was documented",null,null,{"$f":"D44/D41","v":{"$error":"#DIV/0!"}},0.6,{"$f":"IF(D45>=E45, \"Pass\", \"Fail\")","v":{"$error":"#DIV/0!"}}]
["Total % of participant weight loss end of Months 1-6",null,null,{"$f":"SUMIF(D2:D31,\">=4\",N2:N31)","v":0}]
["Average per-participant weight loss at end of Months 1-6",null,null,{"$f":"D46/D38","v":{"$error":"#DIV/0!"}},0.05,{"$f":"IF(D47>=E47, \"Pass\", \"Fail\")","v":{"$error":"#DIV/0!"}}]
["Total # of sessions attended during Months 7-12",null,null,{"$f":"SUMIF(D2:D31,\">=4\",C2:C31)","v":0}]
["Average # of sessions attended during Months 7-12",null,null,{"$f":"D48/D38","v":{"$error":"#DIV/0!"}},3,{"$f":"IF(D49>=E49, \"Pass\", \"Fail\")","v":{"$error":"#DIV/0!"}}]
["Total % of participant weight loss at 12 months",null,null,{"$f":"SUMIF(D2:D31,\">=4\",Q2:Q31)","v":0}]
["Average per-participant weight loss at end of Months 7-12",null,null,{"$f":"D50/D38","v":{"$error":"#DIV/0!"}},0.05,{"$f":"IF(D51>=E51, \"Pass\", \"Fail\")","v":{"$error":"#DIV/0!"}}]
["Total Weight loss after Months 1-6",null,null,{"$f":"SUMIF(D2:D31,\">=4\",M2:M31)","v":0}]
["Total Weight loss after Months 7-12",null,null,{"$f":"SUMIF(D2:D31,\">=4\",P2:P31)","v":0}]
["# Eligible - Glucose Test and GDM",null,null,{"$f":"R32+S32","v":0}]
["# Eligible - Risk Test and Not Eligible ",null,null,{"$f":"T32+U32","v":0}]
["# Eligible - Risk Test",null,null,{"$f":"T32","v":0}]
["% Eligible - Glucose Test or GDM",null,null,{"$f":"D54/(D54+D56)","v":{"$error":"#DIV/0!"}},0.5,{"$f":"IF(D57>=E57, \"Pass\", \"Fail\")","v":{"$error":"#DIV/0!"}}]
["% Eligible - Risk Test ",null,null,{"$f":"D56/(D54+D56)","v":{"$error":"#DIV/0!"}}]

{"sheet":"Progress Reports","index":13,"n_rows":26,"n_cols":270,"rows_kept":26,"cut":false,"hidden":true,"merged":[[6,268,6,269],[7,261,11,261],[7,263,7,266],[12,261,19,261],[21,261,21,267],[25,255,25,257],[0,261,0,262],[0,263,0,266],[1,261,1,262],[3,261,3,262],[4,261,4,262],[6,263,6,266],[22,261,22,262],[22,264,22,266],[23,261,23,262],[23,264,23,266],[24,261,24,262],[24,264,24,266],[25,261,25,262],[25,264,25,266],[22,255,22,257],[0,254,0,257],[23,252,23,253],[23,255,23,257],[24,252,24,253],[24,255,24,257],[6,259,6,260],[7,252,11,252],[7,254,7,257],[12,252,19,252],[21,252,21,258],[1,252,1,253],[3,252,3,253],[4,252,4,253],[6,254,6,257],[24,243,24,244],[24,246,24,248],[25,243,25,244],[25,246,25,248],[0,252,0,253],[22,252,22,253],[25,252,25,253],[21,243,21,249],[22,243,22,244],[22,246,22,248],[23,243,23,244],[23,246,23,248],[6,245,6,248],[6,250,6,251],[7,243,11,243],[7,245,7,248],[12,243,19,243],[0,243,0,244],[0,245,0,248],[1,243,1,244],[3,243,3,244],[4,243,4,244],[6,241,6,242],[7,234,11,234],[7,236,7,239],[12,234,19,234],[21,234,21,240],[25,228,25,230],[0,234,0,235],[0,236,0,239],[1,234,1,235],[3,234,3,235],[4,234,4,235],[6,236,6,239],[22,234,22,235],[22,237,22,239],[23,234,23,235],[23,237,23,239],[24,234,24,235],[24,237,24,239],[25,234,25,235],[25,237,25,239],[22,228,22,230],[0,227,0,230],[23,225,23,226],[23,228,23,230],[24,225,24,226],[24,228,24,230],[6,232,6,233],[7,225,11,225],[7,227,7,230],[12,225,19,225],[21,225,21,231],[1,225,1,226],[3,225,3,226],[4,225,4,226],[6,227,6,230],[24,216,24,217],[24,219,24,221],[25,216,25,217],[25,219,25,221],[0,225,0,226],[22,225,22,226],[25,225,25,226],[21,216,21,222],[22,216,22,217],[22,219,22,221],[23,216,23,217],[23,219,23,221],[6,218,6,221],[6,223,6,224],[7,216,11,216],[7,218,7,221],[12,216,19,216],[0,216,0,217],[0,218,0,221],[1,216,1,217],[3,216,3,217],[4,216,4,217],[6,214,6,215],[7,207,11,207],[7,209,7,212],[12,207,19,207],[21,207,21,213],[25,201,25,203],[0,207,0,208],[0,209,0,212],[1,207,1,208],[3,207,3,208],[4,207,4,208],[6,209,6,212],[22,207,22,208],[22,210,22,212],[23,207,23,208],[23,210,23,212],[24,207,24,208],[24,210,24,212],[25,207,25,208],[25,210,25,212],[22,201,22,203],[0,200,0,203],[23,198,23,199],[23,201,23,203],[24,198,24,199],[24,201,24,203],[6,205,6,206],[7,198,11,198],[7,200,7,203],[12,198,19,198],[21,198,21,204],[1,198,1,199],[3,198,3,199],[4,198,4,199],[6,200,6,203],[24,189,24,190],[24,192,24,194],[25,189,25,190],[25,192,25,194],[0,198,0,199],[22,198,22,199],[25,198,25,199],[21,189,21,195],[22,189,22,190],[22,192,22,194],[23,189,23,190],[23,192,23,194],[6,191,6,194],[6,196,6,197],[7,189,11,189],[7,191,7,194],[12,189,19,189],[0,189,0,190],[0,191,0,194],[1,189,1,190],[3,189,3,190],[4,189,4,190],[6,187,6,188],[7,180,11,180],[7,182,7,185],[12,180,19,180],[21,180,21,186],[25,174,25,176],[0,180,0,181],[0,182,0,185],[1,180,1,181],[3,180,3,181],[4,180,4,181],[6,182,6,185],[22,180,22,181],[22,183,22,185],[23,180,23,181],[23,183,23,185],[24,180,24,181],[24,183,24,185],[25,180,25,181],[25,183,25,185],[22,174,22,176],[0,173,0,176],[23,171,23,172],[23,174,23,176],[24,171,24,172],[24,174,24,176],[6,178,6,179],[7,171,11,171],[7,173,7,176],[12,171,19,171],[21,171,21,177],[1,171,1,172],[3,171,3,172],[4,171,4,172],[6,173,6,176],[24,162,24,163],[24,165,24,167],[25,162,25,163],[25,165,25,167],[0,171,0,172],[22,171,22,172],[25,171,25,172],[21,162,21,168],[22,162,22,163],[22,165,22,167],[23,162,23,163],[23,165,23,167],[6,164,6,167],[6,169,6,170],[7,162,11,162],[7,164,7,167],[12,162,19,162],[0,162,0,163],[0,164,0,167],[1,162,1,163],[3,162,3,163],[4,162,4,163],[23,153,23,154],[23,156,23,158],[24,153,24,154],[24,156,24,158],[25,153,25,154],[25,156,25,158],[7,153,11,153],[7,155,7,158],[12,153,19,153],[21,153,21,159],[22,153,22,154],[22,156,22,158],[6,160,6,161],[25,138,25,140],[0,144,0,145],[0,146,0,149],[1,144,1,145],[3,144,3,145],[4,144,4,145],[6,146,6,149],[22,144,22,145],[22,147,22,149],[23,144,23,145],[23,147,23,149],[24,144,24,145],[24,147,24,149],[25,144,25,145],[25,147,25,149],[22,138,22,140],[23,138,23,140],[24,138,24,140],[6,142,6,143],[7,135,11,135],[7,137,7,140],[12,135,19,135],[21,135,21,141],[6,151,6,152],[7,144,11,144],[7,146,7,149],[12,144,19,144],[21,144,21,150],[0,135,0,136],[0,137,0,140],[1,135,1,136],[3,135,3,136],[4,135,4,136],[6,137,6,140],[3,153,3,154],[4,153,4,154],[0,155,0,158],[6,155,6,158],[0,153,0,154],[1,153,1,154],[24,126,24,127],[24,129,24,131],[25,126,25,127],[25,129,25,131],[22,135,22,136],[25,135,25,136],[21,126,21,132],[22,126,22,127],[22,129,22,131],[23,126,23,127],[23,129,23,131],[23,135,23,136],[24,135,24,136],[6,128,6,131],[6,133,6,134],[7,126,11,126],[7,128,7,131],[12,126,19,126],[0,126,0,127],[0,128,0,131],[1,126,1,127],[3,126,3,127],[4,126,4,127],[6,124,6,125],[7,117,11,117],[7,119,7,122],[12,117,19,117],[21,117,21,123],[25,108,25,109],[25,111,25,113],[0,117,0,118],[0,119,0,122],[1,117,1,118],[3,117,3,118],[4,117,4,118],[6,119,6,122],[22,117,22,118],[22,120,22,122],[23,117,23,118],[23,120,23,122],[24,117,24,118],[24,120,24,122],[25,117,25,118],[25,120,25,122],[22,108,22,109],[22,111,22,113],[23,108,23,109],[23,111,23,113],[24,108,24,109],[24,111,24,113],[6,115,6,116],[7,108,11,108],[7,110,7,113],[12,108,19,108],[21,108,21,114],[23,99,23,100],[23,102,23,104],[24,99,24,100],[24,102,24,104],[25,99,25,100],[25,102,25,104],[7,99,11,99],[7,101,7,104],[12,99,19,99],[21,99,21,105],[22,99,22,100],[22,102,22,104],[0,90,0,91],[0,92,0,95],[1,90,1,91],[3,90,3,91],[4,90,4,91],[6,92,6,95],[7,90,11,90],[7,92,7,95],[0,99,0,100],[0,101,0,104],[1,99,1,100],[3,99,3,100],[4,99,4,100],[0,108,0,109],[6,97,6,98],[6,101,6,104],[6,106,6,107],[0,110,0,113],[1,108,1,109],[3,108,3,109],[4,108,4,109],[6,110,6,113],[25,81,25,82],[25,84,25,86],[12,90,19,90],[21,90,21,96],[22,90,22,91],[22,93,22,95],[23,90,23,91],[23,93,23,95],[24,90,24,91],[24,93,24,95],[25,90,25,91],[25,93,25,95],[22,81,22,82],[22,84,22,86],[23,81,23,82],[23,84,23,86],[24,81,24,82],[24,84,24,86],[6,88,6,89],[7,81,11,81],[7,83,7,86],[12,81,19,81],[21,81,21,87],[23,72,23,73],[23,75,23,77],[24,72,24,73],[24,75,24,77],[25,72,25,73],[25,75,25,77],[7,72,11,72],[7,74,7,77],[12,72,19,72],[21,72,21,78],[22,72,22,73],[22,75,22,77],[0,63,0,64],[0,65,0,68],[1,63,1,64],[3,63,3,64],[4,63,4,64],[6,65,6,68],[7,63,11,63],[7,65,7,68],[0,72,0,73],[0,74,0,77],[1,72,1,73],[3,72,3,73],[4,72,4,73],[0,81,0,82],[0,83,0,86],[6,70,6,71],[6,74,6,77],[6,79,6,80],[1,81,1,82],[3,81,3,82],[4,81,4,82],[6,83,6,86],[25,57,25,59],[12,63,19,63],[21,63,21,69],[22,63,22,64],[22,66,22,68],[23,63,23,64],[23,66,23,68],[24,63,24,64],[24,66,24,68],[25,63,25,64],[25,66,25,68],[22,57,22,59],[23,54,23,55],[23,57,23,59],[24,54,24,55],[24,57,24,59],[6,61,6,62],[7,54,11,54],[7,56,7,59],[12,54,19,54],[21,54,21,60],[0,56,0,59],[1,54,1,55],[3,54,3,55],[4,54,4,55],[6,56,6,59],[24,45,24,46],[24,48,24,50],[25,45,25,46],[25,48,25,50],[0,54,0,55],[22,54,22,55],[25,54,25,55],[21,45,21,51],[22,45,22,46],[22,48,22,50],[23,45,23,46],[23,48,23,50],[6,47,6,50],[6,52,6,53],[7,45,11,45],[7,47,7,50],[12,45,19,45],[0,45,0,46],[0,47,0,50],[1,45,1,46],[3,45,3,46],[4,45,4,46],[25,36,25,37],[25,39,25,41],[22,36,22,37],[22,39,22,41],[23,36,23,37],[23,39,23,41],[24,36,24,37],[24,39,24,41],[6,43,6,44],[7,36,11,36],[7,38,7,41],[12,36,19,36],[21,36,21,42],[0,38,0,41],[1,36,1,37],[3,36,3,37],[4,36,4,37],[6,38,6,41],[6,34,6,35],[7,27,11,27],[7,29,7,32],[12,27,19,27],[0,36,0,37],[25,18,25,19],[25,21,25,23],[25,27,25,28],[25,30,25,32],[0,18,0,19],[0,20,0,23],[1,18,1,19],[3,18,3,19],[4,18,4,19],[6,20,6,23],[6,25,6,26],[7,18,11,18],[7,20,7,23],[12,18,19,18],[0,27,0,28],[0,29,0,32],[23,18,23,19],[23,21,23,23],[23,27,23,28],[23,30,23,32],[24,18,24,19],[24,21,24,23],[24,27,24,28],[24,30,24,32],[21,18,21,24],[21,27,21,33],[22,18,22,19],[22,21,22,23],[22,27,22,28],[22,30,22,32],[1,27,1,28],[3,27,3,28],[4,27,4,28],[6,29,6,32],[24,9,24,10],[24,12,24,14],[25,9,25,10],[25,12,25,14],[21,9,21,15],[22,9,22,10],[22,12,22,14],[23,9,23,10],[23,12,23,14],[6,11,6,14],[6,16,6,17],[7,9,11,9],[7,11,7,14],[12,9,19,9],[0,9,0,10],[0,11,0,14],[1,9,1,10],[3,9,3,10],[4,9,4,10],[22,3,22,5],[23,3,23,5],[24,3,24,5],[25,3,25,5],[21,0,21,6],[22,0,22,1],[23,0,23,1],[24,0,24,1],[25,0,25,1],[12,0,19,0],[6,2,6,5],[0,0,0,1],[1,0,1,1],[6,7,6,8],[7,2,7,5],[7,0,11,0],[0,2,0,5],[3,0,3,1],[4,0,4,1]]}
["Participant Name:",null,{"$f":"Demographics!B10","v":0},null,null,null,null,null,null,"Participant Name:",null,{"$f":"Demographics!B11","v":0},null,null,null,null,null,null,"Participant Name:",null,{"$f":"Demographics!B12","v":0},null,null,null,null,null,null,"Participant Name:",null,{"$f":"Demographics!B13","v":0},null,null,null,null,null,null,"Participant Name:",null,{"$f":"Demographics!B14","v":0},null,null,null,null,null,null,"Participant Name:",null,{"$f":"Demographics!B15","v":0},null,null,null,null,null,null,"Participant Name:",null,{"$f":"Demographics!B16","v":0},null,null,null,null,null,null,"Participant Name:",null,{"$f":"Demographics!B17","v":0},null,null,null,null,null,null,"Participant Name:",null,{"$f":"Demographics!B18","v":0},null,null,null,null,null,null,"Participant Name:",null,{"$f":"Demographics!B19","v":0},null,null,null,null,null,null,"Participant Name:",null,{"$f":"Demographics!B20","v":0},null,null,null,null,null,null,"Participant Name:",null,{"$f":"Demographics!B21","v":0},null,null,null,null,null,null,"Participant Name:",null,{"$f":"Demographics!B22","v":0},null,null,null,null,null,null,"Participant Name:",null,{"$f":"Demographics!B23","v":0},null,null,null,null,null,null,"Participant Name:",null,{"$f":"Demographics!B24","v":0},null,null,null,null,null,null,"Participant Name:",null,{"$f":"Demographics!B25","v":0},null,null,null,null,null,null,"Participant Name:",null,{"$f":"Demographics!B26","v":0},null,null,null,null,null,null,"Participant Name:",null,{"$f":"Demographics!B27","v":0},null,null,null,null,null,null,"Participant Name:",null,{"$f":"Demographics!B28","v":0},null,null,null,null,null,null,"Participant Name:",null,{"$f":"Demographics!B29","v":0},null,null,null,null,null,null,"Participant Name:",null,{"$f":"Demographics!B30","v":0},null,null,null,null,null,null,"Participant Name:",null,{"$f":"Demographics!B31","v":0},null,null,null,null,null,null,"Participant Name:",null,{"$f":"Demographics!B32","v":0},null,null,null,null,null,null,"Participant Name:",null,{"$f":"Demographics!B33","v":0},null,null,null,null,null,null,"Participant Name:",null,{"$f":"Demographics!B34","v":0},null,null,null,null,null,null,"Participant Name:",null,{"$f":"Demographics!B35","v":0},null,null,null,null,null,null,"Participant Name:",null,{"$f":"Demographics!B36","v":0},null,null,null,null,null,null,"Participant Name:",null,{"$f":"Demographics!B37","v":0},null,null,null,null,null,null,"Participant Name:",null,{"$f":"Demographics!B38","v":0},null,null,null,null,null,null,"Participant Name:",null,{"$f":"Demographics!B39","v":0}]
[]
["Class Information",null,null,null,null,null,null,null,null,"Class Information",null,null,null,null,null,null,null,null,"Class Information",null,null,null,null,null,null,null,null,"Class Information",null,null,null,null,null,null,null,null,"Class Information",null,null,null,null,null,null,null,null,"Class Information",null,null,null,null,null,null,null,null,"Class Information",null,null,null,null,null,null,null,null,"Class Information",null,null,null,null,null,null,null,null,"Class Information",null,null,null,null,null,null,null,null,"Class Information",null,null,null,null,null,null,null,null,"Class Information",null,null,null,null,null,null,null,null,"Class Information",null,null,null,null,null,null,null,null,"Class Information",null,null,null,null,null,null,null,null,"Class Information",null,null,null,null,null,null,null,null,"Class Information",null,null,null,null,null,null,null,null,"Class Information",null,null,null,null,null,null,null,null,"Class Information",null,null,null,null,null,null,null,null,"Class Information",null,null,null,null,null,null,null,null,"Class Information",null,null,null,null,null,null,null,null,"Class Information",null,null,null,null,null,null,null,null,"Class Information",null,null,null,null,null,null,null,null,"Class Information",null,null,null,null,null,null,null,null,"Class Information",null,null,null,null,null,null,null,null,"Class Information",null,null,null,null,null,null,null,null,"Class Information",null,null,null,null,null,null,null,null,"Class Information",null,null,null,null,null,null,null,null,"Class Information",null,null,null,null,null,null,null,null,"Class Information",null,null,null,null,null,null,null,null,"Class Information",null,null,null,null,null,null,null,null,"Class Information"]
["Lifestyle Coach:",null,{"$f":"Demographics!$B$4","v":0},null,null,null,"Location:",{"$f":"Demographics!$B$5","v":0},null,"Lifestyle Coach:",null,{"$f":"Demographics!$B$4","v":0},null,null,null,"Location:",{"$f":"Demographics!$B$5","v":0},null,"Lifestyle Coach:",null,{"$f":"Demographics!$B$4","v":0},null,null,null,"Location:",{"$f":"Demographics!$B$5","v":0},null,"Lifestyle Coach:",null,{"$f":"Demographics!$B$4","v":0},null,null,null,"Location:",{"$f":"Demographics!$B$5","v":0},null,"Lifestyle Coach:",null,{"$f":"Demographics!$B$4","v":0},null,null,null,"Location:",{"$f":"Demographics!$B$5","v":0},null,"Lifestyle Coach:",null,{"$f":"Demographics!$B$4","v":0},null,null,null,"Location:",{"$f":"Demographics!$B$5","v":0},null,"Lifestyle Coach:",null,{"$f":"Demographics!$B$4","v":0},null,null,null,"Location:",{"$f":"Demographics!$B$5","v":0},null,"Lifestyle Coach:",null,{"$f":"Demographics!$B$4","v":0},null,null,null,"Location:",{"$f":"Demographics!$B$5","v":0},null,"Lifestyle Coach:",null,{"$f":"Demographics!$B$4","v":0},null,null,null,"Location:",{"$f":"Demographics!$B$5","v":0},null,"Lifestyle Coach:",null,{"$f":"Demographics!$B$4","v":0},null,null,null,"Location:",{"$f":"Demographics!$B$5","v":0},null,"Lifestyle Coach:",null,{"$f":"Demographics!$B$4","v":0},null,null,null,"Location:",{"$f":"Demographics!$B$5","v":0},null,"Lifestyle Coach:",null,{"$f":"Demographics!$B$4","v":0},null,null,null,"Location:",{"$f":"Demographics!$B$5","v":0},null,"Lifestyle Coach:",null,{"$f":"Demographics!$B$4","v":0},null,null,null,"Location:",{"$f":"Demographics!$B$5","v":0},null,"Lifestyle Coach:",null,{"$f":"Demographics!$B$4","v":0},null,null,null,"Location:",{"$f":"Demographics!$B$5","v":0},null,"Lifestyle Coach:",null,{"$f":"Demographics!$B$4","v":0},null,null,null,"Location:",{"$f":"Demographics!$B$5","v":0},null,"Lifestyle Coach:",null,{"$f":"Demographics!$B$4","v":0},null,null,null,"Location:",{"$f":"Demographics!$B$5","v":0},null,"Lifestyle Coach:",null,{"$f":"Demographics!$B$4","v":0},null,null,null,"Location:",{"$f":"Demographics!$B$5","v":0},null,"Lifestyle Coach:",null,{"$f":"Demographics!$B$4","v":0},null,null,null,"Location:",{"$f":"Demographics!$B$5","v":0},null,"Lifestyle Coach:",null,{"$f":"Demographics!$B$4","v":0},null,null,null,"Location:",{"$f":"Demographics!$B$5","v":0},null,"Lifestyle Coach:",null,{"$f":"Demographics!$B$4","v":0},null,null,null,"Location:",{"$f":"Demographics!$B$5","v":0},null,"Lifestyle Coach:",null,{"$f":"Demographics!$B$4","v":0},null,null,null,"Location:",{"$f":"Demographics!$B$5","v":0},null,"Lifestyle Coach:",null,{"$f":"Demographics!$B$4","v":0},null,null,null,"Location:",{"$f":"Demographics!$B$5","v":0},null,"Lifestyle Coach:",null,{"$f":"Demographics!$B$4","v":0},null,null,null,"Location:",{"$f":"Demographics!$B$5","v":0},null,"Lifestyle Coach:",null,{"$f":"Demographics!$B$4","v":0},null,null,null,"Location:",{"$f":"Demographics!$B$5","v":0},null,"Lifestyle Coach:",null,{"$f":"Demographics!$B$4","v":0},null,null,null,"Location:",{"$f":"Demographics!$B$5","v":0},null,"Lifestyle Coach:",null,{"$f":"Demographics!$B$4","v":0},null,null,null,"Location:",{"$f":"Demographics!$B$5","v":0},null,"Lifestyle Coach:",null,{"$f":"Demographics!$B$4","v":0},null,null,null,"Location:",{"$f":"Demographics!$B$5","v":0},null,"Lifestyle Coach:",null,{"$f":"Demographics!$B$4","v":0},null,null,null,"Location:",{"$f":"Demographics!$B$5","v":0},null,"Lifestyle Coach:",null,{"$f":"Demographics!$B$4","v":0},null,null,null,"Location:",{"$f":"Demographics!$B$5","v":0},null,"Lifestyle Coach:",null,{"$f":"Demographics!$B$4","v":0},null,null,null,"Location:",{"$f":"Demographics!$B$5","v":0}]
["Organization:",null,{"$f":"Demographics!$B$3","v":0},null,null,null,"Start Date:",{"$f":"Demographics!$B$7","v":"00:00:00"},null,"Organization:",null,{"$f":"Demographics!$B$3","v":0},null,null,null,"Start Date:",{"$f":"Demographics!$B$7","v":"00:00:00"},null,"Organization:",null,{"$f":"Demographics!$B$3","v":0},null,null,null,"Start Date:",{"$f":"Demographics!$B$7","v":"00:00:00"},null,"Organization:",null,{"$f":"Demographics!$B$3","v":0},null,null,null,"Start Date:",{"$f":"Demographics!$B$7","v":"00:00:00"},null,"Organization:",null,{"$f":"Demographics!$B$3","v":0},null,null,null,"Start Date:",{"$f":"Demographics!$B$7","v":"00:00:00"},null,"Organization:",null,{"$f":"Demographics!$B$3","v":0},null,null,null,"Start Date:",{"$f":"Demographics!$B$7","v":"00:00:00"},null,"Organization:",null,{"$f":"Demographics!$B$3","v":0},null,null,null,"Start Date:",{"$f":"Demographics!$B$7","v":"00:00:00"},null,"Organization:",null,{"$f":"Demographics!$B$3","v":0},null,null,null,"Start Date:",{"$f":"Demographics!$B$7","v":"00:00:00"},null,"Organization:",null,{"$f":"Demographics!$B$3","v":0},null,null,null,"Start Date:",{"$f":"Demographics!$B$7","v":"00:00:00"},null,"Organization:",null,{"$f":"Demographics!$B$3","v":0},null,null,null,"Start Date:",{"$f":"Demographics!$B$7","v":"00:00:00"},null,"Organization:",null,{"$f":"Demographics!$B$3","v":0},null,null,null,"Start Date:",{"$f":"Demographics!$B$7","v":"00:00:00"},null,"Organization:",null,{"$f":"Demographics!$B$3","v":0},null,null,null,"Start Date:",{"$f":"Demographics!$B$7","v":"00:00:00"},null,"Organization:",null,{"$f":"Demographics!$B$3","v":0},null,null,null,"Start Date:",{"$f":"Demographics!$B$7","v":"00:00:00"},null,"Organization:",null,{"$f":"Demographics!$B$3","v":0},null,null,null,"Start Date:",{"$f":"Demographics!$B$7","v":"00:00:00"},null,"Organization:",null,{"$f":"Demographics!$B$3","v":0},null,null,null,"Start Date:",{"$f":"Demographics!$B$7","v":"00:00:00"},null,"Organization:",null,{"$f":"Demographics!$B$3","v":0},null,null,null,"Start Date:",{"$f":"Demographics!$B$7","v":"00:00:00"},null,"Organization:",null,{"$f":"Demographics!$B$3","v":0},null,null,null,"Start Date:",{"$f":"Demographics!$B$7","v":"00:00:00"},null,"Organization:",null,{"$f":"Demographics!$B$3","v":0},null,null,null,"Start Date:",{"$f":"Demographics!$B$7","v":"00:00:00"},null,"Organization:",null,{"$f":"Demographics!$B$3","v":0},null,null,null,"Start Date:",{"$f":"Demographics!$B$7","v":"00:00:00"},null,"Organization:",null,{"$f":"Demographics!$B$3","v":0},null,null,null,"Start Date:",{"$f":"Demographics!$B$7","v":"00:00:00"},null,"Organization:",null,{"$f":"Demographics!$B$3","v":0},null,null,null,"Start Date:",{"$f":"Demographics!$B$7","v":"00:00:00"},null,"Organization:",null,{"$f":"Demographics!$B$3","v":0},null,null,null,"Start Date:",{"$f":"Demographics!$B$7","v":"00:00:00"},null,"Organization:",null,{"$f":"Demographics!$B$3","v":0},null,null,null,"Start Date:",{"$f":"Demographics!$B$7","v":"00:00:00"},null,"Organization:",null,{"$f":"Demographics!$B$3","v":0},null,null,null,"Start Date:",{"$f":"Demographics!$B$7","v":"00:00:00"},null,"Organization:",null,{"$f":"Demographics!$B$3","v":0},null,null,null,"Start Date:",{"$f":"Demographics!$B$7","v":"00:00:00"},null,"Organization:",null,{"$f":"Demographics!$B$3","v":0},null,null,null,"Start Date:",{"$f":"Demographics!$B$7","v":"00:00:00"},null,"Organization:",null,{"$f":"Demographics!$B$3","v":0},null,null,null,"Start Date:",{"$f":"Demographics!$B$7","v":"00:00:00"},null,"Organization:",null,{"$f":"Demographics!$B$3","v":0},null,null,null,"Start Date:",{"$f":"Demographics!$B$7","v":"00:00:00"},null,"Organization:",null,{"$f":"Demographics!$B$3","v":0},null,null,null,"Start Date:",{"$f":"Demographics!$B$7","v":"00:00:00"},null,"Organization:",null,{"$f":"Demographics!$B$3","v":0},null,null,null,"Start Date:",{"$f":"Demographics!$B$7","v":"00:00:00"}]
[]
[null,"Month #","Attendance",null,null,null,"End of Month Weight","Average Physical Activity",null,null,"Month #","Attendance",null,null,null,"End of Month Weight","Average Physical Activity",null,null,"Month #","Attendance",null,null,null,"End of Month Weight","Average Physical Activity",null,null,"Month #","Attendance",null,null,null,"End of Month Weight","Average Physical Activity",null,null,"Month #","Attendance",null,null,null,"End of Month Weight","Average Physical Activity",null,null,"Month #","Attendance",null,null,null,"End of Month Weight","Average Physical Activity",null,null,"Month #","Attendance",null,null,null,"End of Month Weight","Average Physical Activity",null,null,"Month #","Attendance",null,null,null,"End of Month Weight","Average Physical Activity",null,null,"Month #","Attendance",null,null,null,"End of Month Weight","Average Physical Activity",null,null,"Month #","Attendance",null,null,null,"End of Month Weight","Average Physical Activity",null,null,"Month #","Attendance",null,null,null,"End of Month Weight","Average Physical Activity",null,null,"Month #","Attendance",null,null,null,"End of Month Weight","Average Physical Activity",null,null,"Month #","Attendance",null,null,null,"End of Month Weight","Average Physical Activity",null,null,"Month #","Attendance",null,null,null,"End of Month Weight","Average Physical Activity",null,null,"Month #","Attendance",null,null,null,"End of Month Weight","Average Physical Activity",null,null,"Month #","Attendance",null,null,null,"End of Month Weight","Average Physical Activity",null,null,"Month #","Attendance",null,null,null,"End of Month Weight","Average Physical Activity",null,null,"Month #","Attendance",null,null,null,"End of Month Weight","Average Physical Activity",null,null,"Month #","Attendance",null,null,null,"End of Month Weight","Average Physical Activity",null,null,"Month #","Attendance",null,null,null,"End of Month Weight","Average Physical Activity",null,null,"Month #","Attendance",null,null,null,"End of Month Weight","Average Physical Activity",null,null,"Month #","Attendance",null,null,null,"End of Month Weight","Average Physical Activity",null,null,"Month #","Attendance",null,null,null,"End of Month Weight","Average Physical Activity",null,null,"Month #","Attendance",null,null,null,"End of Month Weight","Average Physical Activity",null,null,"Month #","Attendance",null,null,null,"End of Month Weight","Average Physical Activity",null,null,"Month #","Attendance",null,null,null,"End of Month Weight","Average Physical Activity",null,null,"Month #","Attendance",null,null,null,"End of Month Weight","Average Physical Activity",null,null,"Month #","Attendance",null,null,null,"End of Month Weight","Average Physical Activity",null,null,"Month #","Attendance",null,null,null,"End of Month Weight","Average Physical Activity",null,null,"Month #","Attendance",null,null,null,"End of Month Weight","Average Physical Activity"]
["Phase 1",0,"Start Weight",null,null,null,{"$f":"INDEX('Overall Weight'!$B$3:$B$74,MATCH(TRUE,INDEX('Overall Weight'!$B$3:$B$74<>\"\",0,0),0))","v":{"$error":"#N/A"}},"-","-","Phase 1",0,"Start Weight",null,null,null,{"$f":"INDEX('Overall Weight'!$C$3:$C$74,MATCH(TRUE,INDEX('Overall Weight'!$C$3:$C$74<>\"\",0,0),0))","v":{"$error":"#N/A"}},"-","-","Phase 1",0,"Start Weight",null,null,null,{"$f":"INDEX('Overall Weight'!$D$3:$D$74,MATCH(TRUE,INDEX('Overall Weight'!$D$3:$D$74<>\"\",0,0),0))","v":{"$error":"#N/A"}},"-","-","Phase 1",0,"Start Weight",null,null,null,{"$f":"INDEX('Overall Weight'!$E$3:$E$74,MATCH(TRUE,INDEX('Overall Weight'!$E$3:$E$74<>\"\",0,0),0))","v":{"$error":"#N/A"}},"-","-","Phase 1",0,"Start Weight",null,null,null,{"$f":"INDEX('Overall Weight'!$F$3:$F$74,MATCH(TRUE,INDEX('Overall Weight'!$F$3:$F$74<>\"\",0,0),0))","v":{"$error":"#N/A"}},"-","-","Phase 1",0,"Start Weight",null,null,null,{"$f":"INDEX('Overall Weight'!$G$3:$G$74,MATCH(TRUE,INDEX('Overall Weight'!$G$3:$G$74<>\"\",0,0),0))","v":{"$error":"#N/A"}},"-","-","Phase 1",0,"Start Weight",null,null,null,{"$f":"INDEX('Overall Weight'!$H$3:$H$74,MATCH(TRUE,INDEX('Overall Weight'!$H$3:$H$74<>\"\",0,0),0))","v":{"$error":"#N/A"}},"-","-","Phase 1",0,"Start Weight",null,null,null,{"$f":"INDEX('Overall Weight'!$I$3:$I$74,MATCH(TRUE,INDEX('Overall Weight'!$I$3:$I$74<>\"\",0,0),0))","v":{"$error":"#N/A"}},"-","-","Phase 1",0,"Start Weight",null,null,null,{"$f":"INDEX('Overall Weight'!$J$3:$J$74,MATCH(TRUE,INDEX('Overall Weight'!$J$3:$J$74<>\"\",0,0),0))","v":{"$error":"#N/A"}},"-","-","Phase 1",0,"Start Weight",null,null,null,{"$f":"INDEX('Overall Weight'!$K$3:$K$74,MATCH(TRUE,INDEX('Overall Weight'!$K$3:$K$74<>\"\",0,0),0))","v":{"$error":"#N/A"}},"-","-","Phase 1",0,"Start Weight",null,null,null,{"$f":"INDEX('Overall Weight'!$L$3:$L$74,MATCH(TRUE,INDEX('Overall Weight'!$L$3:$L$74<>\"\",0,0),0))","v":{"$error":"#N/A"}},"-","-","Phase 1",0,"Start Weight",null,null,null,{"$f":"INDEX('Overall Weight'!$M$3:$M$74,MATCH(TRUE,INDEX('Overall Weight'!$M$3:$M$74<>\"\",0,0),0))","v":{"$error":"#N/A"}},"-","-","Phase 1",0,"Start Weight",null,null,null,{"$f":"INDEX('Overall Weight'!$N$3:$N$74,MATCH(TRUE,INDEX('Overall Weight'!$N$3:$N$74<>\"\",0,0),0))","v":{"$error":"#N/A"}},"-","-","Phase 1",0,"Start Weight",null,null,null,{"$f":"INDEX('Overall Weight'!$O$3:$O$74,MATCH(TRUE,INDEX('Overall Weight'!$O$3:$O$74<>\"\",0,0),0))","v":{"$error":"#N/A"}},"-","-","Phase 1",0,"Start Weight",null,null,null,{"$f":"INDEX('Overall Weight'!$P$3:$P$74,MATCH(TRUE,INDEX('Overall Weight'!$P$3:$P$74<>\"\",0,0),0))","v":{"$error":"#N/A"}},"-","-","Phase 1",0,"Start Weight",null,null,null,{"$f":"INDEX('Overall Weight'!$Q$3:$Q$74,MATCH(TRUE,INDEX('Overall Weight'!$Q$3:$Q$74<>\"\",0,0),0))","v":{"$error":"#N/A"}},"-","-","Phase 1",0,"Start Weight",null,null,null,{"$f":"INDEX('Overall Weight'!$R$3:$R$74,MATCH(TRUE,INDEX('Overall Weight'!$R$3:$R$74<>\"\",0,0),0))","v":{"$error":"#N/A"}},"-","-","Phase 1",0,"Start Weight",null,null,null,{"$f":"INDEX('Overall Weight'!$S$3:$S$74,MATCH(TRUE,INDEX('Overall Weight'!$S$3:$S$74<>\"\",0,0),0))","v":{"$error":"#N/A"}},"-","-","Phase 1",0,"Start Weight",null,null,null,{"$f":"INDEX('Overall Weight'!$T$3:$T$74,MATCH(TRUE,INDEX('Overall Weight'!$T$3:$T$74<>\"\",0,0),0))","v":{"$error":"#N/A"}},"-","-","Phase 1",0,"Start Weight",null,null,null,{"$f":"INDEX('Overall Weight'!$U$3:$U$74,MATCH(TRUE,INDEX('Overall Weight'!$U$3:$U$74<>\"\",0,0),0))","v":{"$error":"#N/A"}},"-","-","Phase 1",0,"Start Weight",null,null,null,{"$f":"INDEX('Overall Weight'!$V$3:$V$74,MATCH(TRUE,INDEX('Overall Weight'!$V$3:$V$74<>\"\",0,0),0))","v":{"$error":"#N/A"}},"-","-","Phase 1",0,"Start Weight",null,null,null,{"$f":"INDEX('Overall Weight'!$W$3:$W$74,MATCH(TRUE,INDEX('Overall Weight'!$W$3:$W$74<>\"\",0,0),0))","v":{"$error":"#N/A"}},"-","-","Phase 1",0,"Start Weight",null,null,null,{"$f":"INDEX('Overall Weight'!$X$3:$X$74,MATCH(TRUE,INDEX('Overall Weight'!$X$3:$X$74<>\"\",0,0),0))","v":{"$error":"#N/A"}},"-","-","Phase 1",0,"Start Weight",null,null,null,{"$f":"INDEX('Overall Weight'!$Y$3:$Y$74,MATCH(TRUE,INDEX('Overall Weight'!$Y$3:$Y$74<>\"\",0,0),0))","v":{"$error":"#N/A"}},"-","-","Phase 1",0,"Start Weight",null,null,null,{"$f":"INDEX('Overall Weight'!$Z$3:$Z$74,MATCH(TRUE,INDEX('Overall Weight'!$Z$3:$Z$74<>\"\",0,0),0))","v":{"$error":"#N/A"}},"-","-","Phase 1",0,"Start Weight",null,null,null,{"$f":"INDEX('Overall Weight'!$AA$3:$AA$74,MATCH(TRUE,INDEX('Overall Weight'!$AA$3:$AA$74<>\"\",0,0),0))","v":{"$error":"#N/A"}},"-","-","Phase 1",0,"Start Weight",null,null,null,{"$f":"INDEX('Overall Weight'!$AB$3:$AB$74,MATCH(TRUE,INDEX('Overall Weight'!$AB$3:$AB$74<>\"\",0,0),0))","v":{"$error":"#N/A"}},"-","-","Phase 1",0,"Start Weight",null,null,null,{"$f":"INDEX('Overall Weight'!$AC$3:$AC$74,MATCH(TRUE,INDEX('Overall Weight'!$AC$3:$AC$74<>\"\",0,0),0))","v":{"$error":"#N/A"}},"-","-","Phase 1",0,"Start Weight",null,null,null,{"$f":"INDEX('Overall Weight'!$AD$3:$AD$74,MATCH(TRUE,INDEX('Overall Weight'!$AD$3:$AD$74<>\"\",0,0),0))","v":{"$error":"#N/A"}},"-","-","Phase 1",0,"Start Weight",null,null,null,{"$f":"INDEX('Overall Weight'!$AE$3:$AE$74,MATCH(TRUE,INDEX('Overall Weight'!$AE$3:$AE$74<>\"\",0,0),0))","v":{"$error":"#N/A"}},"-","-"]
[null,1,"Attended sessions",{"$f":"'Months 1-6'!D51","v":0},"of ",{"$f":"'Months 1-6'!$C$51","v":0},{"$f":"LOOKUP(2,1/('Overall Weight'!$B$4:$B$8<>\"\"),'Overall Weight'!$B$4:$B$8)","v":{"$error":"#N/A"}},{"$f":"'Months 1-6'!F58","v":{"$error":"#DIV/0!"}},"minutes",null,1,"Attended sessions",{"$f":"'Months 1-6'!G51","v":0},"of ",{"$f":"'Months 1-6'!$C$51","v":0},{"$f":"LOOKUP(2,1/('Overall Weight'!$C$4:$C$8<>\"\"),'Overall Weight'!$C$4:$C$8)","v":{"$error":"#N/A"}},{"$f":"'Months 1-6'!I58","v":{"$error":"#DIV/0!"}},"minutes",null,1,"Attended sessions",{"$f":"'Months 1-6'!J51","v":0},"of ",{"$f":"'Months 1-6'!$C$51","v":0},{"$f":"LOOKUP(2,1/('Overall Weight'!$D$4:$D$8<>\"\"),'Overall Weight'!$D$4:$D$8)","v":{"$error":"#N/A"}},{"$f":"'Months 1-6'!L58","v":{"$error":"#DIV/0!"}},"minutes",null,1,"Attended sessions",{"$f":"'Months 1-6'!M51","v":0},"of ",{"$f":"'Months 1-6'!$C$51","v":0},{"$f":"LOOKUP(2,1/('Overall Weight'!$E$4:$E$8<>\"\"),'Overall Weight'!$E$4:$E$8)","v":{"$error":"#N/A"}},{"$f":"'Months 1-6'!O58","v":{"$error":"#DIV/0!"}},"minutes",null,1,"Attended sessions",{"$f":"'Months 1-6'!P51","v":0},"of ",{"$f":"'Months 1-6'!$C$51","v":0},{"$f":"LOOKUP(2,1/('Overall Weight'!$F$4:$F$8<>\"\"),'Overall Weight'!$F$4:$F$8)","v":{"$error":"#N/A"}},{"$f":"'Months 1-6'!R58","v":{"$error":"#DIV/0!"}},"minutes",null,1,"Attended sessions",{"$f":"'Months 1-6'!S51","v":0},"of ",{"$f":"'Months 1-6'!$C$51","v":0},{"$f":"LOOKUP(2,1/('Overall Weight'!$G$4:$G$8<>\"\"),'Overall Weight'!$G$4:$G$8)","v":{"$error":"#N/A"}},{"$f":"'Months 1-6'!U58","v":{"$error":"#DIV/0!"}},"minutes",null,1,"Attended sessions",{"$f":"'Months 1-6'!V51","v":0},"of ",{"$f":"'Months 1-6'!$C$51","v":0},{"$f":"LOOKUP(2,1/('Overall Weight'!$H$4:$H$8<>\"\"),'Overall Weight'!$H$4:$H$8)","v":{"$error":"#N/A"}},{"$f":"'Months 1-6'!X58","v":{"$error":"#DIV/0!"}},"minutes",null,1,"Attended sessions",{"$f":"'Months 1-6'!Y51","v":0},"of ",{"$f":"'Months 1-6'!$C$51","v":0},{"$f":"LOOKUP(2,1/('Overall Weight'!$I$4:$I$8<>\"\"),'Overall Weight'!$I$4:$I$8)","v":{"$error":"#N/A"}},{"$f":"'Months 1-6'!AA58","v":{"$error":"#DIV/0!"}},"minutes",null,1,"Attended sessions",{"$f":"'Months 1-6'!AB51","v":0},"of ",{"$f":"'Months 1-6'!$C$51","v":0},{"$f":"LOOKUP(2,1/('Overall Weight'!$J$4:$J$8<>\"\"),'Overall Weight'!$J$4:$J$8)","v":{"$error":"#N/A"}},{"$f":"'Months 1-6'!AD58","v":{"$error":"#DIV/0!"}},"minutes",null,1,"Attended sessions",{"$f":"'Months 1-6'!AE51","v":0},"of ",{"$f":"'Months 1-6'!$C$51","v":0},{"$f":"LOOKUP(2,1/('Overall Weight'!$K$4:$K$8<>\"\"),'Overall Weight'!$K$4:$K$8)","v":{"$error":"#N/A"}},{"$f":"'Months 1-6'!AG58","v":{"$error":"#DIV/0!"}},"minutes",null,1,"Attended sessions",{"$f":"'Months 1-6'!AH51","v":0},"of ",{"$f":"'Months 1-6'!$C$51","v":0},{"$f":"LOOKUP(2,1/('Overall Weight'!$L$4:$L$8<>\"\"),'Overall Weight'!$L$4:$L$8)","v":{"$error":"#N/A"}},{"$f":"'Months 1-6'!AJ58","v":{"$error":"#DIV/0!"}},"minutes",null,1,"Attended sessions",{"$f":"'Months 1-6'!AK51","v":0},"of ",{"$f":"'Months 1-6'!$C$51","v":0},{"$f":"LOOKUP(2,1/('Overall Weight'!$M$4:$M$8<>\"\"),'Overall Weight'!$M$4:$M$8)","v":{"$error":"#N/A"}},{"$f":"'Months 1-6'!AM58","v":{"$error":"#DIV/0!"}},"minutes",null,1,"Attended sessions",{"$f":"'Months 1-6'!AN51","v":0},"of ",{"$f":"'Months 1-6'!$C$51","v":0},{"$f":"LOOKUP(2,1/('Overall Weight'!$N$4:$N$8<>\"\"),'Overall Weight'!$N$4:$N$8)","v":{"$error":"#N/A"}},{"$f":"'Months 1-6'!AP58","v":{"$error":"#DIV/0!"}},"minutes",null,1,"Attended sessions",{"$f":"'Months 1-6'!AQ51","v":0},"of ",{"$f":"'Months 1-6'!$C$51","v":0},{"$f":"LOOKUP(2,1/('Overall Weight'!$O$4:$O$8<>\"\"),'Overall Weight'!$O$4:$O$8)","v":{"$error":"#N/A"}},{"$f":"'Months 1-6'!AS58","v":{"$error":"#DIV/0!"}},"minutes",null,1,"Attended sessions",{"$f":"'Months 1-6'!AT51","v":0},"of ",{"$f":"'Months 1-6'!$C$51","v":0},{"$f":"LOOKUP(2,1/('Overall Weight'!$P$4:$P$8<>\"\"),'Overall Weight'!$P$4:$P$8)","v":{"$error":"#N/A"}},{"$f":"'Months 1-6'!AV58","v":{"$error":"#DIV/0!"}},"minutes",null,1,"Attended sessions",{"$f":"'Months 1-6'!AW51","v":0},"of ",{"$f":"'Months 1-6'!$C$51","v":0},{"$f":"LOOKUP(2,1/('Overall Weight'!$Q$4:$Q$8<>\"\"),'Overall Weight'!$Q$4:$Q$8)","v":{"$error":"#N/A"}},{"$f":"'Months 1-6'!AY58","v":{"$error":"#DIV/0!"}},"minutes",null,1,"Attended sessions",{"$f":"'Months 1-6'!AZ51","v":0},"of ",{"$f":"'Months 1-6'!$C$51","v":0},{"$f":"LOOKUP(2,1/('Overall Weight'!$R$4:$R$8<>\"\"),'Overall Weight'!$R$4:$R$8)","v":{"$error":"#N/A"}},{"$f":"'Months 1-6'!BB58","v":{"$error":"#DIV/0!"}},"minutes",null,1,"Attended sessions",{"$f":"'Months 1-6'!BC51","v":0},"of ",{"$f":"'Months 1-6'!$C$51","v":0},{"$f":"LOOKUP(2,1/('Overall Weight'!$S$4:$S$8<>\"\"),'Overall Weight'!$S$4:$S$8)","v":{"$error":"#N/A"}},{"$f":"'Months 1-6'!BE58","v":{"$error":"#DIV/0!"}},"minutes",null,1,"Attended sessions",{"$f":"'Months 1-6'!BF51","v":0},"of ",{"$f":"'Months 1-6'!$C$51","v":0},{"$f":"LOOKUP(2,1/('Overall Weight'!$T$4:$T$8<>\"\"),'Overall Weight'!$T$4:$T$8)","v":{"$error":"#N/A"}},{"$f":"'Months 1-6'!BH58","v":{"$error":"#DIV/0!"}},"minutes",null,1,"Attended sessions",{"$f":"'Months 1-6'!BI51","v":0},"of ",{"$f":"'Months 1-6'!$C$51","v":0},{"$f":"LOOKUP(2,1/('Overall Weight'!$U$4:$U$8<>\"\"),'Overall Weight'!$U$4:$U$8)","v":{"$error":"#N/A"}},{"$f":"'Months 1-6'!BK58","v":{"$error":"#DIV/0!"}},"minutes",null,1,"Attended sessions",{"$f":"'Months 1-6'!BL51","v":0},"of ",{"$f":"'Months 1-6'!$C$51","v":0},{"$f":"LOOKUP(2,1/('Overall Weight'!$V$4:$V$8<>\"\"),'Overall Weight'!$V$4:$V$8)","v":{"$error":"#N/A"}},{"$f":"'Months 1-6'!BN58","v":{"$error":"#DIV/0!"}},"minutes",null,1,"Attended sessions",{"$f":"'Months 1-6'!BO51","v":0},"of ",{"$f":"'Months 1-6'!$C$51","v":0},{"$f":"LOOKUP(2,1/('Overall Weight'!$W$4:$W$8<>\"\"),'Overall Weight'!$W$4:$W$8)","v":{"$error":"#N/A"}},{"$f":"'Months 1-6'!BQ58","v":{"$error":"#DIV/0!"}},"minutes",null,1,"Attended sessions",{"$f":"'Months 1-6'!BR51","v":0},"of ",{"$f":"'Months 1-6'!$C$51","v":0},{"$f":"LOOKUP(2,1/('Overall Weight'!$X$4:$X$8<>\"\"),'Overall Weight'!$X$4:$X$8)","v":{"$error":"#N/A"}},{"$f":"'Months 1-6'!BT58","v":{"$error":"#DIV/0!"}},"minutes",null,1,"Attended sessions",{"$f":"'Months 1-6'!BU51","v":0},"of ",{"$f":"'Months 1-6'!$C$51","v":0},{"$f":"LOOKUP(2,1/('Overall Weight'!$Y$4:$Y$8<>\"\"),'Overall Weight'!$Y$4:$Y$8)","v":{"$error":"#N/A"}},{"$f":"'Months 1-6'!BW58","v":{"$error":"#DIV/0!"}},"minutes",null,1,"Attended sessions",{"$f":"'Months 1-6'!BX51","v":0},"of ",{"$f":"'Months 1-6'!$C$51","v":0},{"$f":"LOOKUP(2,1/('Overall Weight'!$Z$4:$Z$8<>\"\"),'Overall Weight'!$Z$4:$Z$8)","v":{"$error":"#N/A"}},{"$f":"'Months 1-6'!BZ58","v":{"$error":"#DIV/0!"}},"minutes",null,1,"Attended sessions",{"$f":"'Months 1-6'!CA51","v":0},"of ",{"$f":"'Months 1-6'!$C$51","v":0},{"$f":"LOOKUP(2,1/('Overall Weight'!$AA$4:$AA$8<>\"\"),'Overall Weight'!$AA$4:$AA$8)","v":{"$error":"#N/A"}},{"$f":"'Months 1-6'!CC58","v":{"$error":"#DIV/0!"}},"minutes",null,1,"Attended sessions",{"$f":"'Months 1-6'!CD51","v":0},"of ",{"$f":"'Months 1-6'!$C$51","v":0},{"$f":"LOOKUP(2,1/('Overall Weight'!$AB$4:$AB$8<>\"\"),'Overall Weight'!$AB$4:$AB$8)","v":{"$error":"#N/A"}},{"$f":"'Months 1-6'!CF58","v":{"$error":"#DIV/0!"}},"minutes",null,1,"Attended sessions",{"$f":"'Months 1-6'!CG51","v":0},"of ",{"$f":"'Months 1-6'!$C$51","v":0},{"$f":"LOOKUP(2,1/('Overall Weight'!$AC$4:$AC$8<>\"\"),'Overall Weight'!$AC$4:$AC$8)","v":{"$error":"#N/A"}},{"$f":"'Months 1-6'!CI58","v":{"$error":"#DIV/0!"}},"minutes",null,1,"Attended sessions",{"$f":"'Months 1-6'!CJ51","v":0},"of ",{"$f":"'Months 1-6'!$C$51","v":0},{"$f":"LOOKUP(2,1/('Overall Weight'!$AD$4:$AD$8<>\"\"),'Overall Weight'!$AD$4:$AD$8)","v":{"$error":"#N/A"}},{"$f":"'Months 1-6'!CL58","v":{"$error":"#DIV/0!"}},"minutes",null,1,"Attended sessions",{"$f":"'Months 1-6'!CM51","v":0},"of ",{"$f":"'Months 1-6'!$C$51","v":0},{"$f":"LOOKUP(2,1/('Overall Weight'!$AE$4:$AE$8<>\"\"),'Overall Weight'!$AE$4:$AE$8)","v":{"$error":"#N/A"}},{"$f":"'Months 1-6'!CO58","v":{"$error":"#DIV/0!"}},"minutes"]
[null,2,"Attended sessions",{"$f":"'Months 1-6'!D52","v":0},"of ",{"$f":"'Months 1-6'!$C$52","v":0},{"$f":"LOOKUP(2,1/('Overall Weight'!$B$10:$B$14<>\"\"),'Overall Weight'!$B$10:$B$14)","v":{"$error":"#N/A"}},{"$f":"'Months 1-6'!F59","v":{"$error":"#DIV/0!"}},"minutes",null,2,"Attended sessions",{"$f":"'Months 1-6'!G52","v":0},"of ",{"$f":"'Months 1-6'!$C$52","v":0},{"$f":"LOOKUP(2,1/('Overall Weight'!$C$10:$C$14<>\"\"),'Overall Weight'!$C$10:$C$14)","v":{"$error":"#N/A"}},{"$f":"'Months 1-6'!I59","v":{"$error":"#DIV/0!"}},"minutes",null,2,"Attended sessions",{"$f":"'Months 1-6'!J52","v":0},"of ",{"$f":"'Months 1-6'!$C$52","v":0},{"$f":"LOOKUP(2,1/('Overall Weight'!$D$10:$D$14<>\"\"),'Overall Weight'!$D$10:$D$14)","v":{"$error":"#N/A"}},{"$f":"'Months 1-6'!L59","v":{"$error":"#DIV/0!"}},"minutes",null,2,"Attended sessions",{"$f":"'Months 1-6'!M52","v":0},"of ",{"$f":"'Months 1-6'!$C$52","v":0},{"$f":"LOOKUP(2,1/('Overall Weight'!$E$10:$E$14<>\"\"),'Overall Weight'!$E$10:$E$14)","v":{"$error":"#N/A"}},{"$f":"'Months 1-6'!O59","v":{"$error":"#DIV/0!"}},"minutes",null,2,"Attended sessions",{"$f":"'Months 1-6'!P52","v":0},"of ",{"$f":"'Months 1-6'!$C$52","v":0},{"$f":"LOOKUP(2,1/('Overall Weight'!$F$10:$F$14<>\"\"),'Overall Weight'!$F$10:$F$14)","v":{"$error":"#N/A"}},{"$f":"'Months 1-6'!R59","v":{"$error":"#DIV/0!"}},"minutes",null,2,"Attended sessions",{"$f":"'Months 1-6'!S52","v":0},"of ",{"$f":"'Months 1-6'!$C$52","v":0},{"$f":"LOOKUP(2,1/('Overall Weight'!$G$10:$G$14<>\"\"),'Overall Weight'!$G$10:$G$14)","v":{"$error":"#N/A"}},{"$f":"'Months 1-6'!U59","v":{"$error":"#DIV/0!"}},"minutes",null,2,"Attended sessions",{"$f":"'Months 1-6'!V52","v":0},"of ",{"$f":"'Months 1-6'!$C$52","v":0},{"$f":"LOOKUP(2,1/('Overall Weight'!$H$10:$H$14<>\"\"),'Overall Weight'!$H$10:$H$14)","v":{"$error":"#N/A"}},{"$f":"'Months 1-6'!X59","v":{"$error":"#DIV/0!"}},"minutes",null,2,"Attended sessions",{"$f":"'Months 1-6'!Y52","v":0},"of ",{"$f":"'Months 1-6'!$C$52","v":0},{"$f":"LOOKUP(2,1/('Overall Weight'!$I$10:$I$14<>\"\"),'Overall Weight'!$I$10:$I$14)","v":{"$error":"#N/A"}},{"$f":"'Months 1-6'!AA59","v":{"$error":"#DIV/0!"}},"minutes",null,2,"Attended sessions",{"$f":"'Months 1-6'!AB52","v":0},"of ",{"$f":"'Months 1-6'!$C$52","v":0},{"$f":"LOOKUP(2,1/('Overall Weight'!$J$10:$J$14<>\"\"),'Overall Weight'!$J$10:$J$14)","v":{"$error":"#N/A"}},{"$f":"'Months 1-6'!AD59","v":{"$error":"#DIV/0!"}},"minutes",null,2,"Attended sessions",{"$f":"'Months 1-6'!AE52","v":0},"of ",{"$f":"'Months 1-6'!$C$52","v":0},{"$f":"LOOKUP(2,1/('Overall Weight'!$K$10:$K$14<>\"\"),'Overall Weight'!$K$10:$K$14)","v":{"$error":"#N/A"}},{"$f":"'Months 1-6'!AG59","v":{"$error":"#DIV/0!"}},"minutes",null,2,"Attended sessions",{"$f":"'Months 1-6'!AH52","v":0},"of ",{"$f":"'Months 1-6'!$C$52","v":0},{"$f":"LOOKUP(2,1/('Overall Weight'!$L$10:$L$14<>\"\"),'Overall Weight'!$L$10:$L$14)","v":{"$error":"#N/A"}},{"$f":"'Months 1-6'!AJ59","v":{"$error":"#DIV/0!"}},"minutes",null,2,"Attended sessions",{"$f":"'Months 1-6'!AK52","v":0},"of ",{"$f":"'Months 1-6'!$C$52","v":0},{"$f":"LOOKUP(2,1/('Overall Weight'!$M$10:$M$14<>\"\"),'Overall Weight'!$M$10:$M$14)","v":{"$error":"#N/A"}},{"$f":"'Months 1-6'!AM59","v":{"$error":"#DIV/0!"}},"minutes",null,2,"Attended sessions",{"$f":"'Months 1-6'!AN52","v":0},"of ",{"$f":"'Months 1-6'!$C$52","v":0},{"$f":"LOOKUP(2,1/('Overall Weight'!$N$10:$N$14<>\"\"),'Overall Weight'!$N$10:$N$14)","v":{"$error":"#N/A"}},{"$f":"'Months 1-6'!AP59","v":{"$error":"#DIV/0!"}},"minutes",null,2,"Attended sessions",{"$f":"'Months 1-6'!AQ52","v":0},"of ",{"$f":"'Months 1-6'!$C$52","v":0},{"$f":"LOOKUP(2,1/('Overall Weight'!$O$10:$O$14<>\"\"),'Overall Weight'!$O$10:$O$14)","v":{"$error":"#N/A"}},{"$f":"'Months 1-6'!AS59","v":{"$error":"#DIV/0!"}},"minutes",null,2,"Attended sessions",{"$f":"'Months 1-6'!AT52","v":0},"of ",{"$f":"'Months 1-6'!$C$52","v":0},{"$f":"LOOKUP(2,1/('Overall Weight'!$P$10:$P$14<>\"\"),'Overall Weight'!$P$10:$P$14)","v":{"$error":"#N/A"}},{"$f":"'Months 1-6'!AV59","v":{"$error":"#DIV/0!"}},"minutes",null,2,"Attended sessions",{"$f":"'Months 1-6'!AW52","v":0},"of ",{"$f":"'Months 1-6'!$C$52","v":0},{"$f":"LOOKUP(2,1/('Overall Weight'!$Q$10:$Q$14<>\"\"),'Overall Weight'!$Q$10:$Q$14)","v":{"$error":"#N/A"}},{"$f":"'Months 1-6'!AY59","v":{"$error":"#DIV/0!"}},"minutes",null,2,"Attended sessions",{"$f":"'Months 1-6'!AZ52","v":0},"of ",{"$f":"'Months 1-6'!$C$52","v":0},{"$f":"LOOKUP(2,1/('Overall Weight'!$R$10:$R$14<>\"\"),'Overall Weight'!$R$10:$R$14)","v":{"$error":"#N/A"}},{"$f":"'Months 1-6'!BB59","v":{"$error":"#DIV/0!"}},"minutes",null,2,"Attended sessions",{"$f":"'Months 1-6'!BC52","v":0},"of ",{"$f":"'Months 1-6'!$C$52","v":0},{"$f":"LOOKUP(2,1/('Overall Weight'!$S$10:$S$14<>\"\"),'Overall Weight'!$S$10:$S$14)","v":{"$error":"#N/A"}},{"$f":"'Months 1-6'!BE59","v":{"$error":"#DIV/0!"}},"minutes",null,2,"Attended sessions",{"$f":"'Months 1-6'!BF52","v":0},"of ",{"$f":"'Months 1-6'!$C$52","v":0},{"$f":"LOOKUP(2,1/('Overall Weight'!$T$10:$T$14<>\"\"),'Overall Weight'!$T$10:$T$14)","v":{"$error":"#N/A"}},{"$f":"'Months 1-6'!BH59","v":{"$error":"#DIV/0!"}},"minutes",null,2,"Attended sessions",{"$f":"'Months 1-6'!BI52","v":0},"of ",{"$f":"'Months 1-6'!$C$52","v":0},{"$f":"LOOKUP(2,1/('Overall Weight'!$U$10:$U$14<>\"\"),'Overall Weight'!$U$10:$U$14)","v":{"$error":"#N/A"}},{"$f":"'Months 1-6'!BK59","v":{"$error":"#DIV/0!"}},"minutes",null,2,"Attended sessions",{"$f":"'Months 1-6'!BL52","v":0},"of ",{"$f":"'Months 1-6'!$C$52","v":0},{"$f":"LOOKUP(2,1/('Overall Weight'!$V$10:$V$14<>\"\"),'Overall Weight'!$V$10:$V$14)","v":{"$error":"#N/A"}},{"$f":"'Months 1-6'!BN59","v":{"$error":"#DIV/0!"}},"minutes",null,2,"Attended sessions",{"$f":"'Months 1-6'!BO52","v":0},"of ",{"$f":"'Months 1-6'!$C$52","v":0},{"$f":"LOOKUP(2,1/('Overall Weight'!$W$10:$W$14<>\"\"),'Overall Weight'!$W$10:$W$14)","v":{"$error":"#N/A"}},{"$f":"'Months 1-6'!BQ59","v":{"$error":"#DIV/0!"}},"minutes",null,2,"Attended sessions",{"$f":"'Months 1-6'!BR52","v":0},"of ",{"$f":"'Months 1-6'!$C$52","v":0},{"$f":"LOOKUP(2,1/('Overall Weight'!$X$10:$X$14<>\"\"),'Overall Weight'!$X$10:$X$14)","v":{"$error":"#N/A"}},{"$f":"'Months 1-6'!BT59","v":{"$error":"#DIV/0!"}},"minutes",null,2,"Attended sessions",{"$f":"'Months 1-6'!BU52","v":0},"of ",{"$f":"'Months 1-6'!$C$52","v":0},{"$f":"LOOKUP(2,1/('Overall Weight'!$Y$10:$Y$14<>\"\"),'Overall Weight'!$Y$10:$Y$14)","v":{"$error":"#N/A"}},{"$f":"'Months 1-6'!BW59","v":{"$error":"#DIV/0!"}},"minutes",null,2,"Attended sessions",{"$f":"'Months 1-6'!BX52","v":0},"of ",{"$f":"'Months 1-6'!$C$52","v":0},{"$f":"LOOKUP(2,1/('Overall Weight'!$Z$10:$Z$14<>\"\"),'Overall Weight'!$Z$10:$Z$14)","v":{"$error":"#N/A"}},{"$f":"'Months 1-6'!BZ59","v":{"$error":"#DIV/0!"}},"minutes",null,2,"Attended sessions",{"$f":"'Months 1-6'!CA52","v":0},"of ",{"$f":"'Months 1-6'!$C$52","v":0},{"$f":"LOOKUP(2,1/('Overall Weight'!$AA$10:$AA$14<>\"\"),'Overall Weight'!$AA$10:$AA$14)","v":{"$error":"#N/A"}},{"$f":"'Months 1-6'!CC59","v":{"$error":"#DIV/0!"}},"minutes",null,2,"Attended sessions",{"$f":"'Months 1-6'!CD52","v":0},"of ",{"$f":"'Months 1-6'!$C$52","v":0},{"$f":"LOOKUP(2,1/('Overall Weight'!$AB$10:$AB$14<>\"\"),'Overall Weight'!$AB$10:$AB$14)","v":{"$error":"#N/A"}},{"$f":"'Months 1-6'!CF59","v":{"$error":"#DIV/0!"}},"minutes",null,2,"Attended sessions",{"$f":"'Months 1-6'!CG52","v":0},"of ",{"$f":"'Months 1-6'!$C$52","v":0},{"$f":"LOOKUP(2,1/('Overall Weight'!$AC$10:$AC$14<>\"\"),'Overall Weight'!$AC$10:$AC$14)","v":{"$error":"#N/A"}},{"$f":"'Months 1-6'!CI59","v":{"$error":"#DIV/0!"}},"minutes",null,2,"Attended sessions",{"$f":"'Months 1-6'!CJ52","v":0},"of ",{"$f":"'Months 1-6'!$C$52","v":0},{"$f":"LOOKUP(2,1/('Overall Weight'!$AD$10:$AD$14<>\"\"),'Overall Weight'!$AD$10:$AD$14)","v":{"$error":"#N/A"}},{"$f":"'Months 1-6'!CL59","v":{"$error":"#DIV/0!"}},"minutes",null,2,"Attended sessions",{"$f":"'Months 1-6'!CM52","v":0},"of ",{"$f":"'Months 1-6'!$C$52","v":0},{"$f":"LOOKUP(2,1/('Overall Weight'!$AE$10:$AE$14<>\"\"),'Overall Weight'!$AE$10:$AE$14)","v":{"$error":"#N/A"}},{"$f":"'Months 1-6'!CO59","v":{"$error":"#DIV/0!"}},"minutes"]
[null,3,"Attended sessions",{"$f":"'Months 1-6'!D53","v":0},"of ",{"$f":"'Months 1-6'!$C$53","v":0},{"$f":"LOOKUP(2,1/('Overall Weight'!$B$16:$B$20<>\"\"),'Overall Weight'!$B$16:$B$20)","v":{"$error":"#N/A"}},{"$f":"'Months 1-6'!F60","v":{"$error":"#DIV/0!"}},"minutes",null,3,"Attended sessions",{"$f":"'Months 1-6'!G53","v":0},"of ",{"$f":"'Months 1-6'!$C$53","v":0},{"$f":"LOOKUP(2,1/('Overall Weight'!$C$16:$C$20<>\"\"),'Overall Weight'!$C$16:$C$20)","v":{"$error":"#N/A"}},{"$f":"'Months 1-6'!I60","v":{"$error":"#DIV/0!"}},"minutes",null,3,"Attended sessions",{"$f":"'Months 1-6'!J53","v":0},"of ",{"$f":"'Months 1-6'!$C$53","v":0},{"$f":"LOOKUP(2,1/('Overall Weight'!$D$16:$D$20<>\"\"),'Overall Weight'!$D$16:$D$20)","v":{"$error":"#N/A"}},{"$f":"'Months 1-6'!L60","v":{"$error":"#DIV/0!"}},"minutes",null,3,"Attended sessions",{"$f":"'Months 1-6'!M53","v":0},"of ",{"$f":"'Months 1-6'!$C$53","v":0},{"$f":"LOOKUP(2,1/('Overall Weight'!$E$16:$E$20<>\"\"),'Overall Weight'!$E$16:$E$20)","v":{"$error":"#N/A"}},{"$f":"'Months 1-6'!O60","v":{"$error":"#DIV/0!"}},"minutes",null,3,"Attended sessions",{"$f":"'Months 1-6'!P53","v":0},"of ",{"$f":"'Months 1-6'!$C$53","v":0},{"$f":"LOOKUP(2,1/('Overall Weight'!$F$16:$F$20<>\"\"),'Overall Weight'!$F$16:$F$20)","v":{"$error":"#N/A"}},{"$f":"'Months 1-6'!R60","v":{"$error":"#DIV/0!"}},"minutes",null,3,"Attended sessions",{"$f":"'Months 1-6'!S53","v":0},"of ",{"$f":"'Months 1-6'!$C$53","v":0},{"$f":"LOOKUP(2,1/('Overall Weight'!$G$16:$G$20<>\"\"),'Overall Weight'!$G$16:$G$20)","v":{"$error":"#N/A"}},{"$f":"'Months 1-6'!U60","v":{"$error":"#DIV/0!"}},"minutes",null,3,"Attended sessions",{"$f":"'Months 1-6'!V53","v":0},"of ",{"$f":"'Months 1-6'!$C$53","v":0},{"$f":"LOOKUP(2,1/('Overall Weight'!$H$16:$H$20<>\"\"),'Overall Weight'!$H$16:$H$20)","v":{"$error":"#N/A"}},{"$f":"'Months 1-6'!X60","v":{"$error":"#DIV/0!"}},"minutes",null,3,"Attended sessions",{"$f":"'Months 1-6'!Y53","v":0},"of ",{"$f":"'Months 1-6'!$C$53","v":0},{"$f":"LOOKUP(2,1/('Overall Weight'!$I$16:$I$20<>\"\"),'Overall Weight'!$I$16:$I$20)","v":{"$error":"#N/A"}},{"$f":"'Months 1-6'!AA60","v":{"$error":"#DIV/0!"}},"minutes",null,3,"Attended sessions",{"$f":"'Months 1-6'!AB53","v":0},"of ",{"$f":"'Months 1-6'!$C$53","v":0},{"$f":"LOOKUP(2,1/('Overall Weight'!$J$16:$J$20<>\"\"),'Overall Weight'!$J$16:$J$20)","v":{"$error":"#N/A"}},{"$f":"'Months 1-6'!AD60","v":{"$error":"#DIV/0!"}},"minutes",null,3,"Attended sessions",{"$f":"'Months 1-6'!AE53","v":0},"of ",{"$f":"'Months 1-6'!$C$53","v":0},{"$f":"LOOKUP(2,1/('Overall Weight'!$K$16:$K$20<>\"\"),'Overall Weight'!$K$16:$K$20)","v":{"$error":"#N/A"}},{"$f":"'Months 1-6'!AG60","v":{"$error":"#DIV/0!"}},"minutes",null,3,"Attended sessions",{"$f":"'Months 1-6'!AH53","v":0},"of ",{"$f":"'Months 1-6'!$C$53","v":0},{"$f":"LOOKUP(2,1/('Overall Weight'!$L$16:$L$20<>\"\"),'Overall Weight'!$L$16:$L$20)","v":{"$error":"#N/A"}},{"$f":"'Months 1-6'!AJ60","v":{"$error":"#DIV/0!"}},"minutes",null,3,"Attended sessions",{"$f":"'Months 1-6'!AK53","v":0},"of ",{"$f":"'Months 1-6'!$C$53","v":0},{"$f":"LOOKUP(2,1/('Overall Weight'!$M$16:$M$20<>\"\"),'Overall Weight'!$M$16:$M$20)","v":{"$error":"#N/A"}},{"$f":"'Months 1-6'!AM60","v":{"$error":"#DIV/0!"}},"minutes",null,3,"Attended sessions",{"$f":"'Months 1-6'!AN53","v":0},"of ",{"$f":"'Months 1-6'!$C$53","v":0},{"$f":"LOOKUP(2,1/('Overall Weight'!$N$16:$N$20<>\"\"),'Overall Weight'!$N$16:$N$20)","v":{"$error":"#N/A"}},{"$f":"'Months 1-6'!AP60","v":{"$error":"#DIV/0!"}},"minutes",null,3,"Attended sessions",{"$f":"'Months 1-6'!AQ53","v":0},"of ",{"$f":"'Months 1-6'!$C$53","v":0},{"$f":"LOOKUP(2,1/('Overall Weight'!$O$16:$O$20<>\"\"),'Overall Weight'!$O$16:$O$20)","v":{"$error":"#N/A"}},{"$f":"'Months 1-6'!AS60","v":{"$error":"#DIV/0!"}},"minutes",null,3,"Attended sessions",{"$f":"'Months 1-6'!AT53","v":0},"of ",{"$f":"'Months 1-6'!$C$53","v":0},{"$f":"LOOKUP(2,1/('Overall Weight'!$P$16:$P$20<>\"\"),'Overall Weight'!$P$16:$P$20)","v":{"$error":"#N/A"}},{"$f":"'Months 1-6'!AV60","v":{"$error":"#DIV/0!"}},"minutes",null,3,"Attended sessions",{"$f":"'Months 1-6'!AW53","v":0},"of ",{"$f":"'Months 1-6'!$C$53","v":0},{"$f":"LOOKUP(2,1/('Overall Weight'!$Q$16:$Q$20<>\"\"),'Overall Weight'!$Q$16:$Q$20)","v":{"$error":"#N/A"}},{"$f":"'Months 1-6'!AY60","v":{"$error":"#DIV/0!"}},"minutes",null,3,"Attended sessions",{"$f":"'Months 1-6'!AZ53","v":0},"of ",{"$f":"'Months 1-6'!$C$53","v":0},{"$f":"LOOKUP(2,1/('Overall Weight'!$R$16:$R$20<>\"\"),'Overall Weight'!$R$16:$R$20)","v":{"$error":"#N/A"}},{"$f":"'Months 1-6'!BB60","v":{"$error":"#DIV/0!"}},"minutes",null,3,"Attended sessions",{"$f":"'Months 1-6'!BC53","v":0},"of ",{"$f":"'Months 1-6'!$C$53","v":0},{"$f":"LOOKUP(2,1/('Overall Weight'!$S$16:$S$20<>\"\"),'Overall Weight'!$S$16:$S$20)","v":{"$error":"#N/A"}},{"$f":"'Months 1-6'!BE60","v":{"$error":"#DIV/0!"}},"minutes",null,3,"Attended sessions",{"$f":"'Months 1-6'!BF53","v":0},"of ",{"$f":"'Months 1-6'!$C$53","v":0},{"$f":"LOOKUP(2,1/('Overall Weight'!$T$16:$T$20<>\"\"),'Overall Weight'!$T$16:$T$20)","v":{"$error":"#N/A"}},{"$f":"'Months 1-6'!BH60","v":{"$error":"#DIV/0!"}},"minutes",null,3,"Attended sessions",{"$f":"'Months 1-6'!BI53","v":0},"of ",{"$f":"'Months 1-6'!$C$53","v":0},{"$f":"LOOKUP(2,1/('Overall Weight'!$U$16:$U$20<>\"\"),'Overall Weight'!$U$16:$U$20)","v":{"$error":"#N/A"}},{"$f":"'Months 1-6'!BK60","v":{"$error":"#DIV/0!"}},"minutes",null,3,"Attended sessions",{"$f":"'Months 1-6'!BL53","v":0},"of ",{"$f":"'Months 1-6'!$C$53","v":0},{"$f":"LOOKUP(2,1/('Overall Weight'!$V$16:$V$20<>\"\"),'Overall Weight'!$V$16:$V$20)","v":{"$error":"#N/A"}},{"$f":"'Months 1-6'!BN60","v":{"$error":"#DIV/0!"}},"minutes",null,3,"Attended sessions",{"$f":"'Months 1-6'!BO53","v":0},"of ",{"$f":"'Months 1-6'!$C$53","v":0},{"$f":"LOOKUP(2,1/('Overall Weight'!$W$16:$W$20<>\"\"),'Overall Weight'!$W$16:$W$20)","v":{"$error":"#N/A"}},{"$f":"'Months 1-6'!BQ60","v":{"$error":"#DIV/0!"}},"minutes",null,3,"Attended sessions",{"$f":"'Months 1-6'!BR53","v":0},"of ",{"$f":"'Months 1-6'!$C$53","v":0},{"$f":"LOOKUP(2,1/('Overall Weight'!$X$16:$X$20<>\"\"),'Overall Weight'!$X$16:$X$20)","v":{"$error":"#N/A"}},{"$f":"'Months 1-6'!BT60","v":{"$error":"#DIV/0!"}},"minutes",null,3,"Attended sessions",{"$f":"'Months 1-6'!BU53","v":0},"of ",{"$f":"'Months 1-6'!$C$53","v":0},{"$f":"LOOKUP(2,1/('Overall Weight'!$Y$16:$Y$20<>\"\"),'Overall Weight'!$Y$16:$Y$20)","v":{"$error":"#N/A"}},{"$f":"'Months 1-6'!BW60","v":{"$error":"#DIV/0!"}},"minutes",null,3,"Attended sessions",{"$f":"'Months 1-6'!BX53","v":0},"of ",{"$f":"'Months 1-6'!$C$53","v":0},{"$f":"LOOKUP(2,1/('Overall Weight'!$Z$16:$Z$20<>\"\"),'Overall Weight'!$Z$16:$Z$20)","v":{"$error":"#N/A"}},{"$f":"'Months 1-6'!BZ60","v":{"$error":"#DIV/0!"}},"minutes",null,3,"Attended sessions",{"$f":"'Months 1-6'!CA53","v":0},"of ",{"$f":"'Months 1-6'!$C$53","v":0},{"$f":"LOOKUP(2,1/('Overall Weight'!$AA$16:$AA$20<>\"\"),'Overall Weight'!$AA$16:$AA$20)","v":{"$error":"#N/A"}},{"$f":"'Months 1-6'!CC60","v":{"$error":"#DIV/0!"}},"minutes",null,3,"Attended sessions",{"$f":"'Months 1-6'!CD53","v":0},"of ",{"$f":"'Months 1-6'!$C$53","v":0},{"$f":"LOOKUP(2,1/('Overall Weight'!$AB$16:$AB$20<>\"\"),'Overall Weight'!$AB$16:$AB$20)","v":{"$error":"#N/A"}},{"$f":"'Months 1-6'!CF60","v":{"$error":"#DIV/0!"}},"minutes",null,3,"Attended sessions",{"$f":"'Months 1-6'!CG53","v":0},"of ",{"$f":"'Months 1-6'!$C$53","v":0},{"$f":"LOOKUP(2,1/('Overall Weight'!$AC$16:$AC$20<>\"\"),'Overall Weight'!$AC$16:$AC$20)","v":{"$error":"#N/A"}},{"$f":"'Months 1-6'!CI60","v":{"$error":"#DIV/0!"}},"minutes",null,3,"Attended sessions",{"$f":"'Months 1-6'!CJ53","v":0},"of ",{"$f":"'Months 1-6'!$C$53","v":0},{"$f":"LOOKUP(2,1/('Overall Weight'!$AD$16:$AD$20<>\"\"),'Overall Weight'!$AD$16:$AD$20)","v":{"$error":"#N/A"}},{"$f":"'Months 1-6'!CL60","v":{"$error":"#DIV/0!"}},"minutes",null,3,"Attended sessions",{"$f":"'Months 1-6'!CM53","v":0},"of ",{"$f":"'Months 1-6'!$C$53","v":0},{"$f":"LOOKUP(2,1/('Overall Weight'!$AE$16:$AE$20<>\"\"),'Overall Weight'!$AE$16:$AE$20)","v":{"$error":"#N/A"}},{"$f":"'Months 1-6'!CO60","v":{"$error":"#DIV/0!"}},"minutes"]
[null,4,"Attended sessions",{"$f":"'Months 1-6'!D54","v":0},"of ",{"$f":"'Months 1-6'!$C$54","v":0},{"$f":"LOOKUP(2,1/('Overall Weight'!$B$22:$B$26<>\"\"),'Overall Weight'!$B$22:$B$26)","v":{"$error":"#N/A"}},{"$f":"'Months 1-6'!F61","v":{"$error":"#DIV/0!"}},"minutes",null,4,"Attended sessions",{"$f":"'Months 1-6'!G54","v":0},"of ",{"$f":"'Months 1-6'!$C$54","v":0},{"$f":"LOOKUP(2,1/('Overall Weight'!$C$22:$C$26<>\"\"),'Overall Weight'!$C$22:$C$26)","v":{"$error":"#N/A"}},{"$f":"'Months 1-6'!I61","v":{"$error":"#DIV/0!"}},"minutes",null,4,"Attended sessions",{"$f":"'Months 1-6'!J54","v":0},"of ",{"$f":"'Months 1-6'!$C$54","v":0},{"$f":"LOOKUP(2,1/('Overall Weight'!$D$22:$D$26<>\"\"),'Overall Weight'!$D$22:$D$26)","v":{"$error":"#N/A"}},{"$f":"'Months 1-6'!L61","v":{"$error":"#DIV/0!"}},"minutes",null,4,"Attended sessions",{"$f":"'Months 1-6'!M54","v":0},"of ",{"$f":"'Months 1-6'!$C$54","v":0},{"$f":"LOOKUP(2,1/('Overall Weight'!$E$22:$E$26<>\"\"),'Overall Weight'!$E$22:$E$26)","v":{"$error":"#N/A"}},{"$f":"'Months 1-6'!O61","v":{"$error":"#DIV/0!"}},"minutes",null,4,"Attended sessions",{"$f":"'Months 1-6'!P54","v":0},"of ",{"$f":"'Months 1-6'!$C$54","v":0},{"$f":"LOOKUP(2,1/('Overall Weight'!$F$22:$F$26<>\"\"),'Overall Weight'!$F$22:$F$26)","v":{"$error":"#N/A"}},{"$f":"'Months 1-6'!R61","v":{"$error":"#DIV/0!"}},"minutes",null,4,"Attended sessions",{"$f":"'Months 1-6'!S54","v":0},"of ",{"$f":"'Months 1-6'!$C$54","v":0},{"$f":"LOOKUP(2,1/('Overall Weight'!$G$22:$G$26<>\"\"),'Overall Weight'!$G$22:$G$26)","v":{"$error":"#N/A"}},{"$f":"'Months 1-6'!U61","v":{"$error":"#DIV/0!"}},"minutes",null,4,"Attended sessions",{"$f":"'Months 1-6'!V54","v":0},"of ",{"$f":"'Months 1-6'!$C$54","v":0},{"$f":"LOOKUP(2,1/('Overall Weight'!$H$22:$H$26<>\"\"),'Overall Weight'!$H$22:$H$26)","v":{"$error":"#N/A"}},{"$f":"'Months 1-6'!X61","v":{"$error":"#DIV/0!"}},"minutes",null,4,"Attended sessions",{"$f":"'Months 1-6'!Y54","v":0},"of ",{"$f":"'Months 1-6'!$C$54","v":0},{"$f":"LOOKUP(2,1/('Overall Weight'!$I$22:$I$26<>\"\"),'Overall Weight'!$I$22:$I$26)","v":{"$error":"#N/A"}},{"$f":"'Months 1-6'!AA61","v":{"$error":"#DIV/0!"}},"minutes",null,4,"Attended sessions",{"$f":"'Months 1-6'!AB54","v":0},"of ",{"$f":"'Months 1-6'!$C$54","v":0},{"$f":"LOOKUP(2,1/('Overall Weight'!$J$22:$J$26<>\"\"),'Overall Weight'!$J$22:$J$26)","v":{"$error":"#N/A"}},{"$f":"'Months 1-6'!AD61","v":{"$error":"#DIV/0!"}},"minutes",null,4,"Attended sessions",{"$f":"'Months 1-6'!AE54","v":0},"of ",{"$f":"'Months 1-6'!$C$54","v":0},{"$f":"LOOKUP(2,1/('Overall Weight'!$K$22:$K$26<>\"\"),'Overall Weight'!$K$22:$K$26)","v":{"$error":"#N/A"}},{"$f":"'Months 1-6'!AG61","v":{"$error":"#DIV/0!"}},"minutes",null,4,"Attended sessions",{"$f":"'Months 1-6'!AH54","v":0},"of ",{"$f":"'Months 1-6'!$C$54","v":0},{"$f":"LOOKUP(2,1/('Overall Weight'!$L$22:$L$26<>\"\"),'Overall Weight'!$L$22:$L$26)","v":{"$error":"#N/A"}},{"$f":"'Months 1-6'!AJ61","v":{"$error":"#DIV/0!"}},"minutes",null,4,"Attended sessions",{"$f":"'Months 1-6'!AK54","v":0},"of ",{"$f":"'Months 1-6'!$C$54","v":0},{"$f":"LOOKUP(2,1/('Overall Weight'!$M$22:$M$26<>\"\"),'Overall Weight'!$M$22:$M$26)","v":{"$error":"#N/A"}},{"$f":"'Months 1-6'!AM61","v":{"$error":"#DIV/0!"}},"minutes",null,4,"Attended sessions",{"$f":"'Months 1-6'!AN54","v":0},"of ",{"$f":"'Months 1-6'!$C$54","v":0},{"$f":"LOOKUP(2,1/('Overall Weight'!$N$22:$N$26<>\"\"),'Overall Weight'!$N$22:$N$26)","v":{"$error":"#N/A"}},{"$f":"'Months 1-6'!AP61","v":{"$error":"#DIV/0!"}},"minutes",null,4,"Attended sessions",{"$f":"'Months 1-6'!AQ54","v":0},"of ",{"$f":"'Months 1-6'!$C$54","v":0},{"$f":"LOOKUP(2,1/('Overall Weight'!$O$22:$O$26<>\"\"),'Overall Weight'!$O$22:$O$26)","v":{"$error":"#N/A"}},{"$f":"'Months 1-6'!AS61","v":{"$error":"#DIV/0!"}},"minutes",null,4,"Attended sessions",{"$f":"'Months 1-6'!AT54","v":0},"of ",{"$f":"'Months 1-6'!$C$54","v":0},{"$f":"LOOKUP(2,1/('Overall Weight'!$P$22:$P$26<>\"\"),'Overall Weight'!$P$22:$P$26)","v":{"$error":"#N/A"}},{"$f":"'Months 1-6'!AV61","v":{"$error":"#DIV/0!"}},"minutes",null,4,"Attended sessions",{"$f":"'Months 1-6'!AW54","v":0},"of ",{"$f":"'Months 1-6'!$C$54","v":0},{"$f":"LOOKUP(2,1/('Overall Weight'!$Q$22:$Q$26<>\"\"),'Overall Weight'!$Q$22:$Q$26)","v":{"$error":"#N/A"}},{"$f":"'Months 1-6'!AY61","v":{"$error":"#DIV/0!"}},"minutes",null,4,"Attended sessions",{"$f":"'Months 1-6'!AZ54","v":0},"of ",{"$f":"'Months 1-6'!$C$54","v":0},{"$f":"LOOKUP(2,1/('Overall Weight'!$R$22:$R$26<>\"\"),'Overall Weight'!$R$22:$R$26)","v":{"$error":"#N/A"}},{"$f":"'Months 1-6'!BB61","v":{"$error":"#DIV/0!"}},"minutes",null,4,"Attended sessions",{"$f":"'Months 1-6'!BC54","v":0},"of ",{"$f":"'Months 1-6'!$C$54","v":0},{"$f":"LOOKUP(2,1/('Overall Weight'!$S$22:$S$26<>\"\"),'Overall Weight'!$S$22:$S$26)","v":{"$error":"#N/A"}},{"$f":"'Months 1-6'!BE61","v":{"$error":"#DIV/0!"}},"minutes",null,4,"Attended sessions",{"$f":"'Months 1-6'!BF54","v":0},"of ",{"$f":"'Months 1-6'!$C$54","v":0},{"$f":"LOOKUP(2,1/('Overall Weight'!$T$22:$T$26<>\"\"),'Overall Weight'!$T$22:$T$26)","v":{"$error":"#N/A"}},{"$f":"'Months 1-6'!BH61","v":{"$error":"#DIV/0!"}},"minutes",null,4,"Attended sessions",{"$f":"'Months 1-6'!BI54","v":0},"of ",{"$f":"'Months 1-6'!$C$54","v":0},{"$f":"LOOKUP(2,1/('Overall Weight'!$U$22:$U$26<>\"\"),'Overall Weight'!$U$22:$U$26)","v":{"$error":"#N/A"}},{"$f":"'Months 1-6'!BK61","v":{"$error":"#DIV/0!"}},"minutes",null,4,"Attended sessions",{"$f":"'Months 1-6'!BL54","v":0},"of ",{"$f":"'Months 1-6'!$C$54","v":0},{"$f":"LOOKUP(2,1/('Overall Weight'!$V$22:$V$26<>\"\"),'Overall Weight'!$V$22:$V$26)","v":{"$error":"#N/A"}},{"$f":"'Months 1-6'!BN61","v":{"$error":"#DIV/0!"}},"minutes",null,4,"Attended sessions",{"$f":"'Months 1-6'!BO54","v":0},"of ",{"$f":"'Months 1-6'!$C$54","v":0},{"$f":"LOOKUP(2,1/('Overall Weight'!$W$22:$W$26<>\"\"),'Overall Weight'!$W$22:$W$26)","v":{"$error":"#N/A"}},{"$f":"'Months 1-6'!BQ61","v":{"$error":"#DIV/0!"}},"minutes",null,4,"Attended sessions",{"$f":"'Months 1-6'!BR54","v":0},"of ",{"$f":"'Months 1-6'!$C$54","v":0},{"$f":"LOOKUP(2,1/('Overall Weight'!$X$22:$X$26<>\"\"),'Overall Weight'!$X$22:$X$26)","v":{"$error":"#N/A"}},{"$f":"'Months 1-6'!BT61","v":{"$error":"#DIV/0!"}},"minutes",null,4,"Attended sessions",{"$f":"'Months 1-6'!BU54","v":0},"of ",{"$f":"'Months 1-6'!$C$54","v":0},{"$f":"LOOKUP(2,1/('Overall Weight'!$Y$22:$Y$26<>\"\"),'Overall Weight'!$Y$22:$Y$26)","v":{"$error":"#N/A"}},{"$f":"'Months 1-6'!BW61","v":{"$error":"#DIV/0!"}},"minutes",null,4,"Attended sessions",{"$f":"'Months 1-6'!BX54","v":0},"of ",{"$f":"'Months 1-6'!$C$54","v":0},{"$f":"LOOKUP(2,1/('Overall Weight'!$Z$22:$Z$26<>\"\"),'Overall Weight'!$Z$22:$Z$26)","v":{"$error":"#N/A"}},{"$f":"'Months 1-6'!BZ61","v":{"$error":"#DIV/0!"}},"minutes",null,4,"Attended sessions",{"$f":"'Months 1-6'!CA54","v":0},"of ",{"$f":"'Months 1-6'!$C$54","v":0},{"$f":"LOOKUP(2,1/('Overall Weight'!$AA$22:$AA$26<>\"\"),'Overall Weight'!$AA$22:$AA$26)","v":{"$error":"#N/A"}},{"$f":"'Months 1-6'!CC61","v":{"$error":"#DIV/0!"}},"minutes",null,4,"Attended sessions",{"$f":"'Months 1-6'!CD54","v":0},"of ",{"$f":"'Months 1-6'!$C$54","v":0},{"$f":"LOOKUP(2,1/('Overall Weight'!$AB$22:$AB$26<>\"\"),'Overall Weight'!$AB$22:$AB$26)","v":{"$error":"#N/A"}},{"$f":"'Months 1-6'!CF61","v":{"$error":"#DIV/0!"}},"minutes",null,4,"Attended sessions",{"$f":"'Months 1-6'!CG54","v":0},"of ",{"$f":"'Months 1-6'!$C$54","v":0},{"$f":"LOOKUP(2,1/('Overall Weight'!$AC$22:$AC$26<>\"\"),'Overall Weight'!$AC$22:$AC$26)","v":{"$error":"#N/A"}},{"$f":"'Months 1-6'!CI61","v":{"$error":"#DIV/0!"}},"minutes",null,4,"Attended sessions",{"$f":"'Months 1-6'!CJ54","v":0},"of ",{"$f":"'Months 1-6'!$C$54","v":0},{"$f":"LOOKUP(2,1/('Overall Weight'!$AD$22:$AD$26<>\"\"),'Overall Weight'!$AD$22:$AD$26)","v":{"$error":"#N/A"}},{"$f":"'Months 1-6'!CL61","v":{"$error":"#DIV/0!"}},"minutes",null,4,"Attended sessions",{"$f":"'Months 1-6'!CM54","v":0},"of ",{"$f":"'Months 1-6'!$C$54","v":0},{"$f":"LOOKUP(2,1/('Overall Weight'!$AE$22:$AE$26<>\"\"),'Overall Weight'!$AE$22:$AE$26)","v":{"$error":"#N/A"}},{"$f":"'Months 1-6'!CO61","v":{"$error":"#DIV/0!"}},"minutes"]
["Phase 2",5,"Attended sessions",{"$f":"'Months 1-6'!D55","v":0},"of ",{"$f":"'Months 1-6'!$C$55","v":0},{"$f":"LOOKUP(2,1/('Overall Weight'!$B$28:$B$32<>\"\"),'Overall Weight'!$B$28:$B$32)","v":{"$error":"#N/A"}},{"$f":"'Months 1-6'!F62","v":{"$error":"#DIV/0!"}},"minutes","Phase 2",5,"Attended sessions",{"$f":"'Months 1-6'!G55","v":0},"of ",{"$f":"'Months 1-6'!$C$55","v":0},{"$f":"LOOKUP(2,1/('Overall Weight'!$C$28:$C$32<>\"\"),'Overall Weight'!$C$28:$C$32)","v":{"$error":"#N/A"}},{"$f":"'Months 1-6'!I62","v":{"$error":"#DIV/0!"}},"minutes","Phase 2",5,"Attended sessions",{"$f":"'Months 1-6'!J55","v":0},"of ",{"$f":"'Months 1-6'!$C$55","v":0},{"$f":"LOOKUP(2,1/('Overall Weight'!$D$28:$D$32<>\"\"),'Overall Weight'!$D$28:$D$32)","v":{"$error":"#N/A"}},{"$f":"'Months 1-6'!L62","v":{"$error":"#DIV/0!"}},"minutes","Phase 2",5,"Attended sessions",{"$f":"'Months 1-6'!M55","v":0},"of ",{"$f":"'Months 1-6'!$C$55","v":0},{"$f":"LOOKUP(2,1/('Overall Weight'!$E$28:$E$32<>\"\"),'Overall Weight'!$E$28:$E$32)","v":{"$error":"#N/A"}},{"$f":"'Months 1-6'!O62","v":{"$error":"#DIV/0!"}},"minutes","Phase 2",5,"Attended sessions",{"$f":"'Months 1-6'!P55","v":0},"of ",{"$f":"'Months 1-6'!$C$55","v":0},{"$f":"LOOKUP(2,1/('Overall Weight'!$F$28:$F$32<>\"\"),'Overall Weight'!$F$28:$F$32)","v":{"$error":"#N/A"}},{"$f":"'Months 1-6'!R62","v":{"$error":"#DIV/0!"}},"minutes","Phase 2",5,"Attended sessions",{"$f":"'Months 1-6'!S55","v":0},"of ",{"$f":"'Months 1-6'!$C$55","v":0},{"$f":"LOOKUP(2,1/('Overall Weight'!$G$28:$G$32<>\"\"),'Overall Weight'!$G$28:$G$32)","v":{"$error":"#N/A"}},{"$f":"'Months 1-6'!U62","v":{"$error":"#DIV/0!"}},"minutes","Phase 2",5,"Attended sessions",{"$f":"'Months 1-6'!V55","v":0},"of ",{"$f":"'Months 1-6'!$C$55","v":0},{"$f":"LOOKUP(2,1/('Overall Weight'!$H$28:$H$32<>\"\"),'Overall Weight'!$H$28:$H$32)","v":{"$error":"#N/A"}},{"$f":"'Months 1-6'!X62","v":{"$error":"#DIV/0!"}},"minutes","Phase 2",5,"Attended sessions",{"$f":"'Months 1-6'!Y55","v":0},"of ",{"$f":"'Months 1-6'!$C$55","v":0},{"$f":"LOOKUP(2,1/('Overall Weight'!$I$28:$I$32<>\"\"),'Overall Weight'!$I$28:$I$32)","v":{"$error":"#N/A"}},{"$f":"'Months 1-6'!AA62","v":{"$error":"#DIV/0!"}},"minutes","Phase 2",5,"Attended sessions",{"$f":"'Months 1-6'!AB55","v":0},"of ",{"$f":"'Months 1-6'!$C$55","v":0},{"$f":"LOOKUP(2,1/('Overall Weight'!$J$28:$J$32<>\"\"),'Overall Weight'!$J$28:$J$32)","v":{"$error":"#N/A"}},{"$f":"'Months 1-6'!AD62","v":{"$error":"#DIV/0!"}},"minutes","Phase 2",5,"Attended sessions",{"$f":"'Months 1-6'!AE55","v":0},"of ",{"$f":"'Months 1-6'!$C$55","v":0},{"$f":"LOOKUP(2,1/('Overall Weight'!$K$28:$K$32<>\"\"),'Overall Weight'!$K$28:$K$32)","v":{"$error":"#N/A"}},{"$f":"'Months 1-6'!AG62","v":{"$error":"#DIV/0!"}},"minutes","Phase 2",5,"Attended sessions",{"$f":"'Months 1-6'!AH55","v":0},"of ",{"$f":"'Months 1-6'!$C$55","v":0},{"$f":"LOOKUP(2,1/('Overall Weight'!$L$28:$L$32<>\"\"),'Overall Weight'!$L$28:$L$32)","v":{"$error":"#N/A"}},{"$f":"'Months 1-6'!AJ62","v":{"$error":"#DIV/0!"}},"minutes","Phase 2",5,"Attended sessions",{"$f":"'Months 1-6'!AK55","v":0},"of ",{"$f":"'Months 1-6'!$C$55","v":0},{"$f":"LOOKUP(2,1/('Overall Weight'!$M$28:$M$32<>\"\"),'Overall Weight'!$M$28:$M$32)","v":{"$error":"#N/A"}},{"$f":"'Months 1-6'!AM62","v":{"$error":"#DIV/0!"}},"minutes","Phase 2",5,"Attended sessions",{"$f":"'Months 1-6'!AN55","v":0},"of ",{"$f":"'Months 1-6'!$C$55","v":0},{"$f":"LOOKUP(2,1/('Overall Weight'!$N$28:$N$32<>\"\"),'Overall Weight'!$N$28:$N$32)","v":{"$error":"#N/A"}},{"$f":"'Months 1-6'!AP62","v":{"$error":"#DIV/0!"}},"minutes","Phase 2",5,"Attended sessions",{"$f":"'Months 1-6'!AQ55","v":0},"of ",{"$f":"'Months 1-6'!$C$55","v":0},{"$f":"LOOKUP(2,1/('Overall Weight'!$O$28:$O$32<>\"\"),'Overall Weight'!$O$28:$O$32)","v":{"$error":"#N/A"}},{"$f":"'Months 1-6'!AS62","v":{"$error":"#DIV/0!"}},"minutes","Phase 2",5,"Attended sessions",{"$f":"'Months 1-6'!AT55","v":0},"of ",{"$f":"'Months 1-6'!$C$55","v":0},{"$f":"LOOKUP(2,1/('Overall Weight'!$P$28:$P$32<>\"\"),'Overall Weight'!$P$28:$P$32)","v":{"$error":"#N/A"}},{"$f":"'Months 1-6'!AV62","v":{"$error":"#DIV/0!"}},"minutes","Phase 2",5,"Attended sessions",{"$f":"'Months 1-6'!AW55","v":0},"of ",{"$f":"'Months 1-6'!$C$55","v":0},{"$f":"LOOKUP(2,1/('Overall Weight'!$Q$28:$Q$32<>\"\"),'Overall Weight'!$Q$28:$Q$32)","v":{"$error":"#N/A"}},{"$f":"'Months 1-6'!AY62","v":{"$error":"#DIV/0!"}},"minutes","Phase 2",5,"Attended sessions",{"$f":"'Months 1-6'!AZ55","v":0},"of ",{"$f":"'Months 1-6'!$C$55","v":0},{"$f":"LOOKUP(2,1/('Overall Weight'!$R$28:$R$32<>\"\"),'Overall Weight'!$R$28:$R$32)","v":{"$error":"#N/A"}},{"$f":"'Months 1-6'!BB62","v":{"$error":"#DIV/0!"}},"minutes","Phase 2",5,"Attended sessions",{"$f":"'Months 1-6'!BC55","v":0},"of ",{"$f":"'Months 1-6'!$C$55","v":0},{"$f":"LOOKUP(2,1/('Overall Weight'!$S$28:$S$32<>\"\"),'Overall Weight'!$S$28:$S$32)","v":{"$error":"#N/A"}},{"$f":"'Months 1-6'!BE62","v":{"$error":"#DIV/0!"}},"minutes","Phase 2",5,"Attended sessions",{"$f":"'Months 1-6'!BF55","v":0},"of ",{"$f":"'Months 1-6'!$C$55","v":0},{"$f":"LOOKUP(2,1/('Overall Weight'!$T$28:$T$32<>\"\"),'Overall Weight'!$T$28:$T$32)","v":{"$error":"#N/A"}},{"$f":"'Months 1-6'!BH62","v":{"$error":"#DIV/0!"}},"minutes","Phase 2",5,"Attended sessions",{"$f":"'Months 1-6'!BI55","v":0},"of ",{"$f":"'Months 1-6'!$C$55","v":0},{"$f":"LOOKUP(2,1/('Overall Weight'!$U$28:$U$32<>\"\"),'Overall Weight'!$U$28:$U$32)","v":{"$error":"#N/A"}},{"$f":"'Months 1-6'!BK62","v":{"$error":"#DIV/0!"}},"minutes","Phase 2",5,"Attended sessions",{"$f":"'Months 1-6'!BL55","v":0},"of ",{"$f":"'Months 1-6'!$C$55","v":0},{"$f":"LOOKUP(2,1/('Overall Weight'!$V$28:$V$32<>\"\"),'Overall Weight'!$V$28:$V$32)","v":{"$error":"#N/A"}},{"$f":"'Months 1-6'!BN62","v":{"$error":"#DIV/0!"}},"minutes","Phase 2",5,"Attended sessions",{"$f":"'Months 1-6'!BO55","v":0},"of ",{"$f":"'Months 1-6'!$C$55","v":0},{"$f":"LOOKUP(2,1/('Overall Weight'!$W$28:$W$32<>\"\"),'Overall Weight'!$W$28:$W$32)","v":{"$error":"#N/A"}},{"$f":"'Months 1-6'!BQ62","v":{"$error":"#DIV/0!"}},"minutes","Phase 2",5,"Attended sessions",{"$f":"'Months 1-6'!BR55","v":0},"of ",{"$f":"'Months 1-6'!$C$55","v":0},{"$f":"LOOKUP(2,1/('Overall Weight'!$X$28:$X$32<>\"\"),'Overall Weight'!$X$28:$X$32)","v":{"$error":"#N/A"}},{"$f":"'Months 1-6'!BT62","v":{"$error":"#DIV/0!"}},"minutes","Phase 2",5,"Attended sessions",{"$f":"'Months 1-6'!BU55","v":0},"of ",{"$f":"'Months 1-6'!$C$55","v":0},{"$f":"LOOKUP(2,1/('Overall Weight'!$Y$28:$Y$32<>\"\"),'Overall Weight'!$Y$28:$Y$32)","v":{"$error":"#N/A"}},{"$f":"'Months 1-6'!BW62","v":{"$error":"#DIV/0!"}},"minutes","Phase 2",5,"Attended sessions",{"$f":"'Months 1-6'!BX55","v":0},"of ",{"$f":"'Months 1-6'!$C$55","v":0},{"$f":"LOOKUP(2,1/('Overall Weight'!$Z$28:$Z$32<>\"\"),'Overall Weight'!$Z$28:$Z$32)","v":{"$error":"#N/A"}},{"$f":"'Months 1-6'!BZ62","v":{"$error":"#DIV/0!"}},"minutes","Phase 2",5,"Attended sessions",{"$f":"'Months 1-6'!CA55","v":0},"of ",{"$f":"'Months 1-6'!$C$55","v":0},{"$f":"LOOKUP(2,1/('Overall Weight'!$AA$28:$AA$32<>\"\"),'Overall Weight'!$AA$28:$AA$32)","v":{"$error":"#N/A"}},{"$f":"'Months 1-6'!CC62","v":{"$error":"#DIV/0!"}},"minutes","Phase 2",5,"Attended sessions",{"$f":"'Months 1-6'!CD55","v":0},"of ",{"$f":"'Months 1-6'!$C$55","v":0},{"$f":"LOOKUP(2,1/('Overall Weight'!$AB$28:$AB$32<>\"\"),'Overall Weight'!$AB$28:$AB$32)","v":{"$error":"#N/A"}},{"$f":"'Months 1-6'!CF62","v":{"$error":"#DIV/0!"}},"minutes","Phase 2",5,"Attended sessions",{"$f":"'Months 1-6'!CG55","v":0},"of ",{"$f":"'Months 1-6'!$C$55","v":0},{"$f":"LOOKUP(2,1/('Overall Weight'!$AC$28:$AC$32<>\"\"),'Overall Weight'!$AC$28:$AC$32)","v":{"$error":"#N/A"}},{"$f":"'Months 1-6'!CI62","v":{"$error":"#DIV/0!"}},"minutes","Phase 2",5,"Attended sessions",{"$f":"'Months 1-6'!CJ55","v":0},"of ",{"$f":"'Months 1-6'!$C$55","v":0},{"$f":"LOOKUP(2,1/('Overall Weight'!$AD$28:$AD$32<>\"\"),'Overall Weight'!$AD$28:$AD$32)","v":{"$error":"#N/A"}},{"$f":"'Months 1-6'!CL62","v":{"$error":"#DIV/0!"}},"minutes","Phase 2",5,"Attended sessions",{"$f":"'Months 1-6'!CM55","v":0},"of ",{"$f":"'Months 1-6'!$C$55","v":0},{"$f":"LOOKUP(2,1/('Overall Weight'!$AE$28:$AE$32<>\"\"),'Overall Weight'!$AE$28:$AE$32)","v":{"$error":"#N/A"}},{"$f":"'Months 1-6'!CO62","v":{"$error":"#DIV/0!"}},"minutes"]
[null,6,"Attended sessions",{"$f":"'Months 1-6'!D56","v":0},"of ",{"$f":"'Months 1-6'!$C$56","v":0},{"$f":"LOOKUP(2,1/('Overall Weight'!$B$34:$B$38<>\"\"),'Overall Weight'!$B$34:$B$38)","v":{"$error":"#N/A"}},{"$f":"'Months 1-6'!F63","v":{"$error":"#DIV/0!"}},"minutes",null,6,"Attended sessions",{"$f":"'Months 1-6'!G56","v":0},"of ",{"$f":"'Months 1-6'!$C$56","v":0},{"$f":"LOOKUP(2,1/('Overall Weight'!$C$34:$C$38<>\"\"),'Overall Weight'!$C$34:$C$38)","v":{"$error":"#N/A"}},{"$f":"'Months 1-6'!I63","v":{"$error":"#DIV/0!"}},"minutes",null,6,"Attended sessions",{"$f":"'Months 1-6'!J56","v":0},"of ",{"$f":"'Months 1-6'!$C$56","v":0},{"$f":"LOOKUP(2,1/('Overall Weight'!$D$34:$D$38<>\"\"),'Overall Weight'!$D$34:$D$38)","v":{"$error":"#N/A"}},{"$f":"'Months 1-6'!L63","v":{"$error":"#DIV/0!"}},"minutes",null,6,"Attended sessions",{"$f":"'Months 1-6'!M56","v":0},"of ",{"$f":"'Months 1-6'!$C$56","v":0},{"$f":"LOOKUP(2,1/('Overall Weight'!$E$34:$E$38<>\"\"),'Overall Weight'!$E$34:$E$38)","v":{"$error":"#N/A"}},{"$f":"'Months 1-6'!O63","v":{"$error":"#DIV/0!"}},"minutes",null,6,"Attended sessions",{"$f":"'Months 1-6'!P56","v":0},"of ",{"$f":"'Months 1-6'!$C$56","v":0},{"$f":"LOOKUP(2,1/('Overall Weight'!$F$34:$F$38<>\"\"),'Overall Weight'!$F$34:$F$38)","v":{"$error":"#N/A"}},{"$f":"'Months 1-6'!R63","v":{"$error":"#DIV/0!"}},"minutes",null,6,"Attended sessions",{"$f":"'Months 1-6'!S56","v":0},"of ",{"$f":"'Months 1-6'!$C$56","v":0},{"$f":"LOOKUP(2,1/('Overall Weight'!$G$34:$G$38<>\"\"),'Overall Weight'!$G$34:$G$38)","v":{"$error":"#N/A"}},{"$f":"'Months 1-6'!U63","v":{"$error":"#DIV/0!"}},"minutes",null,6,"Attended sessions",{"$f":"'Months 1-6'!V56","v":0},"of ",{"$f":"'Months 1-6'!$C$56","v":0},{"$f":"LOOKUP(2,1/('Overall Weight'!$H$34:$H$38<>\"\"),'Overall Weight'!$H$34:$H$38)","v":{"$error":"#N/A"}},{"$f":"'Months 1-6'!X63","v":{"$error":"#DIV/0!"}},"minutes",null,6,"Attended sessions",{"$f":"'Months 1-6'!Y56","v":0},"of ",{"$f":"'Months 1-6'!$C$56","v":0},{"$f":"LOOKUP(2,1/('Overall Weight'!$I$34:$I$38<>\"\"),'Overall Weight'!$I$34:$I$38)","v":{"$error":"#N/A"}},{"$f":"'Months 1-6'!AA63","v":{"$error":"#DIV/0!"}},"minutes",null,6,"Attended sessions",{"$f":"'Months 1-6'!AB56","v":0},"of ",{"$f":"'Months 1-6'!$C$56","v":0},{"$f":"LOOKUP(2,1/('Overall Weight'!$J$34:$J$38<>\"\"),'Overall Weight'!$J$34:$J$38)","v":{"$error":"#N/A"}},{"$f":"'Months 1-6'!AD63","v":{"$error":"#DIV/0!"}},"minutes",null,6,"Attended sessions",{"$f":"'Months 1-6'!AE56","v":0},"of ",{"$f":"'Months 1-6'!$C$56","v":0},{"$f":"LOOKUP(2,1/('Overall Weight'!$K$34:$K$38<>\"\"),'Overall Weight'!$K$34:$K$38)","v":{"$error":"#N/A"}},{"$f":"'Months 1-6'!AG63","v":{"$error":"#DIV/0!"}},"minutes",null,6,"Attended sessions",{"$f":"'Months 1-6'!AH56","v":0},"of ",{"$f":"'Months 1-6'!$C$56","v":0},{"$f":"LOOKUP(2,1/('Overall Weight'!$L$34:$L$38<>\"\"),'Overall Weight'!$L$34:$L$38)","v":{"$error":"#N/A"}},{"$f":"'Months 1-6'!AJ63","v":{"$error":"#DIV/0!"}},"minutes",null,6,"Attended sessions",{"$f":"'Months 1-6'!AK56","v":0},"of ",{"$f":"'Months 1-6'!$C$56","v":0},{"$f":"LOOKUP(2,1/('Overall Weight'!$M$34:$M$38<>\"\"),'Overall Weight'!$M$34:$M$38)","v":{"$error":"#N/A"}},{"$f":"'Months 1-6'!AM63","v":{"$error":"#DIV/0!"}},"minutes",null,6,"Attended sessions",{"$f":"'Months 1-6'!AN56","v":0},"of ",{"$f":"'Months 1-6'!$C$56","v":0},{"$f":"LOOKUP(2,1/('Overall Weight'!$N$34:$N$38<>\"\"),'Overall Weight'!$N$34:$N$38)","v":{"$error":"#N/A"}},{"$f":"'Months 1-6'!AP63","v":{"$error":"#DIV/0!"}},"minutes",null,6,"Attended sessions",{"$f":"'Months 1-6'!AQ56","v":0},"of ",{"$f":"'Months 1-6'!$C$56","v":0},{"$f":"LOOKUP(2,1/('Overall Weight'!$O$34:$O$38<>\"\"),'Overall Weight'!$O$34:$O$38)","v":{"$error":"#N/A"}},{"$f":"'Months 1-6'!AS63","v":{"$error":"#DIV/0!"}},"minutes",null,6,"Attended sessions",{"$f":"'Months 1-6'!AT56","v":0},"of ",{"$f":"'Months 1-6'!$C$56","v":0},{"$f":"LOOKUP(2,1/('Overall Weight'!$P$34:$P$38<>\"\"),'Overall Weight'!$P$34:$P$38)","v":{"$error":"#N/A"}},{"$f":"'Months 1-6'!AV63","v":{"$error":"#DIV/0!"}},"minutes",null,6,"Attended sessions",{"$f":"'Months 1-6'!AW56","v":0},"of ",{"$f":"'Months 1-6'!$C$56","v":0},{"$f":"LOOKUP(2,1/('Overall Weight'!$Q$34:$Q$38<>\"\"),'Overall Weight'!$Q$34:$Q$38)","v":{"$error":"#N/A"}},{"$f":"'Months 1-6'!AY63","v":{"$error":"#DIV/0!"}},"minutes",null,6,"Attended sessions",{"$f":"'Months 1-6'!AZ56","v":0},"of ",{"$f":"'Months 1-6'!$C$56","v":0},{"$f":"LOOKUP(2,1/('Overall Weight'!$R$34:$R$38<>\"\"),'Overall Weight'!$R$34:$R$38)","v":{"$error":"#N/A"}},{"$f":"'Months 1-6'!BB63","v":{"$error":"#DIV/0!"}},"minutes",null,6,"Attended sessions",{"$f":"'Months 1-6'!BC56","v":0},"of ",{"$f":"'Months 1-6'!$C$56","v":0},{"$f":"LOOKUP(2,1/('Overall Weight'!$S$34:$S$38<>\"\"),'Overall Weight'!$S$34:$S$38)","v":{"$error":"#N/A"}},{"$f":"'Months 1-6'!BE63","v":{"$error":"#DIV/0!"}},"minutes",null,6,"Attended sessions",{"$f":"'Months 1-6'!BF56","v":0},"of ",{"$f":"'Months 1-6'!$C$56","v":0},{"$f":"LOOKUP(2,1/('Overall Weight'!$T$34:$T$38<>\"\"),'Overall Weight'!$T$34:$T$38)","v":{"$error":"#N/A"}},{"$f":"'Months 1-6'!BH63","v":{"$error":"#DIV/0!"}},"minutes",null,6,"Attended sessions",{"$f":"'Months 1-6'!BI56","v":0},"of ",{"$f":"'Months 1-6'!$C$56","v":0},{"$f":"LOOKUP(2,1/('Overall Weight'!$U$34:$U$38<>\"\"),'Overall Weight'!$U$34:$U$38)","v":{"$error":"#N/A"}},{"$f":"'Months 1-6'!BK63","v":{"$error":"#DIV/0!"}},"minutes",null,6,"Attended sessions",{"$f":"'Months 1-6'!BL56","v":0},"of ",{"$f":"'Months 1-6'!$C$56","v":0},{"$f":"LOOKUP(2,1/('Overall Weight'!$V$34:$V$38<>\"\"),'Overall Weight'!$V$34:$V$38)","v":{"$error":"#N/A"}},{"$f":"'Months 1-6'!BN63","v":{"$error":"#DIV/0!"}},"minutes",null,6,"Attended sessions",{"$f":"'Months 1-6'!BO56","v":0},"of ",{"$f":"'Months 1-6'!$C$56","v":0},{"$f":"LOOKUP(2,1/('Overall Weight'!$W$34:$W$38<>\"\"),'Overall Weight'!$W$34:$W$38)","v":{"$error":"#N/A"}},{"$f":"'Months 1-6'!BQ63","v":{"$error":"#DIV/0!"}},"minutes",null,6,"Attended sessions",{"$f":"'Months 1-6'!BR56","v":0},"of ",{"$f":"'Months 1-6'!$C$56","v":0},{"$f":"LOOKUP(2,1/('Overall Weight'!$X$34:$X$38<>\"\"),'Overall Weight'!$X$34:$X$38)","v":{"$error":"#N/A"}},{"$f":"'Months 1-6'!BT63","v":{"$error":"#DIV/0!"}},"minutes",null,6,"Attended sessions",{"$f":"'Months 1-6'!BU56","v":0},"of ",{"$f":"'Months 1-6'!$C$56","v":0},{"$f":"LOOKUP(2,1/('Overall Weight'!$Y$34:$Y$38<>\"\"),'Overall Weight'!$Y$34:$Y$38)","v":{"$error":"#N/A"}},{"$f":"'Months 1-6'!BW63","v":{"$error":"#DIV/0!"}},"minutes",null,6,"Attended sessions",{"$f":"'Months 1-6'!BX56","v":0},"of ",{"$f":"'Months 1-6'!$C$56","v":0},{"$f":"LOOKUP(2,1/('Overall Weight'!$Z$34:$Z$38<>\"\"),'Overall Weight'!$Z$34:$Z$38)","v":{"$error":"#N/A"}},{"$f":"'Months 1-6'!BZ63","v":{"$error":"#DIV/0!"}},"minutes",null,6,"Attended sessions",{"$f":"'Months 1-6'!CA56","v":0},"of ",{"$f":"'Months 1-6'!$C$56","v":0},{"$f":"LOOKUP(2,1/('Overall Weight'!$AA$34:$AA$38<>\"\"),'Overall Weight'!$AA$34:$AA$38)","v":{"$error":"#N/A"}},{"$f":"'Months 1-6'!CC63","v":{"$error":"#DIV/0!"}},"minutes",null,6,"Attended sessions",{"$f":"'Months 1-6'!CD56","v":0},"of ",{"$f":"'Months 1-6'!$C$56","v":0},{"$f":"LOOKUP(2,1/('Overall Weight'!$AB$34:$AB$38<>\"\"),'Overall Weight'!$AB$34:$AB$38)","v":{"$error":"#N/A"}},{"$f":"'Months 1-6'!CF63","v":{"$error":"#DIV/0!"}},"minutes",null,6,"Attended sessions",{"$f":"'Months 1-6'!CG56","v":0},"of ",{"$f":"'Months 1-6'!$C$56","v":0},{"$f":"LOOKUP(2,1/('Overall Weight'!$AC$34:$AC$38<>\"\"),'Overall Weight'!$AC$34:$AC$38)","v":{"$error":"#N/A"}},{"$f":"'Months 1-6'!CI63","v":{"$error":"#DIV/0!"}},"minutes",null,6,"Attended sessions",{"$f":"'Months 1-6'!CJ56","v":0},"of ",{"$f":"'Months 1-6'!$C$56","v":0},{"$f":"LOOKUP(2,1/('Overall Weight'!$AD$34:$AD$38<>\"\"),'Overall Weight'!$AD$34:$AD$38)","v":{"$error":"#N/A"}},{"$f":"'Months 1-6'!CL63","v":{"$error":"#DIV/0!"}},"minutes",null,6,"Attended sessions",{"$f":"'Months 1-6'!CM56","v":0},"of ",{"$f":"'Months 1-6'!$C$56","v":0},{"$f":"LOOKUP(2,1/('Overall Weight'!$AE$34:$AE$38<>\"\"),'Overall Weight'!$AE$34:$AE$38)","v":{"$error":"#N/A"}},{"$f":"'Months 1-6'!CO63","v":{"$error":"#DIV/0!"}},"minutes"]
[null,7,"Attended sessions",{"$f":"'Months 7-12'!D50","v":0},"of ",{"$f":"'Months 7-12'!$C$50","v":0},{"$f":"LOOKUP(2,1/('Overall Weight'!$B$40:$B$44<>\"\"),'Overall Weight'!$B$40:$B$44)","v":{"$error":"#N/A"}},{"$f":"'Months 7-12'!F57","v":{"$error":"#DIV/0!"}},"minutes",null,7,"Attended sessions",{"$f":"'Months 7-12'!G50","v":0},"of ",{"$f":"'Months 7-12'!$C$50","v":0},{"$f":"LOOKUP(2,1/('Overall Weight'!$C$40:$C$44<>\"\"),'Overall Weight'!$C$40:$C$44)","v":{"$error":"#N/A"}},{"$f":"'Months 7-12'!I57","v":{"$error":"#DIV/0!"}},"minutes",null,7,"Attended sessions",{"$f":"'Months 7-12'!J50","v":0},"of ",{"$f":"'Months 7-12'!$C$50","v":0},{"$f":"LOOKUP(2,1/('Overall Weight'!$D$40:$D$44<>\"\"),'Overall Weight'!$D$40:$D$44)","v":{"$error":"#N/A"}},{"$f":"'Months 7-12'!L57","v":{"$error":"#DIV/0!"}},"minutes",null,7,"Attended sessions",{"$f":"'Months 7-12'!M50","v":0},"of ",{"$f":"'Months 7-12'!$C$50","v":0},{"$f":"LOOKUP(2,1/('Overall Weight'!$E$40:$E$44<>\"\"),'Overall Weight'!$E$40:$E$44)","v":{"$error":"#N/A"}},{"$f":"'Months 7-12'!O57","v":{"$error":"#DIV/0!"}},"minutes",null,7,"Attended sessions",{"$f":"'Months 7-12'!P50","v":0},"of ",{"$f":"'Months 7-12'!$C$50","v":0},{"$f":"LOOKUP(2,1/('Overall Weight'!$F$40:$F$44<>\"\"),'Overall Weight'!$F$40:$F$44)","v":{"$error":"#N/A"}},{"$f":"'Months 7-12'!R57","v":{"$error":"#DIV/0!"}},"minutes",null,7,"Attended sessions",{"$f":"'Months 7-12'!S50","v":0},"of ",{"$f":"'Months 7-12'!$C$50","v":0},{"$f":"LOOKUP(2,1/('Overall Weight'!$G$40:$G$44<>\"\"),'Overall Weight'!$G$40:$G$44)","v":{"$error":"#N/A"}},{"$f":"'Months 7-12'!U57","v":{"$error":"#DIV/0!"}},"minutes",null,7,"Attended sessions",{"$f":"'Months 7-12'!V50","v":0},"of ",{"$f":"'Months 7-12'!$C$50","v":0},{"$f":"LOOKUP(2,1/('Overall Weight'!$H$40:$H$44<>\"\"),'Overall Weight'!$H$40:$H$44)","v":{"$error":"#N/A"}},{"$f":"'Months 7-12'!X57","v":{"$error":"#DIV/0!"}},"minutes",null,7,"Attended sessions",{"$f":"'Months 7-12'!Y50","v":0},"of ",{"$f":"'Months 7-12'!$C$50","v":0},{"$f":"LOOKUP(2,1/('Overall Weight'!$I$40:$I$44<>\"\"),'Overall Weight'!$I$40:$I$44)","v":{"$error":"#N/A"}},{"$f":"'Months 7-12'!AA57","v":{"$error":"#DIV/0!"}},"minutes",null,7,"Attended sessions",{"$f":"'Months 7-12'!AB50","v":0},"of ",{"$f":"'Months 7-12'!$C$50","v":0},{"$f":"LOOKUP(2,1/('Overall Weight'!$J$40:$J$44<>\"\"),'Overall Weight'!$J$40:$J$44)","v":{"$error":"#N/A"}},{"$f":"'Months 7-12'!AD57","v":{"$error":"#DIV/0!"}},"minutes",null,7,"Attended sessions",{"$f":"'Months 7-12'!AE50","v":0},"of ",{"$f":"'Months 7-12'!$C$50","v":0},{"$f":"LOOKUP(2,1/('Overall Weight'!$K$40:$K$44<>\"\"),'Overall Weight'!$K$40:$K$44)","v":{"$error":"#N/A"}},{"$f":"'Months 7-12'!AG57","v":{"$error":"#DIV/0!"}},"minutes",null,7,"Attended sessions",{"$f":"'Months 7-12'!AH50","v":0},"of ",{"$f":"'Months 7-12'!$C$50","v":0},{"$f":"LOOKUP(2,1/('Overall Weight'!$L$40:$L$44<>\"\"),'Overall Weight'!$L$40:$L$44)","v":{"$error":"#N/A"}},{"$f":"'Months 7-12'!AJ57","v":{"$error":"#DIV/0!"}},"minutes",null,7,"Attended sessions",{"$f":"'Months 7-12'!AK50","v":0},"of ",{"$f":"'Months 7-12'!$C$50","v":0},{"$f":"LOOKUP(2,1/('Overall Weight'!$M$40:$M$44<>\"\"),'Overall Weight'!$M$40:$M$44)","v":{"$error":"#N/A"}},{"$f":"'Months 7-12'!AM57","v":{"$error":"#DIV/0!"}},"minutes",null,7,"Attended sessions",{"$f":"'Months 7-12'!AN50","v":0},"of ",{"$f":"'Months 7-12'!$C$50","v":0},{"$f":"LOOKUP(2,1/('Overall Weight'!$N$40:$N$44<>\"\"),'Overall Weight'!$N$40:$N$44)","v":{"$error":"#N/A"}},{"$f":"'Months 7-12'!AP57","v":{"$error":"#DIV/0!"}},"minutes",null,7,"Attended sessions",{"$f":"'Months 7-12'!AQ50","v":0},"of ",{"$f":"'Months 7-12'!$C$50","v":0},{"$f":"LOOKUP(2,1/('Overall Weight'!$O$40:$O$44<>\"\"),'Overall Weight'!$O$40:$O$44)","v":{"$error":"#N/A"}},{"$f":"'Months 7-12'!AS57","v":{"$error":"#DIV/0!"}},"minutes",null,7,"Attended sessions",{"$f":"'Months 7-12'!AT50","v":0},"of ",{"$f":"'Months 7-12'!$C$50","v":0},{"$f":"LOOKUP(2,1/('Overall Weight'!$P$40:$P$44<>\"\"),'Overall Weight'!$P$40:$P$44)","v":{"$error":"#N/A"}},{"$f":"'Months 7-12'!AV57","v":{"$error":"#DIV/0!"}},"minutes",null,7,"Attended sessions",{"$f":"'Months 7-12'!AW50","v":0},"of ",{"$f":"'Months 7-12'!$C$50","v":0},{"$f":"LOOKUP(2,1/('Overall Weight'!$Q$40:$Q$44<>\"\"),'Overall Weight'!$Q$40:$Q$44)","v":{"$error":"#N/A"}},{"$f":"'Months 7-12'!AY57","v":{"$error":"#DIV/0!"}},"minutes",null,7,"Attended sessions",{"$f":"'Months 7-12'!AZ50","v":0},"of ",{"$f":"'Months 7-12'!$C$50","v":0},{"$f":"LOOKUP(2,1/('Overall Weight'!$R$40:$R$44<>\"\"),'Overall Weight'!$R$40:$R$44)","v":{"$error":"#N/A"}},{"$f":"'Months 7-12'!BB57","v":{"$error":"#DIV/0!"}},"minutes",null,7,"Attended sessions",{"$f":"'Months 7-12'!BC50","v":0},"of ",{"$f":"'Months 7-12'!$C$50","v":0},{"$f":"LOOKUP(2,1/('Overall Weight'!$S$40:$S$44<>\"\"),'Overall Weight'!$S$40:$S$44)","v":{"$error":"#N/A"}},{"$f":"'Months 7-12'!BE57","v":{"$error":"#DIV/0!"}},"minutes",null,7,"Attended sessions",{"$f":"'Months 7-12'!BF50","v":0},"of ",{"$f":"'Months 7-12'!$C$50","v":0},{"$f":"LOOKUP(2,1/('Overall Weight'!$T$40:$T$44<>\"\"),'Overall Weight'!$T$40:$T$44)","v":{"$error":"#N/A"}},{"$f":"'Months 7-12'!BH57","v":{"$error":"#DIV/0!"}},"minutes",null,7,"Attended sessions",{"$f":"'Months 7-12'!BI50","v":0},"of ",{"$f":"'Months 7-12'!$C$50","v":0},{"$f":"LOOKUP(2,1/('Overall Weight'!$U$40:$U$44<>\"\"),'Overall Weight'!$U$40:$U$44)","v":{"$error":"#N/A"}},{"$f":"'Months 7-12'!BK57","v":{"$error":"#DIV/0!"}},"minutes",null,7,"Attended sessions",{"$f":"'Months 7-12'!BL50","v":0},"of ",{"$f":"'Months 7-12'!$C$50","v":0},{"$f":"LOOKUP(2,1/('Overall Weight'!$V$40:$V$44<>\"\"),'Overall Weight'!$V$40:$V$44)","v":{"$error":"#N/A"}},{"$f":"'Months 7-12'!BN57","v":{"$error":"#DIV/0!"}},"minutes",null,7,"Attended sessions",{"$f":"'Months 7-12'!BO50","v":0},"of ",{"$f":"'Months 7-12'!$C$50","v":0},{"$f":"LOOKUP(2,1/('Overall Weight'!$W$40:$W$44<>\"\"),'Overall Weight'!$W$40:$W$44)","v":{"$error":"#N/A"}},{"$f":"'Months 7-12'!BQ57","v":{"$error":"#DIV/0!"}},"minutes",null,7,"Attended sessions",{"$f":"'Months 7-12'!BR50","v":0},"of ",{"$f":"'Months 7-12'!$C$50","v":0},{"$f":"LOOKUP(2,1/('Overall Weight'!$X$40:$X$44<>\"\"),'Overall Weight'!$X$40:$X$44)","v":{"$error":"#N/A"}},{"$f":"'Months 7-12'!BT57","v":{"$error":"#DIV/0!"}},"minutes",null,7,"Attended sessions",{"$f":"'Months 7-12'!BU50","v":0},"of ",{"$f":"'Months 7-12'!$C$50","v":0},{"$f":"LOOKUP(2,1/('Overall Weight'!$Y$40:$Y$44<>\"\"),'Overall Weight'!$Y$40:$Y$44)","v":{"$error":"#N/A"}},{"$f":"'Months 7-12'!BW57","v":{"$error":"#DIV/0!"}},"minutes",null,7,"Attended sessions",{"$f":"'Months 7-12'!BX50","v":0},"of ",{"$f":"'Months 7-12'!$C$50","v":0},{"$f":"LOOKUP(2,1/('Overall Weight'!$Z$40:$Z$44<>\"\"),'Overall Weight'!$Z$40:$Z$44)","v":{"$error":"#N/A"}},{"$f":"'Months 7-12'!BZ57","v":{"$error":"#DIV/0!"}},"minutes",null,7,"Attended sessions",{"$f":"'Months 7-12'!CA50","v":0},"of ",{"$f":"'Months 7-12'!$C$50","v":0},{"$f":"LOOKUP(2,1/('Overall Weight'!$AA$40:$AA$44<>\"\"),'Overall Weight'!$AA$40:$AA$44)","v":{"$error":"#N/A"}},{"$f":"'Months 7-12'!CC57","v":{"$error":"#DIV/0!"}},"minutes",null,7,"Attended sessions",{"$f":"'Months 7-12'!CD50","v":0},"of ",{"$f":"'Months 7-12'!$C$50","v":0},{"$f":"LOOKUP(2,1/('Overall Weight'!$AB$40:$AB$44<>\"\"),'Overall Weight'!$AB$40:$AB$44)","v":{"$error":"#N/A"}},{"$f":"'Months 7-12'!CF57","v":{"$error":"#DIV/0!"}},"minutes",null,7,"Attended sessions",{"$f":"'Months 7-12'!CG50","v":0},"of ",{"$f":"'Months 7-12'!$C$50","v":0},{"$f":"LOOKUP(2,1/('Overall Weight'!$AC$40:$AC$44<>\"\"),'Overall Weight'!$AC$40:$AC$44)","v":{"$error":"#N/A"}},{"$f":"'Months 7-12'!CI57","v":{"$error":"#DIV/0!"}},"minutes",null,7,"Attended sessions",{"$f":"'Months 7-12'!CJ50","v":0},"of ",{"$f":"'Months 7-12'!$C$50","v":0},{"$f":"LOOKUP(2,1/('Overall Weight'!$AD$40:$AD$44<>\"\"),'Overall Weight'!$AD$40:$AD$44)","v":{"$error":"#N/A"}},{"$f":"'Months 7-12'!CL57","v":{"$error":"#DIV/0!"}},"minutes",null,7,"Attended sessions",{"$f":"'Months 7-12'!CM50","v":0},"of ",{"$f":"'Months 7-12'!$C$50","v":0},{"$f":"LOOKUP(2,1/('Overall Weight'!$AE$40:$AE$44<>\"\"),'Overall Weight'!$AE$40:$AE$44)","v":{"$error":"#N/A"}},{"$f":"'Months 7-12'!CO57","v":{"$error":"#DIV/0!"}},"minutes"]
[null,8,"Attended sessions",{"$f":"'Months 7-12'!D51","v":0},"of ",{"$f":"'Months 7-12'!$C$51","v":0},{"$f":"LOOKUP(2,1/('Overall Weight'!$B$46:$B$50<>\"\"),'Overall Weight'!$B$46:$B$50)","v":{"$error":"#N/A"}},{"$f":"'Months 7-12'!F58","v":{"$error":"#DIV/0!"}},"minutes",null,8,"Attended sessions",{"$f":"'Months 7-12'!G51","v":0},"of ",{"$f":"'Months 7-12'!$C$51","v":0},{"$f":"LOOKUP(2,1/('Overall Weight'!$C$46:$C$50<>\"\"),'Overall Weight'!$C$46:$C$50)","v":{"$error":"#N/A"}},{"$f":"'Months 7-12'!I58","v":{"$error":"#DIV/0!"}},"minutes",null,8,"Attended sessions",{"$f":"'Months 7-12'!J51","v":0},"of ",{"$f":"'Months 7-12'!$C$51","v":0},{"$f":"LOOKUP(2,1/('Overall Weight'!$D$46:$D$50<>\"\"),'Overall Weight'!$D$46:$D$50)","v":{"$error":"#N/A"}},{"$f":"'Months 7-12'!L58","v":{"$error":"#DIV/0!"}},"minutes",null,8,"Attended sessions",{"$f":"'Months 7-12'!M51","v":0},"of ",{"$f":"'Months 7-12'!$C$51","v":0},{"$f":"LOOKUP(2,1/('Overall Weight'!$E$46:$E$50<>\"\"),'Overall Weight'!$E$46:$E$50)","v":{"$error":"#N/A"}},{"$f":"'Months 7-12'!O58","v":{"$error":"#DIV/0!"}},"minutes",null,8,"Attended sessions",{"$f":"'Months 7-12'!P51","v":0},"of ",{"$f":"'Months 7-12'!$C$51","v":0},{"$f":"LOOKUP(2,1/('Overall Weight'!$F$46:$F$50<>\"\"),'Overall Weight'!$F$46:$F$50)","v":{"$error":"#N/A"}},{"$f":"'Months 7-12'!R58","v":{"$error":"#DIV/0!"}},"minutes",null,8,"Attended sessions",{"$f":"'Months 7-12'!S51","v":0},"of ",{"$f":"'Months 7-12'!$C$51","v":0},{"$f":"LOOKUP(2,1/('Overall Weight'!$G$46:$G$50<>\"\"),'Overall Weight'!$G$46:$G$50)","v":{"$error":"#N/A"}},{"$f":"'Months 7-12'!U58","v":{"$error":"#DIV/0!"}},"minutes",null,8,"Attended sessions",{"$f":"'Months 7-12'!V51","v":0},"of ",{"$f":"'Months 7-12'!$C$51","v":0},{"$f":"LOOKUP(2,1/('Overall Weight'!$H$46:$H$50<>\"\"),'Overall Weight'!$H$46:$H$50)","v":{"$error":"#N/A"}},{"$f":"'Months 7-12'!X58","v":{"$error":"#DIV/0!"}},"minutes",null,8,"Attended sessions",{"$f":"'Months 7-12'!Y51","v":0},"of ",{"$f":"'Months 7-12'!$C$51","v":0},{"$f":"LOOKUP(2,1/('Overall Weight'!$I$46:$I$50<>\"\"),'Overall Weight'!$I$46:$I$50)","v":{"$error":"#N/A"}},{"$f":"'Months 7-12'!AA58","v":{"$error":"#DIV/0!"}},"minutes",null,8,"Attended sessions",{"$f":"'Months 7-12'!AB51","v":0},"of ",{"$f":"'Months 7-12'!$C$51","v":0},{"$f":"LOOKUP(2,1/('Overall Weight'!$J$46:$J$50<>\"\"),'Overall Weight'!$J$46:$J$50)","v":{"$error":"#N/A"}},{"$f":"'Months 7-12'!AD58","v":{"$error":"#DIV/0!"}},"minutes",null,8,"Attended sessions",{"$f":"'Months 7-12'!AE51","v":0},"of ",{"$f":"'Months 7-12'!$C$51","v":0},{"$f":"LOOKUP(2,1/('Overall Weight'!$K$46:$K$50<>\"\"),'Overall Weight'!$K$46:$K$50)","v":{"$error":"#N/A"}},{"$f":"'Months 7-12'!AG58","v":{"$error":"#DIV/0!"}},"minutes",null,8,"Attended sessions",{"$f":"'Months 7-12'!AH51","v":0},"of ",{"$f":"'Months 7-12'!$C$51","v":0},{"$f":"LOOKUP(2,1/('Overall Weight'!$L$46:$L$50<>\"\"),'Overall Weight'!$L$46:$L$50)","v":{"$error":"#N/A"}},{"$f":"'Months 7-12'!AJ58","v":{"$error":"#DIV/0!"}},"minutes",null,8,"Attended sessions",{"$f":"'Months 7-12'!AK51","v":0},"of ",{"$f":"'Months 7-12'!$C$51","v":0},{"$f":"LOOKUP(2,1/('Overall Weight'!$M$46:$M$50<>\"\"),'Overall Weight'!$M$46:$M$50)","v":{"$error":"#N/A"}},{"$f":"'Months 7-12'!AM58","v":{"$error":"#DIV/0!"}},"minutes",null,8,"Attended sessions",{"$f":"'Months 7-12'!AN51","v":0},"of ",{"$f":"'Months 7-12'!$C$51","v":0},{"$f":"LOOKUP(2,1/('Overall Weight'!$N$46:$N$50<>\"\"),'Overall Weight'!$N$46:$N$50)","v":{"$error":"#N/A"}},{"$f":"'Months 7-12'!AP58","v":{"$error":"#DIV/0!"}},"minutes",null,8,"Attended sessions",{"$f":"'Months 7-12'!AQ51","v":0},"of ",{"$f":"'Months 7-12'!$C$51","v":0},{"$f":"LOOKUP(2,1/('Overall Weight'!$O$46:$O$50<>\"\"),'Overall Weight'!$O$46:$O$50)","v":{"$error":"#N/A"}},{"$f":"'Months 7-12'!AS58","v":{"$error":"#DIV/0!"}},"minutes",null,8,"Attended sessions",{"$f":"'Months 7-12'!AT51","v":0},"of ",{"$f":"'Months 7-12'!$C$51","v":0},{"$f":"LOOKUP(2,1/('Overall Weight'!$P$46:$P$50<>\"\"),'Overall Weight'!$P$46:$P$50)","v":{"$error":"#N/A"}},{"$f":"'Months 7-12'!AV58","v":{"$error":"#DIV/0!"}},"minutes",null,8,"Attended sessions",{"$f":"'Months 7-12'!AW51","v":0},"of ",{"$f":"'Months 7-12'!$C$51","v":0},{"$f":"LOOKUP(2,1/('Overall Weight'!$Q$46:$Q$50<>\"\"),'Overall Weight'!$Q$46:$Q$50)","v":{"$error":"#N/A"}},{"$f":"'Months 7-12'!AY58","v":{"$error":"#DIV/0!"}},"minutes",null,8,"Attended sessions",{"$f":"'Months 7-12'!AZ51","v":0},"of ",{"$f":"'Months 7-12'!$C$51","v":0},{"$f":"LOOKUP(2,1/('Overall Weight'!$R$46:$R$50<>\"\"),'Overall Weight'!$R$46:$R$50)","v":{"$error":"#N/A"}},{"$f":"'Months 7-12'!BB58","v":{"$error":"#DIV/0!"}},"minutes",null,8,"Attended sessions",{"$f":"'Months 7-12'!BC51","v":0},"of ",{"$f":"'Months 7-12'!$C$51","v":0},{"$f":"LOOKUP(2,1/('Overall Weight'!$S$46:$S$50<>\"\"),'Overall Weight'!$S$46:$S$50)","v":{"$error":"#N/A"}},{"$f":"'Months 7-12'!BE58","v":{"$error":"#DIV/0!"}},"minutes",null,8,"Attended sessions",{"$f":"'Months 7-12'!BF51","v":0},"of ",{"$f":"'Months 7-12'!$C$51","v":0},{"$f":"LOOKUP(2,1/('Overall Weight'!$T$46:$T$50<>\"\"),'Overall Weight'!$T$46:$T$50)","v":{"$error":"#N/A"}},{"$f":"'Months 7-12'!BH58","v":{"$error":"#DIV/0!"}},"minutes",null,8,"Attended sessions",{"$f":"'Months 7-12'!BI51","v":0},"of ",{"$f":"'Months 7-12'!$C$51","v":0},{"$f":"LOOKUP(2,1/('Overall Weight'!$U$46:$U$50<>\"\"),'Overall Weight'!$U$46:$U$50)","v":{"$error":"#N/A"}},{"$f":"'Months 7-12'!BK58","v":{"$error":"#DIV/0!"}},"minutes",null,8,"Attended sessions",{"$f":"'Months 7-12'!BL51","v":0},"of ",{"$f":"'Months 7-12'!$C$51","v":0},{"$f":"LOOKUP(2,1/('Overall Weight'!$V$46:$V$50<>\"\"),'Overall Weight'!$V$46:$V$50)","v":{"$error":"#N/A"}},{"$f":"'Months 7-12'!BN58","v":{"$error":"#DIV/0!"}},"minutes",null,8,"Attended sessions",{"$f":"'Months 7-12'!BO51","v":0},"of ",{"$f":"'Months 7-12'!$C$51","v":0},{"$f":"LOOKUP(2,1/('Overall Weight'!$W$46:$W$50<>\"\"),'Overall Weight'!$W$46:$W$50)","v":{"$error":"#N/A"}},{"$f":"'Months 7-12'!BQ58","v":{"$error":"#DIV/0!"}},"minutes",null,8,"Attended sessions",{"$f":"'Months 7-12'!BR51","v":0},"of ",{"$f":"'Months 7-12'!$C$51","v":0},{"$f":"LOOKUP(2,1/('Overall Weight'!$X$46:$X$50<>\"\"),'Overall Weight'!$X$46:$X$50)","v":{"$error":"#N/A"}},{"$f":"'Months 7-12'!BT58","v":{"$error":"#DIV/0!"}},"minutes",null,8,"Attended sessions",{"$f":"'Months 7-12'!BU51","v":0},"of ",{"$f":"'Months 7-12'!$C$51","v":0},{"$f":"LOOKUP(2,1/('Overall Weight'!$Y$46:$Y$50<>\"\"),'Overall Weight'!$Y$46:$Y$50)","v":{"$error":"#N/A"}},{"$f":"'Months 7-12'!BW58","v":{"$error":"#DIV/0!"}},"minutes",null,8,"Attended sessions",{"$f":"'Months 7-12'!BX51","v":0},"of ",{"$f":"'Months 7-12'!$C$51","v":0},{"$f":"LOOKUP(2,1/('Overall Weight'!$Z$46:$Z$50<>\"\"),'Overall Weight'!$Z$46:$Z$50)","v":{"$error":"#N/A"}},{"$f":"'Months 7-12'!BZ58","v":{"$error":"#DIV/0!"}},"minutes",null,8,"Attended sessions",{"$f":"'Months 7-12'!CA51","v":0},"of ",{"$f":"'Months 7-12'!$C$51","v":0},{"$f":"LOOKUP(2,1/('Overall Weight'!$AA$46:$AA$50<>\"\"),'Overall Weight'!$AA$46:$AA$50)","v":{"$error":"#N/A"}},{"$f":"'Months 7-12'!CC58","v":{"$error":"#DIV/0!"}},"minutes",null,8,"Attended sessions",{"$f":"'Months 7-12'!CD51","v":0},"of ",{"$f":"'Months 7-12'!$C$51","v":0},{"$f":"LOOKUP(2,1/('Overall Weight'!$AB$46:$AB$50<>\"\"),'Overall Weight'!$AB$46:$AB$50)","v":{"$error":"#N/A"}},{"$f":"'Months 7-12'!CF58","v":{"$error":"#DIV/0!"}},"minutes",null,8,"Attended sessions",{"$f":"'Months 7-12'!CG51","v":0},"of ",{"$f":"'Months 7-12'!$C$51","v":0},{"$f":"LOOKUP(2,1/('Overall Weight'!$AC$46:$AC$50<>\"\"),'Overall Weight'!$AC$46:$AC$50)","v":{"$error":"#N/A"}},{"$f":"'Months 7-12'!CI58","v":{"$error":"#DIV/0!"}},"minutes",null,8,"Attended sessions",{"$f":"'Months 7-12'!CJ51","v":0},"of ",{"$f":"'Months 7-12'!$C$51","v":0},{"$f":"LOOKUP(2,1/('Overall Weight'!$AD$46:$AD$50<>\"\"),'Overall Weight'!$AD$46:$AD$50)","v":{"$error":"#N/A"}},{"$f":"'Months 7-12'!CL58","v":{"$error":"#DIV/0!"}},"minutes",null,8,"Attended sessions",{"$f":"'Months 7-12'!CM51","v":0},"of ",{"$f":"'Months 7-12'!$C$51","v":0},{"$f":"LOOKUP(2,1/('Overall Weight'!$AE$46:$AE$50<>\"\"),'Overall Weight'!$AE$46:$AE$50)","v":{"$error":"#N/A"}},{"$f":"'Months 7-12'!CO58","v":{"$error":"#DIV/0!"}},"minutes"]
[null,9,"Attended sessions",{"$f":"'Months 7-12'!D52","v":0},"of ",{"$f":"'Months 7-12'!$C$52","v":0},{"$f":"LOOKUP(2,1/('Overall Weight'!$B$52:$B$56<>\"\"),'Overall Weight'!$B$52:$B$56)","v":{"$error":"#N/A"}},{"$f":"'Months 7-12'!F59","v":{"$error":"#DIV/0!"}},"minutes",null,9,"Attended sessions",{"$f":"'Months 7-12'!G52","v":0},"of ",{"$f":"'Months 7-12'!$C$52","v":0},{"$f":"LOOKUP(2,1/('Overall Weight'!$C$52:$C$56<>\"\"),'Overall Weight'!$C$52:$C$56)","v":{"$error":"#N/A"}},{"$f":"'Months 7-12'!I59","v":{"$error":"#DIV/0!"}},"minutes",null,9,"Attended sessions",{"$f":"'Months 7-12'!J52","v":0},"of ",{"$f":"'Months 7-12'!$C$52","v":0},{"$f":"LOOKUP(2,1/('Overall Weight'!$D$52:$D$56<>\"\"),'Overall Weight'!$D$52:$D$56)","v":{"$error":"#N/A"}},{"$f":"'Months 7-12'!L59","v":{"$error":"#DIV/0!"}},"minutes",null,9,"Attended sessions",{"$f":"'Months 7-12'!M52","v":0},"of ",{"$f":"'Months 7-12'!$C$52","v":0},{"$f":"LOOKUP(2,1/('Overall Weight'!$E$52:$E$56<>\"\"),'Overall Weight'!$E$52:$E$56)","v":{"$error":"#N/A"}},{"$f":"'Months 7-12'!O59","v":{"$error":"#DIV/0!"}},"minutes",null,9,"Attended sessions",{"$f":"'Months 7-12'!P52","v":0},"of ",{"$f":"'Months 7-12'!$C$52","v":0},{"$f":"LOOKUP(2,1/('Overall Weight'!$F$52:$F$56<>\"\"),'Overall Weight'!$F$52:$F$56)","v":{"$error":"#N/A"}},{"$f":"'Months 7-12'!R59","v":{"$error":"#DIV/0!"}},"minutes",null,9,"Attended sessions",{"$f":"'Months 7-12'!S52","v":0},"of ",{"$f":"'Months 7-12'!$C$52","v":0},{"$f":"LOOKUP(2,1/('Overall Weight'!$G$52:$G$56<>\"\"),'Overall Weight'!$G$52:$G$56)","v":{"$error":"#N/A"}},{"$f":"'Months 7-12'!U59","v":{"$error":"#DIV/0!"}},"minutes",null,9,"Attended sessions",{"$f":"'Months 7-12'!V52","v":0},"of ",{"$f":"'Months 7-12'!$C$52","v":0},{"$f":"LOOKUP(2,1/('Overall Weight'!$H$52:$H$56<>\"\"),'Overall Weight'!$H$52:$H$56)","v":{"$error":"#N/A"}},{"$f":"'Months 7-12'!X59","v":{"$error":"#DIV/0!"}},"minutes",null,9,"Attended sessions",{"$f":"'Months 7-12'!Y52","v":0},"of ",{"$f":"'Months 7-12'!$C$52","v":0},{"$f":"LOOKUP(2,1/('Overall Weight'!$I$52:$I$56<>\"\"),'Overall Weight'!$I$52:$I$56)","v":{"$error":"#N/A"}},{"$f":"'Months 7-12'!AA59","v":{"$error":"#DIV/0!"}},"minutes",null,9,"Attended sessions",{"$f":"'Months 7-12'!AB52","v":0},"of ",{"$f":"'Months 7-12'!$C$52","v":0},{"$f":"LOOKUP(2,1/('Overall Weight'!$J$52:$J$56<>\"\"),'Overall Weight'!$J$52:$J$56)","v":{"$error":"#N/A"}},{"$f":"'Months 7-12'!AD59","v":{"$error":"#DIV/0!"}},"minutes",null,9,"Attended sessions",{"$f":"'Months 7-12'!AE52","v":0},"of ",{"$f":"'Months 7-12'!$C$52","v":0},{"$f":"LOOKUP(2,1/('Overall Weight'!$K$52:$K$56<>\"\"),'Overall Weight'!$K$52:$K$56)","v":{"$error":"#N/A"}},{"$f":"'Months 7-12'!AG59","v":{"$error":"#DIV/0!"}},"minutes",null,9,"Attended sessions",{"$f":"'Months 7-12'!AH52","v":0},"of ",{"$f":"'Months 7-12'!$C$52","v":0},{"$f":"LOOKUP(2,1/('Overall Weight'!$L$52:$L$56<>\"\"),'Overall Weight'!$L$52:$L$56)","v":{"$error":"#N/A"}},{"$f":"'Months 7-12'!AJ59","v":{"$error":"#DIV/0!"}},"minutes",null,9,"Attended sessions",{"$f":"'Months 7-12'!AK52","v":0},"of ",{"$f":"'Months 7-12'!$C$52","v":0},{"$f":"LOOKUP(2,1/('Overall Weight'!$M$52:$M$56<>\"\"),'Overall Weight'!$M$52:$M$56)","v":{"$error":"#N/A"}},{"$f":"'Months 7-12'!AM59","v":{"$error":"#DIV/0!"}},"minutes",null,9,"Attended sessions",{"$f":"'Months 7-12'!AN52","v":0},"of ",{"$f":"'Months 7-12'!$C$52","v":0},{"$f":"LOOKUP(2,1/('Overall Weight'!$N$52:$N$56<>\"\"),'Overall Weight'!$N$52:$N$56)","v":{"$error":"#N/A"}},{"$f":"'Months 7-12'!AP59","v":{"$error":"#DIV/0!"}},"minutes",null,9,"Attended sessions",{"$f":"'Months 7-12'!AQ52","v":0},"of ",{"$f":"'Months 7-12'!$C$52","v":0},{"$f":"LOOKUP(2,1/('Overall Weight'!$O$52:$O$56<>\"\"),'Overall Weight'!$O$52:$O$56)","v":{"$error":"#N/A"}},{"$f":"'Months 7-12'!AS59","v":{"$error":"#DIV/0!"}},"minutes",null,9,"Attended sessions",{"$f":"'Months 7-12'!AT52","v":0},"of ",{"$f":"'Months 7-12'!$C$52","v":0},{"$f":"LOOKUP(2,1/('Overall Weight'!$P$52:$P$56<>\"\"),'Overall Weight'!$P$52:$P$56)","v":{"$error":"#N/A"}},{"$f":"'Months 7-12'!AV59","v":{"$error":"#DIV/0!"}},"minutes",null,9,"Attended sessions",{"$f":"'Months 7-12'!AW52","v":0},"of ",{"$f":"'Months 7-12'!$C$52","v":0},{"$f":"LOOKUP(2,1/('Overall Weight'!$Q$52:$Q$56<>\"\"),'Overall Weight'!$Q$52:$Q$56)","v":{"$error":"#N/A"}},{"$f":"'Months 7-12'!AY59","v":{"$error":"#DIV/0!"}},"minutes",null,9,"Attended sessions",{"$f":"'Months 7-12'!AZ52","v":0},"of ",{"$f":"'Months 7-12'!$C$52","v":0},{"$f":"LOOKUP(2,1/('Overall Weight'!$R$52:$R$56<>\"\"),'Overall Weight'!$R$52:$R$56)","v":{"$error":"#N/A"}},{"$f":"'Months 7-12'!BB59","v":{"$error":"#DIV/0!"}},"minutes",null,9,"Attended sessions",{"$f":"'Months 7-12'!BC52","v":0},"of ",{"$f":"'Months 7-12'!$C$52","v":0},{"$f":"LOOKUP(2,1/('Overall Weight'!$S$52:$S$56<>\"\"),'Overall Weight'!$S$52:$S$56)","v":{"$error":"#N/A"}},{"$f":"'Months 7-12'!BE59","v":{"$error":"#DIV/0!"}},"minutes",null,9,"Attended sessions",{"$f":"'Months 7-12'!BF52","v":0},"of ",{"$f":"'Months 7-12'!$C$52","v":0},{"$f":"LOOKUP(2,1/('Overall Weight'!$T$52:$T$56<>\"\"),'Overall Weight'!$T$52:$T$56)","v":{"$error":"#N/A"}},{"$f":"'Months 7-12'!BH59","v":{"$error":"#DIV/0!"}},"minutes",null,9,"Attended sessions",{"$f":"'Months 7-12'!BI52","v":0},"of ",{"$f":"'Months 7-12'!$C$52","v":0},{"$f":"LOOKUP(2,1/('Overall Weight'!$U$52:$U$56<>\"\"),'Overall Weight'!$U$52:$U$56)","v":{"$error":"#N/A"}},{"$f":"'Months 7-12'!BK59","v":{"$error":"#DIV/0!"}},"minutes",null,9,"Attended sessions",{"$f":"'Months 7-12'!BL52","v":0},"of ",{"$f":"'Months 7-12'!$C$52","v":0},{"$f":"LOOKUP(2,1/('Overall Weight'!$V$52:$V$56<>\"\"),'Overall Weight'!$V$52:$V$56)","v":{"$error":"#N/A"}},{"$f":"'Months 7-12'!BN59","v":{"$error":"#DIV/0!"}},"minutes",null,9,"Attended sessions",{"$f":"'Months 7-12'!BO52","v":0},"of ",{"$f":"'Months 7-12'!$C$52","v":0},{"$f":"LOOKUP(2,1/('Overall Weight'!$W$52:$W$56<>\"\"),'Overall Weight'!$W$52:$W$56)","v":{"$error":"#N/A"}},{"$f":"'Months 7-12'!BQ59","v":{"$error":"#DIV/0!"}},"minutes",null,9,"Attended sessions",{"$f":"'Months 7-12'!BR52","v":0},"of ",{"$f":"'Months 7-12'!$C$52","v":0},{"$f":"LOOKUP(2,1/('Overall Weight'!$X$52:$X$56<>\"\"),'Overall Weight'!$X$52:$X$56)","v":{"$error":"#N/A"}},{"$f":"'Months 7-12'!BT59","v":{"$error":"#DIV/0!"}},"minutes",null,9,"Attended sessions",{"$f":"'Months 7-12'!BU52","v":0},"of ",{"$f":"'Months 7-12'!$C$52","v":0},{"$f":"LOOKUP(2,1/('Overall Weight'!$Y$52:$Y$56<>\"\"),'Overall Weight'!$Y$52:$Y$56)","v":{"$error":"#N/A"}},{"$f":"'Months 7-12'!BW59","v":{"$error":"#DIV/0!"}},"minutes",null,9,"Attended sessions",{"$f":"'Months 7-12'!BX52","v":0},"of ",{"$f":"'Months 7-12'!$C$52","v":0},{"$f":"LOOKUP(2,1/('Overall Weight'!$Z$52:$Z$56<>\"\"),'Overall Weight'!$Z$52:$Z$56)","v":{"$error":"#N/A"}},{"$f":"'Months 7-12'!BZ59","v":{"$error":"#DIV/0!"}},"minutes",null,9,"Attended sessions",{"$f":"'Months 7-12'!CA52","v":0},"of ",{"$f":"'Months 7-12'!$C$52","v":0},{"$f":"LOOKUP(2,1/('Overall Weight'!$AA$52:$AA$56<>\"\"),'Overall Weight'!$AA$52:$AA$56)","v":{"$error":"#N/A"}},{"$f":"'Months 7-12'!CC59","v":{"$error":"#DIV/0!"}},"minutes",null,9,"Attended sessions",{"$f":"'Months 7-12'!CD52","v":0},"of ",{"$f":"'Months 7-12'!$C$52","v":0},{"$f":"LOOKUP(2,1/('Overall Weight'!$AB$52:$AB$56<>\"\"),'Overall Weight'!$AB$52:$AB$56)","v":{"$error":"#N/A"}},{"$f":"'Months 7-12'!CF59","v":{"$error":"#DIV/0!"}},"minutes",null,9,"Attended sessions",{"$f":"'Months 7-12'!CG52","v":0},"of ",{"$f":"'Months 7-12'!$C$52","v":0},{"$f":"LOOKUP(2,1/('Overall Weight'!$AC$52:$AC$56<>\"\"),'Overall Weight'!$AC$52:$AC$56)","v":{"$error":"#N/A"}},{"$f":"'Months 7-12'!CI59","v":{"$error":"#DIV/0!"}},"minutes",null,9,"Attended sessions",{"$f":"'Months 7-12'!CJ52","v":0},"of ",{"$f":"'Months 7-12'!$C$52","v":0},{"$f":"LOOKUP(2,1/('Overall Weight'!$AD$52:$AD$56<>\"\"),'Overall Weight'!$AD$52:$AD$56)","v":{"$error":"#N/A"}},{"$f":"'Months 7-12'!CL59","v":{"$error":"#DIV/0!"}},"minutes",null,9,"Attended sessions",{"$f":"'Months 7-12'!CM52","v":0},"of ",{"$f":"'Months 7-12'!$C$52","v":0},{"$f":"LOOKUP(2,1/('Overall Weight'!$AE$52:$AE$56<>\"\"),'Overall Weight'!$AE$52:$AE$56)","v":{"$error":"#N/A"}},{"$f":"'Months 7-12'!CO59","v":{"$error":"#DIV/0!"}},"minutes"]
[null,10,"Attended sessions",{"$f":"'Months 7-12'!D53","v":0},"of ",{"$f":"'Months 7-12'!$C$53","v":0},{"$f":"LOOKUP(2,1/('Overall Weight'!$B$58:$B$62<>\"\"),'Overall Weight'!$B$58:$B$62)","v":{"$error":"#N/A"}},{"$f":"'Months 7-12'!F60","v":{"$error":"#DIV/0!"}},"minutes",null,10,"Attended sessions",{"$f":"'Months 7-12'!G53","v":0},"of ",{"$f":"'Months 7-12'!$C$53","v":0},{"$f":"LOOKUP(2,1/('Overall Weight'!$C$58:$C$62<>\"\"),'Overall Weight'!$C$58:$C$62)","v":{"$error":"#N/A"}},{"$f":"'Months 7-12'!I60","v":{"$error":"#DIV/0!"}},"minutes",null,10,"Attended sessions",{"$f":"'Months 7-12'!J53","v":0},"of ",{"$f":"'Months 7-12'!$C$53","v":0},{"$f":"LOOKUP(2,1/('Overall Weight'!$D$58:$D$62<>\"\"),'Overall Weight'!$D$58:$D$62)","v":{"$error":"#N/A"}},{"$f":"'Months 7-12'!L60","v":{"$error":"#DIV/0!"}},"minutes",null,10,"Attended sessions",{"$f":"'Months 7-12'!M53","v":0},"of ",{"$f":"'Months 7-12'!$C$53","v":0},{"$f":"LOOKUP(2,1/('Overall Weight'!$E$58:$E$62<>\"\"),'Overall Weight'!$E$58:$E$62)","v":{"$error":"#N/A"}},{"$f":"'Months 7-12'!O60","v":{"$error":"#DIV/0!"}},"minutes",null,10,"Attended sessions",{"$f":"'Months 7-12'!P53","v":0},"of ",{"$f":"'Months 7-12'!$C$53","v":0},{"$f":"LOOKUP(2,1/('Overall Weight'!$F$58:$F$62<>\"\"),'Overall Weight'!$F$58:$F$62)","v":{"$error":"#N/A"}},{"$f":"'Months 7-12'!R60","v":{"$error":"#DIV/0!"}},"minutes",null,10,"Attended sessions",{"$f":"'Months 7-12'!S53","v":0},"of ",{"$f":"'Months 7-12'!$C$53","v":0},{"$f":"LOOKUP(2,1/('Overall Weight'!$G$58:$G$62<>\"\"),'Overall Weight'!$G$58:$G$62)","v":{"$error":"#N/A"}},{"$f":"'Months 7-12'!U60","v":{"$error":"#DIV/0!"}},"minutes",null,10,"Attended sessions",{"$f":"'Months 7-12'!V53","v":0},"of ",{"$f":"'Months 7-12'!$C$53","v":0},{"$f":"LOOKUP(2,1/('Overall Weight'!$H$58:$H$62<>\"\"),'Overall Weight'!$H$58:$H$62)","v":{"$error":"#N/A"}},{"$f":"'Months 7-12'!X60","v":{"$error":"#DIV/0!"}},"minutes",null,10,"Attended sessions",{"$f":"'Months 7-12'!Y53","v":0},"of ",{"$f":"'Months 7-12'!$C$53","v":0},{"$f":"LOOKUP(2,1/('Overall Weight'!$I$58:$I$62<>\"\"),'Overall Weight'!$I$58:$I$62)","v":{"$error":"#N/A"}},{"$f":"'Months 7-12'!AA60","v":{"$error":"#DIV/0!"}},"minutes",null,10,"Attended sessions",{"$f":"'Months 7-12'!AB53","v":0},"of ",{"$f":"'Months 7-12'!$C$53","v":0},{"$f":"LOOKUP(2,1/('Overall Weight'!$J$58:$J$62<>\"\"),'Overall Weight'!$J$58:$J$62)","v":{"$error":"#N/A"}},{"$f":"'Months 7-12'!AD60","v":{"$error":"#DIV/0!"}},"minutes",null,10,"Attended sessions",{"$f":"'Months 7-12'!AE53","v":0},"of ",{"$f":"'Months 7-12'!$C$53","v":0},{"$f":"LOOKUP(2,1/('Overall Weight'!$K$58:$K$62<>\"\"),'Overall Weight'!$K$58:$K$62)","v":{"$error":"#N/A"}},{"$f":"'Months 7-12'!AG60","v":{"$error":"#DIV/0!"}},"minutes",null,10,"Attended sessions",{"$f":"'Months 7-12'!AH53","v":0},"of ",{"$f":"'Months 7-12'!$C$53","v":0},{"$f":"LOOKUP(2,1/('Overall Weight'!$L$58:$L$62<>\"\"),'Overall Weight'!$L$58:$L$62)","v":{"$error":"#N/A"}},{"$f":"'Months 7-12'!AJ60","v":{"$error":"#DIV/0!"}},"minutes",null,10,"Attended sessions",{"$f":"'Months 7-12'!AK53","v":0},"of ",{"$f":"'Months 7-12'!$C$53","v":0},{"$f":"LOOKUP(2,1/('Overall Weight'!$M$58:$M$62<>\"\"),'Overall Weight'!$M$58:$M$62)","v":{"$error":"#N/A"}},{"$f":"'Months 7-12'!AM60","v":{"$error":"#DIV/0!"}},"minutes",null,10,"Attended sessions",{"$f":"'Months 7-12'!AN53","v":0},"of ",{"$f":"'Months 7-12'!$C$53","v":0},{"$f":"LOOKUP(2,1/('Overall Weight'!$N$58:$N$62<>\"\"),'Overall Weight'!$N$58:$N$62)","v":{"$error":"#N/A"}},{"$f":"'Months 7-12'!AP60","v":{"$error":"#DIV/0!"}},"minutes",null,10,"Attended sessions",{"$f":"'Months 7-12'!AQ53","v":0},"of ",{"$f":"'Months 7-12'!$C$53","v":0},{"$f":"LOOKUP(2,1/('Overall Weight'!$O$58:$O$62<>\"\"),'Overall Weight'!$O$58:$O$62)","v":{"$error":"#N/A"}},{"$f":"'Months 7-12'!AS60","v":{"$error":"#DIV/0!"}},"minutes",null,10,"Attended sessions",{"$f":"'Months 7-12'!AT53","v":0},"of ",{"$f":"'Months 7-12'!$C$53","v":0},{"$f":"LOOKUP(2,1/('Overall Weight'!$P$58:$P$62<>\"\"),'Overall Weight'!$P$58:$P$62)","v":{"$error":"#N/A"}},{"$f":"'Months 7-12'!AV60","v":{"$error":"#DIV/0!"}},"minutes",null,10,"Attended sessions",{"$f":"'Months 7-12'!AW53","v":0},"of ",{"$f":"'Months 7-12'!$C$53","v":0},{"$f":"LOOKUP(2,1/('Overall Weight'!$Q$58:$Q$62<>\"\"),'Overall Weight'!$Q$58:$Q$62)","v":{"$error":"#N/A"}},{"$f":"'Months 7-12'!AY60","v":{"$error":"#DIV/0!"}},"minutes",null,10,"Attended sessions",{"$f":"'Months 7-12'!AZ53","v":0},"of ",{"$f":"'Months 7-12'!$C$53","v":0},{"$f":"LOOKUP(2,1/('Overall Weight'!$R$58:$R$62<>\"\"),'Overall Weight'!$R$58:$R$62)","v":{"$error":"#N/A"}},{"$f":"'Months 7-12'!BB60","v":{"$error":"#DIV/0!"}},"minutes",null,10,"Attended sessions",{"$f":"'Months 7-12'!BC53","v":0},"of ",{"$f":"'Months 7-12'!$C$53","v":0},{"$f":"LOOKUP(2,1/('Overall Weight'!$S$58:$S$62<>\"\"),'Overall Weight'!$S$58:$S$62)","v":{"$error":"#N/A"}},{"$f":"'Months 7-12'!BE60","v":{"$error":"#DIV/0!"}},"minutes",null,10,"Attended sessions",{"$f":"'Months 7-12'!BF53","v":0},"of ",{"$f":"'Months 7-12'!$C$53","v":0},{"$f":"LOOKUP(2,1/('Overall Weight'!$T$58:$T$62<>\"\"),'Overall Weight'!$T$58:$T$62)","v":{"$error":"#N/A"}},{"$f":"'Months 7-12'!BH60","v":{"$error":"#DIV/0!"}},"minutes",null,10,"Attended sessions",{"$f":"'Months 7-12'!BI53","v":0},"of ",{"$f":"'Months 7-12'!$C$53","v":0},{"$f":"LOOKUP(2,1/('Overall Weight'!$U$58:$U$62<>\"\"),'Overall Weight'!$U$58:$U$62)","v":{"$error":"#N/A"}},{"$f":"'Months 7-12'!BK60","v":{"$error":"#DIV/0!"}},"minutes",null,10,"Attended sessions",{"$f":"'Months 7-12'!BL53","v":0},"of ",{"$f":"'Months 7-12'!$C$53","v":0},{"$f":"LOOKUP(2,1/('Overall Weight'!$V$58:$V$62<>\"\"),'Overall Weight'!$V$58:$V$62)","v":{"$error":"#N/A"}},{"$f":"'Months 7-12'!BN60","v":{"$error":"#DIV/0!"}},"minutes",null,10,"Attended sessions",{"$f":"'Months 7-12'!BO53","v":0},"of ",{"$f":"'Months 7-12'!$C$53","v":0},{"$f":"LOOKUP(2,1/('Overall Weight'!$W$58:$W$62<>\"\"),'Overall Weight'!$W$58:$W$62)","v":{"$error":"#N/A"}},{"$f":"'Months 7-12'!BQ60","v":{"$error":"#DIV/0!"}},"minutes",null,10,"Attended sessions",{"$f":"'Months 7-12'!BR53","v":0},"of ",{"$f":"'Months 7-12'!$C$53","v":0},{"$f":"LOOKUP(2,1/('Overall Weight'!$X$58:$X$62<>\"\"),'Overall Weight'!$X$58:$X$62)","v":{"$error":"#N/A"}},{"$f":"'Months 7-12'!BT60","v":{"$error":"#DIV/0!"}},"minutes",null,10,"Attended sessions",{"$f":"'Months 7-12'!BU53","v":0},"of ",{"$f":"'Months 7-12'!$C$53","v":0},{"$f":"LOOKUP(2,1/('Overall Weight'!$Y$58:$Y$62<>\"\"),'Overall Weight'!$Y$58:$Y$62)","v":{"$error":"#N/A"}},{"$f":"'Months 7-12'!BW60","v":{"$error":"#DIV/0!"}},"minutes",null,10,"Attended sessions",{"$f":"'Months 7-12'!BX53","v":0},"of ",{"$f":"'Months 7-12'!$C$53","v":0},{"$f":"LOOKUP(2,1/('Overall Weight'!$Z$58:$Z$62<>\"\"),'Overall Weight'!$Z$58:$Z$62)","v":{"$error":"#N/A"}},{"$f":"'Months 7-12'!BZ60","v":{"$error":"#DIV/0!"}},"minutes",null,10,"Attended sessions",{"$f":"'Months 7-12'!CA53","v":0},"of ",{"$f":"'Months 7-12'!$C$53","v":0},{"$f":"LOOKUP(2,1/('Overall Weight'!$AA$58:$AA$62<>\"\"),'Overall Weight'!$AA$58:$AA$62)","v":{"$error":"#N/A"}},{"$f":"'Months 7-12'!CC60","v":{"$error":"#DIV/0!"}},"minutes",null,10,"Attended sessions",{"$f":"'Months 7-12'!CD53","v":0},"of ",{"$f":"'Months 7-12'!$C$53","v":0},{"$f":"LOOKUP(2,1/('Overall Weight'!$AB$58:$AB$62<>\"\"),'Overall Weight'!$AB$58:$AB$62)","v":{"$error":"#N/A"}},{"$f":"'Months 7-12'!CF60","v":{"$error":"#DIV/0!"}},"minutes",null,10,"Attended sessions",{"$f":"'Months 7-12'!CG53","v":0},"of ",{"$f":"'Months 7-12'!$C$53","v":0},{"$f":"LOOKUP(2,1/('Overall Weight'!$AC$58:$AC$62<>\"\"),'Overall Weight'!$AC$58:$AC$62)","v":{"$error":"#N/A"}},{"$f":"'Months 7-12'!CI60","v":{"$error":"#DIV/0!"}},"minutes",null,10,"Attended sessions",{"$f":"'Months 7-12'!CJ53","v":0},"of ",{"$f":"'Months 7-12'!$C$53","v":0},{"$f":"LOOKUP(2,1/('Overall Weight'!$AD$58:$AD$62<>\"\"),'Overall Weight'!$AD$58:$AD$62)","v":{"$error":"#N/A"}},{"$f":"'Months 7-12'!CL60","v":{"$error":"#DIV/0!"}},"minutes",null,10,"Attended sessions",{"$f":"'Months 7-12'!CM53","v":0},"of ",{"$f":"'Months 7-12'!$C$53","v":0},{"$f":"LOOKUP(2,1/('Overall Weight'!$AE$58:$AE$62<>\"\"),'Overall Weight'!$AE$58:$AE$62)","v":{"$error":"#N/A"}},{"$f":"'Months 7-12'!CO60","v":{"$error":"#DIV/0!"}},"minutes"]
[null,11,"Attended sessions",{"$f":"'Months 7-12'!D54","v":0},"of ",{"$f":"'Months 7-12'!$C$54","v":0},{"$f":"LOOKUP(2,1/('Overall Weight'!$B$64:$B$68<>\"\"),'Overall Weight'!$B$64:$B$68)","v":{"$error":"#N/A"}},{"$f":"'Months 7-12'!F61","v":{"$error":"#DIV/0!"}},"minutes",null,11,"Attended sessions",{"$f":"'Months 7-12'!G54","v":0},"of ",{"$f":"'Months 7-12'!$C$54","v":0},{"$f":"LOOKUP(2,1/('Overall Weight'!$C$64:$C$68<>\"\"),'Overall Weight'!$C$64:$C$68)","v":{"$error":"#N/A"}},{"$f":"'Months 7-12'!I61","v":{"$error":"#DIV/0!"}},"minutes",null,11,"Attended sessions",{"$f":"'Months 7-12'!J54","v":0},"of ",{"$f":"'Months 7-12'!$C$54","v":0},{"$f":"LOOKUP(2,1/('Overall Weight'!$D$64:$D$68<>\"\"),'Overall Weight'!$D$64:$D$68)","v":{"$error":"#N/A"}},{"$f":"'Months 7-12'!L61","v":{"$error":"#DIV/0!"}},"minutes",null,11,"Attended sessions",{"$f":"'Months 7-12'!M54","v":0},"of ",{"$f":"'Months 7-12'!$C$54","v":0},{"$f":"LOOKUP(2,1/('Overall Weight'!$E$64:$E$68<>\"\"),'Overall Weight'!$E$64:$E$68)","v":{"$error":"#N/A"}},{"$f":"'Months 7-12'!O61","v":{"$error":"#DIV/0!"}},"minutes",null,11,"Attended sessions",{"$f":"'Months 7-12'!P54","v":0},"of ",{"$f":"'Months 7-12'!$C$54","v":0},{"$f":"LOOKUP(2,1/('Overall Weight'!$F$64:$F$68<>\"\"),'Overall Weight'!$F$64:$F$68)","v":{"$error":"#N/A"}},{"$f":"'Months 7-12'!R61","v":{"$error":"#DIV/0!"}},"minutes",null,11,"Attended sessions",{"$f":"'Months 7-12'!S54","v":0},"of ",{"$f":"'Months 7-12'!$C$54","v":0},{"$f":"LOOKUP(2,1/('Overall Weight'!$G$64:$G$68<>\"\"),'Overall Weight'!$G$64:$G$68)","v":{"$error":"#N/A"}},{"$f":"'Months 7-12'!U61","v":{"$error":"#DIV/0!"}},"minutes",null,11,"Attended sessions",{"$f":"'Months 7-12'!V54","v":0},"of ",{"$f":"'Months 7-12'!$C$54","v":0},{"$f":"LOOKUP(2,1/('Overall Weight'!$H$64:$H$68<>\"\"),'Overall Weight'!$H$64:$H$68)","v":{"$error":"#N/A"}},{"$f":"'Months 7-12'!X61","v":{"$error":"#DIV/0!"}},"minutes",null,11,"Attended sessions",{"$f":"'Months 7-12'!Y54","v":0},"of ",{"$f":"'Months 7-12'!$C$54","v":0},{"$f":"LOOKUP(2,1/('Overall Weight'!$I$64:$I$68<>\"\"),'Overall Weight'!$I$64:$I$68)","v":{"$error":"#N/A"}},{"$f":"'Months 7-12'!AA61","v":{"$error":"#DIV/0!"}},"minutes",null,11,"Attended sessions",{"$f":"'Months 7-12'!AB54","v":0},"of ",{"$f":"'Months 7-12'!$C$54","v":0},{"$f":"LOOKUP(2,1/('Overall Weight'!$J$64:$J$68<>\"\"),'Overall Weight'!$J$64:$J$68)","v":{"$error":"#N/A"}},{"$f":"'Months 7-12'!AD61","v":{"$error":"#DIV/0!"}},"minutes",null,11,"Attended sessions",{"$f":"'Months 7-12'!AE54","v":0},"of ",{"$f":"'Months 7-12'!$C$54","v":0},{"$f":"LOOKUP(2,1/('Overall Weight'!$K$64:$K$68<>\"\"),'Overall Weight'!$K$64:$K$68)","v":{"$error":"#N/A"}},{"$f":"'Months 7-12'!AG61","v":{"$error":"#DIV/0!"}},"minutes",null,11,"Attended sessions",{"$f":"'Months 7-12'!AH54","v":0},"of ",{"$f":"'Months 7-12'!$C$54","v":0},{"$f":"LOOKUP(2,1/('Overall Weight'!$L$64:$L$68<>\"\"),'Overall Weight'!$L$64:$L$68)","v":{"$error":"#N/A"}},{"$f":"'Months 7-12'!AJ61","v":{"$error":"#DIV/0!"}},"minutes",null,11,"Attended sessions",{"$f":"'Months 7-12'!AK54","v":0},"of ",{"$f":"'Months 7-12'!$C$54","v":0},{"$f":"LOOKUP(2,1/('Overall Weight'!$M$64:$M$68<>\"\"),'Overall Weight'!$M$64:$M$68)","v":{"$error":"#N/A"}},{"$f":"'Months 7-12'!AM61","v":{"$error":"#DIV/0!"}},"minutes",null,11,"Attended sessions",{"$f":"'Months 7-12'!AN54","v":0},"of ",{"$f":"'Months 7-12'!$C$54","v":0},{"$f":"LOOKUP(2,1/('Overall Weight'!$N$64:$N$68<>\"\"),'Overall Weight'!$N$64:$N$68)","v":{"$error":"#N/A"}},{"$f":"'Months 7-12'!AP61","v":{"$error":"#DIV/0!"}},"minutes",null,11,"Attended sessions",{"$f":"'Months 7-12'!AQ54","v":0},"of ",{"$f":"'Months 7-12'!$C$54","v":0},{"$f":"LOOKUP(2,1/('Overall Weight'!$O$64:$O$68<>\"\"),'Overall Weight'!$O$64:$O$68)","v":{"$error":"#N/A"}},{"$f":"'Months 7-12'!AS61","v":{"$error":"#DIV/0!"}},"minutes",null,11,"Attended sessions",{"$f":"'Months 7-12'!AT54","v":0},"of ",{"$f":"'Months 7-12'!$C$54","v":0},{"$f":"LOOKUP(2,1/('Overall Weight'!$P$64:$P$68<>\"\"),'Overall Weight'!$P$64:$P$68)","v":{"$error":"#N/A"}},{"$f":"'Months 7-12'!AV61","v":{"$error":"#DIV/0!"}},"minutes",null,11,"Attended sessions",{"$f":"'Months 7-12'!AW54","v":0},"of ",{"$f":"'Months 7-12'!$C$54","v":0},{"$f":"LOOKUP(2,1/('Overall Weight'!$Q$64:$Q$68<>\"\"),'Overall Weight'!$Q$64:$Q$68)","v":{"$error":"#N/A"}},{"$f":"'Months 7-12'!AY61","v":{"$error":"#DIV/0!"}},"minutes",null,11,"Attended sessions",{"$f":"'Months 7-12'!AZ54","v":0},"of ",{"$f":"'Months 7-12'!$C$54","v":0},{"$f":"LOOKUP(2,1/('Overall Weight'!$R$64:$R$68<>\"\"),'Overall Weight'!$R$64:$R$68)","v":{"$error":"#N/A"}},{"$f":"'Months 7-12'!BB61","v":{"$error":"#DIV/0!"}},"minutes",null,11,"Attended sessions",{"$f":"'Months 7-12'!BC54","v":0},"of ",{"$f":"'Months 7-12'!$C$54","v":0},{"$f":"LOOKUP(2,1/('Overall Weight'!$S$64:$S$68<>\"\"),'Overall Weight'!$S$64:$S$68)","v":{"$error":"#N/A"}},{"$f":"'Months 7-12'!BE61","v":{"$error":"#DIV/0!"}},"minutes",null,11,"Attended sessions",{"$f":"'Months 7-12'!BF54","v":0},"of ",{"$f":"'Months 7-12'!$C$54","v":0},{"$f":"LOOKUP(2,1/('Overall Weight'!$T$64:$T$68<>\"\"),'Overall Weight'!$T$64:$T$68)","v":{"$error":"#N/A"}},{"$f":"'Months 7-12'!BH61","v":{"$error":"#DIV/0!"}},"minutes",null,11,"Attended sessions",{"$f":"'Months 7-12'!BI54","v":0},"of ",{"$f":"'Months 7-12'!$C$54","v":0},{"$f":"LOOKUP(2,1/('Overall Weight'!$U$64:$U$68<>\"\"),'Overall Weight'!$U$64:$U$68)","v":{"$error":"#N/A"}},{"$f":"'Months 7-12'!BK61","v":{"$error":"#DIV/0!"}},"minutes",null,11,"Attended sessions",{"$f":"'Months 7-12'!BL54","v":0},"of ",{"$f":"'Months 7-12'!$C$54","v":0},{"$f":"LOOKUP(2,1/('Overall Weight'!$V$64:$V$68<>\"\"),'Overall Weight'!$V$64:$V$68)","v":{"$error":"#N/A"}},{"$f":"'Months 7-12'!BN61","v":{"$error":"#DIV/0!"}},"minutes",null,11,"Attended sessions",{"$f":"'Months 7-12'!BO54","v":0},"of ",{"$f":"'Months 7-12'!$C$54","v":0},{"$f":"LOOKUP(2,1/('Overall Weight'!$W$64:$W$68<>\"\"),'Overall Weight'!$W$64:$W$68)","v":{"$error":"#N/A"}},{"$f":"'Months 7-12'!BQ61","v":{"$error":"#DIV/0!"}},"minutes",null,11,"Attended sessions",{"$f":"'Months 7-12'!BR54","v":0},"of ",{"$f":"'Months 7-12'!$C$54","v":0},{"$f":"LOOKUP(2,1/('Overall Weight'!$X$64:$X$68<>\"\"),'Overall Weight'!$X$64:$X$68)","v":{"$error":"#N/A"}},{"$f":"'Months 7-12'!BT61","v":{"$error":"#DIV/0!"}},"minutes",null,11,"Attended sessions",{"$f":"'Months 7-12'!BU54","v":0},"of ",{"$f":"'Months 7-12'!$C$54","v":0},{"$f":"LOOKUP(2,1/('Overall Weight'!$Y$64:$Y$68<>\"\"),'Overall Weight'!$Y$64:$Y$68)","v":{"$error":"#N/A"}},{"$f":"'Months 7-12'!BW61","v":{"$error":"#DIV/0!"}},"minutes",null,11,"Attended sessions",{"$f":"'Months 7-12'!BX54","v":0},"of ",{"$f":"'Months 7-12'!$C$54","v":0},{"$f":"LOOKUP(2,1/('Overall Weight'!$Z$64:$Z$68<>\"\"),'Overall Weight'!$Z$64:$Z$68)","v":{"$error":"#N/A"}},{"$f":"'Months 7-12'!BZ61","v":{"$error":"#DIV/0!"}},"minutes",null,11,"Attended sessions",{"$f":"'Months 7-12'!CA54","v":0},"of ",{"$f":"'Months 7-12'!$C$54","v":0},{"$f":"LOOKUP(2,1/('Overall Weight'!$AA$64:$AA$68<>\"\"),'Overall Weight'!$AA$64:$AA$68)","v":{"$error":"#N/A"}},{"$f":"'Months 7-12'!CC61","v":{"$error":"#DIV/0!"}},"minutes",null,11,"Attended sessions",{"$f":"'Months 7-12'!CD54","v":0},"of ",{"$f":"'Months 7-12'!$C$54","v":0},{"$f":"LOOKUP(2,1/('Overall Weight'!$AB$64:$AB$68<>\"\"),'Overall Weight'!$AB$64:$AB$68)","v":{"$error":"#N/A"}},{"$f":"'Months 7-12'!CF61","v":{"$error":"#DIV/0!"}},"minutes",null,11,"Attended sessions",{"$f":"'Months 7-12'!CG54","v":0},"of ",{"$f":"'Months 7-12'!$C$54","v":0},{"$f":"LOOKUP(2,1/('Overall Weight'!$AC$64:$AC$68<>\"\"),'Overall Weight'!$AC$64:$AC$68)","v":{"$error":"#N/A"}},{"$f":"'Months 7-12'!CI61","v":{"$error":"#DIV/0!"}},"minutes",null,11,"Attended sessions",{"$f":"'Months 7-12'!CJ54","v":0},"of ",{"$f":"'Months 7-12'!$C$54","v":0},{"$f":"LOOKUP(2,1/('Overall Weight'!$AD$64:$AD$68<>\"\"),'Overall Weight'!$AD$64:$AD$68)","v":{"$error":"#N/A"}},{"$f":"'Months 7-12'!CL61","v":{"$error":"#DIV/0!"}},"minutes",null,11,"Attended sessions",{"$f":"'Months 7-12'!CM54","v":0},"of ",{"$f":"'Months 7-12'!$C$54","v":0},{"$f":"LOOKUP(2,1/('Overall Weight'!$AE$64:$AE$68<>\"\"),'Overall Weight'!$AE$64:$AE$68)","v":{"$error":"#N/A"}},{"$f":"'Months 7-12'!CO61","v":{"$error":"#DIV/0!"}},"minutes"]
[null,12,"Attended sessions",{"$f":"'Months 7-12'!D55","v":0},"of ",{"$f":"'Months 7-12'!$C$55","v":0},{"$f":"LOOKUP(2,1/('Overall Weight'!$B$70:$B$74<>\"\"),'Overall Weight'!$B$70:$B$74)","v":{"$error":"#N/A"}},{"$f":"'Months 7-12'!F62","v":{"$error":"#DIV/0!"}},"minutes",null,12,"Attended sessions",{"$f":"'Months 7-12'!G55","v":0},"of ",{"$f":"'Months 7-12'!$C$55","v":0},{"$f":"LOOKUP(2,1/('Overall Weight'!$C$70:$C$74<>\"\"),'Overall Weight'!$C$70:$C$74)","v":{"$error":"#N/A"}},{"$f":"'Months 7-12'!I62","v":{"$error":"#DIV/0!"}},"minutes",null,12,"Attended sessions",{"$f":"'Months 7-12'!J55","v":0},"of ",{"$f":"'Months 7-12'!$C$55","v":0},{"$f":"LOOKUP(2,1/('Overall Weight'!$D$70:$D$74<>\"\"),'Overall Weight'!$D$70:$D$74)","v":{"$error":"#N/A"}},{"$f":"'Months 7-12'!L62","v":{"$error":"#DIV/0!"}},"minutes",null,12,"Attended sessions",{"$f":"'Months 7-12'!M55","v":0},"of ",{"$f":"'Months 7-12'!$C$55","v":0},{"$f":"LOOKUP(2,1/('Overall Weight'!$E$70:$E$74<>\"\"),'Overall Weight'!$E$70:$E$74)","v":{"$error":"#N/A"}},{"$f":"'Months 7-12'!O62","v":{"$error":"#DIV/0!"}},"minutes",null,12,"Attended sessions",{"$f":"'Months 7-12'!P55","v":0},"of ",{"$f":"'Months 7-12'!$C$55","v":0},{"$f":"LOOKUP(2,1/('Overall Weight'!$F$70:$F$74<>\"\"),'Overall Weight'!$F$70:$F$74)","v":{"$error":"#N/A"}},{"$f":"'Months 7-12'!R62","v":{"$error":"#DIV/0!"}},"minutes",null,12,"Attended sessions",{"$f":"'Months 7-12'!S55","v":0},"of ",{"$f":"'Months 7-12'!$C$55","v":0},{"$f":"LOOKUP(2,1/('Overall Weight'!$G$70:$G$74<>\"\"),'Overall Weight'!$G$70:$G$74)","v":{"$error":"#N/A"}},{"$f":"'Months 7-12'!U62","v":{"$error":"#DIV/0!"}},"minutes",null,12,"Attended sessions",{"$f":"'Months 7-12'!V55","v":0},"of ",{"$f":"'Months 7-12'!$C$55","v":0},{"$f":"LOOKUP(2,1/('Overall Weight'!$H$70:$H$74<>\"\"),'Overall Weight'!$H$70:$H$74)","v":{"$error":"#N/A"}},{"$f":"'Months 7-12'!X62","v":{"$error":"#DIV/0!"}},"minutes",null,12,"Attended sessions",{"$f":"'Months 7-12'!Y55","v":0},"of ",{"$f":"'Months 7-12'!$C$55","v":0},{"$f":"LOOKUP(2,1/('Overall Weight'!$I$70:$I$74<>\"\"),'Overall Weight'!$I$70:$I$74)","v":{"$error":"#N/A"}},{"$f":"'Months 7-12'!AA62","v":{"$error":"#DIV/0!"}},"minutes",null,12,"Attended sessions",{"$f":"'Months 7-12'!AB55","v":0},"of ",{"$f":"'Months 7-12'!$C$55","v":0},{"$f":"LOOKUP(2,1/('Overall Weight'!$J$70:$J$74<>\"\"),'Overall Weight'!$J$70:$J$74)","v":{"$error":"#N/A"}},{"$f":"'Months 7-12'!AD62","v":{"$error":"#DIV/0!"}},"minutes",null,12,"Attended sessions",{"$f":"'Months 7-12'!AE55","v":0},"of ",{"$f":"'Months 7-12'!$C$55","v":0},{"$f":"LOOKUP(2,1/('Overall Weight'!$K$70:$K$74<>\"\"),'Overall Weight'!$K$70:$K$74)","v":{"$error":"#N/A"}},{"$f":"'Months 7-12'!AG62","v":{"$error":"#DIV/0!"}},"minutes",null,12,"Attended sessions",{"$f":"'Months 7-12'!AH55","v":0},"of ",{"$f":"'Months 7-12'!$C$55","v":0},{"$f":"LOOKUP(2,1/('Overall Weight'!$L$70:$L$74<>\"\"),'Overall Weight'!$L$70:$L$74)","v":{"$error":"#N/A"}},{"$f":"'Months 7-12'!AJ62","v":{"$error":"#DIV/0!"}},"minutes",null,12,"Attended sessions",{"$f":"'Months 7-12'!AK55","v":0},"of ",{"$f":"'Months 7-12'!$C$55","v":0},{"$f":"LOOKUP(2,1/('Overall Weight'!$M$70:$M$74<>\"\"),'Overall Weight'!$M$70:$M$74)","v":{"$error":"#N/A"}},{"$f":"'Months 7-12'!AM62","v":{"$error":"#DIV/0!"}},"minutes",null,12,"Attended sessions",{"$f":"'Months 7-12'!AN55","v":0},"of ",{"$f":"'Months 7-12'!$C$55","v":0},{"$f":"LOOKUP(2,1/('Overall Weight'!$N$70:$N$74<>\"\"),'Overall Weight'!$N$70:$N$74)","v":{"$error":"#N/A"}},{"$f":"'Months 7-12'!AP62","v":{"$error":"#DIV/0!"}},"minutes",null,12,"Attended sessions",{"$f":"'Months 7-12'!AQ55","v":0},"of ",{"$f":"'Months 7-12'!$C$55","v":0},{"$f":"LOOKUP(2,1/('Overall Weight'!$O$70:$O$74<>\"\"),'Overall Weight'!$O$70:$O$74)","v":{"$error":"#N/A"}},{"$f":"'Months 7-12'!AS62","v":{"$error":"#DIV/0!"}},"minutes",null,12,"Attended sessions",{"$f":"'Months 7-12'!AT55","v":0},"of ",{"$f":"'Months 7-12'!$C$55","v":0},{"$f":"LOOKUP(2,1/('Overall Weight'!$P$70:$P$74<>\"\"),'Overall Weight'!$P$70:$P$74)","v":{"$error":"#N/A"}},{"$f":"'Months 7-12'!AV62","v":{"$error":"#DIV/0!"}},"minutes",null,12,"Attended sessions",{"$f":"'Months 7-12'!AW55","v":0},"of ",{"$f":"'Months 7-12'!$C$55","v":0},{"$f":"LOOKUP(2,1/('Overall Weight'!$Q$70:$Q$74<>\"\"),'Overall Weight'!$Q$70:$Q$74)","v":{"$error":"#N/A"}},{"$f":"'Months 7-12'!AY62","v":{"$error":"#DIV/0!"}},"minutes",null,12,"Attended sessions",{"$f":"'Months 7-12'!AZ55","v":0},"of ",{"$f":"'Months 7-12'!$C$55","v":0},{"$f":"LOOKUP(2,1/('Overall Weight'!$R$70:$R$74<>\"\"),'Overall Weight'!$R$70:$R$74)","v":{"$error":"#N/A"}},{"$f":"'Months 7-12'!BB62","v":{"$error":"#DIV/0!"}},"minutes",null,12,"Attended sessions",{"$f":"'Months 7-12'!BC55","v":0},"of ",{"$f":"'Months 7-12'!$C$55","v":0},{"$f":"LOOKUP(2,1/('Overall Weight'!$S$70:$S$74<>\"\"),'Overall Weight'!$S$70:$S$74)","v":{"$error":"#N/A"}},{"$f":"'Months 7-12'!BE62","v":{"$error":"#DIV/0!"}},"minutes",null,12,"Attended sessions",{"$f":"'Months 7-12'!BF55","v":0},"of ",{"$f":"'Months 7-12'!$C$55","v":0},{"$f":"LOOKUP(2,1/('Overall Weight'!$T$70:$T$74<>\"\"),'Overall Weight'!$T$70:$T$74)","v":{"$error":"#N/A"}},{"$f":"'Months 7-12'!BH62","v":{"$error":"#DIV/0!"}},"minutes",null,12,"Attended sessions",{"$f":"'Months 7-12'!BI55","v":0},"of ",{"$f":"'Months 7-12'!$C$55","v":0},{"$f":"LOOKUP(2,1/('Overall Weight'!$U$70:$U$74<>\"\"),'Overall Weight'!$U$70:$U$74)","v":{"$error":"#N/A"}},{"$f":"'Months 7-12'!BK62","v":{"$error":"#DIV/0!"}},"minutes",null,12,"Attended sessions",{"$f":"'Months 7-12'!BL55","v":0},"of ",{"$f":"'Months 7-12'!$C$55","v":0},{"$f":"LOOKUP(2,1/('Overall Weight'!$V$70:$V$74<>\"\"),'Overall Weight'!$V$70:$V$74)","v":{"$error":"#N/A"}},{"$f":"'Months 7-12'!BN62","v":{"$error":"#DIV/0!"}},"minutes",null,12,"Attended sessions",{"$f":"'Months 7-12'!BO55","v":0},"of ",{"$f":"'Months 7-12'!$C$55","v":0},{"$f":"LOOKUP(2,1/('Overall Weight'!$W$70:$W$74<>\"\"),'Overall Weight'!$W$70:$W$74)","v":{"$error":"#N/A"}},{"$f":"'Months 7-12'!BQ62","v":{"$error":"#DIV/0!"}},"minutes",null,12,"Attended sessions",{"$f":"'Months 7-12'!BR55","v":0},"of ",{"$f":"'Months 7-12'!$C$55","v":0},{"$f":"LOOKUP(2,1/('Overall Weight'!$X$70:$X$74<>\"\"),'Overall Weight'!$X$70:$X$74)","v":{"$error":"#N/A"}},{"$f":"'Months 7-12'!BT62","v":{"$error":"#DIV/0!"}},"minutes",null,12,"Attended sessions",{"$f":"'Months 7-12'!BU55","v":0},"of ",{"$f":"'Months 7-12'!$C$55","v":0},{"$f":"LOOKUP(2,1/('Overall Weight'!$Y$70:$Y$74<>\"\"),'Overall Weight'!$Y$70:$Y$74)","v":{"$error":"#N/A"}},{"$f":"'Months 7-12'!BW62","v":{"$error":"#DIV/0!"}},"minutes",null,12,"Attended sessions",{"$f":"'Months 7-12'!BX55","v":0},"of ",{"$f":"'Months 7-12'!$C$55","v":0},{"$f":"LOOKUP(2,1/('Overall Weight'!$Z$70:$Z$74<>\"\"),'Overall Weight'!$Z$70:$Z$74)","v":{"$error":"#N/A"}},{"$f":"'Months 7-12'!BZ62","v":{"$error":"#DIV/0!"}},"minutes",null,12,"Attended sessions",{"$f":"'Months 7-12'!CA55","v":0},"of ",{"$f":"'Months 7-12'!$C$55","v":0},{"$f":"LOOKUP(2,1/('Overall Weight'!$AA$70:$AA$74<>\"\"),'Overall Weight'!$AA$70:$AA$74)","v":{"$error":"#N/A"}},{"$f":"'Months 7-12'!CC62","v":{"$error":"#DIV/0!"}},"minutes",null,12,"Attended sessions",{"$f":"'Months 7-12'!CD55","v":0},"of ",{"$f":"'Months 7-12'!$C$55","v":0},{"$f":"LOOKUP(2,1/('Overall Weight'!$AB$70:$AB$74<>\"\"),'Overall Weight'!$AB$70:$AB$74)","v":{"$error":"#N/A"}},{"$f":"'Months 7-12'!CF62","v":{"$error":"#DIV/0!"}},"minutes",null,12,"Attended sessions",{"$f":"'Months 7-12'!CG55","v":0},"of ",{"$f":"'Months 7-12'!$C$55","v":0},{"$f":"LOOKUP(2,1/('Overall Weight'!$AC$70:$AC$74<>\"\"),'Overall Weight'!$AC$70:$AC$74)","v":{"$error":"#N/A"}},{"$f":"'Months 7-12'!CI62","v":{"$error":"#DIV/0!"}},"minutes",null,12,"Attended sessions",{"$f":"'Months 7-12'!CJ55","v":0},"of ",{"$f":"'Months 7-12'!$C$55","v":0},{"$f":"LOOKUP(2,1/('Overall Weight'!$AD$70:$AD$74<>\"\"),'Overall Weight'!$AD$70:$AD$74)","v":{"$error":"#N/A"}},{"$f":"'Months 7-12'!CL62","v":{"$error":"#DIV/0!"}},"minutes",null,12,"Attended sessions",{"$f":"'Months 7-12'!CM55","v":0},"of ",{"$f":"'Months 7-12'!$C$55","v":0},{"$f":"LOOKUP(2,1/('Overall Weight'!$AE$70:$AE$74<>\"\"),'Overall Weight'!$AE$70:$AE$74)","v":{"$error":"#N/A"}},{"$f":"'Months 7-12'!CO62","v":{"$error":"#DIV/0!"}},"minutes"]
[]
["Blood Pressure & Waist Circumference",null,null,null,null,null,null,null,null,"Blood Pressure & Waist Circumference",null,null,null,null,null,null,null,null,"Blood Pressure & Waist Circumference",null,null,null,null,null,null,null,null,"Blood Pressure & Waist Circumference",null,null,null,null,null,null,null,null,"Blood Pressure & Waist Circumference",null,null,null,null,null,null,null,null,"Blood Pressure & Waist Circumference",null,null,null,null,null,null,null,null,"Blood Pressure & Waist Circumference",null,null,null,null,null,null,null,null,"Blood Pressure & Waist Circumference",null,null,null,null,null,null,null,null,"Blood Pressure & Waist Circumference",null,null,null,null,null,null,null,null,"Blood Pressure & Waist Circumference",null,null,null,null,null,null,null,null,"Blood Pressure & Waist Circumference",null,null,null,null,null,null,null,null,"Blood Pressure & Waist Circumference",null,null,null,null,null,null,null,null,"Blood Pressure & Waist Circumference",null,null,null,null,null,null,null,null,"Blood Pressure & Waist Circumference",null,null,null,null,null,null,null,null,"Blood Pressure & Waist Circumference",null,null,null,null,null,null,null,null,"Blood Pressure & Waist Circumference",null,null,null,null,null,null,null,null,"Blood Pressure & Waist Circumference",null,null,null,null,null,null,null,null,"Blood Pressure & Waist Circumference",null,null,null,null,null,null,null,null,"Blood Pressure & Waist Circumference",null,null,null,null,null,null,null,null,"Blood Pressure & Waist Circumference",null,null,null,null,null,null,null,null,"Blood Pressure & Waist Circumference",null,null,null,null,null,null,null,null,"Blood Pressure & Waist Circumference",null,null,null,null,null,null,null,null,"Blood Pressure & Waist Circumference",null,null,null,null,null,null,null,null,"Blood Pressure & Waist Circumference",null,null,null,null,null,null,null,null,"Blood Pressure & Waist Circumference",null,null,null,null,null,null,null,null,"Blood Pressure & Waist Circumference",null,null,null,null,null,null,null,null,"Blood Pressure & Waist Circumference",null,null,null,null,null,null,null,null,"Blood Pressure & Waist Circumference",null,null,null,null,null,null,null,null,"Blood Pressure & Waist Circumference",null,null,null,null,null,null,null,null,"Blood Pressure & Waist Circumference"]
["Date",null,"1st Reading","2nd Reading",null,null,"Waist Circumference",null,null,"Date",null,"1st Reading","2nd Reading",null,null,"Waist Circumference",null,null,"Date",null,"1st Reading","2nd Reading",null,null,"Waist Circumference",null,null,"Date",null,"1st Reading","2nd Reading",null,null,"Waist Circumference",null,null,"Date",null,"1st Reading","2nd Reading",null,null,"Waist Circumference",null,null,"Date",null,"1st Reading","2nd Reading",null,null,"Waist Circumference",null,null,"Date",null,"1st Reading","2nd Reading",null,null,"Waist Circumference",null,null,"Date",null,"1st Reading","2nd Reading",null,null,"Waist Circumference",null,null,"Date",null,"1st Reading","2nd Reading",null,null,"Waist Circumference",null,null,"Date",null,"1st Reading","2nd Reading",null,null,"Waist Circumference",null,null,"Date",null,"1st Reading","2nd Reading",null,null,"Waist Circumference",null,null,"Date",null,"1st Reading","2nd Reading",null,null,"Waist Circumference",null,null,"Date",null,"1st Reading","2nd Reading",null,null,"Waist Circumference",null,null,"Date",null,"1st Reading","2nd Reading",null,null,"Waist Circumference",null,null,"Date",null,"1st Reading","2nd Reading",null,null,"Waist Circumference",null,null,"Date",null,"1st Reading","2nd Reading",null,null,"Waist Circumference",null,null,"Date",null,"1st Reading","2nd Reading",null,null,"Waist Circumference",null,null,"Date",null,"1st Reading","2nd Reading",null,null,"Waist Circumference",null,null,"Date",null,"1st Reading","2nd Reading",null,null,"Waist Circumference",null,null,"Date",null,"1st Reading","2nd Reading",null,null,"Waist Circumference",null,null,"Date",null,"1st Reading","2nd Reading",null,null,"Waist Circumference",null,null,"Date",null,"1st Reading","2nd Reading",null,null,"Waist Circumference",null,null,"Date",null,"1st Reading","2nd Reading",null,null,"Waist Circumference",null,null,"Date",null,"1st Reading","2nd Reading",null,null,"Waist Circumference",null,null,"Date",null,"1st Reading","2nd Reading",null,null,"Waist Circumference",null,null,"Date",null,"1st Reading","2nd Reading",null,null,"Waist Circumference",null,null,"Date",null,"1st Reading","2nd Reading",null,null,"Waist Circumference",null,null,"Date",null,"1st Reading","2nd Reading",null,null,"Waist Circumference",null,null,"Date",null,"1st Reading","2nd Reading",null,null,"Waist Circumference",null,null,"Date",null,"1st Reading","2nd Reading",null,null,"Waist Circumference"]
[{"$f":"Demographics!$R$8","v":"INSERT DATE HERE"},null,{"$f":"Demographics!S10","v":0},{"$f":"Demographics!T10","v":0},null,null,{"$f":"Demographics!R10","v":0},null,null,{"$f":"Demographics!$R$8","v":"INSERT DATE HERE"},null,{"$f":"Demographics!S11","v":0},{"$f":"Demographics!T11","v":0},null,null,{"$f":"Demographics!R11","v":0},null,null,{"$f":"Demographics!$R$8","v":"INSERT DATE HERE"},null,{"$f":"Demographics!S12","v":0},{"$f":"Demographics!T12","v":0},null,null,{"$f":"Demographics!R12","v":0},null,null,{"$f":"Demographics!$R$8","v":"INSERT DATE HERE"},null,{"$f":"Demographics!S13","v":0},{"$f":"Demographics!T13","v":0},null,null,{"$f":"Demographics!R13","v":0},null,null,{"$f":"Demographics!$R$8","v":"INSERT DATE HERE"},null,{"$f":"Demographics!S14","v":0},{"$f":"Demographics!T14","v":0},null,null,{"$f":"Demographics!R14","v":0},null,null,{"$f":"Demographics!$R$8","v":"INSERT DATE HERE"},null,{"$f":"Demographics!S15","v":0},{"$f":"Demographics!T15","v":0},null,null,{"$f":"Demographics!R15","v":0},null,null,{"$f":"Demographics!$R$8","v":"INSERT DATE HERE"},null,{"$f":"Demographics!S16","v":0},{"$f":"Demographics!T16","v":0},null,null,{"$f":"Demographics!R16","v":0},null,null,{"$f":"Demographics!$R$8","v":"INSERT DATE HERE"},null,{"$f":"Demographics!S17","v":0},{"$f":"Demographics!T17","v":0},null,null,{"$f":"Demographics!R17","v":0},null,null,{"$f":"Demographics!$R$8","v":"INSERT DATE HERE"},null,{"$f":"Demographics!S18","v":0},{"$f":"Demographics!T18","v":0},null,null,{"$f":"Demographics!R18","v":0},null,null,{"$f":"Demographics!$R$8","v":"INSERT DATE HERE"},null,{"$f":"Demographics!S19","v":0},{"$f":"Demographics!T19","v":0},null,null,{"$f":"Demographics!R19","v":0},null,null,{"$f":"Demographics!$R$8","v":"INSERT DATE HERE"},null,{"$f":"Demographics!S20","v":0},{"$f":"Demographics!T20","v":0},null,null,{"$f":"Demographics!R20","v":0},null,null,{"$f":"Demographics!$R$8","v":"INSERT DATE HERE"},null,{"$f":"Demographics!S21","v":0},{"$f":"Demographics!T21","v":0},null,null,{"$f":"Demographics!R21","v":0},null,null,{"$f":"Demographics!$R$8","v":"INSERT DATE HERE"},null,{"$f":"Demographics!S22","v":0},{"$f":"Demographics!T22","v":0},null,null,{"$f":"Demographics!R22","v":0},null,null,{"$f":"Demographics!$R$8","v":"INSERT DATE HERE"},null,{"$f":"Demographics!S23","v":0},{"$f":"Demographics!T23","v":0},null,null,{"$f":"Demographics!R23","v":0},null,null,{"$f":"Demographics!$R$8","v":"INSERT DATE HERE"},null,{"$f":"Demographics!S24","v":0},{"$f":"Demographics!T24","v":0},null,null,{"$f":"Demographics!R24","v":0},null,null,{"$f":"Demographics!$R$8","v":"INSERT DATE HERE"},null,{"$f":"Demographics!S25","v":0},{"$f":"Demographics!T25","v":0},null,null,{"$f":"Demographics!R25","v":0},null,null,{"$f":"Demographics!$R$8","v":"INSERT DATE HERE"},null,{"$f":"Demographics!S26","v":0},{"$f":"Demographics!T26","v":0},null,null,{"$f":"Demographics!R26","v":0},null,null,{"$f":"Demographics!$R$8","v":"INSERT DATE HERE"},null,{"$f":"Demographics!S27","v":0},{"$f":"Demographics!T27","v":0},null,null,{"$f":"Demographics!R27","v":0},null,null,{"$f":"Demographics!$R$8","v":"INSERT DATE HERE"},null,{"$f":"Demographics!S28","v":0},{"$f":"Demographics!T28","v":0},null,null,{"$f":"Demographics!R28","v":0},null,null,{"$f":"Demographics!$R$8","v":"INSERT DATE HERE"},null,{"$f":"Demographics!S29","v":0},{"$f":"Demographics!T29","v":0},null,null,{"$f":"Demographics!R29","v":0},null,null,{"$f":"Demographics!$R$8","v":"INSERT DATE HERE"},null,{"$f":"Demographics!S30","v":0},{"$f":"Demographics!T30","v":0},null,null,{"$f":"Demographics!R30","v":0},null,null,{"$f":"Demographics!$R$8","v":"INSERT DATE HERE"},null,{"$f":"Demographics!S31","v":0},{"$f":"Demographics!T31","v":0},null,null,{"$f":"Demographics!R31","v":0},null,null,{"$f":"Demographics!$R$8","v":"INSERT DATE HERE"},null,{"$f":"Demographics!S32","v":0},{"$f":"Demographics!T32","v":0},null,null,{"$f":"Demographics!R32","v":0},null,null,{"$f":"Demographics!$R$8","v":"INSERT DATE HERE"},null,{"$f":"Demographics!S33","v":0},{"$f":"Demographics!T33","v":0},null,null,{"$f":"Demographics!R33","v":0},null,null,{"$f":"Demographics!$R$8","v":"INSERT DATE HERE"},null,{"$f":"Demographics!S34","v":0},{"$f":"Demographics!T34","v":0},null,null,{"$f":"Demographics!R34","v":0},null,null,{"$f":"Demographics!$R$8","v":"INSERT DATE HERE"},null,{"$f":"Demographics!S35","v":0},{"$f":"Demographics!T35","v":0},null,null,{"$f":"Demographics!R35","v":0},null,null,{"$f":"Demographics!$R$8","v":"INSERT DATE HERE"},null,{"$f":"Demographics!S36","v":0},{"$f":"Demographics!T36","v":0},null,null,{"$f":"Demographics!R36","v":0},null,null,{"$f":"Demographics!$R$8","v":"INSERT DATE HERE"},null,{"$f":"Demographics!S37","v":0},{"$f":"Demographics!T37","v":0},null,null,{"$f":"Demographics!R37","v":0},null,null,{"$f":"Demographics!$R$8","v":"INSERT DATE HERE"},null,{"$f":"Demographics!S38","v":0},{"$f":"Demographics!T38","v":0},null,null,{"$f":"Demographics!R38","v":0},null,null,{"$f":"Demographics!$R$8","v":"INSERT DATE HERE"},null,{"$f":"Demographics!S39","v":0},{"$f":"Demographics!T39","v":0},null,null,{"$f":"Demographics!R39","v":0}]
[{"$f":"Demographics!$V$8","v":"INSERT DATE HERE"},null,{"$f":"Demographics!W10","v":0},{"$f":"Demographics!X10","v":0},null,null,{"$f":"Demographics!V10","v":0},null,null,{"$f":"Demographics!$V$8","v":"INSERT DATE HERE"},null,{"$f":"Demographics!W11","v":0},{"$f":"Demographics!X11","v":0},null,null,{"$f":"Demographics!V11","v":0},null,null,{"$f":"Demographics!$V$8","v":"INSERT DATE HERE"},null,{"$f":"Demographics!W12","v":0},{"$f":"Demographics!X12","v":0},null,null,{"$f":"Demographics!V12","v":0},null,null,{"$f":"Demographics!$V$8","v":"INSERT DATE HERE"},null,{"$f":"Demographics!W13","v":0},{"$f":"Demographics!X13","v":0},null,null,{"$f":"Demographics!V13","v":0},null,null,{"$f":"Demographics!$V$8","v":"INSERT DATE HERE"},null,{"$f":"Demographics!W14","v":0},{"$f":"Demographics!X14","v":0},null,null,{"$f":"Demographics!V14","v":0},null,null,{"$f":"Demographics!$V$8","v":"INSERT DATE HERE"},null,{"$f":"Demographics!W15","v":0},{"$f":"Demographics!X15","v":0},null,null,{"$f":"Demographics!V15","v":0},null,null,{"$f":"Demographics!$V$8","v":"INSERT DATE HERE"},null,{"$f":"Demographics!W16","v":0},{"$f":"Demographics!X16","v":0},null,null,{"$f":"Demographics!V16","v":0},null,null,{"$f":"Demographics!$V$8","v":"INSERT DATE HERE"},null,{"$f":"Demographics!W17","v":0},{"$f":"Demographics!X17","v":0},null,null,{"$f":"Demographics!V17","v":0},null,null,{"$f":"Demographics!$V$8","v":"INSERT DATE HERE"},null,{"$f":"Demographics!W18","v":0},{"$f":"Demographics!X18","v":0},null,null,{"$f":"Demographics!V18","v":0},null,null,{"$f":"Demographics!$V$8","v":"INSERT DATE HERE"},null,{"$f":"Demographics!W19","v":0},{"$f":"Demographics!X19","v":0},null,null,{"$f":"Demographics!V19","v":0},null,null,{"$f":"Demographics!$V$8","v":"INSERT DATE HERE"},null,{"$f":"Demographics!W20","v":0},{"$f":"Demographics!X20","v":0},null,null,{"$f":"Demographics!V20","v":0},null,null,{"$f":"Demographics!$V$8","v":"INSERT DATE HERE"},null,{"$f":"Demographics!W21","v":0},{"$f":"Demographics!X21","v":0},null,null,{"$f":"Demographics!V21","v":0},null,null,{"$f":"Demographics!$V$8","v":"INSERT DATE HERE"},null,{"$f":"Demographics!W22","v":0},{"$f":"Demographics!X22","v":0},null,null,{"$f":"Demographics!V22","v":0},null,null,{"$f":"Demographics!$V$8","v":"INSERT DATE HERE"},null,{"$f":"Demographics!W23","v":0},{"$f":"Demographics!X23","v":0},null,null,{"$f":"Demographics!V23","v":0},null,null,{"$f":"Demographics!$V$8","v":"INSERT DATE HERE"},null,{"$f":"Demographics!W24","v":0},{"$f":"Demographics!X24","v":0},null,null,{"$f":"Demographics!V24","v":0},null,null,{"$f":"Demographics!$V$8","v":"INSERT DATE HERE"},null,{"$f":"Demographics!W25","v":0},{"$f":"Demographics!X25","v":0},null,null,{"$f":"Demographics!V25","v":0},null,null,{"$f":"Demographics!$V$8","v":"INSERT DATE HERE"},null,{"$f":"Demographics!W26","v":0},{"$f":"Demographics!X26","v":0},null,null,{"$f":"Demographics!V26","v":0},null,null,{"$f":"Demographics!$V$8","v":"INSERT DATE HERE"},null,{"$f":"Demographics!W27","v":0},{"$f":"Demographics!X27","v":0},null,null,{"$f":"Demographics!V27","v":0},null,null,{"$f":"Demographics!$V$8","v":"INSERT DATE HERE"},null,{"$f":"Demographics!W28","v":0},{"$f":"Demographics!X28","v":0},null,null,{"$f":"Demographics!V28","v":0},null,null,{"$f":"Demographics!$V$8","v":"INSERT DATE HERE"},null,{"$f":"Demographics!W29","v":0},{"$f":"Demographics!X29","v":0},null,null,{"$f":"Demographics!V29","v":0},null,null,{"$f":"Demographics!$V$8","v":"INSERT DATE HERE"},null,{"$f":"Demographics!W30","v":0},{"$f":"Demographics!X30","v":0},null,null,{"$f":"Demographics!V30","v":0},null,null,{"$f":"Demographics!$V$8","v":"INSERT DATE HERE"},null,{"$f":"Demographics!W31","v":0},{"$f":"Demographics!X31","v":0},null,null,{"$f":"Demographics!V31","v":0},null,null,{"$f":"Demographics!$V$8","v":"INSERT DATE HERE"},null,{"$f":"Demographics!W32","v":0},{"$f":"Demographics!X32","v":0},null,null,{"$f":"Demographics!V32","v":0},null,null,{"$f":"Demographics!$V$8","v":"INSERT DATE HERE"},null,{"$f":"Demographics!W33","v":0},{"$f":"Demographics!X33","v":0},null,null,{"$f":"Demographics!V33","v":0},null,null,{"$f":"Demographics!$V$8","v":"INSERT DATE HERE"},null,{"$f":"Demographics!W34","v":0},{"$f":"Demographics!X34","v":0},null,null,{"$f":"Demographics!V34","v":0},null,null,{"$f":"Demographics!$V$8","v":"INSERT DATE HERE"},null,{"$f":"Demographics!W35","v":0},{"$f":"Demographics!X35","v":0},null,null,{"$f":"Demographics!V35","v":0},null,null,{"$f":"Demographics!$V$8","v":"INSERT DATE HERE"},null,{"$f":"Demographics!W36","v":0},{"$f":"Demographics!X36","v":0},null,null,{"$f":"Demographics!V36","v":0},null,null,{"$f":"Demographics!$V$8","v":"INSERT DATE HERE"},null,{"$f":"Demographics!W37","v":0},{"$f":"Demographics!X37","v":0},null,null,{"$f":"Demographics!V37","v":0},null,null,{"$f":"Demographics!$V$8","v":"INSERT DATE HERE"},null,{"$f":"Demographics!W38","v":0},{"$f":"Demographics!X38","v":0},null,null,{"$f":"Demographics!V38","v":0},null,null,{"$f":"Demographics!$V$8","v":"INSERT DATE HERE"},null,{"$f":"Demographics!W39","v":0},{"$f":"Demographics!X39","v":0},null,null,{"$f":"Demographics!V39","v":0}]
[{"$f":"Demographics!$Z$8","v":"INSERT DATE HERE"},null,{"$f":"Demographics!AA10","v":0},{"$f":"Demographics!AB10","v":0},null,null,{"$f":"Demographics!Z10","v":0},null,null,{"$f":"Demographics!$Z$8","v":"INSERT DATE HERE"},null,{"$f":"Demographics!AA11","v":0},{"$f":"Demographics!AB11","v":0},null,null,{"$f":"Demographics!Z11","v":0},null,null,{"$f":"Demographics!$Z$8","v":"INSERT DATE HERE"},null,{"$f":"Demographics!AA12","v":0},{"$f":"Demographics!AB12","v":0},null,null,{"$f":"Demographics!Z12","v":0},null,null,{"$f":"Demographics!$Z$8","v":"INSERT DATE HERE"},null,{"$f":"Demographics!AA13","v":0},{"$f":"Demographics!AB13","v":0},null,null,{"$f":"Demographics!Z13","v":0},null,null,{"$f":"Demographics!$Z$8","v":"INSERT DATE HERE"},null,{"$f":"Demographics!AA14","v":0},{"$f":"Demographics!AB14","v":0},null,null,{"$f":"Demographics!A14","v":5},null,null,{"$f":"Demographics!$Z$8","v":"INSERT DATE HERE"},null,{"$f":"Demographics!AA15","v":0},{"$f":"Demographics!AB15","v":0},null,null,{"$f":"Demographics!Z15","v":0},null,null,{"$f":"Demographics!$Z$8","v":"INSERT DATE HERE"},null,{"$f":"Demographics!AA16","v":0},{"$f":"Demographics!AB16","v":0},null,null,{"$f":"Demographics!Z16","v":0},null,null,{"$f":"Demographics!$Z$8","v":"INSERT DATE HERE"},null,{"$f":"Demographics!AA17","v":0},{"$f":"Demographics!AB17","v":0},null,null,{"$f":"Demographics!Z17","v":0},null,null,{"$f":"Demographics!$Z$8","v":"INSERT DATE HERE"},null,{"$f":"Demographics!AA18","v":0},{"$f":"Demographics!AB18","v":0},null,null,{"$f":"Demographics!Z18","v":0},null,null,{"$f":"Demographics!$Z$8","v":"INSERT DATE HERE"},null,{"$f":"Demographics!AA19","v":0},{"$f":"Demographics!AB19","v":0},null,null,{"$f":"Demographics!Z19","v":0},null,null,{"$f":"Demographics!$Z$8","v":"INSERT DATE HERE"},null,{"$f":"Demographics!AA20","v":0},{"$f":"Demographics!AB20","v":0},null,null,{"$f":"Demographics!Z20","v":0},null,null,{"$f":"Demographics!$Z$8","v":"INSERT DATE HERE"},null,{"$f":"Demographics!AA21","v":0},{"$f":"Demographics!AB21","v":0},null,null,{"$f":"Demographics!Z21","v":0},null,null,{"$f":"Demographics!$Z$8","v":"INSERT DATE HERE"},null,{"$f":"Demographics!AA22","v":0},{"$f":"Demographics!AB22","v":0},null,null,{"$f":"Demographics!Z22","v":0},null,null,{"$f":"Demographics!$Z$8","v":"INSERT DATE HERE"},null,{"$f":"Demographics!AA23","v":0},{"$f":"Demographics!AB23","v":0},null,null,{"$f":"Demographics!V23","v":0},null,null,{"$f":"Demographics!$Z$8","v":"INSERT DATE HERE"},null,{"$f":"Demographics!AA24","v":0},{"$f":"Demographics!AB24","v":0},null,null,{"$f":"Demographics!Z24","v":0},null,null,{"$f":"Demographics!$Z$8","v":"INSERT DATE HERE"},null,{"$f":"Demographics!AA25","v":0},{"$f":"Demographics!AB25","v":0},null,null,{"$f":"Demographics!Z25","v":0},null,null,{"$f":"Demographics!$Z$8","v":"INSERT DATE HERE"},null,{"$f":"Demographics!AA26","v":0},{"$f":"Demographics!AB26","v":0},null,null,{"$f":"Demographics!Z26","v":0},null,null,{"$f":"Demographics!$Z$8","v":"INSERT DATE HERE"},null,{"$f":"Demographics!AA27","v":0},{"$f":"Demographics!AB27","v":0},null,null,{"$f":"Demographics!Z27","v":0},null,null,{"$f":"Demographics!$Z$8","v":"INSERT DATE HERE"},null,{"$f":"Demographics!AA28","v":0},{"$f":"Demographics!AB28","v":0},null,null,{"$f":"Demographics!Z28","v":0},null,null,{"$f":"Demographics!$Z$8","v":"INSERT DATE HERE"},null,{"$f":"Demographics!AA29","v":0},{"$f":"Demographics!AB29","v":0},null,null,{"$f":"Demographics!Z29","v":0},null,null,{"$f":"Demographics!$Z$8","v":"INSERT DATE HERE"},null,{"$f":"Demographics!AA30","v":0},{"$f":"Demographics!AB30","v":0},null,null,{"$f":"Demographics!Z30","v":0},null,null,{"$f":"Demographics!$Z$8","v":"INSERT DATE HERE"},null,{"$f":"Demographics!AA31","v":0},{"$f":"Demographics!AB31","v":0},null,null,{"$f":"Demographics!Z31","v":0},null,null,{"$f":"Demographics!$Z$8","v":"INSERT DATE HERE"},null,{"$f":"Demographics!AA32","v":0},{"$f":"Demographics!AB32","v":0},null,null,{"$f":"Demographics!Z32","v":0},null,null,{"$f":"Demographics!$Z$8","v":"INSERT DATE HERE"},null,{"$f":"Demographics!AA33","v":0},{"$f":"Demographics!AB33","v":0},null,null,{"$f":"Demographics!Z33","v":0},null,null,{"$f":"Demographics!$Z$8","v":"INSERT DATE HERE"},null,{"$f":"Demographics!AA34","v":0},{"$f":"Demographics!AB34","v":0},null,null,{"$f":"Demographics!Z34","v":0},null,null,{"$f":"Demographics!$Z$8","v":"INSERT DATE HERE"},null,{"$f":"Demographics!AA35","v":0},{"$f":"Demographics!AB35","v":0},null,null,{"$f":"Demographics!Z35","v":0},null,null,{"$f":"Demographics!$Z$8","v":"INSERT DATE HERE"},null,{"$f":"Demographics!AA36","v":0},{"$f":"Demographics!AB36","v":0},null,null,{"$f":"Demographics!Z36","v":0},null,null,{"$f":"Demographics!$Z$8","v":"INSERT DATE HERE"},null,{"$f":"Demographics!AA37","v":0},{"$f":"Demographics!AB37","v":0},null,null,{"$f":"Demographics!Z37","v":0},null,null,{"$f":"Demographics!$Z$8","v":"INSERT DATE HERE"},null,{"$f":"Demographics!AA38","v":0},{"$f":"Demographics!AB38","v":0},null,null,{"$f":"Demographics!Z38","v":0},null,null,{"$f":"Demographics!$Z$8","v":"INSERT DATE HERE"},null,{"$f":"Demographics!AA39","v":0},{"$f":"Demographics!AB39","v":0},null,null,{"$f":"Demographics!Z39","v":0}]